Workbook
Name Excel_BuiltIn_Print_Area_1: [1]Malawi!#REF!
Name Excel_BuiltIn_Print_Area_1: [1]Malawi!#REF!
Name Excel_BuiltIn_Print_Area_1: [1]Malawi!#REF!
Name Excel_BuiltIn_Print_Area_1: [1]Malawi!#REF!
Name Excel_BuiltIn_Print_Area_1: [1]Malawi!#REF!
Name Excel_BuiltIn_Print_Area_1: [2]Malawi!#REF!
Name Excel_BuiltIn_Print_Area_1: [1]Malawi!#REF!
Name Excel_BuiltIn_Print_Area_1: [2]Malawi!#REF!
Name Excel_BuiltIn_Print_Area_1: [1]Malawi!#REF!
Name Excel_BuiltIn_Print_Area_1: [1]Malawi!#REF!

Sheet Botswana
B2: TEMPLE: Gabarone
B3: MONTH : February 2023
C4: BTG Sub | D4: CC Set | E4: SB Set | F4: Mag. | G4: Small Books | I4: Medium Books | K4: Big Books | M4: Maha-Books
D5: 36 | E5: 72 | F5: 0.1 | G5: 0.25 | H5: 0.25 | I5: 0.5 | J5: 0.5 | K5: 1 | L5: 1 | M5: 2 | N5: 2
B6: DEVOTEES | F6: M1 | G6: S1 | H6: H1 | I6: S2 | J6: H2 | K6: S3 | L6: H3 | M6: S4 | N6: H4 | O6: T/BKS | P6: Points
B9: Raghupathi Raghav Das | G9: 33 | O9: =SUM(F9:N9) -> 33 | P9: =(D9*$D$5)+(E9*$E$5)+(F9*$F$5)+(G9*$G$5)+(H9*$H$5)+(I9*$I$5)+(J9*$J$5)+(K9*$K$5)+(L9*$L$5)+(M9*$M$5)+(N9*$N$5) -> 8.25
B10: Rama Priya Devi Dasi | G10: 23 | O10: =SUM(F10:N10) -> 23 | P10: =(D10*$D$5)+(E10*$E$5)+(F10*$F$5)+(G10*$G$5)+(H10*$H$5)+(I10*$I$5)+(J10*$J$5)+(K10*$K$5)+(L10*$L$5)+(M10*$M$5)+(N10*$N$5) -> 5.75
B11: Devakinandan Das | G11: 12 | N11: 1 | O11: =SUM(F11:N11) -> 13 | P11: =(F11*$F$5)+(G11*$G$5)+(H11*$H$5)+(I11*$I$5)+(J11*$J$5)+(K11*$K$5)+(L11*$L$5)+(M11*$M$5)+(N11*$N$5) -> 5
O12: =SUM(F12:N12) -> 0 | P12: =(F12*$F$5)+(G12*$G$5)+(H12*$H$5)+(I12*$I$5)+(J12*$J$5)+(K12*$K$5)+(L12*$L$5)+(M12*$M$5)+(N12*$N$5) -> 0
B13: TOTAL | C13: =SUM(C9:C12) -> 0 | D13: =SUM(D9:D12) -> 0 | E13: =SUM(E9:E12) -> 0 | F13: =SUM(F9:F12) -> 0 | G13: =SUM(G9:G12) -> 68 | H13: =SUM(H9:H12) -> 0 | I13: =SUM(I9:I12) -> 0 | J13: =SUM(J9:J12) -> 0 | ... P13: =SUM(P9:P12) -> 19

Sheet Democratic Republic of Congo
B2: TEMPLE: Kinshasa
B3: MONTH :
C4: BTG Sub | D4: CC Set | E4: SB Set | F4: Mag. | G4: Small Books | I4: Medium Books | K4: Big Books | M4: Maha-Books
D5: 36 | E5: 72 | F5: 0.1 | G5: 0.25 | H5: 0.25 | I5: 0.5 | J5: 0.5 | K5: 1 | L5: 1 | M5: 2 | N5: 2
B6: DEVOTEES | F6: M1 | G6: S1 | H6: H1 | I6: S2 | J6: H2 | K6: S3 | L6: H3 | M6: S4 | N6: H4 | O6: T/BKS | P6: Points
O9: =SUM(F9:N9) -> 0 | P9: =(D9*$D$5)+(E9*$E$5)+(F9*$F$5)+(G9*$G$5)+(H9*$H$5)+(I9*$I$5)+(J9*$J$5)+(K9*$K$5)+(L9*$L$5)+(M9*$M$5)+(N9*$N$5) -> 0
O10: =SUM(F10:N10) -> 0 | P10: =(D10*$D$5)+(E10*$E$5)+(F10*$F$5)+(G10*$G$5)+(H10*$H$5)+(I10*$I$5)+(J10*$J$5)+(K10*$K$5)+(L10*$L$5)+(M10*$M$5)+(N10*$N$5) -> 0
O11: =SUM(F11:N11) -> 0 | P11: =(F11*$F$5)+(G11*$G$5)+(H11*$H$5)+(I11*$I$5)+(J11*$J$5)+(K11*$K$5)+(L11*$L$5)+(M11*$M$5)+(N11*$N$5) -> 0
O12: =SUM(F12:N12) -> 0 | P12: =(F12*$F$5)+(G12*$G$5)+(H12*$H$5)+(I12*$I$5)+(J12*$J$5)+(K12*$K$5)+(L12*$L$5)+(M12*$M$5)+(N12*$N$5) -> 0
O13: =SUM(F13:N13) -> 0 | P13: =(F13*$F$5)+(G13*$G$5)+(H13*$H$5)+(I13*$I$5)+(J13*$J$5)+(K13*$K$5)+(L13*$L$5)+(M13*$M$5)+(N13*$N$5) -> 0
O14: =SUM(F14:N14) -> 0 | P14: =(F14*$F$5)+(G14*$G$5)+(H14*$H$5)+(I14*$I$5)+(J14*$J$5)+(K14*$K$5)+(L14*$L$5)+(M14*$M$5)+(N14*$N$5) -> 0
O15: =SUM(F15:N15) -> 0 | P15: =(F15*$F$5)+(G15*$G$5)+(H15*$H$5)+(I15*$I$5)+(J15*$J$5)+(K15*$K$5)+(L15*$L$5)+(M15*$M$5)+(N15*$N$5) -> 0
O16: =SUM(F16:N16) -> 0 | P16: =(F16*$F$5)+(G16*$G$5)+(H16*$H$5)+(I16*$I$5)+(J16*$J$5)+(K16*$K$5)+(L16*$L$5)+(M16*$M$5)+(N16*$N$5) -> 0
O17: =SUM(F17:N17) -> 0 | P17: =(F17*$F$5)+(G17*$G$5)+(H17*$H$5)+(I17*$I$5)+(J17*$J$5)+(K17*$K$5)+(L17*$L$5)+(M17*$M$5)+(N17*$N$5) -> 0
B18: TOTAL | C18: =SUM(C9:C17) -> 0 | D18: =SUM(D9:D17) -> 0 | E18: =SUM(E9:E17) -> 0 | F18: =SUM(F9:F17) -> 0 | G18: =SUM(G9:G17) -> 0 | H18: =SUM(H9:H17) -> 0 | I18: =SUM(I9:I17) -> 0 | J18: =SUM(J9:J17) -> 0 | ... P18: =SUM(P9:P17) -> 0

Sheet Ghana
B1: TEMPLE: Accra
B2: MONTH :
C3: BTG Sub | D3: CC Set | E3: SB Set | F3: Mag. | G3: Small Books | I3: Medium Books | K3: Big Books | M3: Maha-Books
D4: 36 | E4: 72 | F4: 0.1 | G4: 0.25 | H4: 0.25 | I4: 0.5 | J4: 0.5 | K4: 1 | L4: 1 | M4: 2 | N4: 2
B5: DEVOTEES | F5: M1 | G5: S1 | H5: H1 | I5: S2 | J5: H2 | K5: S3 | L5: H3 | M5: S4 | N5: H4 | O5: T/BKS | P5: Points
B8: Temple Scores | O8: =SUM(F8:N8) -> 0 | P8: =(D8*$D$4)+(E8*$E$4)+(F8*$F$4)+(G8*$G$4)+(H8*$H$4)+(I8*$I$4)+(J8*$J$4)+(K8*$K$4)+(L8*$L$4)+(M8*$M$4)+(N8*$N$4) -> 0
O9: =SUM(F9:N9) -> 0 | P9: =(D9*$D$4)+(E9*$E$4)+(F9*$F$4)+(G9*$G$4)+(H9*$H$4)+(I9*$I$4)+(J9*$J$4)+(K9*$K$4)+(L9*$L$4)+(M9*$M$4)+(N9*$N$4) -> 0
B10: TOTAL | C10: =SUM(C8:C9) -> 0 | D10: =SUM(D8:D9) -> 0 | E10: =SUM(E8:E9) -> 0 | F10: =SUM(F8:F9) -> 0 | G10: =SUM(G8:G9) -> 0 | H10: =SUM(H8:H9) -> 0 | I10: =SUM(I8:I9) -> 0 | J10: =SUM(J8:J9) -> 0 | ... P10: =SUM(P8:P9) -> 0

Sheet Ivory Coast
B2: TEMPLE: Ivory Coast
B3: MONTH :
C4: BTG Sub | D4: CC Set | E4: SB Set | F4: Mag. | G4: Small Books | I4: Medium Books | K4: Big Books | M4: Maha-Books
D5: 36 | E5: 72 | F5: 0.1 | G5: 0.25 | H5: 0.25 | I5: 0.5 | J5: 0.5 | K5: 1 | L5: 1 | M5: 2 | N5: 2
B6: DEVOTEES | F6: M1 | G6: S1 | H6: H1 | I6: S2 | J6: H2 | K6: S3 | L6: H3 | M6: S4 | N6: H4 | O6: T/BKS | P6: Points
O9: =SUM(F9:N9) -> 0 | P9: =(D9*$D$5)+(E9*$E$5)+(F9*$F$5)+(G9*$G$5)+(H9*$H$5)+(I9*$I$5)+(J9*$J$5)+(K9*$K$5)+(L9*$L$5)+(M9*$M$5)+(N9*$N$5) -> 0
O10: =SUM(F10:N10) -> 0 | P10: =(D10*$D$5)+(E10*$E$5)+(F10*$F$5)+(G10*$G$5)+(H10*$H$5)+(I10*$I$5)+(J10*$J$5)+(K10*$K$5)+(L10*$L$5)+(M10*$M$5)+(N10*$N$5) -> 0
O11: =SUM(F11:N11) -> 0 | P11: =(D11*$D$5)+(E11*$E$5)+(F11*$F$5)+(G11*$G$5)+(H11*$H$5)+(I11*$I$5)+(J11*$J$5)+(K11*$K$5)+(L11*$L$5)+(M11*$M$5)+(N11*$N$5) -> 0
O12: =SUM(F12:N12) -> 0 | P12: =(D12*$D$5)+(E12*$E$5)+(F12*$F$5)+(G12*$G$5)+(H12*$H$5)+(I12*$I$5)+(J12*$J$5)+(K12*$K$5)+(L12*$L$5)+(M12*$M$5)+(N12*$N$5) -> 0
O13: =SUM(F13:N13) -> 0 | P13: =(D13*$D$5)+(E13*$E$5)+(F13*$F$5)+(G13*$G$5)+(H13*$H$5)+(I13*$I$5)+(J13*$J$5)+(K13*$K$5)+(L13*$L$5)+(M13*$M$5)+(N13*$N$5) -> 0
B14: TOTAL | C14: =SUM(C9:C13) -> 0 | D14: =SUM(D9:D13) -> 0 | E14: =SUM(E9:E13) -> 0 | F14: =SUM(F9:F13) -> 0 | G14: =SUM(G9:G13) -> 0 | H14: =SUM(H9:H13) -> 0 | I14: =SUM(I9:I13) -> 0 | J14: =SUM(J9:J13) -> 0 | ... P14: =SUM(P9:P13) -> 0

Sheet Kenya
B2: MONTH : February 2023
C3: BTG Sub | D3: CC Set | E3: SB Set | F3: mag | G3: Small Books | I3: Medium Books | K3: Big Books | M3: Maha-Books
D4: 36 | E4: 72 | F4: 0.1 | G4: 0.25 | H4: 0.25 | I4: 0.5 | J4: 0.5 | K4: 1 | L4: 1 | M4: 2 | N4: 2
B5: DEVOTEES | F5: M1 | G5: S1 | H5: H1 | I5: S2 | J5: H2 | K5: S3 | L5: H3 | M5: S4 | N5: H4 | O5: T/BKS | P5: Points
B7: Iskcon Nairobi
B8: KRISHNA KIDS SENA | G8: 630 | I8: 79 | K8: 5 | N8: 42 | O8: =SUM(F8:N8) -> 756 | P8: =(D8*$D$4)+(E8*$E$4)+(F8*$F$4)+(G8*$G$4)+(H8*$H$4)+(I8*$I$4)+(J8*$J$4)+(K8*$K$4)+(L8*$L$4)+(M8*$M$4)+(N8*$N$4) -> 286
B9: TEMPLE GIFT SHOP | F9: 2 | G9: 7 | I9: 1 | K9: 2 | O9: =SUM(F9:N9) -> 12 | P9: =(D9*$D$4)+(E9*$E$4)+(F9*$F$4)+(G9*$G$4)+(H9*$H$4)+(I9*$I$4)+(J9*$J$4)+(K9*$K$4)+(L9*$L$4)+(M9*$M$4)+(N9*$N$4) -> 4.45
B10: ASHRAMA BHAKTAS | G10: 90 | O10: =SUM(F10:N10) -> 90 | P10: =(D10*$D$4)+(E10*$E$4)+(F10*$F$4)+(G10*$G$4)+(H10*$H$4)+(I10*$I$4)+(J10*$J$4)+(K10*$K$4)+(L10*$L$4)+(M10*$M$4)+(N10*$N$4) -> 22.5
B11: RUKMA DAS | E11: 1 | O11: =SUM(F11:N11)+(E11*18)+(D11*9) -> 18 | P11: =(D11*$D$4)+(E11*$E$4)+(F11*$F$4)+(G11*$G$4)+(H11*$H$4)+(I11*$I$4)+(J11*$J$4)+(K11*$K$4)+(L11*$L$4)+(M11*$M$4)+(N11*$N$4) -> 72
B12: HARE KRISHNA TRAINING CENTRE | G12: 34 | O12: =SUM(F12:N12) -> 34 | P12: =(D12*$D$4)+(E12*$E$4)+(F12*$F$4)+(G12*$G$4)+(H12*$H$4)+(I12*$I$4)+(J12*$J$4)+(K12*$K$4)+(L12*$L$4)+(M12*$M$4)+(N12*$N$4) -> 8.5
O13: =SUM(F13:N13) -> 0 | P13: =(D13*$D$4)+(E13*$E$4)+(F13*$F$4)+(G13*$G$4)+(H13*$H$4)+(I13*$I$4)+(J13*$J$4)+(K13*$K$4)+(L13*$L$4)+(M13*$M$4)+(N13*$N$4) -> 0
B14: TOTAL | C14: =SUM(C8:C13) -> 0 | D14: =SUM(D8:D13) -> 0 | E14: =SUM(E8:E13) -> 1 | F14: =SUM(F8:F13) -> 2 | G14: =SUM(G8:G13) -> 761 | H14: =SUM(H8:H13) -> 0 | I14: =SUM(I8:I13) -> 80 | J14: =SUM(J8:J13) -> 0 | ... P14: =SUM(P8:P13) -> 393.45
B17: Iskcon Eldoret
O18: =SUM(F18:N18) -> 0 | P18: =(D18*$D$4)+(E18*$E$4)+(F18*$F$4)+(G18*$G$4)+(H18*$H$4)+(I18*$I$4)+(J18*$J$4)+(K18*$K$4)+(L18*$L$4)+(M18*$M$4)+(N18*$N$4) -> 0
O19: =SUM(F19:N19) -> 0 | P19: =(D19*$D$4)+(E19*$E$4)+(F19*$F$4)+(G19*$G$4)+(H19*$H$4)+(I19*$I$4)+(J19*$J$4)+(K19*$K$4)+(L19*$L$4)+(M19*$M$4)+(N19*$N$4) -> 0
B20: TOTAL | C20: =SUM(C18:C19) -> 0 | D20: =SUM(D18:D19) -> 0 | E20: =SUM(E18:E19) -> 0 | F20: =SUM(F18:F19) -> 0 | G20: =SUM(G18:G19) -> 0 | H20: =SUM(H18:H19) -> 0 | I20: =SUM(I18:I19) -> 0 | J20: =SUM(J18:J19) -> 0 | ... P20: =SUM(P18:P19) -> 0
B23: Iskcon Kisumu
O24: =SUM(F24:N24) -> 0 | P24: =(D24*$D$4)+(E24*$E$4)+(F24*$F$4)+(G24*$G$4)+(H24*$H$4)+(I24*$I$4)+(J24*$J$4)+(K24*$K$4)+(L24*$L$4)+(M24*$M$4)+(N24*$N$4) -> 0
O25: =SUM(F25:N25) -> 0 | P25: =(D25*$D$4)+(E25*$E$4)+(F25*$F$4)+(G25*$G$4)+(H25*$H$4)+(I25*$I$4)+(J25*$J$4)+(K25*$K$4)+(L25*$L$4)+(M25*$M$4)+(N25*$N$4) -> 0
B26: TOTAL | C26: =SUM(C24:C25) -> 0 | D26: =SUM(D24:D25) -> 0 | E26: =SUM(E24:E25) -> 0 | F26: =SUM(F24:F25) -> 0 | G26: =SUM(G24:G25) -> 0 | H26: =SUM(H24:H25) -> 0 | I26: =SUM(I24:I25) -> 0 | J26: =SUM(J24:J25) -> 0 | ... P26: =SUM(P24:P25) -> 0
B29: Iskcon Mombassa
O30: =SUM(F30:N30) -> 0 | P30: =(D30*$D$4)+(E30*$E$4)+(F30*$F$4)+(G30*$G$4)+(H30*$H$4)+(I30*$I$4)+(J30*$J$4)+(K30*$K$4)+(L30*$L$4)+(M30*$M$4)+(N30*$N$4) -> 0
O31: =SUM(F31:N31) -> 0 | P31: =(D31*$D$4)+(E31*$E$4)+(F31*$F$4)+(G31*$G$4)+(H31*$H$4)+(I31*$I$4)+(J31*$J$4)+(K31*$K$4)+(L31*$L$4)+(M31*$M$4)+(N31*$N$4) -> 0
O32: =SUM(C32:N32) -> 0 | P32: =(D32*$D$4)+(E32*$E$4)+(F32*$F$4)+(G32*$G$4)+(H32*$H$4)+(I32*$I$4)+(J32*$J$4)+(K32*$K$4)+(L32*$L$4)+(M32*$M$4)+(N32*$N$4) -> 0
B33: TOTAL | C33: =SUM(C30:C31) -> 0 | D33: =SUM(D30:D31) -> 0 | E33: =SUM(E30:E31) -> 0 | F33: =SUM(F30:F32) -> 0 | G33: =SUM(G30:G32) -> 0 | H33: =SUM(H30:H32) -> 0 | I33: =SUM(I30:I32) -> 0 | J33: =SUM(J30:J32) -> 0 | K33: =SUM(K30:K32) -> 0 | L33: =SUM(L30:L32) -> 0 | M33: =SUM(M30:M32) -> 0 | ... P33: =SUM(P30:P32) -> 0
N35: Total: | O35: =SUM(O20+O14+O26+O33) -> 910 | P35: =SUM(P20+P14+P26+P33) -> 393.45

Sheet Malawi
B2: TEMPLE: Blantyre
B3: MONTH :
C4: BTG Sub | D4: CC Set | E4: SB Set | F4: Mag. | G4: Small Books | I4: Medium Books | K4: Big Books | M4: Maha-Books
D5: 36 | E5: 72 | F5: 0.1 | G5: 0.25 | H5: 0.25 | I5: 0.5 | J5: 0.5 | K5: 1 | L5: 1 | M5: 2 | N5: 2
B6: DEVOTEES | F6: M1 | G6: S1 | H6: H1 | I6: S2 | J6: H2 | K6: S3 | L6: H3 | M6: S4 | N6: H4 | O6: T/BKS | P6: Points
O9: =SUM(F9:N9) -> 0 | P9: =(D9*$D$5)+(E9*$E$5)+(F9*$F$5)+(G9*$G$5)+(H9*$H$5)+(I9*$I$5)+(J9*$J$5)+(K9*$K$5)+(L9*$L$5)+(M9*$M$5)+(N9*$N$5) -> 0
O10: =SUM(F10:N10) -> 0 | P10: =(D10*$D$5)+(E10*$E$5)+(F10*$F$5)+(G10*$G$5)+(H10*$H$5)+(I10*$I$5)+(J10*$J$5)+(K10*$K$5)+(L10*$L$5)+(M10*$M$5)+(N10*$N$5) -> 0
O11: =SUM(F11:N11) -> 0 | P11: =(D11*$D$5)+(E11*$E$5)+(F11*$F$5)+(G11*$G$5)+(H11*$H$5)+(I11*$I$5)+(J11*$J$5)+(K11*$K$5)+(L11*$L$5)+(M11*$M$5)+(N11*$N$5) -> 0
O12: =SUM(F12:N12) -> 0 | P12: =(D12*$D$5)+(E12*$E$5)+(F12*$F$5)+(G12*$G$5)+(H12*$H$5)+(I12*$I$5)+(J12*$J$5)+(K12*$K$5)+(L12*$L$5)+(M12*$M$5)+(N12*$N$5) -> 0
O13: =SUM(F13:N13) -> 0 | P13: =(D13*$D$5)+(E13*$E$5)+(F13*$F$5)+(G13*$G$5)+(H13*$H$5)+(I13*$I$5)+(J13*$J$5)+(K13*$K$5)+(L13*$L$5)+(M13*$M$5)+(N13*$N$5) -> 0
O14: =SUM(F14:N14) -> 0 | P14: =(D14*$D$5)+(E14*$E$5)+(F14*$F$5)+(G14*$G$5)+(H14*$H$5)+(I14*$I$5)+(J14*$J$5)+(K14*$K$5)+(L14*$L$5)+(M14*$M$5)+(N14*$N$5) -> 0
O15: =SUM(F15:N15)+(E15*18)+(D15*9) -> 0 | P15: =(D15*$D$5)+(E15*$E$5)+(F15*$F$5)+(G15*$G$5)+(H15*$H$5)+(I15*$I$5)+(J15*$J$5)+(K15*$K$5)+(L15*$L$5)+(M15*$M$5)+(N15*$N$5) -> 0
O16: =SUM(F16:N16) -> 0 | P16: =(D16*$D$5)+(E16*$E$5)+(F16*$F$5)+(G16*$G$5)+(H16*$H$5)+(I16*$I$5)+(J16*$J$5)+(K16*$K$5)+(L16*$L$5)+(M16*$M$5)+(N16*$N$5) -> 0
B17: TOTAL | C17: =SUM(C9:C16) -> 0 | D17: =SUM(D9:D16) -> 0 | E17: =SUM(E9:E16) -> 0 | F17: =SUM(F9:F16) -> 0 | G17: =SUM(G9:G16) -> 0 | H17: =SUM(H9:H16) -> 0 | I17: =SUM(I9:I16) -> 0 | J17: =SUM(J9:J16) -> 0 | ... P17: =SUM(P9:P16) -> 0

Sheet Mauritius
B2: MONTH : February 2023 | C2: BTG Sub | D2: CC Set | E2: SB Set | F2: Mag. | G2: Small Books | I2: Medium Books | K2: Big Books | M2: Maha-Books
D3: 36 | E3: 72 | F3: 0.1 | G3: 0.25 | H3: 0.25 | I3: 0.5 | J3: 0.5 | K3: 1 | L3: 1 | M3: 2 | N3: 2
B4: DEVOTEES | F4: M1 | G4: S1 | H4: H1 | I4: S2 | J4: H2 | K4: S3 | L4: H3 | M4: S4 | N4: H4 | O4: T/BKS | P4: Points
B6: ISKCON Phoenix Sri Sri Radha Gokulananda Mandir
B7: MATAJI SATYABHAMA DD/MATAJI VINATA DD/MATAJI AKUTI DD | G7: 1843 | I7: 87 | M7: 56 | O7: =SUM(F7:N7) -> 1986 | P7: =(D7*$D$3)+(E7*$E$3)+(F7*$F$3)+(G7*$G$3)+(H7*$H$3)+(I7*$I$3)+(J7*$J$3)+(K7*$K$3)+(L7*$L$3)+(M7*$M$3)+(N7*$N$3) -> 616.25
B8: MATAJI DRAUPADI DASI/PRABHU MANMOHAN DAS | G8: 398 | K8: 5 | M8: 85 | O8: =SUM(F8:N8) -> 488 | P8: =(D8*$D$3)+(E8*$E$3)+(F8*$F$3)+(G8*$G$3)+(H8*$H$3)+(I8*$I$3)+(J8*$J$3)+(K8*$K$3)+(L8*$L$3)+(M8*$M$3)+(N8*$N$3) -> 274.5
B9: MATAJI VRAJESHWARI DASI | G9: 870 | I9: 1 | O9: =SUM(F9:N9) -> 871 | P9: =(D9*$D$3)+(E9*$E$3)+(F9*$F$3)+(G9*$G$3)+(H9*$H$3)+(I9*$I$3)+(J9*$J$3)+(K9*$K$3)+(L9*$L$3)+(M9*$M$3)+(N9*$N$3) -> 218 | V9: 29 | W9: 18
B10: MATAJI DIVYA | G10: 580 | O10: =SUM(F10:N10) -> 580 | P10: =(D10*$D$3)+(E10*$E$3)+(F10*$F$3)+(G10*$G$3)+(H10*$H$3)+(I10*$I$3)+(J10*$J$3)+(K10*$K$3)+(L10*$L$3)+(M10*$M$3)+(N10*$N$3) -> 145 | W10: 615
B11: MATAJI PRIYA/SEJAL | G11: 320 | O11: =SUM(F11:N11) -> 320 | P11: =(D11*$D$3)+(E11*$E$3)+(F11*$F$3)+(G11*$G$3)+(H11*$H$3)+(I11*$I$3)+(J11*$J$3)+(K11*$K$3)+(L11*$L$3)+(M11*$M$3)+(N11*$N$3) -> 80
B12: MATAJI SWASTI DEVI DASI | F12: 2 | G12: 15 | I12: 3 | K12: 2 | M12: 11 | O12: =SUM(F12:N12) -> 33 | P12: =(D12*$D$3)+(E12*$E$3)+(F12*$F$3)+(G12*$G$3)+(H12*$H$3)+(I12*$I$3)+(J12*$J$3)+(K12*$K$3)+(L12*$L$3)+(M12*$M$3)+(N12*$N$3) -> 29.45
B13: MATAJI HARI PUJA DASI | G13: 100 | O13: =SUM(F13:N13) -> 100 | P13: =(D13*$D$3)+(E13*$E$3)+(F13*$F$3)+(G13*$G$3)+(H13*$H$3)+(I13*$I$3)+(J13*$J$3)+(K13*$K$3)+(L13*$L$3)+(M13*$M$3)+(N13*$N$3) -> 25
B14: PRABHU KRISHNA KATHA DAS | G14: 91 | M14: 1 | O14: =SUM(F14:N14) -> 92 | P14: =(D14*$D$3)+(E14*$E$3)+(F14*$F$3)+(G14*$G$3)+(H14*$H$3)+(I14*$I$3)+(J14*$J$3)+(K14*$K$3)+(L14*$L$3)+(M14*$M$3)+(N14*$N$3) -> 24.75
B15: PRABHU NARA NARAYAN DAS | G15: 6 | K15: 1 | M15: 7 | O15: =SUM(F15:N15) -> 14 | P15: =(D15*$D$3)+(E15*$E$3)+(F15*$F$3)+(G15*$G$3)+(H15*$H$3)+(I15*$I$3)+(J15*$J$3)+(K15*$K$3)+(L15*$L$3)+(M15*$M$3)+(N15*$N$3) -> 16.5
B16: MATAJI CHAITANYA | M16: 6 | O16: =SUM(F16:N16) -> 6 | P16: =(D16*$D$3)+(E16*$E$3)+(F16*$F$3)+(G16*$G$3)+(H16*$H$3)+(I16*$I$3)+(J16*$J$3)+(K16*$K$3)+(L16*$L$3)+(M16*$M$3)+(N16*$N$3) -> 12
B17: PRABHU VRSBHANU DAYALU DAS | F17: 2 | G17: 8 | I17: 4 | K17: 3 | O17: =SUM(F17:N17) -> 17 | P17: =(D17*$D$3)+(E17*$E$3)+(F17*$F$3)+(G17*$G$3)+(H17*$H$3)+(I17*$I$3)+(J17*$J$3)+(K17*$K$3)+(L17*$L$3)+(M17*$M$3)+(N17*$N$3) -> 7.2
B18: MATAJI CARU BALA DEVI DASI | F18: 2 | G18: 2 | K18: 2 | M18: 2 | O18: =SUM(F18:N18) -> 8 | P18: =(D18*$D$3)+(E18*$E$3)+(F18*$F$3)+(G18*$G$3)+(H18*$H$3)+(I18*$I$3)+(J18*$J$3)+(K18*$K$3)+(L18*$L$3)+(M18*$M$3)+(N18*$N$3) -> 6.7
B19: MATAJI NIKUNJA DEVI DASI | F19: 1 | G19: 10 | I19: 5 | O19: =SUM(F19:N19) -> 16 | P19: =(D19*$D$3)+(E19*$E$3)+(F19*$F$3)+(G19*$G$3)+(H19*$H$3)+(I19*$I$3)+(J19*$J$3)+(K19*$K$3)+(L19*$L$3)+(M19*$M$3)+(N19*$N$3) -> 5.1
B20: PRABHU MAHAJAN DAS | K20: 1 | M20: 2 | O20: =SUM(F20:N20) -> 3 | P20: =(D20*$D$3)+(E20*$E$3)+(F20*$F$3)+(G20*$G$3)+(H20*$H$3)+(I20*$I$3)+(J20*$J$3)+(K20*$K$3)+(L20*$L$3)+(M20*$M$3)+(N20*$N$3) -> 5
B21: MATAJI RAJKUMARI | G21: 2 | I21: 2 | K21: 2 | O21: =SUM(F21:N21) -> 6 | P21: =(D21*$D$3)+(E21*$E$3)+(F21*$F$3)+(G21*$G$3)+(H21*$H$3)+(I21*$I$3)+(J21*$J$3)+(K21*$K$3)+(L21*$L$3)+(M21*$M$3)+(N21*$N$3) -> 3.5
B22: PRABHU KRISH GOVIND DAS | G22: 10 | O22: =SUM(F22:N22) -> 10 | P22: =(D22*$D$3)+(E22*$E$3)+(F22*$F$3)+(G22*$G$3)+(H22*$H$3)+(I22*$I$3)+(J22*$J$3)+(K22*$K$3)+(L22*$L$3)+(M22*$M$3)+(N22*$N$3) -> 2.5
B23: MATAJI TARUNA | G23: 2 | I23: 2 | K23: 1 | O23: =SUM(F23:N23) -> 5 | P23: =(D23*$D$3)+(E23*$E$3)+(F23*$F$3)+(G23*$G$3)+(H23*$H$3)+(I23*$I$3)+(J23*$J$3)+(K23*$K$3)+(L23*$L$3)+(M23*$M$3)+(N23*$N$3) -> 2.5
B24: MATAJI VINATA DEVI DASI | G24: 6 | I24: 1 | O24: =SUM(F24:N24) -> 7 | P24: =(D24*$D$3)+(E24*$E$3)+(F24*$F$3)+(G24*$G$3)+(H24*$H$3)+(I24*$I$3)+(J24*$J$3)+(K24*$K$3)+(L24*$L$3)+(M24*$M$3)+(N24*$N$3) -> 2
B25: MATAJI DANGHATI LILA DEVI DASI | G25: 6 | O25: =SUM(F25:N25) -> 6 | P25: =(D25*$D$3)+(E25*$E$3)+(F25*$F$3)+(G25*$G$3)+(H25*$H$3)+(I25*$I$3)+(J25*$J$3)+(K25*$K$3)+(L25*$L$3)+(M25*$M$3)+(N25*$N$3) -> 1.5
B26: MATAJI SRI MANJARI DEVI DASI | I26: 1 | K26: 1 | O26: =SUM(F26:N26) -> 2 | P26: =(D26*$D$3)+(E26*$E$3)+(F26*$F$3)+(G26*$G$3)+(H26*$H$3)+(I26*$I$3)+(J26*$J$3)+(K26*$K$3)+(L26*$L$3)+(M26*$M$3)+(N26*$N$3) -> 1.5
B27: MATAJI ARADHYA MURTI | G27: 1 | I27: 1 | O27: =SUM(F27:N27) -> 2 | P27: =(D27*$D$3)+(E27*$E$3)+(F27*$F$3)+(G27*$G$3)+(H27*$H$3)+(I27*$I$3)+(J27*$J$3)+(K27*$K$3)+(L27*$L$3)+(M27*$M$3)+(N27*$N$3) -> 0.75
B28: MATAJI ADITI | G28: 1 | O28: =SUM(F28:N28) -> 1 | P28: =(D28*$D$3)+(E28*$E$3)+(F28*$F$3)+(G28*$G$3)+(H28*$H$3)+(I28*$I$3)+(J28*$J$3)+(K28*$K$3)+(L28*$L$3)+(M28*$M$3)+(N28*$N$3) -> 0.25
O29: =SUM(F29:N29) -> 0 | P29: =(D29*$D$3)+(E29*$E$3)+(F29*$F$3)+(G29*$G$3)+(H29*$H$3)+(I29*$I$3)+(J29*$J$3)+(K29*$K$3)+(L29*$L$3)+(M29*$M$3)+(N29*$N$3) -> 0
B30: TOTAL | C30: =SUM(C7:C29) -> 0 | D30: =SUM(D7:D29) -> 0 | E30: =SUM(E7:E29) -> 0 | F30: =SUM(F7:F29) -> 7 | G30: =SUM(G7:G29) -> 4271 | H30: =SUM(H7:H29) -> 0 | I30: =SUM(I7:I29) -> 107 | J30: =SUM(J7:J29) -> 0 | ... P30: =SUM(P7:P29) -> 1479.95
B33: ISKCON Bon Accueil Mauritius Sri Sri Krsna Balaram Mandir
B34: Cumulative Scores | O34: =SUM(F34:N34) -> 0 | P34: =(D34*$D$3)+(E34*$E$3)+(F34*$F$3)+(G34*$G$3)+(H34*$H$3)+(I34*$I$3)+(J34*$J$3)+(K34*$K$3)+(L34*$L$3)+(M34*$M$3)+(N34*$N$3) -> 0
O35: =SUM(F35:N35) -> 0 | P35: =(D35*$D$3)+(E35*$E$3)+(F35*$F$3)+(G35*$G$3)+(H35*$H$3)+(I35*$I$3)+(J35*$J$3)+(K35*$K$3)+(L35*$L$3)+(M35*$M$3)+(N35*$N$3) -> 0
O36: =SUM(F36:N36) -> 0 | P36: =(D36*$D$3)+(E36*$E$3)+(F36*$F$3)+(G36*$G$3)+(H36*$H$3)+(I36*$I$3)+(J36*$J$3)+(K36*$K$3)+(L36*$L$3)+(M36*$M$3)+(N36*$N$3) -> 0
B37: TOTAL | C37: =SUM(C34:C36) -> 0 | D37: =SUM(D34:D36) -> 0 | E37: =SUM(E34:E36) -> 0 | F37: =SUM(F34:F36) -> 0 | G37: =SUM(G34:G36) -> 0 | H37: =SUM(H34:H36) -> 0 | I37: =SUM(I34:I36) -> 0 | J37: =SUM(J34:J36) -> 0 | ... P37: =SUM(P34:P36) -> 0
B40: ISKCON Triolet Mauritius Sri Sri Rukmini Dwarkadish Mandir
B41: OTHERS | G41: 35 | I41: 81 | K41: 50 | M41: 164 | O41: =SUM(F41:N41) -> 330 | P41: =(D41*$D$3)+(E41*$E$3)+(F41*$F$3)+(G41*$G$3)+(H41*$H$3)+(I41*$I$3)+(J41*$J$3)+(K41*$K$3)+(L41*$L$3)+(M41*$M$3)+(N41*$N$3) -> 427.25
B42: PRABHU ABHIRAMA GOPA DAS | G42: 215 | I42: 5 | M42: 58 | O42: =SUM(F42:N42) -> 278 | P42: =(D42*$D$3)+(E42*$E$3)+(F42*$F$3)+(G42*$G$3)+(H42*$H$3)+(I42*$I$3)+(J42*$J$3)+(K42*$K$3)+(L42*$L$3)+(M42*$M$3)+(N42*$N$3) -> 172.25
B43: MATAJI RUMA | G43: 300 | M43: 7 | O43: =SUM(F43:N43) -> 307 | P43: =(D43*$D$3)+(E43*$E$3)+(F43*$F$3)+(G43*$G$3)+(H43*$H$3)+(I43*$I$3)+(J43*$J$3)+(K43*$K$3)+(L43*$L$3)+(M43*$M$3)+(N43*$N$3) -> 89
O44: =SUM(F44:N44) -> 0 | P44: =(D44*$D$3)+(E44*$E$3)+(F44*$F$3)+(G44*$G$3)+(H44*$H$3)+(I44*$I$3)+(J44*$J$3)+(K44*$K$3)+(L44*$L$3)+(M44*$M$3)+(N44*$N$3) -> 0
O45: =SUM(F45:N45) -> 0 | P45: =(D45*$D$3)+(E45*$E$3)+(F45*$F$3)+(G45*$G$3)+(H45*$H$3)+(I45*$I$3)+(J45*$J$3)+(K45*$K$3)+(L45*$L$3)+(M45*$M$3)+(N45*$N$3) -> 0
B46: TOTAL | C46: =SUM(C41:C45) -> 0 | D46: =SUM(D41:D45) -> 0 | E46: =SUM(E41:E45) -> 0 | F46: =SUM(F41:F45) -> 0 | G46: =SUM(G41:G45) -> 550 | H46: =SUM(H41:H45) -> 0 | I46: =SUM(I41:I45) -> 86 | J46: =SUM(J41:J45) -> 0 | ... P46: =SUM(P41:P45) -> 688.5
M49: TOTAL | O49: =O46+O37+O30 -> 5488 | P49: =P46+P37+P30 -> 2168.45

Sheet Nigeria
B1: MONTH : February 2023
C2: BTG Sub | D2: CC Set | E2: SB Set | F2: Mag. | G2: Small Books | I2: Medium Books | K2: Big Books | M2: Maha-Books
D3: 36 | E3: 72 | F3: 0.1 | G3: 0.25 | H3: 0.25 | I3: 0.5 | J3: 0.5 | K3: 1 | L3: 1 | M3: 2 | N3: 2
B4: DEVOTEES | F4: M1 | G4: S1 | H4: H1 | I4: S2 | J4: H2 | K4: S3 | L4: H3 | M4: S4 | N4: H4 | O4: T/BKS | P4: Points
B6: ISKCON BENIN CITY
B7: Temple Cumulative Scores | G7: 35 | K7: 5 | O7: =SUM(C7:N7) -> 40 | P7: =(D7*$D$3)+(E7*$E$3)+(F7*$F$3)+(G7*$G$3)+(H7*$H$3)+(I7*$I$3)+(J7*$J$3)+(K7*$K$3)+(L7*$L$3)+(M7*$M$3)+(N7*$N$3) -> 13.75
O8: =SUM(F8:N8) -> 0 | P8: =(D8*$D$3)+(E8*$E$3)+(F8*$F$3)+(G8*$G$3)+(H8*$H$3)+(I8*$I$3)+(J8*$J$3)+(K8*$K$3)+(L8*$L$3)+(M8*$M$3)+(N8*$N$3) -> 0
O9: =SUM(F9:N9) -> 0 | P9: =(D9*$D$3)+(E9*$E$3)+(F9*$F$3)+(G9*$G$3)+(H9*$H$3)+(I9*$I$3)+(J9*$J$3)+(K9*$K$3)+(L9*$L$3)+(M9*$M$3)+(N9*$N$3) -> 0
B10: TOTAL | C10: =SUM(C7:C9) -> 0 | D10: =SUM(D7:D9) -> 0 | E10: =SUM(E7:E9) -> 0 | F10: =SUM(F7:F9) -> 0 | G10: =SUM(G7:G9) -> 35 | H10: =SUM(H7:H9) -> 0 | I10: =SUM(I7:I9) -> 0 | J10: =SUM(J7:J9) -> 0 | ... P10: =SUM(P7:P9) -> 13.75
B13: ISKCON ABEOKUTA
B14: Temple Scores | F14: 40 | G14: 25 | I14: 10 | K14: 20 | N14: 4 | O14: =SUM(F14:N14) -> 99 | P14: =(D14*$D$3)+(E14*$E$3)+(F14*$F$3)+(G14*$G$3)+(H14*$H$3)+(I14*$I$3)+(J14*$J$3)+(K14*$K$3)+(L14*$L$3)+(M14*$M$3)+(N14*$N$3) -> 43.25
O15: =SUM(F15:N15) -> 0 | P15: =(D15*$D$3)+(E15*$E$3)+(F15*$F$3)+(G15*$G$3)+(H15*$H$3)+(I15*$I$3)+(J15*$J$3)+(K15*$K$3)+(L15*$L$3)+(M15*$M$3)+(N15*$N$3) -> 0
O16: =SUM(F16:N16) -> 0 | P16: =(D16*$D$3)+(E16*$E$3)+(F16*$F$3)+(G16*$G$3)+(H16*$H$3)+(I16*$I$3)+(J16*$J$3)+(K16*$K$3)+(L16*$L$3)+(M16*$M$3)+(N16*$N$3) -> 0
O17: =SUM(F17:N17) -> 0 | P17: =(D17*$D$3)+(E17*$E$3)+(F17*$F$3)+(G17*$G$3)+(H17*$H$3)+(I17*$I$3)+(J17*$J$3)+(K17*$K$3)+(L17*$L$3)+(M17*$M$3)+(N17*$N$3) -> 0
B18: TOTAL | C18: =SUM(C17:C17) -> 0 | D18: =SUM(D14:D17) -> 0 | E18: =SUM(E14:E17) -> 0 | F18: =SUM(F17:F17) -> 0 | G18: =SUM(G14:G17) -> 25 | H18: =SUM(H14:H17) -> 0 | I18: =SUM(I14:I17) -> 10 | J18: =SUM(J14:J17) -> 0 | K18: =SUM(K14:K17) -> 20 | L18: =SUM(L14:L17) -> 0 | M18: =SUM(M14:M17) -> 0 | N18: =SUM(N14:N17) -> 4 | ... P18: =SUM(P14:P17) -> 43.25
B21: ISKCON LAGOS
O22: =SUM(F22:N22) -> 0 | P22: =(D22*$D$3)+(E22*$E$3)+(F22*$F$3)+(G22*$G$3)+(H22*$H$3)+(I22*$I$3)+(J22*$J$3)+(K22*$K$3)+(L22*$L$3)+(M22*$M$3)+(N22*$N$3) -> 0
O23: =SUM(F23:N23) -> 0 | P23: =(D23*$D$3)+(E23*$E$3)+(F23*$F$3)+(G23*$G$3)+(H23*$H$3)+(I23*$I$3)+(J23*$J$3)+(K23*$K$3)+(L23*$L$3)+(M23*$M$3)+(N23*$N$3) -> 0
O24: =SUM(F24:N24) -> 0 | P24: =(D24*$D$3)+(E24*$E$3)+(F24*$F$3)+(G24*$G$3)+(H24*$H$3)+(I24*$I$3)+(J24*$J$3)+(K24*$K$3)+(L24*$L$3)+(M24*$M$3)+(N24*$N$3) -> 0
O25: =SUM(F25:N25) -> 0 | P25: =(D25*$D$3)+(E25*$E$3)+(F25*$F$3)+(G25*$G$3)+(H25*$H$3)+(I25*$I$3)+(J25*$J$3)+(K25*$K$3)+(L25*$L$3)+(M25*$M$3)+(N25*$N$3) -> 0
O26: =SUM(F26:N26) -> 0 | P26: =(D26*$D$3)+(E26*$E$3)+(F26*$F$3)+(G26*$G$3)+(H26*$H$3)+(I26*$I$3)+(J26*$J$3)+(K26*$K$3)+(L26*$L$3)+(M26*$M$3)+(N26*$N$3) -> 0
O27: =SUM(F27:N27) -> 0 | P27: =(D27*$D$3)+(E27*$E$3)+(F27*$F$3)+(G27*$G$3)+(H27*$H$3)+(I27*$I$3)+(J27*$J$3)+(K27*$K$3)+(L27*$L$3)+(M27*$M$3)+(N27*$N$3) -> 0
O28: =SUM(F28:N28) -> 0 | P28: =(D28*$D$3)+(E28*$E$3)+(F28*$F$3)+(G28*$G$3)+(H28*$H$3)+(I28*$I$3)+(J28*$J$3)+(K28*$K$3)+(L28*$L$3)+(M28*$M$3)+(N28*$N$3) -> 0
O29: =SUM(F29:N29) -> 0 | P29: =(D29*$D$3)+(E29*$E$3)+(F29*$F$3)+(G29*$G$3)+(H29*$H$3)+(I29*$I$3)+(J29*$J$3)+(K29*$K$3)+(L29*$L$3)+(M29*$M$3)+(N29*$N$3) -> 0
B30: TOTAL | C30: =SUM(C22:C29) -> 0 | D30: =SUM(D22:D29) -> 0 | E30: =SUM(E22:E29) -> 0 | F30: =SUM(F22:F29) -> 0 | G30: =SUM(G22:G29) -> 0 | H30: =SUM(H22:H29) -> 0 | I30: =SUM(I22:I29) -> 0 | J30: =SUM(J22:J29) -> 0 | ... P30: =SUM(P22:P29) -> 0
B33: ISKCON PORT HARCOURT
O34: =SUM(F34:N34) -> 0 | P34: =(D34*$D$3)+(E34*$E$3)+(F34*$F$3)+(G34*$G$3)+(H34*$H$3)+(I34*$I$3)+(J34*$J$3)+(K34*$K$3)+(L34*$L$3)+(M34*$M$3)+(N34*$N$3) -> 0
O35: =SUM(F35:N35) -> 0 | P35: =(D35*$D$3)+(E35*$E$3)+(F35*$F$3)+(G35*$G$3)+(H35*$H$3)+(I35*$I$3)+(J35*$J$3)+(K35*$K$3)+(L35*$L$3)+(M35*$M$3)+(N35*$N$3) -> 0
O36: =SUM(F36:N36) -> 0 | P36: =(D36*$D$3)+(E36*$E$3)+(F36*$F$3)+(G36*$G$3)+(H36*$H$3)+(I36*$I$3)+(J36*$J$3)+(K36*$K$3)+(L36*$L$3)+(M36*$M$3)+(N36*$N$3) -> 0
O37: =SUM(F37:N37) -> 0 | P37: =(D37*$D$3)+(E37*$E$3)+(F37*$F$3)+(G37*$G$3)+(H37*$H$3)+(I37*$I$3)+(J37*$J$3)+(K37*$K$3)+(L37*$L$3)+(M37*$M$3)+(N37*$N$3) -> 0
B38: TOTAL | C38: =SUM(C37:C37) -> 0 | D38: =SUM(D34:D37) -> 0 | E38: =SUM(E34:E37) -> 0 | F38: =SUM(F37:F37) -> 0 | G38: =SUM(G34:G37) -> 0 | H38: =SUM(H34:H37) -> 0 | I38: =SUM(I34:I37) -> 0 | J38: =SUM(J34:J37) -> 0 | K38: =SUM(K34:K37) -> 0 | L38: =SUM(L34:L37) -> 0 | M38: =SUM(M34:M37) -> 0 | N38: =SUM(N34:N37) -> 0 | ... P38: =SUM(P34:P37) -> 0
M42: TOTAL | O42: =O38+O18+O30+O10 -> 139 | P42: =P38+P18+P30+P10 -> 57

Sheet South Africa
B1: MONTH: February 2023
C2: BTG Sub | D2: CC Set | E2: SB Set | F2: Mag. | G2: Small Books | I2: Medium Books | K2: Big Books | M2: Maha-Books
D3: 36 | E3: 72 | F3: 0.1 | G3: 0.25 | H3: 0.25 | I3: 0.5 | J3: 0.5 | K3: 1 | L3: 1 | M3: 2 | N3: 2
B4: DEVOTEES | F4: M1 | G4: S1 | H4: H1 | I4: S2 | J4: H2 | K4: S3 | L4: H3 | M4: S4 | N4: H4 | O4: T/BKS | P4: Points
B8: ISKCON BLOEMFONTEIN
B9: Tattva Darshan Das | G9: 430 | O9: =SUM(F9:N9) -> 430 | P9: =(D9*$D$3)+(E9*$E$3)+(F9*$F$3)+(G9*$G$3)+(H9*$H$3)+(I9*$I$3)+(J9*$J$3)+(K9*$K$3)+(L9*$L$3)+(M9*$M$3)+(N9*$N$3) -> 107.5
O10: =SUM(F10:N10) -> 0 | P10: =(D10*$D$3)+(E10*$E$3)+(F10*$F$3)+(G10*$G$3)+(H10*$H$3)+(I10*$I$3)+(J10*$J$3)+(K10*$K$3)+(L10*$L$3)+(M10*$M$3)+(N10*$N$3) -> 0
B11: TOTAL | C11: =SUM(C10:C10) -> 0 | D11: =SUM(D10:D10) -> 0 | E11: =SUM(E9:E10) -> 0 | F11: =SUM(F9:F10) -> 0 | G11: =SUM(G9:G10) -> 430 | H11: =SUM(H9:H10) -> 0 | I11: =SUM(I9:I10) -> 0 | J11: =SUM(J9:J10) -> 0 | K11: =SUM(K9:K10) -> 0 | L11: =SUM(L9:L10) -> 0 | ... P11: =SUM(P9:P10) -> 107.5
B14: ISKCON CAPE TOWN
O15: =SUM(C15:N15) -> 0 | P15: =(D15*$D$3)+(E15*$E$3)+(F15*$F$3)+(G15*$G$3)+(H15*$H$3)+(I15*$I$3)+(J15*$J$3)+(K15*$K$3)+(L15*$L$3)+(M15*$M$3)+(N15*$N$3) -> 0
O16: =SUM(F16:N16) -> 0 | P16: =(D16*$D$3)+(E16*$E$3)+(F16*$F$3)+(G16*$G$3)+(H16*$H$3)+(I16*$I$3)+(J16*$J$3)+(K16*$K$3)+(L16*$L$3)+(M16*$M$3)+(N16*$N$3) -> 0
O17: =SUM(F17:N17) -> 0 | P17: =(D17*$D$3)+(E17*$E$3)+(F17*$F$3)+(G17*$G$3)+(H17*$H$3)+(I17*$I$3)+(J17*$J$3)+(K17*$K$3)+(L17*$L$3)+(M17*$M$3)+(N17*$N$3) -> 0
O18: =SUM(F18:N18) -> 0 | P18: =(D18*$D$3)+(E18*$E$3)+(F18*$F$3)+(G18*$G$3)+(H18*$H$3)+(I18*$I$3)+(J18*$J$3)+(K18*$K$3)+(L18*$L$3)+(M18*$M$3)+(N18*$N$3) -> 0
O19: =SUM(F19:N19) -> 0 | P19: =(D19*$D$3)+(E19*$E$3)+(F19*$F$3)+(G19*$G$3)+(H19*$H$3)+(I19*$I$3)+(J19*$J$3)+(K19*$K$3)+(L19*$L$3)+(M19*$M$3)+(N19*$N$3) -> 0
O20: =SUM(F20:N20) -> 0 | P20: =(D20*$D$3)+(E20*$E$3)+(F20*$F$3)+(G20*$G$3)+(H20*$H$3)+(I20*$I$3)+(J20*$J$3)+(K20*$K$3)+(L20*$L$3)+(M20*$M$3)+(N20*$N$3) -> 0
O21: =SUM(F21:N21) -> 0 | P21: =(D21*$D$3)+(E21*$E$3)+(F21*$F$3)+(G21*$G$3)+(H21*$H$3)+(I21*$I$3)+(J21*$J$3)+(K21*$K$3)+(L21*$L$3)+(M21*$M$3)+(N21*$N$3) -> 0
O22: =SUM(F22:N22) -> 0 | P22: =(D22*$D$3)+(E22*$E$3)+(F22*$F$3)+(G22*$G$3)+(H22*$H$3)+(I22*$I$3)+(J22*$J$3)+(K22*$K$3)+(L22*$L$3)+(M22*$M$3)+(N22*$N$3) -> 0
O23: =SUM(F23:N23) -> 0 | P23: =(D23*$D$3)+(E23*$E$3)+(F23*$F$3)+(G23*$G$3)+(H23*$H$3)+(I23*$I$3)+(J23*$J$3)+(K23*$K$3)+(L23*$L$3)+(M23*$M$3)+(N23*$N$3) -> 0
O24: =SUM(F24:N24) -> 0 | P24: =(D24*$D$3)+(E24*$E$3)+(F24*$F$3)+(G24*$G$3)+(H24*$H$3)+(I24*$I$3)+(J24*$J$3)+(K24*$K$3)+(L24*$L$3)+(M24*$M$3)+(N24*$N$3) -> 0
O25: =SUM(F25:N25) -> 0 | P25: =(D25*$D$3)+(E25*$E$3)+(F25*$F$3)+(G25*$G$3)+(H25*$H$3)+(I25*$I$3)+(J25*$J$3)+(K25*$K$3)+(L25*$L$3)+(M25*$M$3)+(N25*$N$3) -> 0
O26: =SUM(F26:N26) -> 0 | P26: =(D26*$D$3)+(E26*$E$3)+(F26*$F$3)+(G26*$G$3)+(H26*$H$3)+(I26*$I$3)+(J26*$J$3)+(K26*$K$3)+(L26*$L$3)+(M26*$M$3)+(N26*$N$3) -> 0
O27: =SUM(F27:N27) -> 0 | P27: =(D27*$D$3)+(E27*$E$3)+(F27*$F$3)+(G27*$G$3)+(H27*$H$3)+(I27*$I$3)+(J27*$J$3)+(K27*$K$3)+(L27*$L$3)+(M27*$M$3)+(N27*$N$3) -> 0
... O36: =SUM(F36:N36) -> 0 | P36: =(D36*$D$3)+(E36*$E$3)+(F36*$F$3)+(G36*$G$3)+(H36*$H$3)+(I36*$I$3)+(J36*$J$3)+(K36*$K$3)+(L36*$L$3)+(M36*$M$3)+(N36*$N$3) -> 0
B37: TOTAL | C37: =SUM(C15:C36) -> 0 | D37: =SUM(D15:D36) -> 0 | E37: =SUM(E15:E36) -> 0 | F37: =SUM(F15:F36) -> 0 | G37: =SUM(G15:G36) -> 0 | H37: =SUM(H15:H36) -> 0 | I37: =SUM(I15:I36) -> 0 | J37: =SUM(J15:J36) -> 0 | ... P37: =SUM(P15:P36) -> 0
B40: ISKCON DURBAN
B41: Nitai Pada Kamalam | D41: 1 | G41: 102 | N41: 3 | O41: =SUM(F41:N41)+(E41*18)+(D41*9) -> 114 | P41: =(D41*$D$3)+(E41*$E$3)+(F41*$F$3)+(G41*$G$3)+(H41*$H$3)+(I41*$I$3)+(J41*$J$3)+(K41*$K$3)+(L41*$L$3)+(M41*$M$3)+(N41*$N$3) -> 67.5
B42: Sankirtan Sadhakas | G42: 137 | K42: 8 | N42: 5 | O42: =SUM(F42:N42) -> 150 | P42: =(D42*$D$3)+(E42*$E$3)+(F42*$F$3)+(G42*$G$3)+(H42*$H$3)+(I42*$I$3)+(J42*$J$3)+(K42*$K$3)+(L42*$L$3)+(M42*$M$3)+(N42*$N$3) -> 52.25
B43: The Brhat Mrdanga Team | G43: 116 | I43: 7 | K43: 4 | N43: 4 | O43: =SUM(F43:N43) -> 131 | P43: =(D43*$D$3)+(E43*$E$3)+(F43*$F$3)+(G43*$G$3)+(H43*$H$3)+(I43*$I$3)+(J43*$J$3)+(K43*$K$3)+(L43*$L$3)+(M43*$M$3)+(N43*$N$3) -> 44.5
B44: Vibhu Caitanya Das | K44: 12 | N44: 14 | O44: =SUM(F44:N44) -> 26 | P44: =(D44*$D$3)+(E44*$E$3)+(F44*$F$3)+(G44*$G$3)+(H44*$H$3)+(I44*$I$3)+(J44*$J$3)+(K44*$K$3)+(L44*$L$3)+(M44*$M$3)+(N44*$N$3) -> 40
B45: Rama Tirtha Das, Rasavali dasi, Saci Mata dasi and Sita Luxmi dasi | G45: 6 | I45: 2 | K45: 2 | N45: 3 | O45: =SUM(F45:N45) -> 13 | P45: =(D45*$D$3)+(E45*$E$3)+(F45*$F$3)+(G45*$G$3)+(H45*$H$3)+(I45*$I$3)+(J45*$J$3)+(K45*$K$3)+(L45*$L$3)+(M45*$M$3)+(N45*$N$3) -> 10.5
B46: Padyavali dasi | G46: 30 | O46: =SUM(F46:N46) -> 30 | P46: =(D46*$D$3)+(E46*$E$3)+(F46*$F$3)+(G46*$G$3)+(H46*$H$3)+(I46*$I$3)+(J46*$J$3)+(K46*$K$3)+(L46*$L$3)+(M46*$M$3)+(N46*$N$3) -> 7.5
B47: Abhay Caitanya Das | K47: 4 | N47: 1 | O47: =SUM(F47:N47) -> 5 | P47: =(D47*$D$3)+(E47*$E$3)+(F47*$F$3)+(G47*$G$3)+(H47*$H$3)+(I47*$I$3)+(J47*$J$3)+(K47*$K$3)+(L47*$L$3)+(M47*$M$3)+(N47*$N$3) -> 6
B48: Sukadev | G48: 26 | O48: =SUM(F48:N48) -> 26 | P48: =(D48*$D$3)+(E48*$E$3)+(F48*$F$3)+(G48*$G$3)+(H48*$H$3)+(I48*$I$3)+(J48*$J$3)+(K48*$K$3)+(L48*$L$3)+(M48*$M$3)+(N48*$N$3) -> 6.5
B49: Rasamrta Devi Dasi | M49: 10 | O49: =SUM(F49:N49) -> 10 | P49: =(D49*$D$3)+(E49*$E$3)+(F49*$F$3)+(G49*$G$3)+(H49*$H$3)+(I49*$I$3)+(J49*$J$3)+(K49*$K$3)+(L49*$L$3)+(M49*$M$3)+(N49*$N$3) -> 20
O50: =SUM(F50:N50) -> 0 | P50: =(D50*$D$3)+(E50*$E$3)+(F50*$F$3)+(G50*$G$3)+(H50*$H$3)+(I50*$I$3)+(J50*$J$3)+(K50*$K$3)+(L50*$L$3)+(M50*$M$3)+(N50*$N$3) -> 0
C51: =SUM(C41:C50) -> 0 | D51: =SUM(D41:D50) -> 1 | E51: =SUM(E41:E50) -> 0 | F51: =SUM(F41:F50) -> 0 | G51: =SUM(G41:G50) -> 417 | H51: =SUM(H41:H50) -> 0 | I51: =SUM(I41:I50) -> 9 | J51: =SUM(J41:J50) -> 0 | ... P51: =SUM(P41:P50) -> 254.75
B54: ISKCON EAST LONDON
B55: Paramisvara Dasa and Paramisvari Dasi | G55: 6 | O55: =SUM(F55:N55)+(E55*18)+(D55*9) -> 6 | P55: =(D55*$D$3)+(E55*$E$3)+(F55*$F$3)+(G55*$G$3)+(H55*$H$3)+(I55*$I$3)+(J55*$J$3)+(K55*$K$3)+(L55*$L$3)+(M55*$M$3)+(N55*$N$3) -> 1.5
B56: Congregation | F56: 7 | O56: =SUM(F56:N56) -> 7 | P56: =(D56*$D$3)+(E56*$E$3)+(F56*$F$3)+(G56*$G$3)+(H56*$H$3)+(I56*$I$3)+(J56*$J$3)+(K56*$K$3)+(L56*$L$3)+(M56*$M$3)+(N56*$N$3) -> 0.7
O57: =SUM(F57:N57) -> 0 | P57: =(D57*$D$3)+(E57*$E$3)+(F57*$F$3)+(G57*$G$3)+(H57*$H$3)+(I57*$I$3)+(J57*$J$3)+(K57*$K$3)+(L57*$L$3)+(M57*$M$3)+(N57*$N$3) -> 0
B58: TOTAL | C58: =SUM(C55:C57) -> 0 | D58: =SUM(D55:D57) -> 0 | E58: =SUM(E55:E57) -> 0 | F58: =SUM(F55:F57) -> 7 | G58: =SUM(G55:G57) -> 6 | H58: =SUM(H55:H57) -> 0 | I58: =SUM(I55:I57) -> 0 | J58: =SUM(J55:J57) -> 0 | ... P58: =SUM(P55:P57) -> 2.2
B61: ISKCON HAMMANSKRAAL
B62: Temple Scores | O62: =SUM(F62:N62) -> 0 | P62: =(D62*$D$3)+(E62*$E$3)+(F62*$F$3)+(G62*$G$3)+(H62*$H$3)+(I62*$I$3)+(J62*$J$3)+(K62*$K$3)+(L62*$L$3)+(M62*$M$3)+(N62*$N$3) -> 0
O63: =SUM(F63:N63) -> 0 | P63: =(D63*$D$3)+(E63*$E$3)+(F63*$F$3)+(G63*$G$3)+(H63*$H$3)+(I63*$I$3)+(J63*$J$3)+(K63*$K$3)+(L63*$L$3)+(M63*$M$3)+(N63*$N$3) -> 0
B64: TOTAL | C64: =SUM(C63:C63) -> 0 | D64: =SUM(D63:D63) -> 0 | E64: =SUM(E62:E63) -> 0 | F64: =SUM(F62:F63) -> 0 | G64: =SUM(G62:G63) -> 0 | H64: =SUM(H62:H63) -> 0 | I64: =SUM(I62:I63) -> 0 | J64: =SUM(J62:J63) -> 0 | K64: =SUM(K62:K63) -> 0 | L64: =SUM(L62:L63) -> 0 | ... P64: =SUM(P62:P63) -> 0
B67: ISKCON LENASIA
O68: =SUM(F68:N68) -> 0 | P68: =(D68*$D$3)+(E68*$E$3)+(F68*$F$3)+(G68*$G$3)+(H68*$H$3)+(I68*$I$3)+(J68*$J$3)+(K68*$K$3)+(L68*$L$3)+(M68*$M$3)+(N68*$N$3) -> 0
O69: =SUM(F69:N69) -> 0 | P69: =(D69*$D$3)+(E69*$E$3)+(F69*$F$3)+(G69*$G$3)+(H69*$H$3)+(I69*$I$3)+(J69*$J$3)+(K69*$K$3)+(L69*$L$3)+(M69*$M$3)+(N69*$N$3) -> 0
O70: =SUM(F70:N70) -> 0 | P70: =(D70*$D$3)+(E70*$E$3)+(F70*$F$3)+(G70*$G$3)+(H70*$H$3)+(I70*$I$3)+(J70*$J$3)+(K70*$K$3)+(L70*$L$3)+(M70*$M$3)+(N70*$N$3) -> 0
O71: =SUM(F71:N71) -> 0 | P71: =(D71*$D$3)+(E71*$E$3)+(F71*$F$3)+(G71*$G$3)+(H71*$H$3)+(I71*$I$3)+(J71*$J$3)+(K71*$K$3)+(L71*$L$3)+(M71*$M$3)+(N71*$N$3) -> 0
O72: =SUM(F72:N72) -> 0 | P72: =(D72*$D$3)+(E72*$E$3)+(F72*$F$3)+(G72*$G$3)+(H72*$H$3)+(I72*$I$3)+(J72*$J$3)+(K72*$K$3)+(L72*$L$3)+(M72*$M$3)+(N72*$N$3) -> 0
O73: =SUM(F73:N73) -> 0 | P73: =(D73*$D$3)+(E73*$E$3)+(F73*$F$3)+(G73*$G$3)+(H73*$H$3)+(I73*$I$3)+(J73*$J$3)+(K73*$K$3)+(L73*$L$3)+(M73*$M$3)+(N73*$N$3) -> 0
O74: =SUM(F74:N74) -> 0 | P74: =(D74*$D$3)+(E74*$E$3)+(F74*$F$3)+(G74*$G$3)+(H74*$H$3)+(I74*$I$3)+(J74*$J$3)+(K74*$K$3)+(L74*$L$3)+(M74*$M$3)+(N74*$N$3) -> 0
O75: =SUM(F75:N75) -> 0 | P75: =(D75*$D$3)+(E75*$E$3)+(F75*$F$3)+(G75*$G$3)+(H75*$H$3)+(I75*$I$3)+(J75*$J$3)+(K75*$K$3)+(L75*$L$3)+(M75*$M$3)+(N75*$N$3) -> 0
O76: =SUM(F76:N76) -> 0 | P76: =(D76*$D$3)+(E76*$E$3)+(F76*$F$3)+(G76*$G$3)+(H76*$H$3)+(I76*$I$3)+(J76*$J$3)+(K76*$K$3)+(L76*$L$3)+(M76*$M$3)+(N76*$N$3) -> 0
O77: =SUM(F77:N77) -> 0 | P77: =(D77*$D$3)+(E77*$E$3)+(F77*$F$3)+(G77*$G$3)+(H77*$H$3)+(I77*$I$3)+(J77*$J$3)+(K77*$K$3)+(L77*$L$3)+(M77*$M$3)+(N77*$N$3) -> 0
O78: =SUM(F78:N78) -> 0 | P78: =(D78*$D$3)+(E78*$E$3)+(F78*$F$3)+(G78*$G$3)+(H78*$H$3)+(I78*$I$3)+(J78*$J$3)+(K78*$K$3)+(L78*$L$3)+(M78*$M$3)+(N78*$N$3) -> 0
O79: =SUM(F79:N79) -> 0 | P79: =(D79*$D$3)+(E79*$E$3)+(F79*$F$3)+(G79*$G$3)+(H79*$H$3)+(I79*$I$3)+(J79*$J$3)+(K79*$K$3)+(L79*$L$3)+(M79*$M$3)+(N79*$N$3) -> 0
... O89: =SUM(F89:N89) -> 0 | P89: =(D89*$D$3)+(E89*$E$3)+(F89*$F$3)+(G89*$G$3)+(H89*$H$3)+(I89*$I$3)+(J89*$J$3)+(K89*$K$3)+(L89*$L$3)+(M89*$M$3)+(N89*$N$3) -> 0
B90: TOTAL | C90: =SUM(C68:C89) -> 0 | D90: =SUM(D68:D89) -> 0 | E90: =SUM(E68:E89) -> 0 | F90: =SUM(F68:F89) -> 0 | G90: =SUM(G68:G89) -> 0 | H90: =SUM(H68:H89) -> 0 | I90: =SUM(I68:I89) -> 0 | J90: =SUM(J68:J89) -> 0 | ... P90: =SUM(P68:P89) -> 0
B93: ISKCON MIDRAND
B94: ISKCON Midrand | F94: 125 | G94: 12 | J94: 2 | K94: 3 | L94: 1 | N94: 1 | O94: =SUM(F94:N94)+(E94*18)+(D94*9) -> 144 | P94: =(D94*$D$3)+(E94*$E$3)+(F94*$F$3)+(G94*$G$3)+(H94*$H$3)+(I94*$I$3)+(J94*$J$3)+(K94*$K$3)+(L94*$L$3)+(M94*$M$3)+(N94*$N$3) -> 22.5
O95: =SUM(F95:N95) -> 0 | P95: =(D95*$D$3)+(E95*$E$3)+(F95*$F$3)+(G95*$G$3)+(H95*$H$3)+(I95*$I$3)+(J95*$J$3)+(K95*$K$3)+(L95*$L$3)+(M95*$M$3)+(N95*$N$3) -> 0
O96: =SUM(F96:N96) -> 0 | P96: =(D96*$D$3)+(E96*$E$3)+(F96*$F$3)+(G96*$G$3)+(H96*$H$3)+(I96*$I$3)+(J96*$J$3)+(K96*$K$3)+(L96*$L$3)+(M96*$M$3)+(N96*$N$3) -> 0
B97: TOTAL | C97: =SUM(C94:C96) -> 0 | D97: =SUM(D94:D96) -> 0 | E97: =SUM(E94:E96) -> 0 | F97: =SUM(F94:F96) -> 125 | G97: =SUM(G94:G96) -> 12 | H97: =SUM(H94:H96) -> 0 | I97: =SUM(I94:I96) -> 0 | J97: =SUM(J94:J96) -> 2 | ... P97: =SUM(P94:P96) -> 22.5
B100: ISKCON MPUMALANGA
O101: =SUM(F101:N101) -> 0 | P101: =(D101*$D$3)+(E101*$E$3)+(F101*$F$3)+(G101*$G$3)+(H101*$H$3)+(I101*$I$3)+(J101*$J$3)+(K101*$K$3)+(L101*$L$3)+(M101*$M$3)+(N101*$N$3) -> 0
O102: =SUM(F102:N102) -> 0 | P102: =(D102*$D$3)+(E102*$E$3)+(F102*$F$3)+(G102*$G$3)+(H102*$H$3)+(I102*$I$3)+(J102*$J$3)+(K102*$K$3)+(L102*$L$3)+(M102*$M$3)+(N102*$N$3) -> 0
B103: TOTAL | C103: =SUM(C101:C102) -> 0 | D103: =SUM(D101:D102) -> 0 | E103: =SUM(E101:E102) -> 0 | F103: =SUM(F101:F102) -> 0 | G103: =SUM(G101:G102) -> 0 | H103: =SUM(H101:H102) -> 0 | I103: =SUM(I101:I102) -> 0 | J103: =SUM(J101:J102) -> 0 | ... P103: =SUM(P101:P102) -> 0
B106: ISKCON PHOENIX
O107: =SUM(F107:N107) -> 0 | P107: =(D107*$D$3)+(E107*$E$3)+(F107*$F$3)+(G107*$G$3)+(H107*$H$3)+(I107*$I$3)+(J107*$J$3)+(K107*$K$3)+(L107*$L$3)+(M107*$M$3)+(N107*$N$3) -> 0
O108: =SUM(F108:N108) -> 0 | P108: =(D108*$D$3)+(E108*$E$3)+(F108*$F$3)+(G108*$G$3)+(H108*$H$3)+(I108*$I$3)+(J108*$J$3)+(K108*$K$3)+(L108*$L$3)+(M108*$M$3)+(N108*$N$3) -> 0
O109: =SUM(F109:N109) -> 0 | P109: =(D109*$D$3)+(E109*$E$3)+(F109*$F$3)+(G109*$G$3)+(H109*$H$3)+(I109*$I$3)+(J109*$J$3)+(K109*$K$3)+(L109*$L$3)+(M109*$M$3)+(N109*$N$3) -> 0
O110: =SUM(F110:N110) -> 0 | P110: =(D110*$D$3)+(E110*$E$3)+(F110*$F$3)+(G110*$G$3)+(H110*$H$3)+(I110*$I$3)+(J110*$J$3)+(K110*$K$3)+(L110*$L$3)+(M110*$M$3)+(N110*$N$3) -> 0
O111: =SUM(F111:N111) -> 0 | P111: =(D111*$D$3)+(E111*$E$3)+(F111*$F$3)+(G111*$G$3)+(H111*$H$3)+(I111*$I$3)+(J111*$J$3)+(K111*$K$3)+(L111*$L$3)+(M111*$M$3)+(N111*$N$3) -> 0
O112: =SUM(F112:N112) -> 0 | P112: =(D112*$D$3)+(E112*$E$3)+(F112*$F$3)+(G112*$G$3)+(H112*$H$3)+(I112*$I$3)+(J112*$J$3)+(K112*$K$3)+(L112*$L$3)+(M112*$M$3)+(N112*$N$3) -> 0
O113: =SUM(F113:N113) -> 0 | P113: =(D113*$D$3)+(E113*$E$3)+(F113*$F$3)+(G113*$G$3)+(H113*$H$3)+(I113*$I$3)+(J113*$J$3)+(K113*$K$3)+(L113*$L$3)+(M113*$M$3)+(N113*$N$3) -> 0
O114: =SUM(F114:N114) -> 0 | P114: =(D114*$D$3)+(E114*$E$3)+(F114*$F$3)+(G114*$G$3)+(H114*$H$3)+(I114*$I$3)+(J114*$J$3)+(K114*$K$3)+(L114*$L$3)+(M114*$M$3)+(N114*$N$3) -> 0
O115: =SUM(F115:N115) -> 0 | P115: =(D115*$D$3)+(E115*$E$3)+(F115*$F$3)+(G115*$G$3)+(H115*$H$3)+(I115*$I$3)+(J115*$J$3)+(K115*$K$3)+(L115*$L$3)+(M115*$M$3)+(N115*$N$3) -> 0
O116: =SUM(F116:N116) -> 0 | P116: =(D116*$D$3)+(E116*$E$3)+(F116*$F$3)+(G116*$G$3)+(H116*$H$3)+(I116*$I$3)+(J116*$J$3)+(K116*$K$3)+(L116*$L$3)+(M116*$M$3)+(N116*$N$3) -> 0
O117: =SUM(F117:N117) -> 0 | P117: =(D117*$D$3)+(E117*$E$3)+(F117*$F$3)+(G117*$G$3)+(H117*$H$3)+(I117*$I$3)+(J117*$J$3)+(K117*$K$3)+(L117*$L$3)+(M117*$M$3)+(N117*$N$3) -> 0
O118: =SUM(F118:N118) -> 0 | P118: =(D118*$D$3)+(E118*$E$3)+(F118*$F$3)+(G118*$G$3)+(H118*$H$3)+(I118*$I$3)+(J118*$J$3)+(K118*$K$3)+(L118*$L$3)+(M118*$M$3)+(N118*$N$3) -> 0
... O130: =SUM(F130:N130) -> 0 | P130: =(D130*$D$3)+(E130*$E$3)+(F130*$F$3)+(G130*$G$3)+(H130*$H$3)+(I130*$I$3)+(J130*$J$3)+(K130*$K$3)+(L130*$L$3)+(M130*$M$3)+(N130*$N$3) -> 0
B131: TOTAL | C131: =SUM(C130:C130) -> 0 | D131: =SUM(D107:D130) -> 0 | E131: =SUM(E107:E130) -> 0 | F131: =SUM(F107:F130) -> 0 | G131: =SUM(G107:G130) -> 0 | H131: =SUM(H107:H130) -> 0 | I131: =SUM(I107:I130) -> 0 | J131: =SUM(J107:J130) -> 0 | K131: =SUM(K107:K130) -> 0 | ... P131: =SUM(P107:P130) -> 0
B134: ISKCON PIETERMARITZBURG
B135: Temple Cumulative scores | G135: 20 | N135: 26 | O135: =SUM(F135:N135)+(E135*18)+(D135*9) -> 46 | P135: =(D135*$D$3)+(E135*$E$3)+(F135*$F$3)+(G135*$G$3)+(H135*$H$3)+(I135*$I$3)+(J135*$J$3)+(K135*$K$3)+(L135*$L$3)+(M135*$M$3)+(N135*$N$3) -> 57
O136: =SUM(F136:N136) -> 0 | P136: =(D136*$D$3)+(E136*$E$3)+(F136*$F$3)+(G136*$G$3)+(H136*$H$3)+(I136*$I$3)+(J136*$J$3)+(K136*$K$3)+(L136*$L$3)+(M136*$M$3)+(N136*$N$3) -> 0
O137: =SUM(F137:N137) -> 0 | P137: =(D137*$D$3)+(E137*$E$3)+(F137*$F$3)+(G137*$G$3)+(H137*$H$3)+(I137*$I$3)+(J137*$J$3)+(K137*$K$3)+(L137*$L$3)+(M137*$M$3)+(N137*$N$3) -> 0
O138: =SUM(F138:N138) -> 0 | P138: =(D138*$D$3)+(E138*$E$3)+(F138*$F$3)+(G138*$G$3)+(H138*$H$3)+(I138*$I$3)+(J138*$J$3)+(K138*$K$3)+(L138*$L$3)+(M138*$M$3)+(N138*$N$3) -> 0
B139: TOTAL | C139: =SUM(C138:C138) -> 0 | D139: =SUM(D135:D138) -> 0 | E139: =SUM(E135:E138) -> 0 | F139: =SUM(F138:F138) -> 0 | G139: =SUM(G135:G138) -> 20 | H139: =SUM(H135:H138) -> 0 | I139: =SUM(I135:I138) -> 0 | J139: =SUM(J135:J138) -> 0 | K139: =SUM(K135:K138) -> 0 | L139: =SUM(L135:L138) -> 0 | M139: =SUM(M135:M138) -> 0 | N139: =SUM(N135:N138) -> 26 | ... P139: =SUM(P135:P138) -> 57
B142: ISKCON PORT ELIZABETH
O143: =SUM(F143:N143) -> 0 | P143: =(D143*$D$3)+(E143*$E$3)+(F143*$F$3)+(G143*$G$3)+(H143*$H$3)+(I143*$I$3)+(J143*$J$3)+(K143*$K$3)+(L143*$L$3)+(M143*$M$3)+(N143*$N$3) -> 0
O144: =SUM(F144:N144) -> 0 | P144: =(D144*$D$3)+(E144*$E$3)+(F144*$F$3)+(G144*$G$3)+(H144*$H$3)+(I144*$I$3)+(J144*$J$3)+(K144*$K$3)+(L144*$L$3)+(M144*$M$3)+(N144*$N$3) -> 0
O145: =SUM(F145:N145) -> 0 | P145: =(D145*$D$3)+(E145*$E$3)+(F145*$F$3)+(G145*$G$3)+(H145*$H$3)+(I145*$I$3)+(J145*$J$3)+(K145*$K$3)+(L145*$L$3)+(M145*$M$3)+(N145*$N$3) -> 0
B146: TOTAL | C146: =SUM(C145:C145) -> 0 | D146: =SUM(D143:D145) -> 0 | E146: =SUM(E143:E145) -> 0 | F146: =SUM(F145:F145) -> 0 | G146: =SUM(G143:G145) -> 0 | H146: =SUM(H143:H145) -> 0 | I146: =SUM(I143:I145) -> 0 | J146: =SUM(J143:J145) -> 0 | K146: =SUM(K143:K145) -> 0 | L146: =SUM(L143:L145) -> 0 | M146: =SUM(M143:M145) -> 0 | N146: =SUM(N143:N145) -> 0 | ... P146: =SUM(P143:P145) -> 0
B149: ISKCON PRETORIA
B150: Temple Cumulative scores | O150: =SUM(F150:N150)+(E150*18)+(D150*9) -> 0 | P150: =(D150*$D$3)+(E150*$E$3)+(F150*$F$3)+(G150*$G$3)+(H150*$H$3)+(I150*$I$3)+(J150*$J$3)+(K150*$K$3)+(L150*$L$3)+(M150*$M$3)+(N150*$N$3) -> 0
O151: =SUM(F151:N151) -> 0 | P151: =(D151*$D$3)+(E151*$E$3)+(F151*$F$3)+(G151*$G$3)+(H151*$H$3)+(I151*$I$3)+(J151*$J$3)+(K151*$K$3)+(L151*$L$3)+(M151*$M$3)+(N151*$N$3) -> 0
O152: =SUM(F152:N152) -> 0 | P152: =(D152*$D$3)+(E152*$E$3)+(F152*$F$3)+(G152*$G$3)+(H152*$H$3)+(I152*$I$3)+(J152*$J$3)+(K152*$K$3)+(L152*$L$3)+(M152*$M$3)+(N152*$N$3) -> 0
B153: TOTAL | C153: =SUM(C152:C152) -> 0 | D153: =SUM(D150:D152) -> 0 | E153: =SUM(E150:E152) -> 0 | F153: =SUM(F152:F152) -> 0 | G153: =SUM(G150:G152) -> 0 | H153: =SUM(H150:H152) -> 0 | I153: =SUM(I150:I152) -> 0 | J153: =SUM(J150:J152) -> 0 | K153: =SUM(K150:K152) -> 0 | L153: =SUM(L150:L152) -> 0 | M153: =SUM(M150:M152) -> 0 | N153: =SUM(N150:N152) -> 0 | ... P153: =SUM(P150:P152) -> 0
...

Sheet Tanzania
B2: TEMPLE: Dar es Salaam
B3: MONTH :
C4: BTG Sub | D4: CC Set | E4: SB Set | F4: Mag. | G4: Small Books | I4: Medium Books | K4: Big Books | M4: Maha-Books
D5: 36 | E5: 72 | F5: 0.1 | G5: 0.25 | H5: 0.25 | I5: 0.5 | J5: 0.5 | K5: 1 | L5: 1 | M5: 2 | N5: 2
B6: DEVOTEES | F6: M1 | G6: S1 | H6: H1 | I6: S2 | J6: H2 | K6: S3 | L6: H3 | M6: S4 | N6: H4 | O6: T/BKS | P6: Points
B9: Cumulative Scores | O9: =SUM(F9:N9) -> 0 | P9: =(D9*$D$5)+(E9*$E$5)+(F9*$F$5)+(G9*$G$5)+(H9*$H$5)+(I9*$I$5)+(J9*$J$5)+(K9*$K$5)+(L9*$L$5)+(M9*$M$5)+(N9*$N$5) -> 0
O10: =SUM(F10:N10) -> 0 | P10: =(D10*$D$5)+(E10*$E$5)+(F10*$F$5)+(G10*$G$5)+(H10*$H$5)+(I10*$I$5)+(J10*$J$5)+(K10*$K$5)+(L10*$L$5)+(M10*$M$5)+(N10*$N$5) -> 0
O11: =SUM(F11:N11) -> 0 | P11: =(D11*$D$5)+(E11*$E$5)+(F11*$F$5)+(G11*$G$5)+(H11*$H$5)+(I11*$I$5)+(J11*$J$5)+(K11*$K$5)+(L11*$L$5)+(M11*$M$5)+(N11*$N$5) -> 0
B12: TOTAL | C12: =SUM(C9:C11) -> 0 | D12: =SUM(D9:D11) -> 0 | E12: =SUM(E9:E11) -> 0 | F12: =SUM(F9:F11) -> 0 | G12: =SUM(G9:G11) -> 0 | H12: =SUM(H9:H11) -> 0 | I12: =SUM(I9:I11) -> 0 | J12: =SUM(J9:J11) -> 0 | ... P12: =SUM(P9:P11) -> 0

Sheet Togo
B2: TEMPLE: Togo
B3: MONTH :
C4: BTG Sub | D4: CC Set | E4: SB Set | F4: Mag. | G4: Small Books | I4: Medium Books | K4: Big Books | M4: Maha-Books
D5: 36 | E5: 72 | F5: 0.1 | G5: 0.25 | H5: 0.25 | I5: 0.5 | J5: 0.5 | K5: 1 | L5: 1 | M5: 2 | N5: 2
B6: DEVOTEES | F6: M1 | G6: S1 | H6: H1 | I6: S2 | J6: H2 | K6: S3 | L6: H3 | M6: S4 | N6: H4 | O6: T/BKS | P6: Points
B9: Cumulative Scores | O9: =SUM(F9:N9) -> 0 | P9: =(D9*$D$5)+(E9*$E$5)+(F9*$F$5)+(G9*$G$5)+(H9*$H$5)+(I9*$I$5)+(J9*$J$5)+(K9*$K$5)+(L9*$L$5)+(M9*$M$5)+(N9*$N$5) -> 0
O10: =SUM(F10:N10) -> 0 | P10: =(D10*$D$5)+(E10*$E$5)+(F10*$F$5)+(G10*$G$5)+(H10*$H$5)+(I10*$I$5)+(J10*$J$5)+(K10*$K$5)+(L10*$L$5)+(M10*$M$5)+(N10*$N$5) -> 0
O11: =SUM(F11:N11) -> 0 | P11: =(D11*$D$5)+(E11*$E$5)+(F11*$F$5)+(G11*$G$5)+(H11*$H$5)+(I11*$I$5)+(J11*$J$5)+(K11*$K$5)+(L11*$L$5)+(M11*$M$5)+(N11*$N$5) -> 0
B12: TOTAL | C12: =SUM(C9:C11) -> 0 | D12: =SUM(D9:D11) -> 0 | E12: =SUM(E9:E11) -> 0 | F12: =SUM(F9:F11) -> 0 | G12: =SUM(G9:G11) -> 0 | H12: =SUM(H9:H11) -> 0 | I12: =SUM(I9:I11) -> 0 | J12: =SUM(J9:J11) -> 0 | ... P12: =SUM(P9:P11) -> 0

Sheet Uganda
B2: TEMPLE: Kampala
B3: MONTH :
C4: BTG Sub | D4: CC Set | E4: SB Set | F4: Mag. | G4: Small Books | I4: Medium Books | K4: Big Books | M4: Maha-Books
D5: 36 | E5: 72 | F5: 0.1 | G5: 0.25 | H5: 0.25 | I5: 0.5 | J5: 0.5 | K5: 1 | L5: 1 | M5: 2 | N5: 2
B6: DEVOTEES | F6: M1 | G6: S1 | H6: H1 | I6: S2 | J6: H2 | K6: S3 | L6: H3 | M6: S4 | N6: H4 | O6: T/BKS | P6: Points
O9: =SUM(F9:N9) -> 0 | P9: =(D9*$D$5)+(E9*$E$5)+(F9*$F$5)+(G9*$G$5)+(H9*$H$5)+(I9*$I$5)+(J9*$J$5)+(K9*$K$5)+(L9*$L$5)+(M9*$M$5)+(N9*$N$5) -> 0
O10: =SUM(F10:N10) -> 0 | P10: =(D10*$D$5)+(E10*$E$5)+(F10*$F$5)+(G10*$G$5)+(H10*$H$5)+(I10*$I$5)+(J10*$J$5)+(K10*$K$5)+(L10*$L$5)+(M10*$M$5)+(N10*$N$5) -> 0
O11: =SUM(F11:N11) -> 0 | P11: =(D11*$D$5)+(E11*$E$5)+(F11*$F$5)+(G11*$G$5)+(H11*$H$5)+(I11*$I$5)+(J11*$J$5)+(K11*$K$5)+(L11*$L$5)+(M11*$M$5)+(N11*$N$5) -> 0
B12: TOTAL | C12: =SUM(C9:C11) -> 0 | D12: =SUM(D9:D11) -> 0 | E12: =SUM(E9:E11) -> 0 | F12: =SUM(F9:F11) -> 0 | G12: =SUM(G9:G11) -> 0 | H12: =SUM(H9:H11) -> 0 | I12: =SUM(I9:I11) -> 0 | J12: =SUM(J9:J11) -> 0 | ... P12: =SUM(P9:P11) -> 0

Sheet Zimbabwe
B2: TEMPLE: Zimbabwe
B3: MONTH :
C4: BTG Sub | D4: CC Set | E4: SB Set | F4: Mag. | G4: Small Books | I4: Medium Books | K4: Big Books | M4: Maha-Books
D5: 36 | E5: 72 | F5: 0.1 | G5: 0.25 | H5: 0.25 | I5: 0.5 | J5: 0.5 | K5: 1 | L5: 1 | M5: 2 | N5: 2
B6: DEVOTEES | F6: M1 | G6: S1 | H6: H1 | I6: S2 | J6: H2 | K6: S3 | L6: H3 | M6: S4 | N6: H4 | O6: T/BKS | P6: Points
B9: Cumulative Scores | O9: =SUM(F9:N9) -> 0 | P9: =(D9*$D$5)+(E9*$E$5)+(F9*$F$5)+(G9*$G$5)+(H9*$H$5)+(I9*$I$5)+(J9*$J$5)+(K9*$K$5)+(L9*$L$5)+(M9*$M$5)+(N9*$N$5) -> 0
B11: TOTAL | C11: =SUM(C9:C10) -> 0 | D11: =SUM(D9:D10) -> 0 | E11: =SUM(E9:E10) -> 0 | F11: =SUM(F9:F10) -> 0 | G11: =SUM(G9:G10) -> 0 | H11: =SUM(H9:H10) -> 0 | I11: =SUM(I9:I10) -> 0 | J11: =SUM(J9:J10) -> 0 | ... P11: =SUM(P9:P10) -> 0

Sheet Summary
A2: Country | B2: Books: | C2: Points:
A4: Botswana | B4: =SUM(Botswana!O13) -> 69 | C4: =SUM(Botswana!P13) -> 19
A5: DRC | B5: =SUM('Democratic Republic of Congo'!O19) -> 0 | C5: =SUM('Democratic Republic of Congo'!P19) -> 0
A6: Ghana | B6: =SUM(Ghana!O10) -> 0 | C6: =SUM(Ghana!P10) -> 0
A7: Ivory Coast | B7: =SUM('Ivory Coast'!O14) -> 0 | C7: =SUM('Ivory Coast'!P14) -> 0
A8: Kenya | B8: =SUM(Kenya!O35) -> 910 | C8: =SUM(Kenya!P35) -> 393.45
A9: Malawi | B9: =SUM(Malawi!O17) -> 0 | C9: =SUM(Malawi!P17) -> 0
A10: Mauritius | B10: =SUM(Mauritius!O49) -> 5488 | C10: =SUM(Mauritius!P49) -> 2168.45
A11: Nigeria | B11: =SUM(Nigeria!O42) -> 139 | C11: =SUM(Nigeria!P42) -> 57
A12: South Africa | B12: =SUM('South Africa'!O171) -> 1532 | C12: =SUM('South Africa'!P171) -> 646.8
A13: Tanzania | B13: =SUM(Tanzania!O12) -> 0 | C13: =SUM(Tanzania!P12) -> 0
A14: Togo | B14: =SUM(Togo!O12) -> 0 | C14: =SUM(Togo!P12) -> 0
A15: Uganda | B15: =SUM(Uganda!O12) -> 0 | C15: =SUM(Uganda!P12) -> 0
A16: Zimbabwe | B16: =SUM(Zimbabwe!O11) -> 0 | C16: =SUM(Zimbabwe!P11) -> 0
A18: Total: | B18: =SUM(B4:B17) -> 8138 | C18: =SUM(C4:C17) -> 3284.7
B26: All Africa Totals
A27: January | B27: 3493
A28: February | B28: =B18 -> 8138
A29: March
A30: April
A31: May
A32: June
A33: July
A34: August
A35: September
A36: October
A37: November
A38: December

Sheet Graphs

Sheet New Summary Page
A2: Country | B2: Books: | C2: Points:
A4: Botswana | B4: =SUM(Botswana!O13) -> 69 | C4: =SUM(Botswana!P13) -> 19
A5: DRC | B5: =SUM('Democratic Republic of Congo'!O19) -> 0 | C5: =SUM('Democratic Republic of Congo'!P19) -> 0
A6: Ghana | B6: =SUM(Ghana!O10) -> 0 | C6: =SUM(Ghana!P10) -> 0
A7: Ivory Coast | B7: =SUM('Ivory Coast'!O14) -> 0 | C7: =SUM('Ivory Coast'!P14) -> 0
A8: Kenya | B8: =SUM(Kenya!O35) -> 910 | C8: =SUM(Kenya!P35) -> 393.45
A9: Malawi | B9: =SUM(Malawi!O17) -> 0 | C9: =SUM(Malawi!P17) -> 0
A10: Mauritius | B10: =SUM(Mauritius!O49) -> 5488 | C10: =SUM(Mauritius!P49) -> 2168.45
A11: Nigeria | B11: =SUM(Nigeria!O42) -> 139 | C11: =SUM(Nigeria!P42) -> 57
A12: South Africa | B12: =SUM('South Africa'!O171) -> 1532 | C12: =SUM('South Africa'!P171) -> 646.8
A13: Tanzania | B13: =SUM(Tanzania!O12) -> 0 | C13: =SUM(Tanzania!P12) -> 0
A14: Togo | B14: =SUM(Togo!O12) -> 0 | C14: =SUM(Togo!P12) -> 0
A15: Uganda | B15: =SUM(Uganda!O12) -> 0 | C15: =SUM(Uganda!P12) -> 0
A16: Zimbabwe | B16: =SUM(Zimbabwe!O11) -> 0 | C16: =SUM(Zimbabwe!P11) -> 0
A18: Total: | B18: =SUM(B4:B17) -> 8138 | C18: =SUM(C4:C17) -> 3284.7
B26: 2022 | C26: 2023
A27: January | B27: 2868 | C27: 3493
A28: February | B28: 1902 | C28: =B18 -> 8138
A29: March | B29: 7295 | C29: 0
A30: April | B30: 6114 | C30: 0
A31: May | B31: 3301 | C31: 0
A32: June | B32: 10558 | C32: 0
A33: July | B33: 6425 | C33: 0
A34: August | B34: 5248 | C34: 0
A35: September | B35: 8319 | C35: 0
A36: October | B36: 4299 | C36: 0
A37: November | B37: 11127 | C37: 0
A38: December | B38: 67742 | C38: 0
