Workbook
Name Excel_BuiltIn_Print_Area_1: [1]Malawi!#REF!
Name Excel_BuiltIn_Print_Area_1: [1]Malawi!#REF!
Name Excel_BuiltIn_Print_Area_1: [1]Malawi!#REF!
Name Excel_BuiltIn_Print_Area_1: [1]Malawi!#REF!
Name Excel_BuiltIn_Print_Area_1: [1]Malawi!#REF!
Name Excel_BuiltIn_Print_Area_1: [2]Malawi!#REF!
Name Excel_BuiltIn_Print_Area_1: [1]Malawi!#REF!
Name Excel_BuiltIn_Print_Area_1: [1]Malawi!#REF!

Sheet Democratic Republic of Congo
B2: TEMPLE: Kinshasa
B3: MONTH :
C4: BTG Sub | D4: CC Set | E4: SB Set | F4: Mag. | G4: Small Books | I4: Medium Books | K4: Big Books | M4: Maha-Books
D5: 36 | E5: 72 | F5: 0.1 | G5: 0.25 | H5: 0.25 | I5: 0.5 | J5: 0.5 | K5: 1 | L5: 1 | M5: 2 | N5: 2
B6: DEVOTEES | F6: M1 | G6: S1 | H6: H1 | I6: S2 | J6: H2 | K6: S3 | L6: H3 | M6: S4 | N6: H4 | O6: T/BKS | P6: Points
O9: =SUM(F9:N9) -> 0 | P9: =(D9*$D$5)+(E9*$E$5)+(F9*$F$5)+(G9*$G$5)+(H9*$H$5)+(I9*$I$5)+(J9*$J$5)+(K9*$K$5)+(L9*$L$5)+(M9*$M$5)+(N9*$N$5) -> 0
O10: =SUM(F10:N10) -> 0 | P10: =(D10*$D$5)+(E10*$E$5)+(F10*$F$5)+(G10*$G$5)+(H10*$H$5)+(I10*$I$5)+(J10*$J$5)+(K10*$K$5)+(L10*$L$5)+(M10*$M$5)+(N10*$N$5) -> 0
O11: =SUM(F11:N11) -> 0 | P11: =(F11*$F$5)+(G11*$G$5)+(H11*$H$5)+(I11*$I$5)+(J11*$J$5)+(K11*$K$5)+(L11*$L$5)+(M11*$M$5)+(N11*$N$5) -> 0
O12: =SUM(F12:N12) -> 0 | P12: =(F12*$F$5)+(G12*$G$5)+(H12*$H$5)+(I12*$I$5)+(J12*$J$5)+(K12*$K$5)+(L12*$L$5)+(M12*$M$5)+(N12*$N$5) -> 0
O13: =SUM(F13:N13) -> 0 | P13: =(F13*$F$5)+(G13*$G$5)+(H13*$H$5)+(I13*$I$5)+(J13*$J$5)+(K13*$K$5)+(L13*$L$5)+(M13*$M$5)+(N13*$N$5) -> 0
O14: =SUM(F14:N14) -> 0 | P14: =(F14*$F$5)+(G14*$G$5)+(H14*$H$5)+(I14*$I$5)+(J14*$J$5)+(K14*$K$5)+(L14*$L$5)+(M14*$M$5)+(N14*$N$5) -> 0
O15: =SUM(F15:N15) -> 0 | P15: =(F15*$F$5)+(G15*$G$5)+(H15*$H$5)+(I15*$I$5)+(J15*$J$5)+(K15*$K$5)+(L15*$L$5)+(M15*$M$5)+(N15*$N$5) -> 0
O16: =SUM(F16:N16) -> 0 | P16: =(F16*$F$5)+(G16*$G$5)+(H16*$H$5)+(I16*$I$5)+(J16*$J$5)+(K16*$K$5)+(L16*$L$5)+(M16*$M$5)+(N16*$N$5) -> 0
O17: =SUM(F17:N17) -> 0 | P17: =(F17*$F$5)+(G17*$G$5)+(H17*$H$5)+(I17*$I$5)+(J17*$J$5)+(K17*$K$5)+(L17*$L$5)+(M17*$M$5)+(N17*$N$5) -> 0
B18: TOTAL | C18: =SUM(C9:C17) -> 0 | D18: =SUM(D9:D17) -> 0 | E18: =SUM(E9:E17) -> 0 | F18: =SUM(F9:F17) -> 0 | G18: =SUM(G9:G17) -> 0 | H18: =SUM(H9:H17) -> 0 | I18: =SUM(I9:I17) -> 0 | J18: =SUM(J9:J17) -> 0 | ... P18: =SUM(P9:P17) -> 0

Sheet Ghana
B1: TEMPLE: Accra
B2: MONTH :
C3: BTG Sub | D3: CC Set | E3: SB Set | F3: Mag. | G3: Small Books | I3: Medium Books | K3: Big Books | M3: Maha-Books
D4: 36 | E4: 72 | F4: 0.1 | G4: 0.25 | H4: 0.25 | I4: 0.5 | J4: 0.5 | K4: 1 | L4: 1 | M4: 2 | N4: 2
B5: DEVOTEES | F5: M1 | G5: S1 | H5: H1 | I5: S2 | J5: H2 | K5: S3 | L5: H3 | M5: S4 | N5: H4 | O5: T/BKS | P5: Points
B8: Temple Scores | O8: =SUM(F8:N8) -> 0 | P8: =(D8*$D$4)+(E8*$E$4)+(F8*$F$4)+(G8*$G$4)+(H8*$H$4)+(I8*$I$4)+(J8*$J$4)+(K8*$K$4)+(L8*$L$4)+(M8*$M$4)+(N8*$N$4) -> 0
O9: =SUM(F9:N9) -> 0 | P9: =(D9*$D$4)+(E9*$E$4)+(F9*$F$4)+(G9*$G$4)+(H9*$H$4)+(I9*$I$4)+(J9*$J$4)+(K9*$K$4)+(L9*$L$4)+(M9*$M$4)+(N9*$N$4) -> 0
B10: TOTAL | C10: =SUM(C8:C9) -> 0 | D10: =SUM(D8:D9) -> 0 | E10: =SUM(E8:E9) -> 0 | F10: =SUM(F8:F9) -> 0 | G10: =SUM(G8:G9) -> 0 | H10: =SUM(H8:H9) -> 0 | I10: =SUM(I8:I9) -> 0 | J10: =SUM(J8:J9) -> 0 | ... P10: =SUM(P8:P9) -> 0

Sheet Botswana
B2: TEMPLE: Gabarone
B3: MONTH : November 2022
C4: BTG Sub | D4: CC Set | E4: SB Set | F4: Mag. | G4: Small Books | I4: Medium Books | K4: Big Books | M4: Maha-Books
D5: 36 | E5: 72 | F5: 0.1 | G5: 0.25 | H5: 0.25 | I5: 0.5 | J5: 0.5 | K5: 1 | L5: 1 | M5: 2 | N5: 2
B6: DEVOTEES | F6: M1 | G6: S1 | H6: H1 | I6: S2 | J6: H2 | K6: S3 | L6: H3 | M6: S4 | N6: H4 | O6: T/BKS | P6: Points
B9: Raghupathi Raghav Das | G9: 32 | O9: =SUM(F9:N9) -> 32 | P9: =(D9*$D$5)+(E9*$E$5)+(F9*$F$5)+(G9*$G$5)+(H9*$H$5)+(I9*$I$5)+(J9*$J$5)+(K9*$K$5)+(L9*$L$5)+(M9*$M$5)+(N9*$N$5) -> 8
B10: Rama Priya Devi Dasi | G10: 12 | O10: =SUM(F10:N10) -> 12 | P10: =(D10*$D$5)+(E10*$E$5)+(F10*$F$5)+(G10*$G$5)+(H10*$H$5)+(I10*$I$5)+(J10*$J$5)+(K10*$K$5)+(L10*$L$5)+(M10*$M$5)+(N10*$N$5) -> 3
B11: Devakinandan Das | E11: 10 | G11: 18 | N11: 1 | O11: =SUM(F11:N11)+(E11*18)+(D11*9) -> 199 | P11: =(D11*$D$5)+(E11*$E$5)+(F11*$F$5)+(G11*$G$5)+(H11*$H$5)+(I11*$I$5)+(J11*$J$5)+(K11*$K$5)+(L11*$L$5)+(M11*$M$5)+(N11*$N$5) -> 726.5
B12: Nara Narayan Das | G12: 16 | O12: =SUM(F12:N12) -> 16 | P12: =(D12*$D$5)+(E12*$E$5)+(F12*$F$5)+(G12*$G$5)+(H12*$H$5)+(I12*$I$5)+(J12*$J$5)+(K12*$K$5)+(L12*$L$5)+(M12*$M$5)+(N12*$N$5) -> 4
O13: =SUM(F13:N13) -> 0 | P13: =(D13*$D$5)+(E13*$E$5)+(F13*$F$5)+(G13*$G$5)+(H13*$H$5)+(I13*$I$5)+(J13*$J$5)+(K13*$K$5)+(L13*$L$5)+(M13*$M$5)+(N13*$N$5) -> 0
B14: TOTAL | C14: =SUM(C9:C13) -> 0 | D14: =SUM(D9:D13) -> 0 | E14: =SUM(E9:E13) -> 10 | F14: =SUM(F9:F13) -> 0 | G14: =SUM(G9:G13) -> 78 | H14: =SUM(H9:H13) -> 0 | I14: =SUM(I9:I13) -> 0 | J14: =SUM(J9:J13) -> 0 | ... P14: =SUM(P9:P13) -> 741.5

Sheet Kenya
B2: MONTH : November 2022
C3: BTG Sub | D3: CC Set | E3: SB Set | F3: mag | G3: Small Books | I3: Medium Books | K3: Big Books | M3: Maha-Books
D4: 36 | E4: 72 | F4: 0.1 | G4: 0.25 | H4: 0.25 | I4: 0.5 | J4: 0.5 | K4: 1 | L4: 1 | M4: 2 | N4: 2
B5: DEVOTEES | F5: M1 | G5: S1 | H5: H1 | I5: S2 | J5: H2 | K5: S3 | L5: H3 | M5: S4 | N5: H4 | O5: T/BKS | P5: Points
B7: Iskcon Nairobi
B8: KRISHNA KIDS SENA | G8: 177 | K8: 25 | N8: 8 | O8: =SUM(F8:N8) -> 210 | P8: =(D8*$D$4)+(E8*$E$4)+(F8*$F$4)+(G8*$G$4)+(H8*$H$4)+(I8*$I$4)+(J8*$J$4)+(K8*$K$4)+(L8*$L$4)+(M8*$M$4)+(N8*$N$4) -> 85.25
B9: BHAKTA KETEN | G9: 80 | K9: 20 | O9: =SUM(F9:N9) -> 100 | P9: =(D9*$D$4)+(E9*$E$4)+(F9*$F$4)+(G9*$G$4)+(H9*$H$4)+(I9*$I$4)+(J9*$J$4)+(K9*$K$4)+(L9*$L$4)+(M9*$M$4)+(N9*$N$4) -> 40
B10: GIFT SHOP | F10: 10 | G10: 7 | K10: 15 | N10: 12 | O10: =SUM(F10:N10) -> 44 | P10: =(D10*$D$4)+(E10*$E$4)+(F10*$F$4)+(G10*$G$4)+(H10*$H$4)+(I10*$I$4)+(J10*$J$4)+(K10*$K$4)+(L10*$L$4)+(M10*$M$4)+(N10*$N$4) -> 41.75
B11: CAITANYA SWARUPA DAS | G11: 30 | K11: 35 | O11: =SUM(F11:N11) -> 65 | P11: =(D11*$D$4)+(E11*$E$4)+(F11*$F$4)+(G11*$G$4)+(H11*$H$4)+(I11*$I$4)+(J11*$J$4)+(K11*$K$4)+(L11*$L$4)+(M11*$M$4)+(N11*$N$4) -> 42.5
B12: RUPESH | G12: 10 | I12: 5 | K12: 5 | L12: 5 | N12: 10 | O12: =SUM(F12:N12) -> 35 | P12: =(D12*$D$4)+(E12*$E$4)+(F12*$F$4)+(G12*$G$4)+(H12*$H$4)+(I12*$I$4)+(J12*$J$4)+(K12*$K$4)+(L12*$L$4)+(M12*$M$4)+(N12*$N$4) -> 35
O13: =SUM(F13:N13) -> 0 | P13: =(D13*$D$4)+(E13*$E$4)+(F13*$F$4)+(G13*$G$4)+(H13*$H$4)+(I13*$I$4)+(J13*$J$4)+(K13*$K$4)+(L13*$L$4)+(M13*$M$4)+(N13*$N$4) -> 0
B14: TOTAL | C14: =SUM(C8:C13) -> 0 | D14: =SUM(D8:D13) -> 0 | E14: =SUM(E8:E13) -> 0 | F14: =SUM(F8:F13) -> 10 | G14: =SUM(G8:G13) -> 304 | H14: =SUM(H8:H13) -> 0 | I14: =SUM(I8:I13) -> 5 | J14: =SUM(J8:J13) -> 0 | ... P14: =SUM(P8:P13) -> 244.5
B17: Iskcon Eldoret
O18: =SUM(F18:N18) -> 0 | P18: =(D18*$D$4)+(E18*$E$4)+(F18*$F$4)+(G18*$G$4)+(H18*$H$4)+(I18*$I$4)+(J18*$J$4)+(K18*$K$4)+(L18*$L$4)+(M18*$M$4)+(N18*$N$4) -> 0
O19: =SUM(F19:N19) -> 0 | P19: =(D19*$D$4)+(E19*$E$4)+(F19*$F$4)+(G19*$G$4)+(H19*$H$4)+(I19*$I$4)+(J19*$J$4)+(K19*$K$4)+(L19*$L$4)+(M19*$M$4)+(N19*$N$4) -> 0
B20: TOTAL | C20: =SUM(C18:C19) -> 0 | D20: =SUM(D18:D19) -> 0 | E20: =SUM(E18:E19) -> 0 | F20: =SUM(F18:F19) -> 0 | G20: =SUM(G18:G19) -> 0 | H20: =SUM(H18:H19) -> 0 | I20: =SUM(I18:I19) -> 0 | J20: =SUM(J18:J19) -> 0 | ... P20: =SUM(P18:P19) -> 0
B23: Iskcon Kisumu
O24: =SUM(F24:N24) -> 0 | P24: =(D24*$D$4)+(E24*$E$4)+(F24*$F$4)+(G24*$G$4)+(H24*$H$4)+(I24*$I$4)+(J24*$J$4)+(K24*$K$4)+(L24*$L$4)+(M24*$M$4)+(N24*$N$4) -> 0
O25: =SUM(F25:N25) -> 0 | P25: =(D25*$D$4)+(E25*$E$4)+(F25*$F$4)+(G25*$G$4)+(H25*$H$4)+(I25*$I$4)+(J25*$J$4)+(K25*$K$4)+(L25*$L$4)+(M25*$M$4)+(N25*$N$4) -> 0
B26: TOTAL | C26: =SUM(C24:C25) -> 0 | D26: =SUM(D24:D25) -> 0 | E26: =SUM(E24:E25) -> 0 | F26: =SUM(F24:F25) -> 0 | G26: =SUM(G24:G25) -> 0 | H26: =SUM(H24:H25) -> 0 | I26: =SUM(I24:I25) -> 0 | J26: =SUM(J24:J25) -> 0 | ... P26: =SUM(P24:P25) -> 0
B29: Iskcon Mombassa
O30: =SUM(F30:N30) -> 0 | P30: =(D30*$D$4)+(E30*$E$4)+(F30*$F$4)+(G30*$G$4)+(H30*$H$4)+(I30*$I$4)+(J30*$J$4)+(K30*$K$4)+(L30*$L$4)+(M30*$M$4)+(N30*$N$4) -> 0
O31: =SUM(F31:N31) -> 0 | P31: =(D31*$D$4)+(E31*$E$4)+(F31*$F$4)+(G31*$G$4)+(H31*$H$4)+(I31*$I$4)+(J31*$J$4)+(K31*$K$4)+(L31*$L$4)+(M31*$M$4)+(N31*$N$4) -> 0
O32: =SUM(C32:N32) -> 0 | P32: =(D32*$D$4)+(E32*$E$4)+(F32*$F$4)+(G32*$G$4)+(H32*$H$4)+(I32*$I$4)+(J32*$J$4)+(K32*$K$4)+(L32*$L$4)+(M32*$M$4)+(N32*$N$4) -> 0
B33: TOTAL | C33: =SUM(C30:C31) -> 0 | D33: =SUM(D30:D31) -> 0 | E33: =SUM(E30:E31) -> 0 | F33: =SUM(F30:F32) -> 0 | G33: =SUM(G30:G32) -> 0 | H33: =SUM(H30:H32) -> 0 | I33: =SUM(I30:I32) -> 0 | J33: =SUM(J30:J32) -> 0 | K33: =SUM(K30:K32) -> 0 | L33: =SUM(L30:L32) -> 0 | M33: =SUM(M30:M32) -> 0 | ... P33: =SUM(P30:P32) -> 0
N35: Total: | O35: =SUM(O20+O14+O26+O33) -> 454 | P35: =SUM(P20+P14+P26+P33) -> 244.5

Sheet Malawi
B2: TEMPLE: Blantyre
B3: MONTH :
C4: BTG Sub | D4: CC Set | E4: SB Set | F4: Mag. | G4: Small Books | I4: Medium Books | K4: Big Books | M4: Maha-Books
D5: 36 | E5: 72 | F5: 0.1 | G5: 0.25 | H5: 0.25 | I5: 0.5 | J5: 0.5 | K5: 1 | L5: 1 | M5: 2 | N5: 2
B6: DEVOTEES | F6: M1 | G6: S1 | H6: H1 | I6: S2 | J6: H2 | K6: S3 | L6: H3 | M6: S4 | N6: H4 | O6: T/BKS | P6: Points
O9: =SUM(F9:N9) -> 0 | P9: =(D9*$D$5)+(E9*$E$5)+(F9*$F$5)+(G9*$G$5)+(H9*$H$5)+(I9*$I$5)+(J9*$J$5)+(K9*$K$5)+(L9*$L$5)+(M9*$M$5)+(N9*$N$5) -> 0
O10: =SUM(F10:N10) -> 0 | P10: =(D10*$D$5)+(E10*$E$5)+(F10*$F$5)+(G10*$G$5)+(H10*$H$5)+(I10*$I$5)+(J10*$J$5)+(K10*$K$5)+(L10*$L$5)+(M10*$M$5)+(N10*$N$5) -> 0
O11: =SUM(F11:N11) -> 0 | P11: =(D11*$D$5)+(E11*$E$5)+(F11*$F$5)+(G11*$G$5)+(H11*$H$5)+(I11*$I$5)+(J11*$J$5)+(K11*$K$5)+(L11*$L$5)+(M11*$M$5)+(N11*$N$5) -> 0
O12: =SUM(F12:N12) -> 0 | P12: =(D12*$D$5)+(E12*$E$5)+(F12*$F$5)+(G12*$G$5)+(H12*$H$5)+(I12*$I$5)+(J12*$J$5)+(K12*$K$5)+(L12*$L$5)+(M12*$M$5)+(N12*$N$5) -> 0
O13: =SUM(F13:N13) -> 0 | P13: =(D13*$D$5)+(E13*$E$5)+(F13*$F$5)+(G13*$G$5)+(H13*$H$5)+(I13*$I$5)+(J13*$J$5)+(K13*$K$5)+(L13*$L$5)+(M13*$M$5)+(N13*$N$5) -> 0
O14: =SUM(F14:N14) -> 0 | P14: =(D14*$D$5)+(E14*$E$5)+(F14*$F$5)+(G14*$G$5)+(H14*$H$5)+(I14*$I$5)+(J14*$J$5)+(K14*$K$5)+(L14*$L$5)+(M14*$M$5)+(N14*$N$5) -> 0
O15: =SUM(F15:N15)+(E15*18)+(D15*9) -> 0 | P15: =(D15*$D$5)+(E15*$E$5)+(F15*$F$5)+(G15*$G$5)+(H15*$H$5)+(I15*$I$5)+(J15*$J$5)+(K15*$K$5)+(L15*$L$5)+(M15*$M$5)+(N15*$N$5) -> 0
O16: =SUM(F16:N16) -> 0 | P16: =(D16*$D$5)+(E16*$E$5)+(F16*$F$5)+(G16*$G$5)+(H16*$H$5)+(I16*$I$5)+(J16*$J$5)+(K16*$K$5)+(L16*$L$5)+(M16*$M$5)+(N16*$N$5) -> 0
B17: TOTAL | C17: =SUM(C9:C16) -> 0 | D17: =SUM(D9:D16) -> 0 | E17: =SUM(E9:E16) -> 0 | F17: =SUM(F9:F16) -> 0 | G17: =SUM(G9:G16) -> 0 | H17: =SUM(H9:H16) -> 0 | I17: =SUM(I9:I16) -> 0 | J17: =SUM(J9:J16) -> 0 | ... P17: =SUM(P9:P16) -> 0

Sheet Mauritius
B2: MONTH : November 2022 | C2: BTG Sub | D2: CC Set | E2: SB Set | F2: Mag. | G2: Small Books | I2: Medium Books | K2: Big Books | M2: Maha-Books
D3: 36 | E3: 72 | F3: 0.1 | G3: 0.25 | H3: 0.25 | I3: 0.5 | J3: 0.5 | K3: 1 | L3: 1 | M3: 2 | N3: 2
B4: DEVOTEES | F4: M1 | G4: S1 | H4: H1 | I4: S2 | J4: H2 | K4: S3 | L4: H3 | M4: S4 | N4: H4 | O4: T/BKS | P4: Points
B6: ISKCON Phoenix Sri Sri Radha Gokulananda Mandir
O7: =SUM(F7:N7) -> 0 | P7: =(D7*$D$3)+(E7*$E$3)+(F7*$F$3)+(G7*$G$3)+(H7*$H$3)+(I7*$I$3)+(J7*$J$3)+(K7*$K$3)+(L7*$L$3)+(M7*$M$3)+(N7*$N$3) -> 0
O8: =SUM(F8:N8) -> 0 | P8: =(D8*$D$3)+(E8*$E$3)+(F8*$F$3)+(G8*$G$3)+(H8*$H$3)+(I8*$I$3)+(J8*$J$3)+(K8*$K$3)+(L8*$L$3)+(M8*$M$3)+(N8*$N$3) -> 0
O9: =SUM(F9:N9) -> 0 | P9: =(D9*$D$3)+(E9*$E$3)+(F9*$F$3)+(G9*$G$3)+(H9*$H$3)+(I9*$I$3)+(J9*$J$3)+(K9*$K$3)+(L9*$L$3)+(M9*$M$3)+(N9*$N$3) -> 0
O10: =SUM(F10:N10) -> 0 | P10: =(D10*$D$3)+(E10*$E$3)+(F10*$F$3)+(G10*$G$3)+(H10*$H$3)+(I10*$I$3)+(J10*$J$3)+(K10*$K$3)+(L10*$L$3)+(M10*$M$3)+(N10*$N$3) -> 0
O11: =SUM(F11:N11) -> 0 | P11: =(D11*$D$3)+(E11*$E$3)+(F11*$F$3)+(G11*$G$3)+(H11*$H$3)+(I11*$I$3)+(J11*$J$3)+(K11*$K$3)+(L11*$L$3)+(M11*$M$3)+(N11*$N$3) -> 0
O12: =SUM(F12:N12) -> 0 | P12: =(D12*$D$3)+(E12*$E$3)+(F12*$F$3)+(G12*$G$3)+(H12*$H$3)+(I12*$I$3)+(J12*$J$3)+(K12*$K$3)+(L12*$L$3)+(M12*$M$3)+(N12*$N$3) -> 0
O13: =SUM(F13:N13) -> 0 | P13: =(D13*$D$3)+(E13*$E$3)+(F13*$F$3)+(G13*$G$3)+(H13*$H$3)+(I13*$I$3)+(J13*$J$3)+(K13*$K$3)+(L13*$L$3)+(M13*$M$3)+(N13*$N$3) -> 0
O14: =SUM(F14:N14) -> 0 | P14: =(D14*$D$3)+(E14*$E$3)+(F14*$F$3)+(G14*$G$3)+(H14*$H$3)+(I14*$I$3)+(J14*$J$3)+(K14*$K$3)+(L14*$L$3)+(M14*$M$3)+(N14*$N$3) -> 0
O15: =SUM(F15:N15) -> 0 | P15: =(D15*$D$3)+(E15*$E$3)+(F15*$F$3)+(G15*$G$3)+(H15*$H$3)+(I15*$I$3)+(J15*$J$3)+(K15*$K$3)+(L15*$L$3)+(M15*$M$3)+(N15*$N$3) -> 0
O16: =SUM(F16:N16) -> 0 | P16: =(D16*$D$3)+(E16*$E$3)+(F16*$F$3)+(G16*$G$3)+(H16*$H$3)+(I16*$I$3)+(J16*$J$3)+(K16*$K$3)+(L16*$L$3)+(M16*$M$3)+(N16*$N$3) -> 0
O17: =SUM(F17:N17) -> 0 | P17: =(D17*$D$3)+(E17*$E$3)+(F17*$F$3)+(G17*$G$3)+(H17*$H$3)+(I17*$I$3)+(J17*$J$3)+(K17*$K$3)+(L17*$L$3)+(M17*$M$3)+(N17*$N$3) -> 0
O18: =SUM(F18:N18) -> 0 | P18: =(D18*$D$3)+(E18*$E$3)+(F18*$F$3)+(G18*$G$3)+(H18*$H$3)+(I18*$I$3)+(J18*$J$3)+(K18*$K$3)+(L18*$L$3)+(M18*$M$3)+(N18*$N$3) -> 0
... O47: =SUM(F47:N47) -> 0 | P47: =(D47*$D$3)+(E47*$E$3)+(F47*$F$3)+(G47*$G$3)+(H47*$H$3)+(I47*$I$3)+(J47*$J$3)+(K47*$K$3)+(L47*$L$3)+(M47*$M$3)+(N47*$N$3) -> 0
B48: TOTAL | C48: =SUM(C7:C47) -> 0 | D48: =SUM(D7:D47) -> 0 | E48: =SUM(E7:E47) -> 0 | F48: =SUM(F7:F47) -> 0 | G48: =SUM(G7:G47) -> 0 | H48: =SUM(H7:H47) -> 0 | I48: =SUM(I7:I47) -> 0 | J48: =SUM(J7:J47) -> 0 | ... P48: =SUM(P7:P47) -> 0
B51: ISKCON Bon Accueil Mauritius Sri Sri Krsna Balaram Mandir
B52: Cumulative Scores | G52: 2011 | J52: 7 | K52: 567 | O52: =SUM(F52:N52) -> 2585 | P52: =(D52*$D$3)+(E52*$E$3)+(F52*$F$3)+(G52*$G$3)+(H52*$H$3)+(I52*$I$3)+(J52*$J$3)+(K52*$K$3)+(L52*$L$3)+(M52*$M$3)+(N52*$N$3) -> 1073.25
O53: =SUM(F53:N53) -> 0 | P53: =(D53*$D$3)+(E53*$E$3)+(F53*$F$3)+(G53*$G$3)+(H53*$H$3)+(I53*$I$3)+(J53*$J$3)+(K53*$K$3)+(L53*$L$3)+(M53*$M$3)+(N53*$N$3) -> 0
O54: =SUM(F54:N54) -> 0 | P54: =(D54*$D$3)+(E54*$E$3)+(F54*$F$3)+(G54*$G$3)+(H54*$H$3)+(I54*$I$3)+(J54*$J$3)+(K54*$K$3)+(L54*$L$3)+(M54*$M$3)+(N54*$N$3) -> 0
B55: TOTAL | C55: =SUM(C52:C54) -> 0 | D55: =SUM(D52:D54) -> 0 | E55: =SUM(E52:E54) -> 0 | F55: =SUM(F52:F54) -> 0 | G55: =SUM(G52:G54) -> 2011 | H55: =SUM(H52:H54) -> 0 | I55: =SUM(I52:I54) -> 0 | J55: =SUM(J52:J54) -> 7 | ... P55: =SUM(P52:P54) -> 1073.25
B58: ISKCON Triolet Mauritius Sri Sri Rukmini Dwarkadish Mandir
O59: =SUM(F59:N59) -> 0 | P59: =(D59*$D$3)+(E59*$E$3)+(F59*$F$3)+(G59*$G$3)+(H59*$H$3)+(I59*$I$3)+(J59*$J$3)+(K59*$K$3)+(L59*$L$3)+(M59*$M$3)+(N59*$N$3) -> 0
O60: =SUM(F60:N60) -> 0 | P60: =(D60*$D$3)+(E60*$E$3)+(F60*$F$3)+(G60*$G$3)+(H60*$H$3)+(I60*$I$3)+(J60*$J$3)+(K60*$K$3)+(L60*$L$3)+(M60*$M$3)+(N60*$N$3) -> 0
O61: =SUM(F61:N61) -> 0 | P61: =(D61*$D$3)+(E61*$E$3)+(F61*$F$3)+(G61*$G$3)+(H61*$H$3)+(I61*$I$3)+(J61*$J$3)+(K61*$K$3)+(L61*$L$3)+(M61*$M$3)+(N61*$N$3) -> 0
O62: =SUM(F62:N62) -> 0 | P62: =(D62*$D$3)+(E62*$E$3)+(F62*$F$3)+(G62*$G$3)+(H62*$H$3)+(I62*$I$3)+(J62*$J$3)+(K62*$K$3)+(L62*$L$3)+(M62*$M$3)+(N62*$N$3) -> 0
O63: =SUM(F63:N63) -> 0 | P63: =(D63*$D$3)+(E63*$E$3)+(F63*$F$3)+(G63*$G$3)+(H63*$H$3)+(I63*$I$3)+(J63*$J$3)+(K63*$K$3)+(L63*$L$3)+(M63*$M$3)+(N63*$N$3) -> 0
O64: =SUM(F64:N64) -> 0 | P64: =(D64*$D$3)+(E64*$E$3)+(F64*$F$3)+(G64*$G$3)+(H64*$H$3)+(I64*$I$3)+(J64*$J$3)+(K64*$K$3)+(L64*$L$3)+(M64*$M$3)+(N64*$N$3) -> 0
O65: =SUM(F65:N65) -> 0 | P65: =(D65*$D$3)+(E65*$E$3)+(F65*$F$3)+(G65*$G$3)+(H65*$H$3)+(I65*$I$3)+(J65*$J$3)+(K65*$K$3)+(L65*$L$3)+(M65*$M$3)+(N65*$N$3) -> 0
O66: =SUM(F66:N66) -> 0 | P66: =(D66*$D$3)+(E66*$E$3)+(F66*$F$3)+(G66*$G$3)+(H66*$H$3)+(I66*$I$3)+(J66*$J$3)+(K66*$K$3)+(L66*$L$3)+(M66*$M$3)+(N66*$N$3) -> 0
O67: =SUM(F67:N67) -> 0 | P67: =(D67*$D$3)+(E67*$E$3)+(F67*$F$3)+(G67*$G$3)+(H67*$H$3)+(I67*$I$3)+(J67*$J$3)+(K67*$K$3)+(L67*$L$3)+(M67*$M$3)+(N67*$N$3) -> 0
O68: =SUM(F68:N68) -> 0 | P68: =(D68*$D$3)+(E68*$E$3)+(F68*$F$3)+(G68*$G$3)+(H68*$H$3)+(I68*$I$3)+(J68*$J$3)+(K68*$K$3)+(L68*$L$3)+(M68*$M$3)+(N68*$N$3) -> 0
O69: =SUM(F69:N69) -> 0 | P69: =(D69*$D$3)+(E69*$E$3)+(F69*$F$3)+(G69*$G$3)+(H69*$H$3)+(I69*$I$3)+(J69*$J$3)+(K69*$K$3)+(L69*$L$3)+(M69*$M$3)+(N69*$N$3) -> 0
O70: =SUM(F70:N70) -> 0 | P70: =(D70*$D$3)+(E70*$E$3)+(F70*$F$3)+(G70*$G$3)+(H70*$H$3)+(I70*$I$3)+(J70*$J$3)+(K70*$K$3)+(L70*$L$3)+(M70*$M$3)+(N70*$N$3) -> 0
B71: TOTAL | C71: =SUM(C59:C70) -> 0 | D71: =SUM(D59:D70) -> 0 | E71: =SUM(E59:E70) -> 0 | F71: =SUM(F59:F70) -> 0 | G71: =SUM(G59:G70) -> 0 | H71: =SUM(H59:H70) -> 0 | I71: =SUM(I59:I70) -> 0 | J71: =SUM(J59:J70) -> 0 | ... P71: =SUM(P59:P70) -> 0
M74: TOTAL | O74: =O71+O55+O48 -> 2585 | P74: =P71+P55+P48 -> 1073.25

Sheet Nigeria
B1: MONTH : November 2022
C2: BTG Sub | D2: CC Set | E2: SB Set | F2: Mag. | G2: Small Books | I2: Medium Books | K2: Big Books | M2: Maha-Books
D3: 36 | E3: 72 | F3: 0.1 | G3: 0.25 | H3: 0.25 | I3: 0.5 | J3: 0.5 | K3: 1 | L3: 1 | M3: 2 | N3: 2
B4: DEVOTEES | F4: M1 | G4: S1 | H4: H1 | I4: S2 | J4: H2 | K4: S3 | L4: H3 | M4: S4 | N4: H4 | O4: T/BKS | P4: Points
B6: ISKCON Abeokuta
B7: Temple Cumulative Scores | F7: 30 | G7: 20 | L7: 15 | N7: 4 | O7: =SUM(C7:N7) -> 69 | P7: =(D7*$D$3)+(E7*$E$3)+(F7*$F$3)+(G7*$G$3)+(H7*$H$3)+(I7*$I$3)+(J7*$J$3)+(K7*$K$3)+(L7*$L$3)+(M7*$M$3)+(N7*$N$3) -> 31
O8: =SUM(F8:N8) -> 0 | P8: =(D8*$D$3)+(E8*$E$3)+(F8*$F$3)+(G8*$G$3)+(H8*$H$3)+(I8*$I$3)+(J8*$J$3)+(K8*$K$3)+(L8*$L$3)+(M8*$M$3)+(N8*$N$3) -> 0
B9: TOTAL | C9: =SUM(C7:C8) -> 0 | D9: =SUM(D7:D8) -> 0 | E9: =SUM(E7:E8) -> 0 | F9: =SUM(F7:F8) -> 30 | G9: =SUM(G7:G8) -> 20 | H9: =SUM(H7:H8) -> 0 | I9: =SUM(I7:I8) -> 0 | J9: =SUM(J7:J8) -> 0 | ... P9: =SUM(P7:P8) -> 31
B12: ISKCON LAGOS
B13: Temple Cumulative Scores | G13: 163 | L13: 122 | N13: 4 | O13: =SUM(F13:N13) -> 289 | P13: =(D13*$D$3)+(E13*$E$3)+(F13*$F$3)+(G13*$G$3)+(H13*$H$3)+(I13*$I$3)+(J13*$J$3)+(K13*$K$3)+(L13*$L$3)+(M13*$M$3)+(N13*$N$3) -> 170.75
O14: =SUM(F14:N14) -> 0 | P14: =(D14*$D$3)+(E14*$E$3)+(F14*$F$3)+(G14*$G$3)+(H14*$H$3)+(I14*$I$3)+(J14*$J$3)+(K14*$K$3)+(L14*$L$3)+(M14*$M$3)+(N14*$N$3) -> 0
B15: TOTAL | C15: =SUM(C13:C14) -> 0 | D15: =SUM(D13:D14) -> 0 | E15: =SUM(E13:E14) -> 0 | F15: =SUM(F13:F14) -> 0 | G15: =SUM(G13:G14) -> 163 | H15: =SUM(H13:H14) -> 0 | I15: =SUM(I13:I14) -> 0 | J15: =SUM(J13:J14) -> 0 | ... P15: =SUM(P13:P14) -> 170.75
B18: ISKCON KADUNA
O19: =SUM(F19:N19) -> 0 | P19: =(D19*$D$3)+(E19*$E$3)+(F19*$F$3)+(G19*$G$3)+(H19*$H$3)+(I19*$I$3)+(J19*$J$3)+(K19*$K$3)+(L19*$L$3)+(M19*$M$3)+(N19*$N$3) -> 0
O20: =SUM(F20:N20) -> 0 | P20: =(D20*$D$3)+(E20*$E$3)+(F20*$F$3)+(G20*$G$3)+(H20*$H$3)+(I20*$I$3)+(J20*$J$3)+(K20*$K$3)+(L20*$L$3)+(M20*$M$3)+(N20*$N$3) -> 0
O21: =SUM(F21:N21) -> 0 | P21: =(D21*$D$3)+(E21*$E$3)+(F21*$F$3)+(G21*$G$3)+(H21*$H$3)+(I21*$I$3)+(J21*$J$3)+(K21*$K$3)+(L21*$L$3)+(M21*$M$3)+(N21*$N$3) -> 0
O22: =SUM(F22:N22) -> 0 | P22: =(D22*$D$3)+(E22*$E$3)+(F22*$F$3)+(G22*$G$3)+(H22*$H$3)+(I22*$I$3)+(J22*$J$3)+(K22*$K$3)+(L22*$L$3)+(M22*$M$3)+(N22*$N$3) -> 0
O23: =SUM(F23:N23) -> 0 | P23: =(D23*$D$3)+(E23*$E$3)+(F23*$F$3)+(G23*$G$3)+(H23*$H$3)+(I23*$I$3)+(J23*$J$3)+(K23*$K$3)+(L23*$L$3)+(M23*$M$3)+(N23*$N$3) -> 0
O24: =SUM(F24:N24) -> 0 | P24: =(D24*$D$3)+(E24*$E$3)+(F24*$F$3)+(G24*$G$3)+(H24*$H$3)+(I24*$I$3)+(J24*$J$3)+(K24*$K$3)+(L24*$L$3)+(M24*$M$3)+(N24*$N$3) -> 0
B25: TOTAL | C25: =SUM(C24:C24) -> 0 | D25: =SUM(D19:D24) -> 0 | E25: =SUM(E19:E24) -> 0 | F25: =SUM(F24:F24) -> 0 | G25: =SUM(G19:G24) -> 0 | H25: =SUM(H19:H24) -> 0 | I25: =SUM(I19:I24) -> 0 | J25: =SUM(J19:J24) -> 0 | K25: =SUM(K19:K24) -> 0 | L25: =SUM(L19:L24) -> 0 | M25: =SUM(M19:M24) -> 0 | N25: =SUM(N19:N24) -> 0 | ... P25: =SUM(P19:P24) -> 0
B28: ISKCON OTA
B29: Temple Cumulative Scores | G29: 520 | I29: 25 | L29: 10 | N29: 7 | O29: =SUM(F29:N29) -> 562 | P29: =(D29*$D$3)+(E29*$E$3)+(F29*$F$3)+(G29*$G$3)+(H29*$H$3)+(I29*$I$3)+(J29*$J$3)+(K29*$K$3)+(L29*$L$3)+(M29*$M$3)+(N29*$N$3) -> 166.5
O30: =SUM(F30:N30) -> 0 | P30: =(D30*$D$3)+(E30*$E$3)+(F30*$F$3)+(G30*$G$3)+(H30*$H$3)+(I30*$I$3)+(J30*$J$3)+(K30*$K$3)+(L30*$L$3)+(M30*$M$3)+(N30*$N$3) -> 0
O31: =SUM(F31:N31) -> 0 | P31: =(D31*$D$3)+(E31*$E$3)+(F31*$F$3)+(G31*$G$3)+(H31*$H$3)+(I31*$I$3)+(J31*$J$3)+(K31*$K$3)+(L31*$L$3)+(M31*$M$3)+(N31*$N$3) -> 0
O32: =SUM(F32:N32) -> 0 | P32: =(D32*$D$3)+(E32*$E$3)+(F32*$F$3)+(G32*$G$3)+(H32*$H$3)+(I32*$I$3)+(J32*$J$3)+(K32*$K$3)+(L32*$L$3)+(M32*$M$3)+(N32*$N$3) -> 0
B33: TOTAL | C33: =SUM(C32:C32) -> 0 | D33: =SUM(D29:D32) -> 0 | E33: =SUM(E29:E32) -> 0 | F33: =SUM(F32:F32) -> 0 | G33: =SUM(G29:G32) -> 520 | H33: =SUM(H29:H32) -> 0 | I33: =SUM(I29:I32) -> 25 | J33: =SUM(J29:J32) -> 0 | K33: =SUM(K29:K32) -> 0 | L33: =SUM(L29:L32) -> 10 | M33: =SUM(M29:M32) -> 0 | N33: =SUM(N29:N32) -> 7 | ... P33: =SUM(P29:P32) -> 166.5
M37: TOTAL | O37: =O33+O25+O15+O9 -> 920 | P37: =P33+P25+P15+P9 -> 368.25

Sheet South Africa
B1: MONTH : November 2022
C2: BTG Sub | D2: CC Set | E2: SB Set | F2: Mag. | G2: Small Books | I2: Medium Books | K2: Big Books | M2: Maha-Books
D3: 36 | E3: 72 | F3: 0.1 | G3: 0.25 | H3: 0.25 | I3: 0.5 | J3: 0.5 | K3: 1 | L3: 1 | M3: 2 | N3: 2
B4: DEVOTEES | F4: M1 | G4: S1 | H4: H1 | I4: S2 | J4: H2 | K4: S3 | L4: H3 | M4: S4 | N4: H4 | O4: T/BKS | P4: Points
B8: ISKCON BLOEMFONTEIN
O9: =SUM(F9:N9) -> 0 | P9: =(D9*$D$3)+(E9*$E$3)+(F9*$F$3)+(G9*$G$3)+(H9*$H$3)+(I9*$I$3)+(J9*$J$3)+(K9*$K$3)+(L9*$L$3)+(M9*$M$3)+(N9*$N$3) -> 0
O10: =SUM(F10:N10) -> 0 | P10: =(D10*$D$3)+(E10*$E$3)+(F10*$F$3)+(G10*$G$3)+(H10*$H$3)+(I10*$I$3)+(J10*$J$3)+(K10*$K$3)+(L10*$L$3)+(M10*$M$3)+(N10*$N$3) -> 0
B11: TOTAL | C11: =SUM(C10:C10) -> 0 | D11: =SUM(D10:D10) -> 0 | E11: =SUM(E9:E10) -> 0 | F11: =SUM(F9:F10) -> 0 | G11: =SUM(G9:G10) -> 0 | H11: =SUM(H9:H10) -> 0 | I11: =SUM(I9:I10) -> 0 | J11: =SUM(J9:J10) -> 0 | K11: =SUM(K9:K10) -> 0 | L11: =SUM(L9:L10) -> 0 | ... P11: =SUM(P9:P10) -> 0
B14: ISKCON CAPE TOWN
O15: =SUM(C15:N15) -> 0 | P15: =(D15*$D$3)+(E15*$E$3)+(F15*$F$3)+(G15*$G$3)+(H15*$H$3)+(I15*$I$3)+(J15*$J$3)+(K15*$K$3)+(L15*$L$3)+(M15*$M$3)+(N15*$N$3) -> 0
O16: =SUM(F16:N16) -> 0 | P16: =(D16*$D$3)+(E16*$E$3)+(F16*$F$3)+(G16*$G$3)+(H16*$H$3)+(I16*$I$3)+(J16*$J$3)+(K16*$K$3)+(L16*$L$3)+(M16*$M$3)+(N16*$N$3) -> 0
O17: =SUM(F17:N17) -> 0 | P17: =(D17*$D$3)+(E17*$E$3)+(F17*$F$3)+(G17*$G$3)+(H17*$H$3)+(I17*$I$3)+(J17*$J$3)+(K17*$K$3)+(L17*$L$3)+(M17*$M$3)+(N17*$N$3) -> 0
O18: =SUM(F18:N18) -> 0 | P18: =(D18*$D$3)+(E18*$E$3)+(F18*$F$3)+(G18*$G$3)+(H18*$H$3)+(I18*$I$3)+(J18*$J$3)+(K18*$K$3)+(L18*$L$3)+(M18*$M$3)+(N18*$N$3) -> 0
O19: =SUM(F19:N19) -> 0 | P19: =(D19*$D$3)+(E19*$E$3)+(F19*$F$3)+(G19*$G$3)+(H19*$H$3)+(I19*$I$3)+(J19*$J$3)+(K19*$K$3)+(L19*$L$3)+(M19*$M$3)+(N19*$N$3) -> 0
O20: =SUM(F20:N20) -> 0 | P20: =(D20*$D$3)+(E20*$E$3)+(F20*$F$3)+(G20*$G$3)+(H20*$H$3)+(I20*$I$3)+(J20*$J$3)+(K20*$K$3)+(L20*$L$3)+(M20*$M$3)+(N20*$N$3) -> 0
O21: =SUM(F21:N21) -> 0 | P21: =(D21*$D$3)+(E21*$E$3)+(F21*$F$3)+(G21*$G$3)+(H21*$H$3)+(I21*$I$3)+(J21*$J$3)+(K21*$K$3)+(L21*$L$3)+(M21*$M$3)+(N21*$N$3) -> 0
O22: =SUM(F22:N22) -> 0 | P22: =(D22*$D$3)+(E22*$E$3)+(F22*$F$3)+(G22*$G$3)+(H22*$H$3)+(I22*$I$3)+(J22*$J$3)+(K22*$K$3)+(L22*$L$3)+(M22*$M$3)+(N22*$N$3) -> 0
O23: =SUM(F23:N23) -> 0 | P23: =(D23*$D$3)+(E23*$E$3)+(F23*$F$3)+(G23*$G$3)+(H23*$H$3)+(I23*$I$3)+(J23*$J$3)+(K23*$K$3)+(L23*$L$3)+(M23*$M$3)+(N23*$N$3) -> 0
O24: =SUM(F24:N24) -> 0 | P24: =(D24*$D$3)+(E24*$E$3)+(F24*$F$3)+(G24*$G$3)+(H24*$H$3)+(I24*$I$3)+(J24*$J$3)+(K24*$K$3)+(L24*$L$3)+(M24*$M$3)+(N24*$N$3) -> 0
O25: =SUM(F25:N25) -> 0 | P25: =(D25*$D$3)+(E25*$E$3)+(F25*$F$3)+(G25*$G$3)+(H25*$H$3)+(I25*$I$3)+(J25*$J$3)+(K25*$K$3)+(L25*$L$3)+(M25*$M$3)+(N25*$N$3) -> 0
O26: =SUM(F26:N26) -> 0 | P26: =(D26*$D$3)+(E26*$E$3)+(F26*$F$3)+(G26*$G$3)+(H26*$H$3)+(I26*$I$3)+(J26*$J$3)+(K26*$K$3)+(L26*$L$3)+(M26*$M$3)+(N26*$N$3) -> 0
O27: =SUM(F27:N27) -> 0 | P27: =(D27*$D$3)+(E27*$E$3)+(F27*$F$3)+(G27*$G$3)+(H27*$H$3)+(I27*$I$3)+(J27*$J$3)+(K27*$K$3)+(L27*$L$3)+(M27*$M$3)+(N27*$N$3) -> 0
... O36: =SUM(F36:N36) -> 0 | P36: =(D36*$D$3)+(E36*$E$3)+(F36*$F$3)+(G36*$G$3)+(H36*$H$3)+(I36*$I$3)+(J36*$J$3)+(K36*$K$3)+(L36*$L$3)+(M36*$M$3)+(N36*$N$3) -> 0
B37: TOTAL | C37: =SUM(C15:C36) -> 0 | D37: =SUM(D15:D36) -> 0 | E37: =SUM(E15:E36) -> 0 | F37: =SUM(F15:F36) -> 0 | G37: =SUM(G15:G36) -> 0 | H37: =SUM(H15:H36) -> 0 | I37: =SUM(I15:I36) -> 0 | J37: =SUM(J15:J36) -> 0 | ... P37: =SUM(P15:P36) -> 0
B40: ISKCON DURBAN
B41: Back to Godhead | F41: 2309 | O41: =SUM(F41:N41)+(E41*18)+(D41*9) -> 2309 | P41: =(D41*$D$3)+(E41*$E$3)+(F41*$F$3)+(G41*$G$3)+(H41*$H$3)+(I41*$I$3)+(J41*$J$3)+(K41*$K$3)+(L41*$L$3)+(M41*$M$3)+(N41*$N$3) -> 230.9
B42: Arjuna Acarya Das | N42: 120 | O42: =SUM(F42:N42) -> 120 | P42: =(D42*$D$3)+(E42*$E$3)+(F42*$F$3)+(G42*$G$3)+(H42*$H$3)+(I42*$I$3)+(J42*$J$3)+(K42*$K$3)+(L42*$L$3)+(M42*$M$3)+(N42*$N$3) -> 240
B43: Avinash | G43: 20 | O43: =SUM(F43:N43) -> 20 | P43: =(D43*$D$3)+(E43*$E$3)+(F43*$F$3)+(G43*$G$3)+(H43*$H$3)+(I43*$I$3)+(J43*$J$3)+(K43*$K$3)+(L43*$L$3)+(M43*$M$3)+(N43*$N$3) -> 5
B44: Bhindu Madhava Das | G44: 24 | O44: =SUM(F44:N44) -> 24 | P44: =(D44*$D$3)+(E44*$E$3)+(F44*$F$3)+(G44*$G$3)+(H44*$H$3)+(I44*$I$3)+(J44*$J$3)+(K44*$K$3)+(L44*$L$3)+(M44*$M$3)+(N44*$N$3) -> 6
B45: Ekachakra Das And Kripamoya Das | G45: 240 | N45: 20 | O45: =SUM(F45:N45)+(E45*18)+(D45*9) -> 260 | P45: =(D45*$D$3)+(E45*$E$3)+(F45*$F$3)+(G45*$G$3)+(H45*$H$3)+(I45*$I$3)+(J45*$J$3)+(K45*$K$3)+(L45*$L$3)+(M45*$M$3)+(N45*$N$3) -> 100
B46: Vibhu Caitanya Das | K46: 10 | N46: 5 | O46: =SUM(F46:N46)+(E46*18)+(D46*9) -> 15 | P46: =(D46*$D$3)+(E46*$E$3)+(F46*$F$3)+(G46*$G$3)+(H46*$H$3)+(I46*$I$3)+(J46*$J$3)+(K46*$K$3)+(L46*$L$3)+(M46*$M$3)+(N46*$N$3) -> 20
B47: Gangamata Goswamini Devi Dasi | G47: 610 | K47: 4 | N47: 11 | O47: =SUM(F47:N47) -> 625 | P47: =(D47*$D$3)+(E47*$E$3)+(F47*$F$3)+(G47*$G$3)+(H47*$H$3)+(I47*$I$3)+(J47*$J$3)+(K47*$K$3)+(L47*$L$3)+(M47*$M$3)+(N47*$N$3) -> 178.5
B48: Govindas Durban (Mother Mallika) | G48: 61 | J48: 11 | K48: 11 | N48: 1 | O48: =SUM(F48:N48) -> 84 | P48: =(D48*$D$3)+(E48*$E$3)+(F48*$F$3)+(G48*$G$3)+(H48*$H$3)+(I48*$I$3)+(J48*$J$3)+(K48*$K$3)+(L48*$L$3)+(M48*$M$3)+(N48*$N$3) -> 33.75
B49: Jai Krishna Das | N49: 2 | O49: =SUM(F49:N49) -> 2 | P49: =(D49*$D$3)+(E49*$E$3)+(F49*$F$3)+(G49*$G$3)+(H49*$H$3)+(I49*$I$3)+(J49*$J$3)+(K49*$K$3)+(L49*$L$3)+(M49*$M$3)+(N49*$N$3) -> 4
B50: Jai Radhika devi dasi | K50: 1 | N50: 20 | O50: =SUM(F50:N50)+(E50*18)+(D50*9) -> 21 | P50: =(D50*$D$3)+(E50*$E$3)+(F50*$F$3)+(G50*$G$3)+(H50*$H$3)+(I50*$I$3)+(J50*$J$3)+(K50*$K$3)+(L50*$L$3)+(M50*$M$3)+(N50*$N$3) -> 41
B51: Krishna Prema Namahatta | G51: 944 | K51: 62 | N51: 21 | O51: =SUM(F51:N51) -> 1027 | P51: =(D51*$D$3)+(E51*$E$3)+(F51*$F$3)+(G51*$G$3)+(H51*$H$3)+(I51*$I$3)+(J51*$J$3)+(K51*$K$3)+(L51*$L$3)+(M51*$M$3)+(N51*$N$3) -> 340
B52: Lakash | G52: 49 | I52: 4 | O52: =SUM(F52:N52) -> 53 | P52: =(D52*$D$3)+(E52*$E$3)+(F52*$F$3)+(G52*$G$3)+(H52*$H$3)+(I52*$I$3)+(J52*$J$3)+(K52*$K$3)+(L52*$L$3)+(M52*$M$3)+(N52*$N$3) -> 14.25
B53: Mr Presharnthan Arumugam | G53: 1 | N53: 1 | O53: =SUM(F53:N53) -> 2 | P53: =(D53*$D$3)+(E53*$E$3)+(F53*$F$3)+(G53*$G$3)+(H53*$H$3)+(I53*$I$3)+(J53*$J$3)+(K53*$K$3)+(L53*$L$3)+(M53*$M$3)+(N53*$N$3) -> 2.25
B54: Nitai Pada Kamala | E54: 2 | G54: 1300 | K54: 46 | N54: 12 | O54: =SUM(F54:N54) -> 1358 | P54: =(D54*$D$3)+(E54*$E$3)+(F54*$F$3)+(G54*$G$3)+(H54*$H$3)+(I54*$I$3)+(J54*$J$3)+(K54*$K$3)+(L54*$L$3)+(M54*$M$3)+(N54*$N$3) -> 539
B55: P Ramdhin | G55: 3 | K55: 2 | N55: 3 | O55: =SUM(F55:N55) -> 8 | P55: =(D55*$D$3)+(E55*$E$3)+(F55*$F$3)+(G55*$G$3)+(H55*$H$3)+(I55*$I$3)+(J55*$J$3)+(K55*$K$3)+(L55*$L$3)+(M55*$M$3)+(N55*$N$3) -> 8.75
B56: Padyavali Devi Dasi | D56: 1 | G56: 40 | I56: 3 | O56: =SUM(F56:N56) -> 43 | P56: =(D56*$D$3)+(E56*$E$3)+(F56*$F$3)+(G56*$G$3)+(H56*$H$3)+(I56*$I$3)+(J56*$J$3)+(K56*$K$3)+(L56*$L$3)+(M56*$M$3)+(N56*$N$3) -> 47.5
B57: Prahlad and Udhav (Ramananda Priya Das and Kavita) | G57: 101 | I57: 34 | K57: 14 | N57: 29 | O57: =SUM(F57:N57) -> 178 | P57: =(D57*$D$3)+(E57*$E$3)+(F57*$F$3)+(G57*$G$3)+(H57*$H$3)+(I57*$I$3)+(J57*$J$3)+(K57*$K$3)+(L57*$L$3)+(M57*$M$3)+(N57*$N$3) -> 114.25
B58: Radhanath's Gifts (Preisha) | G58: 5 | I58: 4 | K58: 20 | N58: 7 | O58: =SUM(F58:N58) -> 36 | P58: =(D58*$D$3)+(E58*$E$3)+(F58*$F$3)+(G58*$G$3)+(H58*$H$3)+(I58*$I$3)+(J58*$J$3)+(K58*$K$3)+(L58*$L$3)+(M58*$M$3)+(N58*$N$3) -> 37.25
B59: Rahul Ramdat | G59: 40 | O59: =SUM(F59:N59)+(E59*18)+(D59*9) -> 40 | P59: =(D59*$D$3)+(E59*$E$3)+(F59*$F$3)+(G59*$G$3)+(H59*$H$3)+(I59*$I$3)+(J59*$J$3)+(K59*$K$3)+(L59*$L$3)+(M59*$M$3)+(N59*$N$3) -> 10
B60: Ramanujacarya das | L60: 1 | O60: =SUM(F60:N60) -> 1 | P60: =(D60*$D$3)+(E60*$E$3)+(F60*$F$3)+(G60*$G$3)+(H60*$H$3)+(I60*$I$3)+(J60*$J$3)+(K60*$K$3)+(L60*$L$3)+(M60*$M$3)+(N60*$N$3) -> 1
B61: Rasa-sthali Dasi | G61: 2 | K61: 23 | N61: 2 | O61: =SUM(F61:N61) -> 27 | P61: =(D61*$D$3)+(E61*$E$3)+(F61*$F$3)+(G61*$G$3)+(H61*$H$3)+(I61*$I$3)+(J61*$J$3)+(K61*$K$3)+(L61*$L$3)+(M61*$M$3)+(N61*$N$3) -> 27.5
B62: Shreya Chettiar | G62: 15 | I62: 5 | O62: =SUM(F62:N62) -> 20 | P62: =(D62*$D$3)+(E62*$E$3)+(F62*$F$3)+(G62*$G$3)+(H62*$H$3)+(I62*$I$3)+(J62*$J$3)+(K62*$K$3)+(L62*$L$3)+(M62*$M$3)+(N62*$N$3) -> 6.25
B63: Sri Lakshmi Narasimha devi dasi | E63: 1 | O63: =SUM(F63:N63) -> 0 | P63: =(D63*$D$3)+(E63*$E$3)+(F63*$F$3)+(G63*$G$3)+(H63*$H$3)+(I63*$I$3)+(J63*$J$3)+(K63*$K$3)+(L63*$L$3)+(M63*$M$3)+(N63*$N$3) -> 72
B64: The Brhat Mrdanga Team | G64: 324 | I64: 16 | K64: 102 | N64: 88 | O64: =SUM(F64:N64)+(E64*18)+(D64*9) -> 530 | P64: =(D64*$D$3)+(E64*$E$3)+(F64*$F$3)+(G64*$G$3)+(H64*$H$3)+(I64*$I$3)+(J64*$J$3)+(K64*$K$3)+(L64*$L$3)+(M64*$M$3)+(N64*$N$3) -> 367
B65: Tilakani dd | G65: 44 | I65: 4 | K65: 11 | N65: 1 | O65: =SUM(F65:N65) -> 60 | P65: =(D65*$D$3)+(E65*$E$3)+(F65*$F$3)+(G65*$G$3)+(H65*$H$3)+(I65*$I$3)+(J65*$J$3)+(K65*$K$3)+(L65*$L$3)+(M65*$M$3)+(N65*$N$3) -> 26
B66: Ujjvala Rasa devi dasi | G66: 1 | N66: 1 | O66: =SUM(F66:N66) -> 2 | P66: =(D66*$D$3)+(E66*$E$3)+(F66*$F$3)+(G66*$G$3)+(H66*$H$3)+(I66*$I$3)+(J66*$J$3)+(K66*$K$3)+(L66*$L$3)+(M66*$M$3)+(N66*$N$3) -> 2.25
B67: Veruskha | G67: 7 | I67: 1 | O67: =SUM(F67:N67) -> 8 | P67: =(D67*$D$3)+(E67*$E$3)+(F67*$F$3)+(G67*$G$3)+(H67*$H$3)+(I67*$I$3)+(J67*$J$3)+(K67*$K$3)+(L67*$L$3)+(M67*$M$3)+(N67*$N$3) -> 2.25
O68: =SUM(F68:N68) -> 0 | P68: =(D68*$D$3)+(E68*$E$3)+(F68*$F$3)+(G68*$G$3)+(H68*$H$3)+(I68*$I$3)+(J68*$J$3)+(K68*$K$3)+(L68*$L$3)+(M68*$M$3)+(N68*$N$3) -> 0
C69: =SUM(C41:C68) -> 0 | D69: =SUM(D41:D68) -> 1 | E69: =SUM(E41:E68) -> 3 | F69: =SUM(F41:F68) -> 2309 | G69: =SUM(G41:G68) -> 3831 | H69: =SUM(H41:H68) -> 0 | I69: =SUM(I41:I68) -> 71 | J69: =SUM(J41:J68) -> 11 | ... P69: =SUM(P41:P68) -> 2476.65
B72: ISKCON EAST LONDON
B73: Anakulya Devi Dasi | N73: 8 | O73: =SUM(F73:N73)+(E73*18)+(D73*9) -> 8 | P73: =(D73*$D$3)+(E73*$E$3)+(F73*$F$3)+(G73*$G$3)+(H73*$H$3)+(I73*$I$3)+(J73*$J$3)+(K73*$K$3)+(L73*$L$3)+(M73*$M$3)+(N73*$N$3) -> 16
O74: =SUM(F74:N74) -> 0 | P74: =(D74*$D$3)+(E74*$E$3)+(F74*$F$3)+(G74*$G$3)+(H74*$H$3)+(I74*$I$3)+(J74*$J$3)+(K74*$K$3)+(L74*$L$3)+(M74*$M$3)+(N74*$N$3) -> 0
O75: =SUM(F75:N75) -> 0 | P75: =(D75*$D$3)+(E75*$E$3)+(F75*$F$3)+(G75*$G$3)+(H75*$H$3)+(I75*$I$3)+(J75*$J$3)+(K75*$K$3)+(L75*$L$3)+(M75*$M$3)+(N75*$N$3) -> 0
B76: TOTAL | C76: =SUM(C73:C75) -> 0 | D76: =SUM(D73:D75) -> 0 | E76: =SUM(E73:E75) -> 0 | F76: =SUM(F73:F75) -> 0 | G76: =SUM(G73:G75) -> 0 | H76: =SUM(H73:H75) -> 0 | I76: =SUM(I73:I75) -> 0 | J76: =SUM(J73:J75) -> 0 | ... P76: =SUM(P73:P75) -> 16
B79: ISKCON HAMMANSKRAAL
B80: Temple Scores | O80: =SUM(F80:N80) -> 0 | P80: =(D80*$D$3)+(E80*$E$3)+(F80*$F$3)+(G80*$G$3)+(H80*$H$3)+(I80*$I$3)+(J80*$J$3)+(K80*$K$3)+(L80*$L$3)+(M80*$M$3)+(N80*$N$3) -> 0
O81: =SUM(F81:N81) -> 0 | P81: =(D81*$D$3)+(E81*$E$3)+(F81*$F$3)+(G81*$G$3)+(H81*$H$3)+(I81*$I$3)+(J81*$J$3)+(K81*$K$3)+(L81*$L$3)+(M81*$M$3)+(N81*$N$3) -> 0
B82: TOTAL | C82: =SUM(C81:C81) -> 0 | D82: =SUM(D81:D81) -> 0 | E82: =SUM(E80:E81) -> 0 | F82: =SUM(F80:F81) -> 0 | G82: =SUM(G80:G81) -> 0 | H82: =SUM(H80:H81) -> 0 | I82: =SUM(I80:I81) -> 0 | J82: =SUM(J80:J81) -> 0 | K82: =SUM(K80:K81) -> 0 | L82: =SUM(L80:L81) -> 0 | ... P82: =SUM(P80:P81) -> 0
B85: ISKCON LENASIA
O86: =SUM(F86:N86) -> 0 | P86: =(D86*$D$3)+(E86*$E$3)+(F86*$F$3)+(G86*$G$3)+(H86*$H$3)+(I86*$I$3)+(J86*$J$3)+(K86*$K$3)+(L86*$L$3)+(M86*$M$3)+(N86*$N$3) -> 0
O87: =SUM(F87:N87) -> 0 | P87: =(D87*$D$3)+(E87*$E$3)+(F87*$F$3)+(G87*$G$3)+(H87*$H$3)+(I87*$I$3)+(J87*$J$3)+(K87*$K$3)+(L87*$L$3)+(M87*$M$3)+(N87*$N$3) -> 0
O88: =SUM(F88:N88) -> 0 | P88: =(D88*$D$3)+(E88*$E$3)+(F88*$F$3)+(G88*$G$3)+(H88*$H$3)+(I88*$I$3)+(J88*$J$3)+(K88*$K$3)+(L88*$L$3)+(M88*$M$3)+(N88*$N$3) -> 0
O89: =SUM(F89:N89) -> 0 | P89: =(D89*$D$3)+(E89*$E$3)+(F89*$F$3)+(G89*$G$3)+(H89*$H$3)+(I89*$I$3)+(J89*$J$3)+(K89*$K$3)+(L89*$L$3)+(M89*$M$3)+(N89*$N$3) -> 0
O90: =SUM(F90:N90) -> 0 | P90: =(D90*$D$3)+(E90*$E$3)+(F90*$F$3)+(G90*$G$3)+(H90*$H$3)+(I90*$I$3)+(J90*$J$3)+(K90*$K$3)+(L90*$L$3)+(M90*$M$3)+(N90*$N$3) -> 0
O91: =SUM(F91:N91) -> 0 | P91: =(D91*$D$3)+(E91*$E$3)+(F91*$F$3)+(G91*$G$3)+(H91*$H$3)+(I91*$I$3)+(J91*$J$3)+(K91*$K$3)+(L91*$L$3)+(M91*$M$3)+(N91*$N$3) -> 0
O92: =SUM(F92:N92) -> 0 | P92: =(D92*$D$3)+(E92*$E$3)+(F92*$F$3)+(G92*$G$3)+(H92*$H$3)+(I92*$I$3)+(J92*$J$3)+(K92*$K$3)+(L92*$L$3)+(M92*$M$3)+(N92*$N$3) -> 0
O93: =SUM(F93:N93) -> 0 | P93: =(D93*$D$3)+(E93*$E$3)+(F93*$F$3)+(G93*$G$3)+(H93*$H$3)+(I93*$I$3)+(J93*$J$3)+(K93*$K$3)+(L93*$L$3)+(M93*$M$3)+(N93*$N$3) -> 0
O94: =SUM(F94:N94) -> 0 | P94: =(D94*$D$3)+(E94*$E$3)+(F94*$F$3)+(G94*$G$3)+(H94*$H$3)+(I94*$I$3)+(J94*$J$3)+(K94*$K$3)+(L94*$L$3)+(M94*$M$3)+(N94*$N$3) -> 0
O95: =SUM(F95:N95) -> 0 | P95: =(D95*$D$3)+(E95*$E$3)+(F95*$F$3)+(G95*$G$3)+(H95*$H$3)+(I95*$I$3)+(J95*$J$3)+(K95*$K$3)+(L95*$L$3)+(M95*$M$3)+(N95*$N$3) -> 0
O96: =SUM(F96:N96) -> 0 | P96: =(D96*$D$3)+(E96*$E$3)+(F96*$F$3)+(G96*$G$3)+(H96*$H$3)+(I96*$I$3)+(J96*$J$3)+(K96*$K$3)+(L96*$L$3)+(M96*$M$3)+(N96*$N$3) -> 0
O97: =SUM(F97:N97) -> 0 | P97: =(D97*$D$3)+(E97*$E$3)+(F97*$F$3)+(G97*$G$3)+(H97*$H$3)+(I97*$I$3)+(J97*$J$3)+(K97*$K$3)+(L97*$L$3)+(M97*$M$3)+(N97*$N$3) -> 0
... O107: =SUM(F107:N107) -> 0 | P107: =(D107*$D$3)+(E107*$E$3)+(F107*$F$3)+(G107*$G$3)+(H107*$H$3)+(I107*$I$3)+(J107*$J$3)+(K107*$K$3)+(L107*$L$3)+(M107*$M$3)+(N107*$N$3) -> 0
B108: TOTAL | C108: =SUM(C86:C107) -> 0 | D108: =SUM(D86:D107) -> 0 | E108: =SUM(E86:E107) -> 0 | F108: =SUM(F86:F107) -> 0 | G108: =SUM(G86:G107) -> 0 | H108: =SUM(H86:H107) -> 0 | I108: =SUM(I86:I107) -> 0 | J108: =SUM(J86:J107) -> 0 | ... P108: =SUM(P86:P107) -> 0
B111: ISKCON MIDRAND
B112: Temple Scores | O112: =SUM(F112:N112)+(E112*18)+(D112*9) -> 0 | P112: =(D112*$D$3)+(E112*$E$3)+(F112*$F$3)+(G112*$G$3)+(H112*$H$3)+(I112*$I$3)+(J112*$J$3)+(K112*$K$3)+(L112*$L$3)+(M112*$M$3)+(N112*$N$3) -> 0
O113: =SUM(F113:N113) -> 0 | P113: =(D113*$D$3)+(E113*$E$3)+(F113*$F$3)+(G113*$G$3)+(H113*$H$3)+(I113*$I$3)+(J113*$J$3)+(K113*$K$3)+(L113*$L$3)+(M113*$M$3)+(N113*$N$3) -> 0
O114: =SUM(F114:N114) -> 0 | P114: =(D114*$D$3)+(E114*$E$3)+(F114*$F$3)+(G114*$G$3)+(H114*$H$3)+(I114*$I$3)+(J114*$J$3)+(K114*$K$3)+(L114*$L$3)+(M114*$M$3)+(N114*$N$3) -> 0
B115: TOTAL | C115: =SUM(C112:C114) -> 0 | D115: =SUM(D112:D114) -> 0 | E115: =SUM(E112:E114) -> 0 | F115: =SUM(F112:F114) -> 0 | G115: =SUM(G112:G114) -> 0 | H115: =SUM(H112:H114) -> 0 | I115: =SUM(I112:I114) -> 0 | J115: =SUM(J112:J114) -> 0 | ... P115: =SUM(P112:P114) -> 0
B118: ISKCON MPUMALANGA
O119: =SUM(F119:N119) -> 0 | P119: =(D119*$D$3)+(E119*$E$3)+(F119*$F$3)+(G119*$G$3)+(H119*$H$3)+(I119*$I$3)+(J119*$J$3)+(K119*$K$3)+(L119*$L$3)+(M119*$M$3)+(N119*$N$3) -> 0
O120: =SUM(F120:N120) -> 0 | P120: =(D120*$D$3)+(E120*$E$3)+(F120*$F$3)+(G120*$G$3)+(H120*$H$3)+(I120*$I$3)+(J120*$J$3)+(K120*$K$3)+(L120*$L$3)+(M120*$M$3)+(N120*$N$3) -> 0
B121: TOTAL | C121: =SUM(C119:C120) -> 0 | D121: =SUM(D119:D120) -> 0 | E121: =SUM(E119:E120) -> 0 | F121: =SUM(F119:F120) -> 0 | G121: =SUM(G119:G120) -> 0 | H121: =SUM(H119:H120) -> 0 | I121: =SUM(I119:I120) -> 0 | J121: =SUM(J119:J120) -> 0 | ... P121: =SUM(P119:P120) -> 0
B124: ISKCON PHOENIX
O125: =SUM(F125:N125) -> 0 | P125: =(D125*$D$3)+(E125*$E$3)+(F125*$F$3)+(G125*$G$3)+(H125*$H$3)+(I125*$I$3)+(J125*$J$3)+(K125*$K$3)+(L125*$L$3)+(M125*$M$3)+(N125*$N$3) -> 0
O126: =SUM(F126:N126) -> 0 | P126: =(D126*$D$3)+(E126*$E$3)+(F126*$F$3)+(G126*$G$3)+(H126*$H$3)+(I126*$I$3)+(J126*$J$3)+(K126*$K$3)+(L126*$L$3)+(M126*$M$3)+(N126*$N$3) -> 0
O127: =SUM(F127:N127) -> 0 | P127: =(D127*$D$3)+(E127*$E$3)+(F127*$F$3)+(G127*$G$3)+(H127*$H$3)+(I127*$I$3)+(J127*$J$3)+(K127*$K$3)+(L127*$L$3)+(M127*$M$3)+(N127*$N$3) -> 0
O128: =SUM(F128:N128) -> 0 | P128: =(D128*$D$3)+(E128*$E$3)+(F128*$F$3)+(G128*$G$3)+(H128*$H$3)+(I128*$I$3)+(J128*$J$3)+(K128*$K$3)+(L128*$L$3)+(M128*$M$3)+(N128*$N$3) -> 0
O129: =SUM(F129:N129) -> 0 | P129: =(D129*$D$3)+(E129*$E$3)+(F129*$F$3)+(G129*$G$3)+(H129*$H$3)+(I129*$I$3)+(J129*$J$3)+(K129*$K$3)+(L129*$L$3)+(M129*$M$3)+(N129*$N$3) -> 0
O130: =SUM(F130:N130) -> 0 | P130: =(D130*$D$3)+(E130*$E$3)+(F130*$F$3)+(G130*$G$3)+(H130*$H$3)+(I130*$I$3)+(J130*$J$3)+(K130*$K$3)+(L130*$L$3)+(M130*$M$3)+(N130*$N$3) -> 0
O131: =SUM(F131:N131) -> 0 | P131: =(D131*$D$3)+(E131*$E$3)+(F131*$F$3)+(G131*$G$3)+(H131*$H$3)+(I131*$I$3)+(J131*$J$3)+(K131*$K$3)+(L131*$L$3)+(M131*$M$3)+(N131*$N$3) -> 0
O132: =SUM(F132:N132) -> 0 | P132: =(D132*$D$3)+(E132*$E$3)+(F132*$F$3)+(G132*$G$3)+(H132*$H$3)+(I132*$I$3)+(J132*$J$3)+(K132*$K$3)+(L132*$L$3)+(M132*$M$3)+(N132*$N$3) -> 0
O133: =SUM(F133:N133) -> 0 | P133: =(D133*$D$3)+(E133*$E$3)+(F133*$F$3)+(G133*$G$3)+(H133*$H$3)+(I133*$I$3)+(J133*$J$3)+(K133*$K$3)+(L133*$L$3)+(M133*$M$3)+(N133*$N$3) -> 0
O134: =SUM(F134:N134) -> 0 | P134: =(D134*$D$3)+(E134*$E$3)+(F134*$F$3)+(G134*$G$3)+(H134*$H$3)+(I134*$I$3)+(J134*$J$3)+(K134*$K$3)+(L134*$L$3)+(M134*$M$3)+(N134*$N$3) -> 0
O135: =SUM(F135:N135) -> 0 | P135: =(D135*$D$3)+(E135*$E$3)+(F135*$F$3)+(G135*$G$3)+(H135*$H$3)+(I135*$I$3)+(J135*$J$3)+(K135*$K$3)+(L135*$L$3)+(M135*$M$3)+(N135*$N$3) -> 0
O136: =SUM(F136:N136) -> 0 | P136: =(D136*$D$3)+(E136*$E$3)+(F136*$F$3)+(G136*$G$3)+(H136*$H$3)+(I136*$I$3)+(J136*$J$3)+(K136*$K$3)+(L136*$L$3)+(M136*$M$3)+(N136*$N$3) -> 0
...

Sheet Tanzania
B2: TEMPLE: Dar es Salaam
B3: MONTH :
C4: BTG Sub | D4: CC Set | E4: SB Set | F4: Mag. | G4: Small Books | I4: Medium Books | K4: Big Books | M4: Maha-Books
D5: 36 | E5: 72 | F5: 0.1 | G5: 0.25 | H5: 0.25 | I5: 0.5 | J5: 0.5 | K5: 1 | L5: 1 | M5: 2 | N5: 2
B6: DEVOTEES | F6: M1 | G6: S1 | H6: H1 | I6: S2 | J6: H2 | K6: S3 | L6: H3 | M6: S4 | N6: H4 | O6: T/BKS | P6: Points
B9: Cumulative Scores | O9: =SUM(F9:N9) -> 0 | P9: =(D9*$D$5)+(E9*$E$5)+(F9*$F$5)+(G9*$G$5)+(H9*$H$5)+(I9*$I$5)+(J9*$J$5)+(K9*$K$5)+(L9*$L$5)+(M9*$M$5)+(N9*$N$5) -> 0
O10: =SUM(F10:N10) -> 0 | P10: =(D10*$D$5)+(E10*$E$5)+(F10*$F$5)+(G10*$G$5)+(H10*$H$5)+(I10*$I$5)+(J10*$J$5)+(K10*$K$5)+(L10*$L$5)+(M10*$M$5)+(N10*$N$5) -> 0
O11: =SUM(F11:N11) -> 0 | P11: =(D11*$D$5)+(E11*$E$5)+(F11*$F$5)+(G11*$G$5)+(H11*$H$5)+(I11*$I$5)+(J11*$J$5)+(K11*$K$5)+(L11*$L$5)+(M11*$M$5)+(N11*$N$5) -> 0
B12: TOTAL | C12: =SUM(C9:C11) -> 0 | D12: =SUM(D9:D11) -> 0 | E12: =SUM(E9:E11) -> 0 | F12: =SUM(F9:F11) -> 0 | G12: =SUM(G9:G11) -> 0 | H12: =SUM(H9:H11) -> 0 | I12: =SUM(I9:I11) -> 0 | J12: =SUM(J9:J11) -> 0 | ... P12: =SUM(P9:P11) -> 0

Sheet Togo
B2: TEMPLE: Togo
B3: MONTH :
C4: BTG Sub | D4: CC Set | E4: SB Set | F4: Mag. | G4: Small Books | I4: Medium Books | K4: Big Books | M4: Maha-Books
D5: 36 | E5: 72 | F5: 0.1 | G5: 0.25 | H5: 0.25 | I5: 0.5 | J5: 0.5 | K5: 1 | L5: 1 | M5: 2 | N5: 2
B6: DEVOTEES | F6: M1 | G6: S1 | H6: H1 | I6: S2 | J6: H2 | K6: S3 | L6: H3 | M6: S4 | N6: H4 | O6: T/BKS | P6: Points
B9: Cumulative Scores | O9: =SUM(F9:N9) -> 0 | P9: =(D9*$D$5)+(E9*$E$5)+(F9*$F$5)+(G9*$G$5)+(H9*$H$5)+(I9*$I$5)+(J9*$J$5)+(K9*$K$5)+(L9*$L$5)+(M9*$M$5)+(N9*$N$5) -> 0
O10: =SUM(F10:N10) -> 0 | P10: =(D10*$D$5)+(E10*$E$5)+(F10*$F$5)+(G10*$G$5)+(H10*$H$5)+(I10*$I$5)+(J10*$J$5)+(K10*$K$5)+(L10*$L$5)+(M10*$M$5)+(N10*$N$5) -> 0
O11: =SUM(F11:N11) -> 0 | P11: =(D11*$D$5)+(E11*$E$5)+(F11*$F$5)+(G11*$G$5)+(H11*$H$5)+(I11*$I$5)+(J11*$J$5)+(K11*$K$5)+(L11*$L$5)+(M11*$M$5)+(N11*$N$5) -> 0
B12: TOTAL | C12: =SUM(C9:C11) -> 0 | D12: =SUM(D9:D11) -> 0 | E12: =SUM(E9:E11) -> 0 | F12: =SUM(F9:F11) -> 0 | G12: =SUM(G9:G11) -> 0 | H12: =SUM(H9:H11) -> 0 | I12: =SUM(I9:I11) -> 0 | J12: =SUM(J9:J11) -> 0 | ... P12: =SUM(P9:P11) -> 0

Sheet Uganda
B2: TEMPLE: Kampala
B3: MONTH :
C4: BTG Sub | D4: CC Set | E4: SB Set | F4: Mag. | G4: Small Books | I4: Medium Books | K4: Big Books | M4: Maha-Books
D5: 36 | E5: 72 | F5: 0.1 | G5: 0.25 | H5: 0.25 | I5: 0.5 | J5: 0.5 | K5: 1 | L5: 1 | M5: 2 | N5: 2
B6: DEVOTEES | F6: M1 | G6: S1 | H6: H1 | I6: S2 | J6: H2 | K6: S3 | L6: H3 | M6: S4 | N6: H4 | O6: T/BKS | P6: Points
O9: =SUM(F9:N9) -> 0 | P9: =(D9*$D$5)+(E9*$E$5)+(F9*$F$5)+(G9*$G$5)+(H9*$H$5)+(I9*$I$5)+(J9*$J$5)+(K9*$K$5)+(L9*$L$5)+(M9*$M$5)+(N9*$N$5) -> 0
O10: =SUM(F10:N10) -> 0 | P10: =(D10*$D$5)+(E10*$E$5)+(F10*$F$5)+(G10*$G$5)+(H10*$H$5)+(I10*$I$5)+(J10*$J$5)+(K10*$K$5)+(L10*$L$5)+(M10*$M$5)+(N10*$N$5) -> 0
O11: =SUM(F11:N11) -> 0 | P11: =(D11*$D$5)+(E11*$E$5)+(F11*$F$5)+(G11*$G$5)+(H11*$H$5)+(I11*$I$5)+(J11*$J$5)+(K11*$K$5)+(L11*$L$5)+(M11*$M$5)+(N11*$N$5) -> 0
B12: TOTAL | C12: =SUM(C9:C11) -> 0 | D12: =SUM(D9:D11) -> 0 | E12: =SUM(E9:E11) -> 0 | F12: =SUM(F9:F11) -> 0 | G12: =SUM(G9:G11) -> 0 | H12: =SUM(H9:H11) -> 0 | I12: =SUM(I9:I11) -> 0 | J12: =SUM(J9:J11) -> 0 | ... P12: =SUM(P9:P11) -> 0

Sheet Zimbabwe
B2: TEMPLE: Zimbabwe
B3: MONTH :
C4: BTG Sub | D4: CC Set | E4: SB Set | F4: Mag. | G4: Small Books | I4: Medium Books | K4: Big Books | M4: Maha-Books
D5: 36 | E5: 72 | F5: 0.1 | G5: 0.25 | H5: 0.25 | I5: 0.5 | J5: 0.5 | K5: 1 | L5: 1 | M5: 2 | N5: 2
B6: DEVOTEES | F6: M1 | G6: S1 | H6: H1 | I6: S2 | J6: H2 | K6: S3 | L6: H3 | M6: S4 | N6: H4 | O6: T/BKS | P6: Points
B9: Cumulative Scores | O9: =SUM(F9:N9) -> 0 | P9: =(D9*$D$5)+(E9*$E$5)+(F9*$F$5)+(G9*$G$5)+(H9*$H$5)+(I9*$I$5)+(J9*$J$5)+(K9*$K$5)+(L9*$L$5)+(M9*$M$5)+(N9*$N$5) -> 0
B11: TOTAL | C11: =SUM(C9:C10) -> 0 | D11: =SUM(D9:D10) -> 0 | E11: =SUM(E9:E10) -> 0 | F11: =SUM(F9:F10) -> 0 | G11: =SUM(G9:G10) -> 0 | H11: =SUM(H9:H10) -> 0 | I11: =SUM(I9:I10) -> 0 | J11: =SUM(J9:J10) -> 0 | ... P11: =SUM(P9:P10) -> 0

Sheet Summary
A2: Country | B2: Books: | C2: Points:
A4: DRC | B4: =SUM('Democratic Republic of Congo'!O18) -> 0 | C4: =SUM('Democratic Republic of Congo'!P18) -> 0
A5: Ghana | B5: =SUM(Ghana!O10) -> 0 | C5: =SUM(Ghana!P10) -> 0
A6: Botswana | B6: =SUM(Botswana!O14) -> 259 | C6: =SUM(Botswana!P14) -> 741.5
A7: Kenya | B7: =SUM(Kenya!O35) -> 454 | C7: =SUM(Kenya!P35) -> 244.5
A8: Malawi | B8: =SUM(Malawi!O17) -> 0 | C8: =SUM(Malawi!P17) -> 0
A9: Mauritius | B9: =SUM(Mauritius!O74) -> 2585 | C9: =SUM(Mauritius!P74) -> 1073.25
A10: Nigeria | B10: =SUM(Nigeria!O37) -> 920 | C10: =SUM(Nigeria!P37) -> 368.25
A11: South Africa | B11: =SUM('South Africa'!O188) -> 6909 | C11: =SUM('South Africa'!P188) -> 2522.4
A12: Tanzania | B12: =SUM(Tanzania!O12) -> 0 | C12: =SUM(Tanzania!P12) -> 0
A13: Togo | B13: =SUM(Togo!O12) -> 0 | C13: =SUM(Togo!P12) -> 0
A14: Uganda | B14: =SUM(Uganda!O12) -> 0 | C14: =SUM(Uganda!P12) -> 0
A15: Zimbabwe | B15: =SUM(Zimbabwe!O11) -> 0 | C15: =SUM(Zimbabwe!P11) -> 0
A17: Total: | B17: =SUM(B4:B16) -> 11127 | C17: =SUM(C4:C16) -> 4949.9
B25: All Africa Totals
A26: January | B26: 2868
A27: February | B27: 1902
A28: March | B28: 7295
A29: April | B29: 6114
A30: May | B30: 3301
A31: June | B31: 10558
A32: July | B32: 6425
A33: August | B33: 5248
A34: September | B34: 8319
A35: October | B35: 4299
A36: November | B36: =B17 -> 11127
A37: December

Sheet Graphs
