Workbook
Name Excel_BuiltIn_Print_Area_1: [1]Malawi!#REF!
Name Excel_BuiltIn_Print_Area_1: [1]Malawi!#REF!
Name Excel_BuiltIn_Print_Area_1: [1]Malawi!#REF!
Name Excel_BuiltIn_Print_Area_1: [1]Malawi!#REF!
Name Excel_BuiltIn_Print_Area_1: [1]Malawi!#REF!
Name Excel_BuiltIn_Print_Area_1: [2]Malawi!#REF!
Name Excel_BuiltIn_Print_Area_1: [1]Malawi!#REF!
Name Excel_BuiltIn_Print_Area_1: [1]Malawi!#REF!

Sheet Democratic Republic of Congo
B2: TEMPLE: Kinshasa
B3: MONTH :
C4: BTG Sub | D4: CC Set | E4: SB Set | F4: Mag. | G4: Small Books | I4: Medium Books | K4: Big Books | M4: Maha-Books
D5: 36 | E5: 72 | F5: 0.1 | G5: 0.25 | H5: 0.25 | I5: 0.5 | J5: 0.5 | K5: 1 | L5: 1 | M5: 2 | N5: 2
B6: DEVOTEES | F6: M1 | G6: S1 | H6: H1 | I6: S2 | J6: H2 | K6: S3 | L6: H3 | M6: S4 | N6: H4 | O6: T/BKS | P6: Points
O9: =SUM(F9:N9) -> 0 | P9: =(D9*$D$5)+(E9*$E$5)+(F9*$F$5)+(G9*$G$5)+(H9*$H$5)+(I9*$I$5)+(J9*$J$5)+(K9*$K$5)+(L9*$L$5)+(M9*$M$5)+(N9*$N$5) -> 0
O10: =SUM(F10:N10) -> 0 | P10: =(D10*$D$5)+(E10*$E$5)+(F10*$F$5)+(G10*$G$5)+(H10*$H$5)+(I10*$I$5)+(J10*$J$5)+(K10*$K$5)+(L10*$L$5)+(M10*$M$5)+(N10*$N$5) -> 0
O11: =SUM(F11:N11) -> 0 | P11: =(F11*$F$5)+(G11*$G$5)+(H11*$H$5)+(I11*$I$5)+(J11*$J$5)+(K11*$K$5)+(L11*$L$5)+(M11*$M$5)+(N11*$N$5) -> 0
O12: =SUM(F12:N12) -> 0 | P12: =(F12*$F$5)+(G12*$G$5)+(H12*$H$5)+(I12*$I$5)+(J12*$J$5)+(K12*$K$5)+(L12*$L$5)+(M12*$M$5)+(N12*$N$5) -> 0
O13: =SUM(F13:N13) -> 0 | P13: =(F13*$F$5)+(G13*$G$5)+(H13*$H$5)+(I13*$I$5)+(J13*$J$5)+(K13*$K$5)+(L13*$L$5)+(M13*$M$5)+(N13*$N$5) -> 0
O14: =SUM(F14:N14) -> 0 | P14: =(F14*$F$5)+(G14*$G$5)+(H14*$H$5)+(I14*$I$5)+(J14*$J$5)+(K14*$K$5)+(L14*$L$5)+(M14*$M$5)+(N14*$N$5) -> 0
O15: =SUM(F15:N15) -> 0 | P15: =(F15*$F$5)+(G15*$G$5)+(H15*$H$5)+(I15*$I$5)+(J15*$J$5)+(K15*$K$5)+(L15*$L$5)+(M15*$M$5)+(N15*$N$5) -> 0
O16: =SUM(F16:N16) -> 0 | P16: =(F16*$F$5)+(G16*$G$5)+(H16*$H$5)+(I16*$I$5)+(J16*$J$5)+(K16*$K$5)+(L16*$L$5)+(M16*$M$5)+(N16*$N$5) -> 0
O17: =SUM(F17:N17) -> 0 | P17: =(F17*$F$5)+(G17*$G$5)+(H17*$H$5)+(I17*$I$5)+(J17*$J$5)+(K17*$K$5)+(L17*$L$5)+(M17*$M$5)+(N17*$N$5) -> 0
B18: TOTAL | C18: =SUM(C9:C17) -> 0 | D18: =SUM(D9:D17) -> 0 | E18: =SUM(E9:E17) -> 0 | F18: =SUM(F9:F17) -> 0 | G18: =SUM(G9:G17) -> 0 | H18: =SUM(H9:H17) -> 0 | I18: =SUM(I9:I17) -> 0 | J18: =SUM(J9:J17) -> 0 | ... P18: =SUM(P9:P17) -> 0

Sheet Ghana
B1: TEMPLE: Accra
B2: MONTH : April 2022
C3: BTG Sub | D3: CC Set | E3: SB Set | F3: Mag. | G3: Small Books | I3: Medium Books | K3: Big Books | M3: Maha-Books
D4: 36 | E4: 72 | F4: 0.1 | G4: 0.25 | H4: 0.25 | I4: 0.5 | J4: 0.5 | K4: 1 | L4: 1 | M4: 2 | N4: 2
B5: DEVOTEES | F5: M1 | G5: S1 | H5: H1 | I5: S2 | J5: H2 | K5: S3 | L5: H3 | M5: S4 | N5: H4 | O5: T/BKS | P5: Points
B8: Temple Scores | F8: 11 | G8: 93 | I8: 64 | K8: 354 | O8: =SUM(F8:N8) -> 522 | P8: =(D8*$D$4)+(E8*$E$4)+(F8*$F$4)+(G8*$G$4)+(H8*$H$4)+(I8*$I$4)+(J8*$J$4)+(K8*$K$4)+(L8*$L$4)+(M8*$M$4)+(N8*$N$4) -> 410.35
O9: =SUM(F9:N9) -> 0 | P9: =(D9*$D$4)+(E9*$E$4)+(F9*$F$4)+(G9*$G$4)+(H9*$H$4)+(I9*$I$4)+(J9*$J$4)+(K9*$K$4)+(L9*$L$4)+(M9*$M$4)+(N9*$N$4) -> 0
B10: TOTAL | C10: =SUM(C8:C9) -> 0 | D10: =SUM(D8:D9) -> 0 | E10: =SUM(E8:E9) -> 0 | F10: =SUM(F8:F9) -> 11 | G10: =SUM(G8:G9) -> 93 | H10: =SUM(H8:H9) -> 0 | I10: =SUM(I8:I9) -> 64 | J10: =SUM(J8:J9) -> 0 | ... P10: =SUM(P8:P9) -> 410.35

Sheet Ivory Coast
B2: TEMPLE: Ivory Coast
B3: MONTH :
C4: BTG Sub | D4: CC Set | E4: SB Set | F4: Mag. | G4: Small Books | I4: Medium Books | K4: Big Books | M4: Maha-Books
D5: 36 | E5: 72 | F5: 0.1 | G5: 0.25 | H5: 0.25 | I5: 0.5 | J5: 0.5 | K5: 1 | L5: 1 | M5: 2 | N5: 2
B6: DEVOTEES | F6: M1 | G6: S1 | H6: H1 | I6: S2 | J6: H2 | K6: S3 | L6: H3 | M6: S4 | N6: H4 | O6: T/BKS | P6: Points
O9: =SUM(F9:N9) -> 0 | P9: =(D9*$D$5)+(E9*$E$5)+(F9*$F$5)+(G9*$G$5)+(H9*$H$5)+(I9*$I$5)+(J9*$J$5)+(K9*$K$5)+(L9*$L$5)+(M9*$M$5)+(N9*$N$5) -> 0
O10: =SUM(F10:N10) -> 0 | P10: =(D10*$D$5)+(E10*$E$5)+(F10*$F$5)+(G10*$G$5)+(H10*$H$5)+(I10*$I$5)+(J10*$J$5)+(K10*$K$5)+(L10*$L$5)+(M10*$M$5)+(N10*$N$5) -> 0
O11: =SUM(F11:N11) -> 0 | P11: =(D11*$D$5)+(E11*$E$5)+(F11*$F$5)+(G11*$G$5)+(H11*$H$5)+(I11*$I$5)+(J11*$J$5)+(K11*$K$5)+(L11*$L$5)+(M11*$M$5)+(N11*$N$5) -> 0
O12: =SUM(F12:N12) -> 0 | P12: =(D12*$D$5)+(E12*$E$5)+(F12*$F$5)+(G12*$G$5)+(H12*$H$5)+(I12*$I$5)+(J12*$J$5)+(K12*$K$5)+(L12*$L$5)+(M12*$M$5)+(N12*$N$5) -> 0
O13: =SUM(F13:N13) -> 0 | P13: =(D13*$D$5)+(E13*$E$5)+(F13*$F$5)+(G13*$G$5)+(H13*$H$5)+(I13*$I$5)+(J13*$J$5)+(K13*$K$5)+(L13*$L$5)+(M13*$M$5)+(N13*$N$5) -> 0
B14: TOTAL | C14: =SUM(C9:C13) -> 0 | D14: =SUM(D9:D13) -> 0 | E14: =SUM(E9:E13) -> 0 | F14: =SUM(F9:F13) -> 0 | G14: =SUM(G9:G13) -> 0 | H14: =SUM(H9:H13) -> 0 | I14: =SUM(I9:I13) -> 0 | J14: =SUM(J9:J13) -> 0 | ... P14: =SUM(P9:P13) -> 0

Sheet Kenya
B2: MONTH : April 2022
C3: BTG Sub | D3: CC Set | E3: SB Set | F3: mag | G3: Small Books | I3: Medium Books | K3: Big Books | M3: Maha-Books
D4: 36 | E4: 72 | F4: 0.1 | G4: 0.25 | H4: 0.25 | I4: 0.5 | J4: 0.5 | K4: 1 | L4: 1 | M4: 2 | N4: 2
B5: DEVOTEES | F5: M1 | G5: S1 | H5: H1 | I5: S2 | J5: H2 | K5: S3 | L5: H3 | M5: S4 | N5: H4 | O5: T/BKS | P5: Points
B7: Iskcon Nairobi
B8: NALINI GOPIKA DEVI DASI | G8: 100 | O8: =SUM(F8:N8) -> 100 | P8: =(D8*$D$4)+(E8*$E$4)+(F8*$F$4)+(G8*$G$4)+(H8*$H$4)+(I8*$I$4)+(J8*$J$4)+(K8*$K$4)+(L8*$L$4)+(M8*$M$4)+(N8*$N$4) -> 25
B9: KRISHNA KIDS SENA | F9: 105 | G9: 955 | I9: 41 | K9: 170 | M9: 44 | O9: =SUM(F9:N9) -> 1315 | P9: =(D9*$D$4)+(E9*$E$4)+(F9*$F$4)+(G9*$G$4)+(H9*$H$4)+(I9*$I$4)+(J9*$J$4)+(K9*$K$4)+(L9*$L$4)+(M9*$M$4)+(N9*$N$4) -> 527.75
O10: =SUM(F10:N10) -> 0 | P10: =(D10*$D$4)+(E10*$E$4)+(F10*$F$4)+(G10*$G$4)+(H10*$H$4)+(I10*$I$4)+(J10*$J$4)+(K10*$K$4)+(L10*$L$4)+(M10*$M$4)+(N10*$N$4) -> 0
O11: =SUM(F11:N11) -> 0 | P11: =(D11*$D$4)+(E11*$E$4)+(F11*$F$4)+(G11*$G$4)+(H11*$H$4)+(I11*$I$4)+(J11*$J$4)+(K11*$K$4)+(L11*$L$4)+(M11*$M$4)+(N11*$N$4) -> 0
O12: =SUM(F12:N12) -> 0 | P12: =(D12*$D$4)+(E12*$E$4)+(F12*$F$4)+(G12*$G$4)+(H12*$H$4)+(I12*$I$4)+(J12*$J$4)+(K12*$K$4)+(L12*$L$4)+(M12*$M$4)+(N12*$N$4) -> 0
B13: TOTAL | C13: =SUM(C8:C12) -> 0 | D13: =SUM(D8:D12) -> 0 | E13: =SUM(E8:E12) -> 0 | F13: =SUM(F8:F12) -> 105 | G13: =SUM(G8:G12) -> 1055 | H13: =SUM(H8:H12) -> 0 | I13: =SUM(I8:I12) -> 41 | J13: =SUM(J8:J12) -> 0 | ... P13: =SUM(P8:P12) -> 552.75
B16: Iskcon Eldoret
O17: =SUM(F17:N17) -> 0 | P17: =(D17*$D$4)+(E17*$E$4)+(F17*$F$4)+(G17*$G$4)+(H17*$H$4)+(I17*$I$4)+(J17*$J$4)+(K17*$K$4)+(L17*$L$4)+(M17*$M$4)+(N17*$N$4) -> 0
O18: =SUM(F18:N18) -> 0 | P18: =(D18*$D$4)+(E18*$E$4)+(F18*$F$4)+(G18*$G$4)+(H18*$H$4)+(I18*$I$4)+(J18*$J$4)+(K18*$K$4)+(L18*$L$4)+(M18*$M$4)+(N18*$N$4) -> 0
B19: TOTAL | C19: =SUM(C17:C18) -> 0 | D19: =SUM(D17:D18) -> 0 | E19: =SUM(E17:E18) -> 0 | F19: =SUM(F17:F18) -> 0 | G19: =SUM(G17:G18) -> 0 | H19: =SUM(H17:H18) -> 0 | I19: =SUM(I17:I18) -> 0 | J19: =SUM(J17:J18) -> 0 | ... P19: =SUM(P17:P18) -> 0
B22: Iskcon Kisumu
O23: =SUM(F23:N23) -> 0 | P23: =(D23*$D$4)+(E23*$E$4)+(F23*$F$4)+(G23*$G$4)+(H23*$H$4)+(I23*$I$4)+(J23*$J$4)+(K23*$K$4)+(L23*$L$4)+(M23*$M$4)+(N23*$N$4) -> 0
O24: =SUM(F24:N24) -> 0 | P24: =(D24*$D$4)+(E24*$E$4)+(F24*$F$4)+(G24*$G$4)+(H24*$H$4)+(I24*$I$4)+(J24*$J$4)+(K24*$K$4)+(L24*$L$4)+(M24*$M$4)+(N24*$N$4) -> 0
B25: TOTAL | C25: =SUM(C23:C24) -> 0 | D25: =SUM(D23:D24) -> 0 | E25: =SUM(E23:E24) -> 0 | F25: =SUM(F23:F24) -> 0 | G25: =SUM(G23:G24) -> 0 | H25: =SUM(H23:H24) -> 0 | I25: =SUM(I23:I24) -> 0 | J25: =SUM(J23:J24) -> 0 | ... P25: =SUM(P23:P24) -> 0
B28: Iskcon Mombassa
O29: =SUM(F29:N29) -> 0 | P29: =(D29*$D$4)+(E29*$E$4)+(F29*$F$4)+(G29*$G$4)+(H29*$H$4)+(I29*$I$4)+(J29*$J$4)+(K29*$K$4)+(L29*$L$4)+(M29*$M$4)+(N29*$N$4) -> 0
O30: =SUM(F30:N30) -> 0 | P30: =(D30*$D$4)+(E30*$E$4)+(F30*$F$4)+(G30*$G$4)+(H30*$H$4)+(I30*$I$4)+(J30*$J$4)+(K30*$K$4)+(L30*$L$4)+(M30*$M$4)+(N30*$N$4) -> 0
O31: =SUM(C31:N31) -> 0 | P31: =(D31*$D$4)+(E31*$E$4)+(F31*$F$4)+(G31*$G$4)+(H31*$H$4)+(I31*$I$4)+(J31*$J$4)+(K31*$K$4)+(L31*$L$4)+(M31*$M$4)+(N31*$N$4) -> 0
B32: TOTAL | C32: =SUM(C29:C30) -> 0 | D32: =SUM(D29:D30) -> 0 | E32: =SUM(E29:E30) -> 0 | F32: =SUM(F29:F31) -> 0 | G32: =SUM(G29:G31) -> 0 | H32: =SUM(H29:H31) -> 0 | I32: =SUM(I29:I31) -> 0 | J32: =SUM(J29:J31) -> 0 | K32: =SUM(K29:K31) -> 0 | L32: =SUM(L29:L31) -> 0 | M32: =SUM(M29:M31) -> 0 | ... P32: =SUM(P29:P31) -> 0
N34: Total: | O34: =SUM(O19+O13+O25+O32) -> 1415 | P34: =SUM(P19+P13+P25+P32) -> 552.75

Sheet Malawi
B2: TEMPLE: Blantyre
B3: MONTH :
C4: BTG Sub | D4: CC Set | E4: SB Set | F4: Mag. | G4: Small Books | I4: Medium Books | K4: Big Books | M4: Maha-Books
D5: 36 | E5: 72 | F5: 0.1 | G5: 0.25 | H5: 0.25 | I5: 0.5 | J5: 0.5 | K5: 1 | L5: 1 | M5: 2 | N5: 2
B6: DEVOTEES | F6: M1 | G6: S1 | H6: H1 | I6: S2 | J6: H2 | K6: S3 | L6: H3 | M6: S4 | N6: H4 | O6: T/BKS | P6: Points
O9: =SUM(F9:N9) -> 0 | P9: =(D9*$D$5)+(E9*$E$5)+(F9*$F$5)+(G9*$G$5)+(H9*$H$5)+(I9*$I$5)+(J9*$J$5)+(K9*$K$5)+(L9*$L$5)+(M9*$M$5)+(N9*$N$5) -> 0
O10: =SUM(F10:N10) -> 0 | P10: =(D10*$D$5)+(E10*$E$5)+(F10*$F$5)+(G10*$G$5)+(H10*$H$5)+(I10*$I$5)+(J10*$J$5)+(K10*$K$5)+(L10*$L$5)+(M10*$M$5)+(N10*$N$5) -> 0
O11: =SUM(F11:N11) -> 0 | P11: =(D11*$D$5)+(E11*$E$5)+(F11*$F$5)+(G11*$G$5)+(H11*$H$5)+(I11*$I$5)+(J11*$J$5)+(K11*$K$5)+(L11*$L$5)+(M11*$M$5)+(N11*$N$5) -> 0
O12: =SUM(F12:N12) -> 0 | P12: =(D12*$D$5)+(E12*$E$5)+(F12*$F$5)+(G12*$G$5)+(H12*$H$5)+(I12*$I$5)+(J12*$J$5)+(K12*$K$5)+(L12*$L$5)+(M12*$M$5)+(N12*$N$5) -> 0
O13: =SUM(F13:N13) -> 0 | P13: =(D13*$D$5)+(E13*$E$5)+(F13*$F$5)+(G13*$G$5)+(H13*$H$5)+(I13*$I$5)+(J13*$J$5)+(K13*$K$5)+(L13*$L$5)+(M13*$M$5)+(N13*$N$5) -> 0
O14: =SUM(F14:N14) -> 0 | P14: =(D14*$D$5)+(E14*$E$5)+(F14*$F$5)+(G14*$G$5)+(H14*$H$5)+(I14*$I$5)+(J14*$J$5)+(K14*$K$5)+(L14*$L$5)+(M14*$M$5)+(N14*$N$5) -> 0
O15: =SUM(F15:N15)+(E15*18)+(D15*9) -> 0 | P15: =(D15*$D$5)+(E15*$E$5)+(F15*$F$5)+(G15*$G$5)+(H15*$H$5)+(I15*$I$5)+(J15*$J$5)+(K15*$K$5)+(L15*$L$5)+(M15*$M$5)+(N15*$N$5) -> 0
O16: =SUM(F16:N16) -> 0 | P16: =(D16*$D$5)+(E16*$E$5)+(F16*$F$5)+(G16*$G$5)+(H16*$H$5)+(I16*$I$5)+(J16*$J$5)+(K16*$K$5)+(L16*$L$5)+(M16*$M$5)+(N16*$N$5) -> 0
B17: TOTAL | C17: =SUM(C9:C16) -> 0 | D17: =SUM(D9:D16) -> 0 | E17: =SUM(E9:E16) -> 0 | F17: =SUM(F9:F16) -> 0 | G17: =SUM(G9:G16) -> 0 | H17: =SUM(H9:H16) -> 0 | I17: =SUM(I9:I16) -> 0 | J17: =SUM(J9:J16) -> 0 | ... P17: =SUM(P9:P16) -> 0

Sheet Mauritius
B2: MONTH : April 2022 | C2: BTG Sub | D2: CC Set | E2: SB Set | F2: Mag. | G2: Small Books | I2: Medium Books | K2: Big Books | M2: Maha-Books
D3: 36 | E3: 72 | F3: 0.1 | G3: 0.25 | H3: 0.25 | I3: 0.5 | J3: 0.5 | K3: 1 | L3: 1 | M3: 2 | N3: 2
B4: DEVOTEES | F4: M1 | G4: S1 | H4: H1 | I4: S2 | J4: H2 | K4: S3 | L4: H3 | M4: S4 | N4: H4 | O4: T/BKS | P4: Points
B6: ISKCON Phoenix Sri Sri Radha Gokulananda Mandir
O7: =SUM(F7:N7) -> 0 | P7: =(D7*$D$3)+(E7*$E$3)+(F7*$F$3)+(G7*$G$3)+(H7*$H$3)+(I7*$I$3)+(J7*$J$3)+(K7*$K$3)+(L7*$L$3)+(M7*$M$3)+(N7*$N$3) -> 0
O8: =SUM(F8:N8) -> 0 | P8: =(D8*$D$3)+(E8*$E$3)+(F8*$F$3)+(G8*$G$3)+(H8*$H$3)+(I8*$I$3)+(J8*$J$3)+(K8*$K$3)+(L8*$L$3)+(M8*$M$3)+(N8*$N$3) -> 0
O9: =SUM(F9:N9) -> 0 | P9: =(D9*$D$3)+(E9*$E$3)+(F9*$F$3)+(G9*$G$3)+(H9*$H$3)+(I9*$I$3)+(J9*$J$3)+(K9*$K$3)+(L9*$L$3)+(M9*$M$3)+(N9*$N$3) -> 0
O10: =SUM(F10:N10) -> 0 | P10: =(D10*$D$3)+(E10*$E$3)+(F10*$F$3)+(G10*$G$3)+(H10*$H$3)+(I10*$I$3)+(J10*$J$3)+(K10*$K$3)+(L10*$L$3)+(M10*$M$3)+(N10*$N$3) -> 0
B11: TOTAL | C11: =SUM(C7:C10) -> 0 | D11: =SUM(D7:D10) -> 0 | E11: =SUM(E7:E10) -> 0 | F11: =SUM(F7:F10) -> 0 | G11: =SUM(G7:G10) -> 0 | H11: =SUM(H7:H10) -> 0 | I11: =SUM(I7:I10) -> 0 | J11: =SUM(J7:J10) -> 0 | ... P11: =SUM(P7:P10) -> 0
B14: ISKCON Bon Accueil Mauritius Sri Sri Krsna Balaram Mandir
B15: Cumulative Scores | G15: 950 | L15: 330 | N15: 18 | O15: =SUM(F15:N15) -> 1298 | P15: =(D15*$D$3)+(E15*$E$3)+(F15*$F$3)+(G15*$G$3)+(H15*$H$3)+(I15*$I$3)+(J15*$J$3)+(K15*$K$3)+(L15*$L$3)+(M15*$M$3)+(N15*$N$3) -> 603.5
O16: =SUM(F16:N16) -> 0 | P16: =(D16*$D$3)+(E16*$E$3)+(F16*$F$3)+(G16*$G$3)+(H16*$H$3)+(I16*$I$3)+(J16*$J$3)+(K16*$K$3)+(L16*$L$3)+(M16*$M$3)+(N16*$N$3) -> 0
O17: =SUM(F17:N17) -> 0 | P17: =(D17*$D$3)+(E17*$E$3)+(F17*$F$3)+(G17*$G$3)+(H17*$H$3)+(I17*$I$3)+(J17*$J$3)+(K17*$K$3)+(L17*$L$3)+(M17*$M$3)+(N17*$N$3) -> 0
B18: TOTAL | C18: =SUM(C15:C17) -> 0 | D18: =SUM(D15:D17) -> 0 | E18: =SUM(E15:E17) -> 0 | F18: =SUM(F15:F17) -> 0 | G18: =SUM(G15:G17) -> 950 | H18: =SUM(H15:H17) -> 0 | I18: =SUM(I15:I17) -> 0 | J18: =SUM(J15:J17) -> 0 | ... P18: =SUM(P15:P17) -> 603.5
B21: ISKCON Triolet Mauritius Sri Sri Rukmini Dwarkadish Mandir
O22: =SUM(F22:N22) -> 0 | P22: =(D22*$D$3)+(E22*$E$3)+(F22*$F$3)+(G22*$G$3)+(H22*$H$3)+(I22*$I$3)+(J22*$J$3)+(K22*$K$3)+(L22*$L$3)+(M22*$M$3)+(N22*$N$3) -> 0
O23: =SUM(F23:N23) -> 0 | P23: =(D23*$D$3)+(E23*$E$3)+(F23*$F$3)+(G23*$G$3)+(H23*$H$3)+(I23*$I$3)+(J23*$J$3)+(K23*$K$3)+(L23*$L$3)+(M23*$M$3)+(N23*$N$3) -> 0
O24: =SUM(F24:N24) -> 0 | P24: =(D24*$D$3)+(E24*$E$3)+(F24*$F$3)+(G24*$G$3)+(H24*$H$3)+(I24*$I$3)+(J24*$J$3)+(K24*$K$3)+(L24*$L$3)+(M24*$M$3)+(N24*$N$3) -> 0
O25: =SUM(F25:N25) -> 0 | P25: =(D25*$D$3)+(E25*$E$3)+(F25*$F$3)+(G25*$G$3)+(H25*$H$3)+(I25*$I$3)+(J25*$J$3)+(K25*$K$3)+(L25*$L$3)+(M25*$M$3)+(N25*$N$3) -> 0
O26: =SUM(F26:N26) -> 0 | P26: =(D26*$D$3)+(E26*$E$3)+(F26*$F$3)+(G26*$G$3)+(H26*$H$3)+(I26*$I$3)+(J26*$J$3)+(K26*$K$3)+(L26*$L$3)+(M26*$M$3)+(N26*$N$3) -> 0
O27: =SUM(F27:N27) -> 0 | P27: =(D27*$D$3)+(E27*$E$3)+(F27*$F$3)+(G27*$G$3)+(H27*$H$3)+(I27*$I$3)+(J27*$J$3)+(K27*$K$3)+(L27*$L$3)+(M27*$M$3)+(N27*$N$3) -> 0
O28: =SUM(F28:N28) -> 0 | P28: =(D28*$D$3)+(E28*$E$3)+(F28*$F$3)+(G28*$G$3)+(H28*$H$3)+(I28*$I$3)+(J28*$J$3)+(K28*$K$3)+(L28*$L$3)+(M28*$M$3)+(N28*$N$3) -> 0
O29: =SUM(F29:N29) -> 0 | P29: =(D29*$D$3)+(E29*$E$3)+(F29*$F$3)+(G29*$G$3)+(H29*$H$3)+(I29*$I$3)+(J29*$J$3)+(K29*$K$3)+(L29*$L$3)+(M29*$M$3)+(N29*$N$3) -> 0
O30: =SUM(F30:N30) -> 0 | P30: =(D30*$D$3)+(E30*$E$3)+(F30*$F$3)+(G30*$G$3)+(H30*$H$3)+(I30*$I$3)+(J30*$J$3)+(K30*$K$3)+(L30*$L$3)+(M30*$M$3)+(N30*$N$3) -> 0
O31: =SUM(F31:N31) -> 0 | P31: =(D31*$D$3)+(E31*$E$3)+(F31*$F$3)+(G31*$G$3)+(H31*$H$3)+(I31*$I$3)+(J31*$J$3)+(K31*$K$3)+(L31*$L$3)+(M31*$M$3)+(N31*$N$3) -> 0
O32: =SUM(F32:N32) -> 0 | P32: =(D32*$D$3)+(E32*$E$3)+(F32*$F$3)+(G32*$G$3)+(H32*$H$3)+(I32*$I$3)+(J32*$J$3)+(K32*$K$3)+(L32*$L$3)+(M32*$M$3)+(N32*$N$3) -> 0
O33: =SUM(F33:N33) -> 0 | P33: =(D33*$D$3)+(E33*$E$3)+(F33*$F$3)+(G33*$G$3)+(H33*$H$3)+(I33*$I$3)+(J33*$J$3)+(K33*$K$3)+(L33*$L$3)+(M33*$M$3)+(N33*$N$3) -> 0
B34: TOTAL | C34: =SUM(C22:C33) -> 0 | D34: =SUM(D22:D33) -> 0 | E34: =SUM(E22:E33) -> 0 | F34: =SUM(F22:F33) -> 0 | G34: =SUM(G22:G33) -> 0 | H34: =SUM(H22:H33) -> 0 | I34: =SUM(I22:I33) -> 0 | J34: =SUM(J22:J33) -> 0 | ... P34: =SUM(P22:P33) -> 0
M37: TOTAL | O37: =O34+O18+O11 -> 1298 | P37: =P34+P18+P11 -> 603.5

Sheet Nigeria
B1: MONTH : April 2022
C2: BTG Sub | D2: CC Set | E2: SB Set | F2: Mag. | G2: Small Books | I2: Medium Books | K2: Big Books | M2: Maha-Books
D3: 36 | E3: 72 | F3: 0.1 | G3: 0.25 | H3: 0.25 | I3: 0.5 | J3: 0.5 | K3: 1 | L3: 1 | M3: 2 | N3: 2
B4: DEVOTEES | F4: M1 | G4: S1 | H4: H1 | I4: S2 | J4: H2 | K4: S3 | L4: H3 | M4: S4 | N4: H4 | O4: T/BKS | P4: Points
B6: ISKCON BENIN CITY
B7: Temple Cumulative Scores | G7: 107 | O7: =SUM(C7:N7) -> 107 | P7: =(D7*$D$3)+(E7*$E$3)+(F7*$F$3)+(G7*$G$3)+(H7*$H$3)+(I7*$I$3)+(J7*$J$3)+(K7*$K$3)+(L7*$L$3)+(M7*$M$3)+(N7*$N$3) -> 26.75
O8: =SUM(F8:N8) -> 0 | P8: =(D8*$D$3)+(E8*$E$3)+(F8*$F$3)+(G8*$G$3)+(H8*$H$3)+(I8*$I$3)+(J8*$J$3)+(K8*$K$3)+(L8*$L$3)+(M8*$M$3)+(N8*$N$3) -> 0
O9: =SUM(F9:N9) -> 0 | P9: =(D9*$D$3)+(E9*$E$3)+(F9*$F$3)+(G9*$G$3)+(H9*$H$3)+(I9*$I$3)+(J9*$J$3)+(K9*$K$3)+(L9*$L$3)+(M9*$M$3)+(N9*$N$3) -> 0
B10: TOTAL | C10: =SUM(C7:C9) -> 0 | D10: =SUM(D7:D9) -> 0 | E10: =SUM(E7:E9) -> 0 | F10: =SUM(F7:F9) -> 0 | G10: =SUM(G7:G9) -> 107 | H10: =SUM(H7:H9) -> 0 | I10: =SUM(I7:I9) -> 0 | J10: =SUM(J7:J9) -> 0 | ... P10: =SUM(P7:P9) -> 26.75
B13: ISKCON KADUNA
B14: Temple Cumulative Scores | G14: 105 | O14: =SUM(F14:N14) -> 105 | P14: =(D14*$D$3)+(E14*$E$3)+(F14*$F$3)+(G14*$G$3)+(H14*$H$3)+(I14*$I$3)+(J14*$J$3)+(K14*$K$3)+(L14*$L$3)+(M14*$M$3)+(N14*$N$3) -> 26.25
O15: =SUM(F15:N15) -> 0 | P15: =(D15*$D$3)+(E15*$E$3)+(F15*$F$3)+(G15*$G$3)+(H15*$H$3)+(I15*$I$3)+(J15*$J$3)+(K15*$K$3)+(L15*$L$3)+(M15*$M$3)+(N15*$N$3) -> 0
O16: =SUM(F16:N16) -> 0 | P16: =(D16*$D$3)+(E16*$E$3)+(F16*$F$3)+(G16*$G$3)+(H16*$H$3)+(I16*$I$3)+(J16*$J$3)+(K16*$K$3)+(L16*$L$3)+(M16*$M$3)+(N16*$N$3) -> 0
B17: TOTAL | C17: =SUM(C14:C16) -> 0 | D17: =SUM(D14:D16) -> 0 | E17: =SUM(E14:E16) -> 0 | F17: =SUM(F14:F16) -> 0 | G17: =SUM(G14:G16) -> 105 | H17: =SUM(H14:H16) -> 0 | I17: =SUM(I14:I16) -> 0 | J17: =SUM(J14:J16) -> 0 | ... P17: =SUM(P14:P16) -> 26.25
B20: ISKCON LAGOS
B21: Temple Cumulative Scores | G21: 80 | K21: 15 | O21: =SUM(F21:N21) -> 95 | P21: =(D21*$D$3)+(E21*$E$3)+(F21*$F$3)+(G21*$G$3)+(H21*$H$3)+(I21*$I$3)+(J21*$J$3)+(K21*$K$3)+(L21*$L$3)+(M21*$M$3)+(N21*$N$3) -> 35
O22: =SUM(F22:N22) -> 0 | P22: =(D22*$D$3)+(E22*$E$3)+(F22*$F$3)+(G22*$G$3)+(H22*$H$3)+(I22*$I$3)+(J22*$J$3)+(K22*$K$3)+(L22*$L$3)+(M22*$M$3)+(N22*$N$3) -> 0
O23: =SUM(F23:N23) -> 0 | P23: =(D23*$D$3)+(E23*$E$3)+(F23*$F$3)+(G23*$G$3)+(H23*$H$3)+(I23*$I$3)+(J23*$J$3)+(K23*$K$3)+(L23*$L$3)+(M23*$M$3)+(N23*$N$3) -> 0
O24: =SUM(F24:N24) -> 0 | P24: =(D24*$D$3)+(E24*$E$3)+(F24*$F$3)+(G24*$G$3)+(H24*$H$3)+(I24*$I$3)+(J24*$J$3)+(K24*$K$3)+(L24*$L$3)+(M24*$M$3)+(N24*$N$3) -> 0
O25: =SUM(F25:N25) -> 0 | P25: =(D25*$D$3)+(E25*$E$3)+(F25*$F$3)+(G25*$G$3)+(H25*$H$3)+(I25*$I$3)+(J25*$J$3)+(K25*$K$3)+(L25*$L$3)+(M25*$M$3)+(N25*$N$3) -> 0
O26: =SUM(F26:N26) -> 0 | P26: =(D26*$D$3)+(E26*$E$3)+(F26*$F$3)+(G26*$G$3)+(H26*$H$3)+(I26*$I$3)+(J26*$J$3)+(K26*$K$3)+(L26*$L$3)+(M26*$M$3)+(N26*$N$3) -> 0
B27: TOTAL | C27: =SUM(C26:C26) -> 0 | D27: =SUM(D21:D26) -> 0 | E27: =SUM(E21:E26) -> 0 | F27: =SUM(F26:F26) -> 0 | G27: =SUM(G21:G26) -> 80 | H27: =SUM(H21:H26) -> 0 | I27: =SUM(I21:I26) -> 0 | J27: =SUM(J21:J26) -> 0 | K27: =SUM(K21:K26) -> 15 | L27: =SUM(L21:L26) -> 0 | M27: =SUM(M21:M26) -> 0 | N27: =SUM(N21:N26) -> 0 | ... P27: =SUM(P21:P26) -> 35
B30: ISKCON OTA PREACHING CENTRE
B31: Temple Cumulative Scores | G31: 97 | I31: 66 | K31: 4 | N31: 3 | O31: =SUM(F31:N31) -> 170 | P31: =(D31*$D$3)+(E31*$E$3)+(F31*$F$3)+(G31*$G$3)+(H31*$H$3)+(I31*$I$3)+(J31*$J$3)+(K31*$K$3)+(L31*$L$3)+(M31*$M$3)+(N31*$N$3) -> 67.25
O32: =SUM(F32:N32) -> 0 | P32: =(D32*$D$3)+(E32*$E$3)+(F32*$F$3)+(G32*$G$3)+(H32*$H$3)+(I32*$I$3)+(J32*$J$3)+(K32*$K$3)+(L32*$L$3)+(M32*$M$3)+(N32*$N$3) -> 0
O33: =SUM(F33:N33) -> 0 | P33: =(D33*$D$3)+(E33*$E$3)+(F33*$F$3)+(G33*$G$3)+(H33*$H$3)+(I33*$I$3)+(J33*$J$3)+(K33*$K$3)+(L33*$L$3)+(M33*$M$3)+(N33*$N$3) -> 0
O34: =SUM(F34:N34) -> 0 | P34: =(D34*$D$3)+(E34*$E$3)+(F34*$F$3)+(G34*$G$3)+(H34*$H$3)+(I34*$I$3)+(J34*$J$3)+(K34*$K$3)+(L34*$L$3)+(M34*$M$3)+(N34*$N$3) -> 0
B35: TOTAL | C35: =SUM(C34:C34) -> 0 | D35: =SUM(D31:D34) -> 0 | E35: =SUM(E31:E34) -> 0 | F35: =SUM(F34:F34) -> 0 | G35: =SUM(G31:G34) -> 97 | H35: =SUM(H31:H34) -> 0 | I35: =SUM(I31:I34) -> 66 | J35: =SUM(J31:J34) -> 0 | K35: =SUM(K31:K34) -> 4 | L35: =SUM(L31:L34) -> 0 | M35: =SUM(M31:M34) -> 0 | N35: =SUM(N31:N34) -> 3 | ... P35: =SUM(P31:P34) -> 67.25
M39: TOTAL | O39: =O35+O27+O17+O10 -> 477 | P39: =P35+P27+P17+P10 -> 155.25

Sheet South Africa
B1: MONTH: April 2022
C2: BTG Sub | D2: CC Set | E2: SB Set | F2: Mag. | G2: Small Books | I2: Medium Books | K2: Big Books | M2: Maha-Books
D3: 36 | E3: 72 | F3: 0.1 | G3: 0.25 | H3: 0.25 | I3: 0.5 | J3: 0.5 | K3: 1 | L3: 1 | M3: 2 | N3: 2
B4: DEVOTEES | F4: M1 | G4: S1 | H4: H1 | I4: S2 | J4: H2 | K4: S3 | L4: H3 | M4: S4 | N4: H4 | O4: T/BKS | P4: Points
B8: ISKCON BLOEMFONTEIN
O9: =SUM(F9:N9) -> 0 | P9: =(D9*$D$3)+(E9*$E$3)+(F9*$F$3)+(G9*$G$3)+(H9*$H$3)+(I9*$I$3)+(J9*$J$3)+(K9*$K$3)+(L9*$L$3)+(M9*$M$3)+(N9*$N$3) -> 0
O10: =SUM(F10:N10) -> 0 | P10: =(D10*$D$3)+(E10*$E$3)+(F10*$F$3)+(G10*$G$3)+(H10*$H$3)+(I10*$I$3)+(J10*$J$3)+(K10*$K$3)+(L10*$L$3)+(M10*$M$3)+(N10*$N$3) -> 0
B11: TOTAL | C11: =SUM(C10:C10) -> 0 | D11: =SUM(D10:D10) -> 0 | E11: =SUM(E9:E10) -> 0 | F11: =SUM(F9:F10) -> 0 | G11: =SUM(G9:G10) -> 0 | H11: =SUM(H9:H10) -> 0 | I11: =SUM(I9:I10) -> 0 | J11: =SUM(J9:J10) -> 0 | K11: =SUM(K9:K10) -> 0 | L11: =SUM(L9:L10) -> 0 | ... P11: =SUM(P9:P10) -> 0
B14: ISKCON CAPE TOWN
O15: =SUM(C15:N15) -> 0 | P15: =(D15*$D$3)+(E15*$E$3)+(F15*$F$3)+(G15*$G$3)+(H15*$H$3)+(I15*$I$3)+(J15*$J$3)+(K15*$K$3)+(L15*$L$3)+(M15*$M$3)+(N15*$N$3) -> 0
O16: =SUM(F16:N16) -> 0 | P16: =(D16*$D$3)+(E16*$E$3)+(F16*$F$3)+(G16*$G$3)+(H16*$H$3)+(I16*$I$3)+(J16*$J$3)+(K16*$K$3)+(L16*$L$3)+(M16*$M$3)+(N16*$N$3) -> 0
O17: =SUM(F17:N17) -> 0 | P17: =(D17*$D$3)+(E17*$E$3)+(F17*$F$3)+(G17*$G$3)+(H17*$H$3)+(I17*$I$3)+(J17*$J$3)+(K17*$K$3)+(L17*$L$3)+(M17*$M$3)+(N17*$N$3) -> 0
O18: =SUM(F18:N18) -> 0 | P18: =(D18*$D$3)+(E18*$E$3)+(F18*$F$3)+(G18*$G$3)+(H18*$H$3)+(I18*$I$3)+(J18*$J$3)+(K18*$K$3)+(L18*$L$3)+(M18*$M$3)+(N18*$N$3) -> 0
O19: =SUM(F19:N19) -> 0 | P19: =(D19*$D$3)+(E19*$E$3)+(F19*$F$3)+(G19*$G$3)+(H19*$H$3)+(I19*$I$3)+(J19*$J$3)+(K19*$K$3)+(L19*$L$3)+(M19*$M$3)+(N19*$N$3) -> 0
O20: =SUM(F20:N20) -> 0 | P20: =(D20*$D$3)+(E20*$E$3)+(F20*$F$3)+(G20*$G$3)+(H20*$H$3)+(I20*$I$3)+(J20*$J$3)+(K20*$K$3)+(L20*$L$3)+(M20*$M$3)+(N20*$N$3) -> 0
O21: =SUM(F21:N21) -> 0 | P21: =(D21*$D$3)+(E21*$E$3)+(F21*$F$3)+(G21*$G$3)+(H21*$H$3)+(I21*$I$3)+(J21*$J$3)+(K21*$K$3)+(L21*$L$3)+(M21*$M$3)+(N21*$N$3) -> 0
O22: =SUM(F22:N22) -> 0 | P22: =(D22*$D$3)+(E22*$E$3)+(F22*$F$3)+(G22*$G$3)+(H22*$H$3)+(I22*$I$3)+(J22*$J$3)+(K22*$K$3)+(L22*$L$3)+(M22*$M$3)+(N22*$N$3) -> 0
O23: =SUM(F23:N23) -> 0 | P23: =(D23*$D$3)+(E23*$E$3)+(F23*$F$3)+(G23*$G$3)+(H23*$H$3)+(I23*$I$3)+(J23*$J$3)+(K23*$K$3)+(L23*$L$3)+(M23*$M$3)+(N23*$N$3) -> 0
O24: =SUM(F24:N24) -> 0 | P24: =(D24*$D$3)+(E24*$E$3)+(F24*$F$3)+(G24*$G$3)+(H24*$H$3)+(I24*$I$3)+(J24*$J$3)+(K24*$K$3)+(L24*$L$3)+(M24*$M$3)+(N24*$N$3) -> 0
O25: =SUM(F25:N25) -> 0 | P25: =(D25*$D$3)+(E25*$E$3)+(F25*$F$3)+(G25*$G$3)+(H25*$H$3)+(I25*$I$3)+(J25*$J$3)+(K25*$K$3)+(L25*$L$3)+(M25*$M$3)+(N25*$N$3) -> 0
O26: =SUM(F26:N26) -> 0 | P26: =(D26*$D$3)+(E26*$E$3)+(F26*$F$3)+(G26*$G$3)+(H26*$H$3)+(I26*$I$3)+(J26*$J$3)+(K26*$K$3)+(L26*$L$3)+(M26*$M$3)+(N26*$N$3) -> 0
O27: =SUM(F27:N27) -> 0 | P27: =(D27*$D$3)+(E27*$E$3)+(F27*$F$3)+(G27*$G$3)+(H27*$H$3)+(I27*$I$3)+(J27*$J$3)+(K27*$K$3)+(L27*$L$3)+(M27*$M$3)+(N27*$N$3) -> 0
... O36: =SUM(F36:N36) -> 0 | P36: =(D36*$D$3)+(E36*$E$3)+(F36*$F$3)+(G36*$G$3)+(H36*$H$3)+(I36*$I$3)+(J36*$J$3)+(K36*$K$3)+(L36*$L$3)+(M36*$M$3)+(N36*$N$3) -> 0
B37: TOTAL | C37: =SUM(C15:C36) -> 0 | D37: =SUM(D15:D36) -> 0 | E37: =SUM(E15:E36) -> 0 | F37: =SUM(F15:F36) -> 0 | G37: =SUM(G15:G36) -> 0 | H37: =SUM(H15:H36) -> 0 | I37: =SUM(I15:I36) -> 0 | J37: =SUM(J15:J36) -> 0 | ... P37: =SUM(P15:P36) -> 0
B40: ISKCON DURBAN
B41: Vibhu Caitanya Das | G41: 6 | K41: 27 | N41: 12 | O41: =SUM(F41:N41)+(E41*18)+(D41*9) -> 45 | P41: =(D41*$D$3)+(E41*$E$3)+(F41*$F$3)+(G41*$G$3)+(H41*$H$3)+(I41*$I$3)+(J41*$J$3)+(K41*$K$3)+(L41*$L$3)+(M41*$M$3)+(N41*$N$3) -> 52.5
B42: Bhaktin Pushpa | G42: 2 | K42: 1 | N42: 1 | O42: =SUM(F42:N42) -> 4 | P42: =(D42*$D$3)+(E42*$E$3)+(F42*$F$3)+(G42*$G$3)+(H42*$H$3)+(I42*$I$3)+(J42*$J$3)+(K42*$K$3)+(L42*$L$3)+(M42*$M$3)+(N42*$N$3) -> 3.5
B43: Nikunja Seva Dasi | N43: 1 | O43: =SUM(F43:N43) -> 1 | P43: =(D43*$D$3)+(E43*$E$3)+(F43*$F$3)+(G43*$G$3)+(H43*$H$3)+(I43*$I$3)+(J43*$J$3)+(K43*$K$3)+(L43*$L$3)+(M43*$M$3)+(N43*$N$3) -> 2
B44: Gangamata Goswamini devi dasi | G44: 66 | K44: 10 | N44: 2 | O44: =SUM(F44:N44) -> 78 | P44: =(D44*$D$3)+(E44*$E$3)+(F44*$F$3)+(G44*$G$3)+(H44*$H$3)+(I44*$I$3)+(J44*$J$3)+(K44*$K$3)+(L44*$L$3)+(M44*$M$3)+(N44*$N$3) -> 30.5
B45: Premagali Devi Dasi | G45: 19 | I45: 6 | K45: 1 | O45: =SUM(F45:N45)+(E45*18)+(D45*9) -> 26 | P45: =(D45*$D$3)+(E45*$E$3)+(F45*$F$3)+(G45*$G$3)+(H45*$H$3)+(I45*$I$3)+(J45*$J$3)+(K45*$K$3)+(L45*$L$3)+(M45*$M$3)+(N45*$N$3) -> 8.75
B46: Arjuna Acarya Das (Booktable) | K46: 10 | N46: 15 | O46: =SUM(F46:N46)+(E46*18)+(D46*9) -> 25 | P46: =(D46*$D$3)+(E46*$E$3)+(F46*$F$3)+(G46*$G$3)+(H46*$H$3)+(I46*$I$3)+(J46*$J$3)+(K46*$K$3)+(L46*$L$3)+(M46*$M$3)+(N46*$N$3) -> 40
B47: Krishna Prema Namahatta - Hillary Branch | G47: 44 | K47: 2 | N47: 2 | O47: =SUM(F47:N47) -> 48 | P47: =(D47*$D$3)+(E47*$E$3)+(F47*$F$3)+(G47*$G$3)+(H47*$H$3)+(I47*$I$3)+(J47*$J$3)+(K47*$K$3)+(L47*$L$3)+(M47*$M$3)+(N47*$N$3) -> 17
B48: Brhat Mrdanga Team | G48: 35 | I48: 4 | K48: 5 | N48: 3 | O48: =SUM(F48:N48) -> 47 | P48: =(D48*$D$3)+(E48*$E$3)+(F48*$F$3)+(G48*$G$3)+(H48*$H$3)+(I48*$I$3)+(J48*$J$3)+(K48*$K$3)+(L48*$L$3)+(M48*$M$3)+(N48*$N$3) -> 21.75
B49: Nitai Pada Kamalam Team | G49: 12 | K49: 1 | N49: 2 | O49: =SUM(F49:N49) -> 15 | P49: =(D49*$D$3)+(E49*$E$3)+(F49*$F$3)+(G49*$G$3)+(H49*$H$3)+(I49*$I$3)+(J49*$J$3)+(K49*$K$3)+(L49*$L$3)+(M49*$M$3)+(N49*$N$3) -> 8
B50: Harinam Team: Bhakta Justin | G50: 19 | K50: 1 | O50: =SUM(F50:N50)+(E50*18)+(D50*9) -> 20 | P50: =(D50*$D$3)+(E50*$E$3)+(F50*$F$3)+(G50*$G$3)+(H50*$H$3)+(I50*$I$3)+(J50*$J$3)+(K50*$K$3)+(L50*$L$3)+(M50*$M$3)+(N50*$N$3) -> 5.75
B51: Rama Tirtha Das and Rasavali devi dasi | G51: 16 | K51: 4 | N51: 1 | O51: =SUM(F51:N51) -> 21 | P51: =(D51*$D$3)+(E51*$E$3)+(F51*$F$3)+(G51*$G$3)+(H51*$H$3)+(I51*$I$3)+(J51*$J$3)+(K51*$K$3)+(L51*$L$3)+(M51*$M$3)+(N51*$N$3) -> 10
B52: Surabhi Kunja devi dasi | G52: 9 | K52: 16 | N52: 1 | O52: =SUM(F52:N52) -> 26 | P52: =(D52*$D$3)+(E52*$E$3)+(F52*$F$3)+(G52*$G$3)+(H52*$H$3)+(I52*$I$3)+(J52*$J$3)+(K52*$K$3)+(L52*$L$3)+(M52*$M$3)+(N52*$N$3) -> 20.25
O53: =SUM(F53:N53) -> 0 | P53: =(D53*$D$3)+(E53*$E$3)+(F53*$F$3)+(G53*$G$3)+(H53*$H$3)+(I53*$I$3)+(J53*$J$3)+(K53*$K$3)+(L53*$L$3)+(M53*$M$3)+(N53*$N$3) -> 0
O54: =SUM(F54:N54) -> 0 | P54: =(D54*$D$3)+(E54*$E$3)+(F54*$F$3)+(G54*$G$3)+(H54*$H$3)+(I54*$I$3)+(J54*$J$3)+(K54*$K$3)+(L54*$L$3)+(M54*$M$3)+(N54*$N$3) -> 0
C55: =SUM(C41:C54) -> 0 | D55: =SUM(D41:D54) -> 0 | E55: =SUM(E41:E54) -> 0 | F55: =SUM(F41:F54) -> 0 | G55: =SUM(G41:G54) -> 228 | H55: =SUM(H41:H54) -> 0 | I55: =SUM(I41:I54) -> 10 | J55: =SUM(J41:J54) -> 0 | ... P55: =SUM(P41:P54) -> 220
B58: ISKCON EAST LONDON
B59: Bimal Prabhu | G59: 3 | O59: =SUM(F59:N59)+(E59*18)+(D59*9) -> 3 | P59: =(D59*$D$3)+(E59*$E$3)+(F59*$F$3)+(G59*$G$3)+(H59*$H$3)+(I59*$I$3)+(J59*$J$3)+(K59*$K$3)+(L59*$L$3)+(M59*$M$3)+(N59*$N$3) -> 0.75
B60: Acyuta Kesava Dasa | G60: 1 | N60: 1 | O60: =SUM(F60:N60) -> 2 | P60: =(D60*$D$3)+(E60*$E$3)+(F60*$F$3)+(G60*$G$3)+(H60*$H$3)+(I60*$I$3)+(J60*$J$3)+(K60*$K$3)+(L60*$L$3)+(M60*$M$3)+(N60*$N$3) -> 2.25
O61: =SUM(F61:N61) -> 0 | P61: =(D61*$D$3)+(E61*$E$3)+(F61*$F$3)+(G61*$G$3)+(H61*$H$3)+(I61*$I$3)+(J61*$J$3)+(K61*$K$3)+(L61*$L$3)+(M61*$M$3)+(N61*$N$3) -> 0
B62: TOTAL | C62: =SUM(C59:C61) -> 0 | D62: =SUM(D59:D61) -> 0 | E62: =SUM(E59:E61) -> 0 | F62: =SUM(F59:F61) -> 0 | G62: =SUM(G59:G61) -> 4 | H62: =SUM(H59:H61) -> 0 | I62: =SUM(I59:I61) -> 0 | J62: =SUM(J59:J61) -> 0 | ... P62: =SUM(P59:P61) -> 3
B65: ISKCON HAMMANSKRAAL
B66: Temple Scores | F66: 11 | G66: 34 | I66: 4 | K66: 1 | O66: =SUM(F66:N66) -> 50 | P66: =(D66*$D$3)+(E66*$E$3)+(F66*$F$3)+(G66*$G$3)+(H66*$H$3)+(I66*$I$3)+(J66*$J$3)+(K66*$K$3)+(L66*$L$3)+(M66*$M$3)+(N66*$N$3) -> 12.6
O67: =SUM(F67:N67) -> 0 | P67: =(D67*$D$3)+(E67*$E$3)+(F67*$F$3)+(G67*$G$3)+(H67*$H$3)+(I67*$I$3)+(J67*$J$3)+(K67*$K$3)+(L67*$L$3)+(M67*$M$3)+(N67*$N$3) -> 0
B68: TOTAL | C68: =SUM(C67:C67) -> 0 | D68: =SUM(D67:D67) -> 0 | E68: =SUM(E66:E67) -> 0 | F68: =SUM(F66:F67) -> 11 | G68: =SUM(G66:G67) -> 34 | H68: =SUM(H66:H67) -> 0 | I68: =SUM(I66:I67) -> 4 | J68: =SUM(J66:J67) -> 0 | K68: =SUM(K66:K67) -> 1 | L68: =SUM(L66:L67) -> 0 | ... P68: =SUM(P66:P67) -> 12.6
B71: ISKCON LENASIA
B72: BTG Office | F72: 536 | O72: =SUM(F72:N72) -> 536 | P72: =(D72*$D$3)+(E72*$E$3)+(F72*$F$3)+(G72*$G$3)+(H72*$H$3)+(I72*$I$3)+(J72*$J$3)+(K72*$K$3)+(L72*$L$3)+(M72*$M$3)+(N72*$N$3) -> 53.6
B73: ASHOKA MANJARI DEVI DASI | D73: 1 | O73: =SUM(F73:N73)+(E73*18)+(D73*9) -> 9 | P73: =(D73*$D$3)+(E73*$E$3)+(F73*$F$3)+(G73*$G$3)+(H73*$H$3)+(I73*$I$3)+(J73*$J$3)+(K73*$K$3)+(L73*$L$3)+(M73*$M$3)+(N73*$N$3) -> 36
O74: =SUM(F74:N74) -> 0 | P74: =(D74*$D$3)+(E74*$E$3)+(F74*$F$3)+(G74*$G$3)+(H74*$H$3)+(I74*$I$3)+(J74*$J$3)+(K74*$K$3)+(L74*$L$3)+(M74*$M$3)+(N74*$N$3) -> 0
O75: =SUM(F75:N75) -> 0 | P75: =(D75*$D$3)+(E75*$E$3)+(F75*$F$3)+(G75*$G$3)+(H75*$H$3)+(I75*$I$3)+(J75*$J$3)+(K75*$K$3)+(L75*$L$3)+(M75*$M$3)+(N75*$N$3) -> 0
B76: TOTAL | C76: =SUM(C72:C75) -> 0 | D76: =SUM(D72:D75) -> 1 | E76: =SUM(E72:E75) -> 0 | F76: =SUM(F72:F75) -> 536 | G76: =SUM(G72:G75) -> 0 | H76: =SUM(H72:H75) -> 0 | I76: =SUM(I72:I75) -> 0 | J76: =SUM(J72:J75) -> 0 | ... P76: =SUM(P72:P75) -> 89.6
B79: ISKCON MIDRAND
B80: Temple Scores | F80: 125 | J80: 8 | L80: 2 | O80: =SUM(F80:N80)+(E80*18)+(D80*9) -> 135 | P80: =(D80*$D$3)+(E80*$E$3)+(F80*$F$3)+(G80*$G$3)+(H80*$H$3)+(I80*$I$3)+(J80*$J$3)+(K80*$K$3)+(L80*$L$3)+(M80*$M$3)+(N80*$N$3) -> 18.5
O81: =SUM(F81:N81) -> 0 | P81: =(D81*$D$3)+(E81*$E$3)+(F81*$F$3)+(G81*$G$3)+(H81*$H$3)+(I81*$I$3)+(J81*$J$3)+(K81*$K$3)+(L81*$L$3)+(M81*$M$3)+(N81*$N$3) -> 0
O82: =SUM(F82:N82) -> 0 | P82: =(D82*$D$3)+(E82*$E$3)+(F82*$F$3)+(G82*$G$3)+(H82*$H$3)+(I82*$I$3)+(J82*$J$3)+(K82*$K$3)+(L82*$L$3)+(M82*$M$3)+(N82*$N$3) -> 0
B83: TOTAL | C83: =SUM(C80:C82) -> 0 | D83: =SUM(D80:D82) -> 0 | E83: =SUM(E80:E82) -> 0 | F83: =SUM(F80:F82) -> 125 | G83: =SUM(G80:G82) -> 0 | H83: =SUM(H80:H82) -> 0 | I83: =SUM(I80:I82) -> 0 | J83: =SUM(J80:J82) -> 8 | ... P83: =SUM(P80:P82) -> 18.5
B86: ISKCON MPUMALANGA
O87: =SUM(F87:N87) -> 0 | P87: =(D87*$D$3)+(E87*$E$3)+(F87*$F$3)+(G87*$G$3)+(H87*$H$3)+(I87*$I$3)+(J87*$J$3)+(K87*$K$3)+(L87*$L$3)+(M87*$M$3)+(N87*$N$3) -> 0
O88: =SUM(F88:N88) -> 0 | P88: =(D88*$D$3)+(E88*$E$3)+(F88*$F$3)+(G88*$G$3)+(H88*$H$3)+(I88*$I$3)+(J88*$J$3)+(K88*$K$3)+(L88*$L$3)+(M88*$M$3)+(N88*$N$3) -> 0
B89: TOTAL | C89: =SUM(C87:C88) -> 0 | D89: =SUM(D87:D88) -> 0 | E89: =SUM(E87:E88) -> 0 | F89: =SUM(F87:F88) -> 0 | G89: =SUM(G87:G88) -> 0 | H89: =SUM(H87:H88) -> 0 | I89: =SUM(I87:I88) -> 0 | J89: =SUM(J87:J88) -> 0 | ... P89: =SUM(P87:P88) -> 0
B92: ISKCON PHOENIX
O93: =SUM(F93:N93) -> 0 | P93: =(D93*$D$3)+(E93*$E$3)+(F93*$F$3)+(G93*$G$3)+(H93*$H$3)+(I93*$I$3)+(J93*$J$3)+(K93*$K$3)+(L93*$L$3)+(M93*$M$3)+(N93*$N$3) -> 0
O94: =SUM(F94:N94) -> 0 | P94: =(D94*$D$3)+(E94*$E$3)+(F94*$F$3)+(G94*$G$3)+(H94*$H$3)+(I94*$I$3)+(J94*$J$3)+(K94*$K$3)+(L94*$L$3)+(M94*$M$3)+(N94*$N$3) -> 0
O95: =SUM(F95:N95) -> 0 | P95: =(D95*$D$3)+(E95*$E$3)+(F95*$F$3)+(G95*$G$3)+(H95*$H$3)+(I95*$I$3)+(J95*$J$3)+(K95*$K$3)+(L95*$L$3)+(M95*$M$3)+(N95*$N$3) -> 0
O96: =SUM(F96:N96) -> 0 | P96: =(D96*$D$3)+(E96*$E$3)+(F96*$F$3)+(G96*$G$3)+(H96*$H$3)+(I96*$I$3)+(J96*$J$3)+(K96*$K$3)+(L96*$L$3)+(M96*$M$3)+(N96*$N$3) -> 0
O97: =SUM(F97:N97) -> 0 | P97: =(D97*$D$3)+(E97*$E$3)+(F97*$F$3)+(G97*$G$3)+(H97*$H$3)+(I97*$I$3)+(J97*$J$3)+(K97*$K$3)+(L97*$L$3)+(M97*$M$3)+(N97*$N$3) -> 0
O98: =SUM(F98:N98) -> 0 | P98: =(D98*$D$3)+(E98*$E$3)+(F98*$F$3)+(G98*$G$3)+(H98*$H$3)+(I98*$I$3)+(J98*$J$3)+(K98*$K$3)+(L98*$L$3)+(M98*$M$3)+(N98*$N$3) -> 0
O99: =SUM(F99:N99) -> 0 | P99: =(D99*$D$3)+(E99*$E$3)+(F99*$F$3)+(G99*$G$3)+(H99*$H$3)+(I99*$I$3)+(J99*$J$3)+(K99*$K$3)+(L99*$L$3)+(M99*$M$3)+(N99*$N$3) -> 0
O100: =SUM(F100:N100) -> 0 | P100: =(D100*$D$3)+(E100*$E$3)+(F100*$F$3)+(G100*$G$3)+(H100*$H$3)+(I100*$I$3)+(J100*$J$3)+(K100*$K$3)+(L100*$L$3)+(M100*$M$3)+(N100*$N$3) -> 0
O101: =SUM(F101:N101) -> 0 | P101: =(D101*$D$3)+(E101*$E$3)+(F101*$F$3)+(G101*$G$3)+(H101*$H$3)+(I101*$I$3)+(J101*$J$3)+(K101*$K$3)+(L101*$L$3)+(M101*$M$3)+(N101*$N$3) -> 0
O102: =SUM(F102:N102) -> 0 | P102: =(D102*$D$3)+(E102*$E$3)+(F102*$F$3)+(G102*$G$3)+(H102*$H$3)+(I102*$I$3)+(J102*$J$3)+(K102*$K$3)+(L102*$L$3)+(M102*$M$3)+(N102*$N$3) -> 0
O103: =SUM(F103:N103) -> 0 | P103: =(D103*$D$3)+(E103*$E$3)+(F103*$F$3)+(G103*$G$3)+(H103*$H$3)+(I103*$I$3)+(J103*$J$3)+(K103*$K$3)+(L103*$L$3)+(M103*$M$3)+(N103*$N$3) -> 0
O104: =SUM(F104:N104) -> 0 | P104: =(D104*$D$3)+(E104*$E$3)+(F104*$F$3)+(G104*$G$3)+(H104*$H$3)+(I104*$I$3)+(J104*$J$3)+(K104*$K$3)+(L104*$L$3)+(M104*$M$3)+(N104*$N$3) -> 0
... O116: =SUM(F116:N116) -> 0 | P116: =(D116*$D$3)+(E116*$E$3)+(F116*$F$3)+(G116*$G$3)+(H116*$H$3)+(I116*$I$3)+(J116*$J$3)+(K116*$K$3)+(L116*$L$3)+(M116*$M$3)+(N116*$N$3) -> 0
B117: TOTAL | C117: =SUM(C116:C116) -> 0 | D117: =SUM(D93:D116) -> 0 | E117: =SUM(E93:E116) -> 0 | F117: =SUM(F93:F116) -> 0 | G117: =SUM(G93:G116) -> 0 | H117: =SUM(H93:H116) -> 0 | I117: =SUM(I93:I116) -> 0 | J117: =SUM(J93:J116) -> 0 | K117: =SUM(K93:K116) -> 0 | ... P117: =SUM(P93:P116) -> 0
B120: ISKCON PIETERMARITZBURG
B121: Temple Cumulative scores | O121: =SUM(F121:N121)+(E121*18)+(D121*9) -> 0 | P121: =(D121*$D$3)+(E121*$E$3)+(F121*$F$3)+(G121*$G$3)+(H121*$H$3)+(I121*$I$3)+(J121*$J$3)+(K121*$K$3)+(L121*$L$3)+(M121*$M$3)+(N121*$N$3) -> 0
O122: =SUM(F122:N122) -> 0 | P122: =(D122*$D$3)+(E122*$E$3)+(F122*$F$3)+(G122*$G$3)+(H122*$H$3)+(I122*$I$3)+(J122*$J$3)+(K122*$K$3)+(L122*$L$3)+(M122*$M$3)+(N122*$N$3) -> 0
O123: =SUM(F123:N123) -> 0 | P123: =(D123*$D$3)+(E123*$E$3)+(F123*$F$3)+(G123*$G$3)+(H123*$H$3)+(I123*$I$3)+(J123*$J$3)+(K123*$K$3)+(L123*$L$3)+(M123*$M$3)+(N123*$N$3) -> 0
O124: =SUM(F124:N124) -> 0 | P124: =(D124*$D$3)+(E124*$E$3)+(F124*$F$3)+(G124*$G$3)+(H124*$H$3)+(I124*$I$3)+(J124*$J$3)+(K124*$K$3)+(L124*$L$3)+(M124*$M$3)+(N124*$N$3) -> 0
B125: TOTAL | C125: =SUM(C124:C124) -> 0 | D125: =SUM(D121:D124) -> 0 | E125: =SUM(E121:E124) -> 0 | F125: =SUM(F124:F124) -> 0 | G125: =SUM(G121:G124) -> 0 | H125: =SUM(H121:H124) -> 0 | I125: =SUM(I121:I124) -> 0 | J125: =SUM(J121:J124) -> 0 | K125: =SUM(K121:K124) -> 0 | L125: =SUM(L121:L124) -> 0 | M125: =SUM(M121:M124) -> 0 | N125: =SUM(N121:N124) -> 0 | ... P125: =SUM(P121:P124) -> 0
B128: ISKCON PORT ELIZABETH
O129: =SUM(F129:N129) -> 0 | P129: =(D129*$D$3)+(E129*$E$3)+(F129*$F$3)+(G129*$G$3)+(H129*$H$3)+(I129*$I$3)+(J129*$J$3)+(K129*$K$3)+(L129*$L$3)+(M129*$M$3)+(N129*$N$3) -> 0
O130: =SUM(F130:N130) -> 0 | P130: =(D130*$D$3)+(E130*$E$3)+(F130*$F$3)+(G130*$G$3)+(H130*$H$3)+(I130*$I$3)+(J130*$J$3)+(K130*$K$3)+(L130*$L$3)+(M130*$M$3)+(N130*$N$3) -> 0
O131: =SUM(F131:N131) -> 0 | P131: =(D131*$D$3)+(E131*$E$3)+(F131*$F$3)+(G131*$G$3)+(H131*$H$3)+(I131*$I$3)+(J131*$J$3)+(K131*$K$3)+(L131*$L$3)+(M131*$M$3)+(N131*$N$3) -> 0
B132: TOTAL | C132: =SUM(C131:C131) -> 0 | D132: =SUM(D129:D131) -> 0 | E132: =SUM(E129:E131) -> 0 | F132: =SUM(F131:F131) -> 0 | G132: =SUM(G129:G131) -> 0 | H132: =SUM(H129:H131) -> 0 | I132: =SUM(I129:I131) -> 0 | J132: =SUM(J129:J131) -> 0 | K132: =SUM(K129:K131) -> 0 | L132: =SUM(L129:L131) -> 0 | M132: =SUM(M129:M131) -> 0 | N132: =SUM(N129:N131) -> 0 | ... P132: =SUM(P129:P131) -> 0
B135: ISKCON PRETORIA
B136: Temple Cumulative scores | G136: 69 | I136: 18 | K136: 2 | O136: =SUM(F136:N136)+(E136*18)+(D136*9) -> 89 | P136: =(D136*$D$3)+(E136*$E$3)+(F136*$F$3)+(G136*$G$3)+(H136*$H$3)+(I136*$I$3)+(J136*$J$3)+(K136*$K$3)+(L136*$L$3)+(M136*$M$3)+(N136*$N$3) -> 28.25
O137: =SUM(F137:N137) -> 0 | P137: =(D137*$D$3)+(E137*$E$3)+(F137*$F$3)+(G137*$G$3)+(H137*$H$3)+(I137*$I$3)+(J137*$J$3)+(K137*$K$3)+(L137*$L$3)+(M137*$M$3)+(N137*$N$3) -> 0
O138: =SUM(F138:N138) -> 0 | P138: =(D138*$D$3)+(E138*$E$3)+(F138*$F$3)+(G138*$G$3)+(H138*$H$3)+(I138*$I$3)+(J138*$J$3)+(K138*$K$3)+(L138*$L$3)+(M138*$M$3)+(N138*$N$3) -> 0
B139: TOTAL | C139: =SUM(C138:C138) -> 0 | D139: =SUM(D136:D138) -> 0 | E139: =SUM(E136:E138) -> 0 | F139: =SUM(F138:F138) -> 0 | G139: =SUM(G136:G138) -> 69 | H139: =SUM(H136:H138) -> 0 | I139: =SUM(I136:I138) -> 18 | J139: =SUM(J136:J138) -> 0 | K139: =SUM(K136:K138) -> 2 | L139: =SUM(L136:L138) -> 0 | M139: =SUM(M136:M138) -> 0 | N139: =SUM(N136:N138) -> 0 | ... P139: =SUM(P136:P138) -> 28.25
B142: ISKCON SANDTON
B143: Sandton BTG team | F143: 145 | O143: =SUM(F143:N143) -> 145 | P143: =(D143*$D$3)+(E143*$E$3)+(F143*$F$3)+(G143*$G$3)+(H143*$H$3)+(I143*$I$3)+(J143*$J$3)+(K143*$K$3)+(L143*$L$3)+(M143*$M$3)+(N143*$N$3) -> 14.5
B144: Damodar das (BCais) | G144: 7 | O144: =SUM(F144:N144) -> 7 | P144: =(D144*$D$3)+(E144*$E$3)+(F144*$F$3)+(G144*$G$3)+(H144*$H$3)+(I144*$I$3)+(J144*$J$3)+(K144*$K$3)+(L144*$L$3)+(M144*$M$3)+(N144*$N$3) -> 1.75
B145: Radhakund devi dasi | G145: 14 | I145: 10 | K145: 4 | O145: =SUM(F145:N145) -> 28 | P145: =(D145*$D$3)+(E145*$E$3)+(F145*$F$3)+(G145*$G$3)+(H145*$H$3)+(I145*$I$3)+(J145*$J$3)+(K145*$K$3)+(L145*$L$3)+(M145*$M$3)+(N145*$N$3) -> 12.5
B146: Hadai Pandita das | I146: 60 | O146: =SUM(F146:N146) -> 60 | P146: =(D146*$D$3)+(E146*$E$3)+(F146*$F$3)+(G146*$G$3)+(H146*$H$3)+(I146*$I$3)+(J146*$J$3)+(K146*$K$3)+(L146*$L$3)+(M146*$M$3)+(N146*$N$3) -> 30
...

Sheet Tanzania
B2: TEMPLE: Dar es Salaam
B3: MONTH :
C4: BTG Sub | D4: CC Set | E4: SB Set | F4: Mag. | G4: Small Books | I4: Medium Books | K4: Big Books | M4: Maha-Books
D5: 36 | E5: 72 | F5: 0.1 | G5: 0.25 | H5: 0.25 | I5: 0.5 | J5: 0.5 | K5: 1 | L5: 1 | M5: 2 | N5: 2
B6: DEVOTEES | F6: M1 | G6: S1 | H6: H1 | I6: S2 | J6: H2 | K6: S3 | L6: H3 | M6: S4 | N6: H4 | O6: T/BKS | P6: Points
B9: Cumulative Scores | O9: =SUM(F9:N9) -> 0 | P9: =(D9*$D$5)+(E9*$E$5)+(F9*$F$5)+(G9*$G$5)+(H9*$H$5)+(I9*$I$5)+(J9*$J$5)+(K9*$K$5)+(L9*$L$5)+(M9*$M$5)+(N9*$N$5) -> 0
O10: =SUM(F10:N10) -> 0 | P10: =(D10*$D$5)+(E10*$E$5)+(F10*$F$5)+(G10*$G$5)+(H10*$H$5)+(I10*$I$5)+(J10*$J$5)+(K10*$K$5)+(L10*$L$5)+(M10*$M$5)+(N10*$N$5) -> 0
O11: =SUM(F11:N11) -> 0 | P11: =(D11*$D$5)+(E11*$E$5)+(F11*$F$5)+(G11*$G$5)+(H11*$H$5)+(I11*$I$5)+(J11*$J$5)+(K11*$K$5)+(L11*$L$5)+(M11*$M$5)+(N11*$N$5) -> 0
B12: TOTAL | C12: =SUM(C9:C11) -> 0 | D12: =SUM(D9:D11) -> 0 | E12: =SUM(E9:E11) -> 0 | F12: =SUM(F9:F11) -> 0 | G12: =SUM(G9:G11) -> 0 | H12: =SUM(H9:H11) -> 0 | I12: =SUM(I9:I11) -> 0 | J12: =SUM(J9:J11) -> 0 | ... P12: =SUM(P9:P11) -> 0

Sheet Togo
B2: TEMPLE: Lome
B3: MONTH : April 2022
C4: BTG Sub | D4: CC Set | E4: SB Set | F4: Mag. | G4: Small Books | I4: Medium Books | K4: Big Books | M4: Maha-Books
D5: 36 | E5: 72 | F5: 0.1 | G5: 0.25 | H5: 0.25 | I5: 0.5 | J5: 0.5 | K5: 1 | L5: 1 | M5: 2 | N5: 2
B6: DEVOTEES | F6: M1 | G6: S1 | H6: H1 | I6: S2 | J6: H2 | K6: S3 | L6: H3 | M6: S4 | N6: H4 | O6: T/BKS | P6: Points
B9: aAkincana das | K9: 17 | O9: =SUM(F9:N9) -> 17 | P9: =(D9*$D$5)+(E9*$E$5)+(F9*$F$5)+(G9*$G$5)+(H9*$H$5)+(I9*$I$5)+(J9*$J$5)+(K9*$K$5)+(L9*$L$5)+(M9*$M$5)+(N9*$N$5) -> 17
B10: Bhakta aminou | K10: 25 | O10: =SUM(F10:N10) -> 25 | P10: =(D10*$D$5)+(E10*$E$5)+(F10*$F$5)+(G10*$G$5)+(H10*$H$5)+(I10*$I$5)+(J10*$J$5)+(K10*$K$5)+(L10*$L$5)+(M10*$M$5)+(N10*$N$5) -> 25
B11: Bhakta Eric | K11: 6 | O11: =SUM(F11:N11) -> 6 | P11: =(D11*$D$5)+(E11*$E$5)+(F11*$F$5)+(G11*$G$5)+(H11*$H$5)+(I11*$I$5)+(J11*$J$5)+(K11*$K$5)+(L11*$L$5)+(M11*$M$5)+(N11*$N$5) -> 6
B12: Bhakta charles | K12: 7 | O12: =SUM(F12:N12) -> 7 | P12: =(D12*$D$5)+(E12*$E$5)+(F12*$F$5)+(G12*$G$5)+(H12*$H$5)+(I12*$I$5)+(J12*$J$5)+(K12*$K$5)+(L12*$L$5)+(M12*$M$5)+(N12*$N$5) -> 7
B13: Devananda pandite das | I13: 1 | K13: 3 | O13: =SUM(F13:N13) -> 4 | P13: =(D13*$D$5)+(E13*$E$5)+(F13*$F$5)+(G13*$G$5)+(H13*$H$5)+(I13*$I$5)+(J13*$J$5)+(K13*$K$5)+(L13*$L$5)+(M13*$M$5)+(N13*$N$5) -> 3.5
B14: temple | K14: 28 | O14: =SUM(F14:N14) -> 28 | P14: =(D14*$D$5)+(E14*$E$5)+(F14*$F$5)+(G14*$G$5)+(H14*$H$5)+(I14*$I$5)+(J14*$J$5)+(K14*$K$5)+(L14*$L$5)+(M14*$M$5)+(N14*$N$5) -> 28
B15: Bhakta komlan | K15: 2 | O15: =SUM(F15:N15) -> 2 | P15: =(D15*$D$5)+(E15*$E$5)+(F15*$F$5)+(G15*$G$5)+(H15*$H$5)+(I15*$I$5)+(J15*$J$5)+(K15*$K$5)+(L15*$L$5)+(M15*$M$5)+(N15*$N$5) -> 2
O16: =SUM(F16:N16) -> 0 | P16: =(D16*$D$5)+(E16*$E$5)+(F16*$F$5)+(G16*$G$5)+(H16*$H$5)+(I16*$I$5)+(J16*$J$5)+(K16*$K$5)+(L16*$L$5)+(M16*$M$5)+(N16*$N$5) -> 0
O17: =SUM(F17:N17) -> 0 | P17: =(D17*$D$5)+(E17*$E$5)+(F17*$F$5)+(G17*$G$5)+(H17*$H$5)+(I17*$I$5)+(J17*$J$5)+(K17*$K$5)+(L17*$L$5)+(M17*$M$5)+(N17*$N$5) -> 0
O18: =SUM(F18:N18) -> 0 | P18: =(D18*$D$5)+(E18*$E$5)+(F18*$F$5)+(G18*$G$5)+(H18*$H$5)+(I18*$I$5)+(J18*$J$5)+(K18*$K$5)+(L18*$L$5)+(M18*$M$5)+(N18*$N$5) -> 0
B19: TOTAL | C19: =SUM(C9:C18) -> 0 | D19: =SUM(D9:D18) -> 0 | E19: =SUM(E9:E18) -> 0 | F19: =SUM(F9:F18) -> 0 | G19: =SUM(G9:G18) -> 0 | H19: =SUM(H9:H18) -> 0 | I19: =SUM(I9:I18) -> 1 | J19: =SUM(J9:J18) -> 0 | ... P19: =SUM(P9:P18) -> 88.5

Sheet Uganda
B2: TEMPLE: Kampala
B3: MONTH :
C4: BTG Sub | D4: CC Set | E4: SB Set | F4: Mag. | G4: Small Books | I4: Medium Books | K4: Big Books | M4: Maha-Books
D5: 36 | E5: 72 | F5: 0.1 | G5: 0.25 | H5: 0.25 | I5: 0.5 | J5: 0.5 | K5: 1 | L5: 1 | M5: 2 | N5: 2
B6: DEVOTEES | F6: M1 | G6: S1 | H6: H1 | I6: S2 | J6: H2 | K6: S3 | L6: H3 | M6: S4 | N6: H4 | O6: T/BKS | P6: Points
O9: =SUM(F9:N9) -> 0 | P9: =(D9*$D$5)+(E9*$E$5)+(F9*$F$5)+(G9*$G$5)+(H9*$H$5)+(I9*$I$5)+(J9*$J$5)+(K9*$K$5)+(L9*$L$5)+(M9*$M$5)+(N9*$N$5) -> 0
O10: =SUM(F10:N10) -> 0 | P10: =(D10*$D$5)+(E10*$E$5)+(F10*$F$5)+(G10*$G$5)+(H10*$H$5)+(I10*$I$5)+(J10*$J$5)+(K10*$K$5)+(L10*$L$5)+(M10*$M$5)+(N10*$N$5) -> 0
O11: =SUM(F11:N11) -> 0 | P11: =(D11*$D$5)+(E11*$E$5)+(F11*$F$5)+(G11*$G$5)+(H11*$H$5)+(I11*$I$5)+(J11*$J$5)+(K11*$K$5)+(L11*$L$5)+(M11*$M$5)+(N11*$N$5) -> 0
B12: TOTAL | C12: =SUM(C9:C11) -> 0 | D12: =SUM(D9:D11) -> 0 | E12: =SUM(E9:E11) -> 0 | F12: =SUM(F9:F11) -> 0 | G12: =SUM(G9:G11) -> 0 | H12: =SUM(H9:H11) -> 0 | I12: =SUM(I9:I11) -> 0 | J12: =SUM(J9:J11) -> 0 | ... P12: =SUM(P9:P11) -> 0

Sheet Zimbabwe
B2: TEMPLE: Zimbabwe
B3: MONTH :
C4: BTG Sub | D4: CC Set | E4: SB Set | F4: Mag. | G4: Small Books | I4: Medium Books | K4: Big Books | M4: Maha-Books
D5: 36 | E5: 72 | F5: 0.1 | G5: 0.25 | H5: 0.25 | I5: 0.5 | J5: 0.5 | K5: 1 | L5: 1 | M5: 2 | N5: 2
B6: DEVOTEES | F6: M1 | G6: S1 | H6: H1 | I6: S2 | J6: H2 | K6: S3 | L6: H3 | M6: S4 | N6: H4 | O6: T/BKS | P6: Points
B9: Cumulative Scores | O9: =SUM(F9:N9) -> 0 | P9: =(D9*$D$5)+(E9*$E$5)+(F9*$F$5)+(G9*$G$5)+(H9*$H$5)+(I9*$I$5)+(J9*$J$5)+(K9*$K$5)+(L9*$L$5)+(M9*$M$5)+(N9*$N$5) -> 0
B11: TOTAL | C11: =SUM(C9:C10) -> 0 | D11: =SUM(D9:D10) -> 0 | E11: =SUM(E9:E10) -> 0 | F11: =SUM(F9:F10) -> 0 | G11: =SUM(G9:G10) -> 0 | H11: =SUM(H9:H10) -> 0 | I11: =SUM(I9:I10) -> 0 | J11: =SUM(J9:J10) -> 0 | ... P11: =SUM(P9:P10) -> 0

Sheet Summary
A2: Country | B2: Books: | C2: Points:
A4: DRC | B4: =SUM('Democratic Republic of Congo'!O18) -> 0 | C4: =SUM('Democratic Republic of Congo'!P18) -> 0
A5: Ghana | B5: =SUM(Ghana!O10) -> 522 | C5: =SUM(Ghana!P10) -> 410.35
A6: Ivory Coast | B6: =SUM('Ivory Coast'!O14) -> 0 | C6: =SUM('Ivory Coast'!P14) -> 0
A7: Kenya | B7: =SUM(Kenya!O34) -> 1415 | C7: =SUM(Kenya!P34) -> 552.75
A8: Malawi | B8: =SUM(Malawi!O17) -> 0 | C8: =SUM(Malawi!P17) -> 0
A9: Mauritius | B9: =SUM(Mauritius!O37) -> 1298 | C9: =SUM(Mauritius!P37) -> 603.5
A10: Nigeria | B10: =SUM(Nigeria!O39) -> 477 | C10: =SUM(Nigeria!P39) -> 155.25
A11: South Africa | B11: =SUM('South Africa'!O158) -> 1436 | C11: =SUM('South Africa'!P158) -> 473.95
A12: Tanzania | B12: =SUM(Tanzania!O12) -> 0 | C12: =SUM(Tanzania!P12) -> 0
A13: Togo | B13: =SUM(Togo!O19) -> 89 | C13: =SUM(Togo!P19) -> 88.5
A14: Uganda | B14: =SUM(Uganda!O12) -> 0 | C14: =SUM(Uganda!P12) -> 0
A15: Zimbabwe | B15: =SUM(Zimbabwe!O11) -> 0 | C15: =SUM(Zimbabwe!P11) -> 0
A17: Total: | B17: =SUM(B4:B16) -> 5237 | C17: =SUM(C4:C16) -> 2284.3
B25: All Africa Totals
A26: January | B26: 2868
A27: February | B27: 1902
A28: March | B28: 7295
A29: April | B29: =B17 -> 5237
A30: May
A31: June
A32: July
A33: August
A34: September
A35: October
A36: November
A37: December

Sheet Graphs
