Workbook
Name Excel_BuiltIn_Print_Area_1: [1]Malawi!#REF!
Name Excel_BuiltIn_Print_Area_1: [1]Malawi!#REF!
Name Excel_BuiltIn_Print_Area_1: [1]Malawi!#REF!
Name Excel_BuiltIn_Print_Area_1: [1]Malawi!#REF!
Name Excel_BuiltIn_Print_Area_1: [1]Malawi!#REF!
Name Excel_BuiltIn_Print_Area_1: [2]Malawi!#REF!
Name Excel_BuiltIn_Print_Area_1: [1]Malawi!#REF!
Name Excel_BuiltIn_Print_Area_1: [1]Malawi!#REF!

Sheet Democratic Republic of Congo
B2: TEMPLE: Kinshasa
B3: MONTH :
C4: BTG Sub | D4: CC Set | E4: SB Set | F4: Mag. | G4: Small Books | I4: Medium Books | K4: Big Books | M4: Maha-Books
D5: 36 | E5: 72 | F5: 0.1 | G5: 0.25 | H5: 0.25 | I5: 0.5 | J5: 0.5 | K5: 1 | L5: 1 | M5: 2 | N5: 2
B6: DEVOTEES | F6: M1 | G6: S1 | H6: H1 | I6: S2 | J6: H2 | K6: S3 | L6: H3 | M6: S4 | N6: H4 | O6: T/BKS | P6: Points
O9: =SUM(F9:N9) -> 0 | P9: =(D9*$D$5)+(E9*$E$5)+(F9*$F$5)+(G9*$G$5)+(H9*$H$5)+(I9*$I$5)+(J9*$J$5)+(K9*$K$5)+(L9*$L$5)+(M9*$M$5)+(N9*$N$5) -> 0
O10: =SUM(F10:N10) -> 0 | P10: =(D10*$D$5)+(E10*$E$5)+(F10*$F$5)+(G10*$G$5)+(H10*$H$5)+(I10*$I$5)+(J10*$J$5)+(K10*$K$5)+(L10*$L$5)+(M10*$M$5)+(N10*$N$5) -> 0
O11: =SUM(F11:N11) -> 0 | P11: =(F11*$F$5)+(G11*$G$5)+(H11*$H$5)+(I11*$I$5)+(J11*$J$5)+(K11*$K$5)+(L11*$L$5)+(M11*$M$5)+(N11*$N$5) -> 0
O12: =SUM(F12:N12) -> 0 | P12: =(F12*$F$5)+(G12*$G$5)+(H12*$H$5)+(I12*$I$5)+(J12*$J$5)+(K12*$K$5)+(L12*$L$5)+(M12*$M$5)+(N12*$N$5) -> 0
O13: =SUM(F13:N13) -> 0 | P13: =(F13*$F$5)+(G13*$G$5)+(H13*$H$5)+(I13*$I$5)+(J13*$J$5)+(K13*$K$5)+(L13*$L$5)+(M13*$M$5)+(N13*$N$5) -> 0
O14: =SUM(F14:N14) -> 0 | P14: =(F14*$F$5)+(G14*$G$5)+(H14*$H$5)+(I14*$I$5)+(J14*$J$5)+(K14*$K$5)+(L14*$L$5)+(M14*$M$5)+(N14*$N$5) -> 0
O15: =SUM(F15:N15) -> 0 | P15: =(F15*$F$5)+(G15*$G$5)+(H15*$H$5)+(I15*$I$5)+(J15*$J$5)+(K15*$K$5)+(L15*$L$5)+(M15*$M$5)+(N15*$N$5) -> 0
O16: =SUM(F16:N16) -> 0 | P16: =(F16*$F$5)+(G16*$G$5)+(H16*$H$5)+(I16*$I$5)+(J16*$J$5)+(K16*$K$5)+(L16*$L$5)+(M16*$M$5)+(N16*$N$5) -> 0
O17: =SUM(F17:N17) -> 0 | P17: =(F17*$F$5)+(G17*$G$5)+(H17*$H$5)+(I17*$I$5)+(J17*$J$5)+(K17*$K$5)+(L17*$L$5)+(M17*$M$5)+(N17*$N$5) -> 0
B18: TOTAL | C18: =SUM(C9:C17) -> 0 | D18: =SUM(D9:D17) -> 0 | E18: =SUM(E9:E17) -> 0 | F18: =SUM(F9:F17) -> 0 | G18: =SUM(G9:G17) -> 0 | H18: =SUM(H9:H17) -> 0 | I18: =SUM(I9:I17) -> 0 | J18: =SUM(J9:J17) -> 0 | ... P18: =SUM(P9:P17) -> 0

Sheet Ghana
B1: TEMPLE: Accra
B2: MONTH : March 2022
C3: BTG Sub | D3: CC Set | E3: SB Set | F3: Mag. | G3: Small Books | I3: Medium Books | K3: Big Books | M3: Maha-Books
D4: 36 | E4: 72 | F4: 0.1 | G4: 0.25 | H4: 0.25 | I4: 0.5 | J4: 0.5 | K4: 1 | L4: 1 | M4: 2 | N4: 2
B5: DEVOTEES | F5: M1 | G5: S1 | H5: H1 | I5: S2 | J5: H2 | K5: S3 | L5: H3 | M5: S4 | N5: H4 | O5: T/BKS | P5: Points
B8: Temple Scores | F8: 18 | G8: 45 | I8: 10 | L8: 3 | O8: =SUM(F8:N8) -> 76 | P8: =(D8*$D$4)+(E8*$E$4)+(F8*$F$4)+(G8*$G$4)+(H8*$H$4)+(I8*$I$4)+(J8*$J$4)+(K8*$K$4)+(L8*$L$4)+(M8*$M$4)+(N8*$N$4) -> 21.05
O9: =SUM(F9:N9) -> 0 | P9: =(D9*$D$4)+(E9*$E$4)+(F9*$F$4)+(G9*$G$4)+(H9*$H$4)+(I9*$I$4)+(J9*$J$4)+(K9*$K$4)+(L9*$L$4)+(M9*$M$4)+(N9*$N$4) -> 0
B10: TOTAL | C10: =SUM(C8:C9) -> 0 | D10: =SUM(D8:D9) -> 0 | E10: =SUM(E8:E9) -> 0 | F10: =SUM(F8:F9) -> 18 | G10: =SUM(G8:G9) -> 45 | H10: =SUM(H8:H9) -> 0 | I10: =SUM(I8:I9) -> 10 | J10: =SUM(J8:J9) -> 0 | ... P10: =SUM(P8:P9) -> 21.05

Sheet Ivory Coast
B2: TEMPLE: Ivory Coast
B3: MONTH :
C4: BTG Sub | D4: CC Set | E4: SB Set | F4: Mag. | G4: Small Books | I4: Medium Books | K4: Big Books | M4: Maha-Books
D5: 36 | E5: 72 | F5: 0.1 | G5: 0.25 | H5: 0.25 | I5: 0.5 | J5: 0.5 | K5: 1 | L5: 1 | M5: 2 | N5: 2
B6: DEVOTEES | F6: M1 | G6: S1 | H6: H1 | I6: S2 | J6: H2 | K6: S3 | L6: H3 | M6: S4 | N6: H4 | O6: T/BKS | P6: Points
O9: =SUM(F9:N9) -> 0 | P9: =(D9*$D$5)+(E9*$E$5)+(F9*$F$5)+(G9*$G$5)+(H9*$H$5)+(I9*$I$5)+(J9*$J$5)+(K9*$K$5)+(L9*$L$5)+(M9*$M$5)+(N9*$N$5) -> 0
O10: =SUM(F10:N10) -> 0 | P10: =(D10*$D$5)+(E10*$E$5)+(F10*$F$5)+(G10*$G$5)+(H10*$H$5)+(I10*$I$5)+(J10*$J$5)+(K10*$K$5)+(L10*$L$5)+(M10*$M$5)+(N10*$N$5) -> 0
O11: =SUM(F11:N11) -> 0 | P11: =(D11*$D$5)+(E11*$E$5)+(F11*$F$5)+(G11*$G$5)+(H11*$H$5)+(I11*$I$5)+(J11*$J$5)+(K11*$K$5)+(L11*$L$5)+(M11*$M$5)+(N11*$N$5) -> 0
O12: =SUM(F12:N12) -> 0 | P12: =(D12*$D$5)+(E12*$E$5)+(F12*$F$5)+(G12*$G$5)+(H12*$H$5)+(I12*$I$5)+(J12*$J$5)+(K12*$K$5)+(L12*$L$5)+(M12*$M$5)+(N12*$N$5) -> 0
O13: =SUM(F13:N13) -> 0 | P13: =(D13*$D$5)+(E13*$E$5)+(F13*$F$5)+(G13*$G$5)+(H13*$H$5)+(I13*$I$5)+(J13*$J$5)+(K13*$K$5)+(L13*$L$5)+(M13*$M$5)+(N13*$N$5) -> 0
B14: TOTAL | C14: =SUM(C9:C13) -> 0 | D14: =SUM(D9:D13) -> 0 | E14: =SUM(E9:E13) -> 0 | F14: =SUM(F9:F13) -> 0 | G14: =SUM(G9:G13) -> 0 | H14: =SUM(H9:H13) -> 0 | I14: =SUM(I9:I13) -> 0 | J14: =SUM(J9:J13) -> 0 | ... P14: =SUM(P9:P13) -> 0

Sheet Kenya
B2: MONTH : March 2022
C3: BTG Sub | D3: CC Set | E3: SB Set | F3: mag | G3: Small Books | I3: Medium Books | K3: Big Books | M3: Maha-Books
D4: 36 | E4: 72 | F4: 0.1 | G4: 0.25 | H4: 0.25 | I4: 0.5 | J4: 0.5 | K4: 1 | L4: 1 | M4: 2 | N4: 2
B5: DEVOTEES | F5: M1 | G5: S1 | H5: H1 | I5: S2 | J5: H2 | K5: S3 | L5: H3 | M5: S4 | N5: H4 | O5: T/BKS | P5: Points
B7: Iskcon Nairobi
B8: VEDATTATVA DASA AND BHAKTIN HETVI | F8: 18 | G8: 15 | I8: 4 | L8: 3 | N8: 33 | O8: =SUM(F8:N8) -> 73 | P8: =(D8*$D$4)+(E8*$E$4)+(F8*$F$4)+(G8*$G$4)+(H8*$H$4)+(I8*$I$4)+(J8*$J$4)+(K8*$K$4)+(L8*$L$4)+(M8*$M$4)+(N8*$N$4) -> 76.55
B9: BHAKTI YANGU GROUP | G9: 76 | I9: 14 | L9: 16 | N9: 1 | O9: =SUM(F9:N9) -> 107 | P9: =(D9*$D$4)+(E9*$E$4)+(F9*$F$4)+(G9*$G$4)+(H9*$H$4)+(I9*$I$4)+(J9*$J$4)+(K9*$K$4)+(L9*$L$4)+(M9*$M$4)+(N9*$N$4) -> 44
B10: KRISHNA KIDS SENA | F10: 30 | G10: 830 | I10: 93 | L10: 95 | N10: 74 | O10: =SUM(F10:N10) -> 1122 | P10: =(D10*$D$4)+(E10*$E$4)+(F10*$F$4)+(G10*$G$4)+(H10*$H$4)+(I10*$I$4)+(J10*$J$4)+(K10*$K$4)+(L10*$L$4)+(M10*$M$4)+(N10*$N$4) -> 500
O11: =SUM(F11:N11) -> 0 | P11: =(D11*$D$4)+(E11*$E$4)+(F11*$F$4)+(G11*$G$4)+(H11*$H$4)+(I11*$I$4)+(J11*$J$4)+(K11*$K$4)+(L11*$L$4)+(M11*$M$4)+(N11*$N$4) -> 0
O12: =SUM(F12:N12) -> 0 | P12: =(D12*$D$4)+(E12*$E$4)+(F12*$F$4)+(G12*$G$4)+(H12*$H$4)+(I12*$I$4)+(J12*$J$4)+(K12*$K$4)+(L12*$L$4)+(M12*$M$4)+(N12*$N$4) -> 0
B13: TOTAL | C13: =SUM(C8:C12) -> 0 | D13: =SUM(D8:D12) -> 0 | E13: =SUM(E8:E12) -> 0 | F13: =SUM(F8:F12) -> 48 | G13: =SUM(G8:G12) -> 921 | H13: =SUM(H8:H12) -> 0 | I13: =SUM(I8:I12) -> 111 | J13: =SUM(J8:J12) -> 0 | ... P13: =SUM(P8:P12) -> 620.55
B16: Iskcon Eldoret
O17: =SUM(F17:N17) -> 0 | P17: =(D17*$D$4)+(E17*$E$4)+(F17*$F$4)+(G17*$G$4)+(H17*$H$4)+(I17*$I$4)+(J17*$J$4)+(K17*$K$4)+(L17*$L$4)+(M17*$M$4)+(N17*$N$4) -> 0
O18: =SUM(F18:N18) -> 0 | P18: =(D18*$D$4)+(E18*$E$4)+(F18*$F$4)+(G18*$G$4)+(H18*$H$4)+(I18*$I$4)+(J18*$J$4)+(K18*$K$4)+(L18*$L$4)+(M18*$M$4)+(N18*$N$4) -> 0
B19: TOTAL | C19: =SUM(C17:C18) -> 0 | D19: =SUM(D17:D18) -> 0 | E19: =SUM(E17:E18) -> 0 | F19: =SUM(F17:F18) -> 0 | G19: =SUM(G17:G18) -> 0 | H19: =SUM(H17:H18) -> 0 | I19: =SUM(I17:I18) -> 0 | J19: =SUM(J17:J18) -> 0 | ... P19: =SUM(P17:P18) -> 0
B22: Iskcon Kisumu
O23: =SUM(F23:N23) -> 0 | P23: =(D23*$D$4)+(E23*$E$4)+(F23*$F$4)+(G23*$G$4)+(H23*$H$4)+(I23*$I$4)+(J23*$J$4)+(K23*$K$4)+(L23*$L$4)+(M23*$M$4)+(N23*$N$4) -> 0
O24: =SUM(F24:N24) -> 0 | P24: =(D24*$D$4)+(E24*$E$4)+(F24*$F$4)+(G24*$G$4)+(H24*$H$4)+(I24*$I$4)+(J24*$J$4)+(K24*$K$4)+(L24*$L$4)+(M24*$M$4)+(N24*$N$4) -> 0
B25: TOTAL | C25: =SUM(C23:C24) -> 0 | D25: =SUM(D23:D24) -> 0 | E25: =SUM(E23:E24) -> 0 | F25: =SUM(F23:F24) -> 0 | G25: =SUM(G23:G24) -> 0 | H25: =SUM(H23:H24) -> 0 | I25: =SUM(I23:I24) -> 0 | J25: =SUM(J23:J24) -> 0 | ... P25: =SUM(P23:P24) -> 0
B28: Iskcon Mombassa
O29: =SUM(F29:N29) -> 0 | P29: =(D29*$D$4)+(E29*$E$4)+(F29*$F$4)+(G29*$G$4)+(H29*$H$4)+(I29*$I$4)+(J29*$J$4)+(K29*$K$4)+(L29*$L$4)+(M29*$M$4)+(N29*$N$4) -> 0
O30: =SUM(F30:N30) -> 0 | P30: =(D30*$D$4)+(E30*$E$4)+(F30*$F$4)+(G30*$G$4)+(H30*$H$4)+(I30*$I$4)+(J30*$J$4)+(K30*$K$4)+(L30*$L$4)+(M30*$M$4)+(N30*$N$4) -> 0
O31: =SUM(C31:N31) -> 0 | P31: =(D31*$D$4)+(E31*$E$4)+(F31*$F$4)+(G31*$G$4)+(H31*$H$4)+(I31*$I$4)+(J31*$J$4)+(K31*$K$4)+(L31*$L$4)+(M31*$M$4)+(N31*$N$4) -> 0
B32: TOTAL | C32: =SUM(C29:C30) -> 0 | D32: =SUM(D29:D30) -> 0 | E32: =SUM(E29:E30) -> 0 | F32: =SUM(F29:F31) -> 0 | G32: =SUM(G29:G31) -> 0 | H32: =SUM(H29:H31) -> 0 | I32: =SUM(I29:I31) -> 0 | J32: =SUM(J29:J31) -> 0 | K32: =SUM(K29:K31) -> 0 | L32: =SUM(L29:L31) -> 0 | M32: =SUM(M29:M31) -> 0 | ... P32: =SUM(P29:P31) -> 0
N34: Total: | O34: =SUM(O19+O13+O25+O32) -> 1302 | P34: =SUM(P19+P13+P25+P32) -> 620.55

Sheet Malawi
B2: TEMPLE: Blantyre
B3: MONTH :
C4: BTG Sub | D4: CC Set | E4: SB Set | F4: Mag. | G4: Small Books | I4: Medium Books | K4: Big Books | M4: Maha-Books
D5: 36 | E5: 72 | F5: 0.1 | G5: 0.25 | H5: 0.25 | I5: 0.5 | J5: 0.5 | K5: 1 | L5: 1 | M5: 2 | N5: 2
B6: DEVOTEES | F6: M1 | G6: S1 | H6: H1 | I6: S2 | J6: H2 | K6: S3 | L6: H3 | M6: S4 | N6: H4 | O6: T/BKS | P6: Points
O9: =SUM(F9:N9) -> 0 | P9: =(D9*$D$5)+(E9*$E$5)+(F9*$F$5)+(G9*$G$5)+(H9*$H$5)+(I9*$I$5)+(J9*$J$5)+(K9*$K$5)+(L9*$L$5)+(M9*$M$5)+(N9*$N$5) -> 0
O10: =SUM(F10:N10) -> 0 | P10: =(D10*$D$5)+(E10*$E$5)+(F10*$F$5)+(G10*$G$5)+(H10*$H$5)+(I10*$I$5)+(J10*$J$5)+(K10*$K$5)+(L10*$L$5)+(M10*$M$5)+(N10*$N$5) -> 0
O11: =SUM(F11:N11) -> 0 | P11: =(D11*$D$5)+(E11*$E$5)+(F11*$F$5)+(G11*$G$5)+(H11*$H$5)+(I11*$I$5)+(J11*$J$5)+(K11*$K$5)+(L11*$L$5)+(M11*$M$5)+(N11*$N$5) -> 0
O12: =SUM(F12:N12) -> 0 | P12: =(D12*$D$5)+(E12*$E$5)+(F12*$F$5)+(G12*$G$5)+(H12*$H$5)+(I12*$I$5)+(J12*$J$5)+(K12*$K$5)+(L12*$L$5)+(M12*$M$5)+(N12*$N$5) -> 0
O13: =SUM(F13:N13) -> 0 | P13: =(D13*$D$5)+(E13*$E$5)+(F13*$F$5)+(G13*$G$5)+(H13*$H$5)+(I13*$I$5)+(J13*$J$5)+(K13*$K$5)+(L13*$L$5)+(M13*$M$5)+(N13*$N$5) -> 0
O14: =SUM(F14:N14) -> 0 | P14: =(D14*$D$5)+(E14*$E$5)+(F14*$F$5)+(G14*$G$5)+(H14*$H$5)+(I14*$I$5)+(J14*$J$5)+(K14*$K$5)+(L14*$L$5)+(M14*$M$5)+(N14*$N$5) -> 0
O15: =SUM(F15:N15)+(E15*18)+(D15*9) -> 0 | P15: =(D15*$D$5)+(E15*$E$5)+(F15*$F$5)+(G15*$G$5)+(H15*$H$5)+(I15*$I$5)+(J15*$J$5)+(K15*$K$5)+(L15*$L$5)+(M15*$M$5)+(N15*$N$5) -> 0
O16: =SUM(F16:N16) -> 0 | P16: =(D16*$D$5)+(E16*$E$5)+(F16*$F$5)+(G16*$G$5)+(H16*$H$5)+(I16*$I$5)+(J16*$J$5)+(K16*$K$5)+(L16*$L$5)+(M16*$M$5)+(N16*$N$5) -> 0
B17: TOTAL | C17: =SUM(C9:C16) -> 0 | D17: =SUM(D9:D16) -> 0 | E17: =SUM(E9:E16) -> 0 | F17: =SUM(F9:F16) -> 0 | G17: =SUM(G9:G16) -> 0 | H17: =SUM(H9:H16) -> 0 | I17: =SUM(I9:I16) -> 0 | J17: =SUM(J9:J16) -> 0 | ... P17: =SUM(P9:P16) -> 0

Sheet Mauritius
B2: MONTH : March 2022 | C2: BTG Sub | D2: CC Set | E2: SB Set | F2: Mag. | G2: Small Books | I2: Medium Books | K2: Big Books | M2: Maha-Books
D3: 36 | E3: 72 | F3: 0.1 | G3: 0.25 | H3: 0.25 | I3: 0.5 | J3: 0.5 | K3: 1 | L3: 1 | M3: 2 | N3: 2
B4: DEVOTEES | F4: M1 | G4: S1 | H4: H1 | I4: S2 | J4: H2 | K4: S3 | L4: H3 | M4: S4 | N4: H4 | O4: T/BKS | P4: Points
B6: ISKCON Phoenix Sri Sri Radha Gokulananda Mandir
O7: =SUM(F7:N7) -> 0 | P7: =(D7*$D$3)+(E7*$E$3)+(F7*$F$3)+(G7*$G$3)+(H7*$H$3)+(I7*$I$3)+(J7*$J$3)+(K7*$K$3)+(L7*$L$3)+(M7*$M$3)+(N7*$N$3) -> 0
O8: =SUM(F8:N8) -> 0 | P8: =(D8*$D$3)+(E8*$E$3)+(F8*$F$3)+(G8*$G$3)+(H8*$H$3)+(I8*$I$3)+(J8*$J$3)+(K8*$K$3)+(L8*$L$3)+(M8*$M$3)+(N8*$N$3) -> 0
O9: =SUM(F9:N9) -> 0 | P9: =(D9*$D$3)+(E9*$E$3)+(F9*$F$3)+(G9*$G$3)+(H9*$H$3)+(I9*$I$3)+(J9*$J$3)+(K9*$K$3)+(L9*$L$3)+(M9*$M$3)+(N9*$N$3) -> 0
O10: =SUM(F10:N10) -> 0 | P10: =(D10*$D$3)+(E10*$E$3)+(F10*$F$3)+(G10*$G$3)+(H10*$H$3)+(I10*$I$3)+(J10*$J$3)+(K10*$K$3)+(L10*$L$3)+(M10*$M$3)+(N10*$N$3) -> 0
O11: =SUM(F11:N11) -> 0 | P11: =(D11*$D$3)+(E11*$E$3)+(F11*$F$3)+(G11*$G$3)+(H11*$H$3)+(I11*$I$3)+(J11*$J$3)+(K11*$K$3)+(L11*$L$3)+(M11*$M$3)+(N11*$N$3) -> 0
O12: =SUM(F12:N12) -> 0 | P12: =(D12*$D$3)+(E12*$E$3)+(F12*$F$3)+(G12*$G$3)+(H12*$H$3)+(I12*$I$3)+(J12*$J$3)+(K12*$K$3)+(L12*$L$3)+(M12*$M$3)+(N12*$N$3) -> 0
O13: =SUM(F13:N13) -> 0 | P13: =(D13*$D$3)+(E13*$E$3)+(F13*$F$3)+(G13*$G$3)+(H13*$H$3)+(I13*$I$3)+(J13*$J$3)+(K13*$K$3)+(L13*$L$3)+(M13*$M$3)+(N13*$N$3) -> 0
O14: =SUM(F14:N14) -> 0 | P14: =(D14*$D$3)+(E14*$E$3)+(F14*$F$3)+(G14*$G$3)+(H14*$H$3)+(I14*$I$3)+(J14*$J$3)+(K14*$K$3)+(L14*$L$3)+(M14*$M$3)+(N14*$N$3) -> 0
O15: =SUM(F15:N15) -> 0 | P15: =(D15*$D$3)+(E15*$E$3)+(F15*$F$3)+(G15*$G$3)+(H15*$H$3)+(I15*$I$3)+(J15*$J$3)+(K15*$K$3)+(L15*$L$3)+(M15*$M$3)+(N15*$N$3) -> 0
O16: =SUM(F16:N16) -> 0 | P16: =(D16*$D$3)+(E16*$E$3)+(F16*$F$3)+(G16*$G$3)+(H16*$H$3)+(I16*$I$3)+(J16*$J$3)+(K16*$K$3)+(L16*$L$3)+(M16*$M$3)+(N16*$N$3) -> 0
O17: =SUM(F17:N17) -> 0 | P17: =(D17*$D$3)+(E17*$E$3)+(F17*$F$3)+(G17*$G$3)+(H17*$H$3)+(I17*$I$3)+(J17*$J$3)+(K17*$K$3)+(L17*$L$3)+(M17*$M$3)+(N17*$N$3) -> 0
O18: =SUM(F18:N18) -> 0 | P18: =(D18*$D$3)+(E18*$E$3)+(F18*$F$3)+(G18*$G$3)+(H18*$H$3)+(I18*$I$3)+(J18*$J$3)+(K18*$K$3)+(L18*$L$3)+(M18*$M$3)+(N18*$N$3) -> 0
... O47: =SUM(F47:N47) -> 0 | P47: =(D47*$D$3)+(E47*$E$3)+(F47*$F$3)+(G47*$G$3)+(H47*$H$3)+(I47*$I$3)+(J47*$J$3)+(K47*$K$3)+(L47*$L$3)+(M47*$M$3)+(N47*$N$3) -> 0
B48: TOTAL | C48: =SUM(C7:C47) -> 0 | D48: =SUM(D7:D47) -> 0 | E48: =SUM(E7:E47) -> 0 | F48: =SUM(F7:F47) -> 0 | G48: =SUM(G7:G47) -> 0 | H48: =SUM(H7:H47) -> 0 | I48: =SUM(I7:I47) -> 0 | J48: =SUM(J7:J47) -> 0 | ... P48: =SUM(P7:P47) -> 0
B51: ISKCON Bon Accueil Mauritius Sri Sri Krsna Balaram Mandir
B52: Cumulative Scores | G52: 2995 | I52: 102 | L52: 310 | N52: 3 | O52: =SUM(F52:N52) -> 3410 | P52: =(D52*$D$3)+(E52*$E$3)+(F52*$F$3)+(G52*$G$3)+(H52*$H$3)+(I52*$I$3)+(J52*$J$3)+(K52*$K$3)+(L52*$L$3)+(M52*$M$3)+(N52*$N$3) -> 1115.75
O53: =SUM(F53:N53) -> 0 | P53: =(D53*$D$3)+(E53*$E$3)+(F53*$F$3)+(G53*$G$3)+(H53*$H$3)+(I53*$I$3)+(J53*$J$3)+(K53*$K$3)+(L53*$L$3)+(M53*$M$3)+(N53*$N$3) -> 0
O54: =SUM(F54:N54) -> 0 | P54: =(D54*$D$3)+(E54*$E$3)+(F54*$F$3)+(G54*$G$3)+(H54*$H$3)+(I54*$I$3)+(J54*$J$3)+(K54*$K$3)+(L54*$L$3)+(M54*$M$3)+(N54*$N$3) -> 0
B55: TOTAL | C55: =SUM(C52:C54) -> 0 | D55: =SUM(D52:D54) -> 0 | E55: =SUM(E52:E54) -> 0 | F55: =SUM(F52:F54) -> 0 | G55: =SUM(G52:G54) -> 2995 | H55: =SUM(H52:H54) -> 0 | I55: =SUM(I52:I54) -> 102 | J55: =SUM(J52:J54) -> 0 | ... P55: =SUM(P52:P54) -> 1115.75
B58: ISKCON Triolet Mauritius Sri Sri Rukmini Dwarkadish Mandir
O59: =SUM(F59:N59) -> 0 | P59: =(D59*$D$3)+(E59*$E$3)+(F59*$F$3)+(G59*$G$3)+(H59*$H$3)+(I59*$I$3)+(J59*$J$3)+(K59*$K$3)+(L59*$L$3)+(M59*$M$3)+(N59*$N$3) -> 0
O60: =SUM(F60:N60) -> 0 | P60: =(D60*$D$3)+(E60*$E$3)+(F60*$F$3)+(G60*$G$3)+(H60*$H$3)+(I60*$I$3)+(J60*$J$3)+(K60*$K$3)+(L60*$L$3)+(M60*$M$3)+(N60*$N$3) -> 0
O61: =SUM(F61:N61) -> 0 | P61: =(D61*$D$3)+(E61*$E$3)+(F61*$F$3)+(G61*$G$3)+(H61*$H$3)+(I61*$I$3)+(J61*$J$3)+(K61*$K$3)+(L61*$L$3)+(M61*$M$3)+(N61*$N$3) -> 0
O62: =SUM(F62:N62) -> 0 | P62: =(D62*$D$3)+(E62*$E$3)+(F62*$F$3)+(G62*$G$3)+(H62*$H$3)+(I62*$I$3)+(J62*$J$3)+(K62*$K$3)+(L62*$L$3)+(M62*$M$3)+(N62*$N$3) -> 0
O63: =SUM(F63:N63) -> 0 | P63: =(D63*$D$3)+(E63*$E$3)+(F63*$F$3)+(G63*$G$3)+(H63*$H$3)+(I63*$I$3)+(J63*$J$3)+(K63*$K$3)+(L63*$L$3)+(M63*$M$3)+(N63*$N$3) -> 0
O64: =SUM(F64:N64) -> 0 | P64: =(D64*$D$3)+(E64*$E$3)+(F64*$F$3)+(G64*$G$3)+(H64*$H$3)+(I64*$I$3)+(J64*$J$3)+(K64*$K$3)+(L64*$L$3)+(M64*$M$3)+(N64*$N$3) -> 0
O65: =SUM(F65:N65) -> 0 | P65: =(D65*$D$3)+(E65*$E$3)+(F65*$F$3)+(G65*$G$3)+(H65*$H$3)+(I65*$I$3)+(J65*$J$3)+(K65*$K$3)+(L65*$L$3)+(M65*$M$3)+(N65*$N$3) -> 0
O66: =SUM(F66:N66) -> 0 | P66: =(D66*$D$3)+(E66*$E$3)+(F66*$F$3)+(G66*$G$3)+(H66*$H$3)+(I66*$I$3)+(J66*$J$3)+(K66*$K$3)+(L66*$L$3)+(M66*$M$3)+(N66*$N$3) -> 0
O67: =SUM(F67:N67) -> 0 | P67: =(D67*$D$3)+(E67*$E$3)+(F67*$F$3)+(G67*$G$3)+(H67*$H$3)+(I67*$I$3)+(J67*$J$3)+(K67*$K$3)+(L67*$L$3)+(M67*$M$3)+(N67*$N$3) -> 0
O68: =SUM(F68:N68) -> 0 | P68: =(D68*$D$3)+(E68*$E$3)+(F68*$F$3)+(G68*$G$3)+(H68*$H$3)+(I68*$I$3)+(J68*$J$3)+(K68*$K$3)+(L68*$L$3)+(M68*$M$3)+(N68*$N$3) -> 0
O69: =SUM(F69:N69) -> 0 | P69: =(D69*$D$3)+(E69*$E$3)+(F69*$F$3)+(G69*$G$3)+(H69*$H$3)+(I69*$I$3)+(J69*$J$3)+(K69*$K$3)+(L69*$L$3)+(M69*$M$3)+(N69*$N$3) -> 0
O70: =SUM(F70:N70) -> 0 | P70: =(D70*$D$3)+(E70*$E$3)+(F70*$F$3)+(G70*$G$3)+(H70*$H$3)+(I70*$I$3)+(J70*$J$3)+(K70*$K$3)+(L70*$L$3)+(M70*$M$3)+(N70*$N$3) -> 0
B71: TOTAL | C71: =SUM(C59:C70) -> 0 | D71: =SUM(D59:D70) -> 0 | E71: =SUM(E59:E70) -> 0 | F71: =SUM(F59:F70) -> 0 | G71: =SUM(G59:G70) -> 0 | H71: =SUM(H59:H70) -> 0 | I71: =SUM(I59:I70) -> 0 | J71: =SUM(J59:J70) -> 0 | ... P71: =SUM(P59:P70) -> 0
M74: TOTAL | O74: =O71+O55+O48 -> 3410 | P74: =P71+P55+P48 -> 1115.75

Sheet Nigeria
B1: MONTH : March 2022
C2: BTG Sub | D2: CC Set | E2: SB Set | F2: Mag. | G2: Small Books | I2: Medium Books | K2: Big Books | M2: Maha-Books
D3: 36 | E3: 72 | F3: 0.1 | G3: 0.25 | H3: 0.25 | I3: 0.5 | J3: 0.5 | K3: 1 | L3: 1 | M3: 2 | N3: 2
B4: DEVOTEES | F4: M1 | G4: S1 | H4: H1 | I4: S2 | J4: H2 | K4: S3 | L4: H3 | M4: S4 | N4: H4 | O4: T/BKS | P4: Points
B6: ISKCON BENIN CITY
B7: Temple Cumulative Scores | G7: 27 | L7: 7 | O7: =SUM(C7:N7) -> 34 | P7: =(D7*$D$3)+(E7*$E$3)+(F7*$F$3)+(G7*$G$3)+(H7*$H$3)+(I7*$I$3)+(J7*$J$3)+(K7*$K$3)+(L7*$L$3)+(M7*$M$3)+(N7*$N$3) -> 13.75
O8: =SUM(F8:N8) -> 0 | P8: =(D8*$D$3)+(E8*$E$3)+(F8*$F$3)+(G8*$G$3)+(H8*$H$3)+(I8*$I$3)+(J8*$J$3)+(K8*$K$3)+(L8*$L$3)+(M8*$M$3)+(N8*$N$3) -> 0
O9: =SUM(F9:N9) -> 0 | P9: =(D9*$D$3)+(E9*$E$3)+(F9*$F$3)+(G9*$G$3)+(H9*$H$3)+(I9*$I$3)+(J9*$J$3)+(K9*$K$3)+(L9*$L$3)+(M9*$M$3)+(N9*$N$3) -> 0
B10: TOTAL | C10: =SUM(C7:C9) -> 0 | D10: =SUM(D7:D9) -> 0 | E10: =SUM(E7:E9) -> 0 | F10: =SUM(F7:F9) -> 0 | G10: =SUM(G7:G9) -> 27 | H10: =SUM(H7:H9) -> 0 | I10: =SUM(I7:I9) -> 0 | J10: =SUM(J7:J9) -> 0 | ... P10: =SUM(P7:P9) -> 13.75
B13: ISKCON KADUNA
B14: Temple Cumulative Scores | F14: 85 | G14: 21 | L14: 19 | N14: 15 | O14: =SUM(F14:N14) -> 140 | P14: =(D14*$D$3)+(E14*$E$3)+(F14*$F$3)+(G14*$G$3)+(H14*$H$3)+(I14*$I$3)+(J14*$J$3)+(K14*$K$3)+(L14*$L$3)+(M14*$M$3)+(N14*$N$3) -> 62.75
O15: =SUM(F15:N15) -> 0 | P15: =(D15*$D$3)+(E15*$E$3)+(F15*$F$3)+(G15*$G$3)+(H15*$H$3)+(I15*$I$3)+(J15*$J$3)+(K15*$K$3)+(L15*$L$3)+(M15*$M$3)+(N15*$N$3) -> 0
B16: TOTAL | C16: =SUM(C14:C15) -> 0 | D16: =SUM(D14:D15) -> 0 | E16: =SUM(E14:E15) -> 0 | F16: =SUM(F14:F15) -> 85 | G16: =SUM(G14:G15) -> 21 | H16: =SUM(H14:H15) -> 0 | I16: =SUM(I14:I15) -> 0 | J16: =SUM(J14:J15) -> 0 | ... P16: =SUM(P14:P15) -> 62.75
B19: ISKCON OTA
B20: Temple Cumulative Scores | G20: 238 | I20: 56 | L20: 15 | O20: =SUM(F20:N20) -> 309 | P20: =(D20*$D$3)+(E20*$E$3)+(F20*$F$3)+(G20*$G$3)+(H20*$H$3)+(I20*$I$3)+(J20*$J$3)+(K20*$K$3)+(L20*$L$3)+(M20*$M$3)+(N20*$N$3) -> 102.5
O21: =SUM(F21:N21) -> 0 | P21: =(D21*$D$3)+(E21*$E$3)+(F21*$F$3)+(G21*$G$3)+(H21*$H$3)+(I21*$I$3)+(J21*$J$3)+(K21*$K$3)+(L21*$L$3)+(M21*$M$3)+(N21*$N$3) -> 0
O22: =SUM(F22:N22) -> 0 | P22: =(D22*$D$3)+(E22*$E$3)+(F22*$F$3)+(G22*$G$3)+(H22*$H$3)+(I22*$I$3)+(J22*$J$3)+(K22*$K$3)+(L22*$L$3)+(M22*$M$3)+(N22*$N$3) -> 0
B23: TOTAL | C23: =SUM(C22:C22) -> 0 | D23: =SUM(D20:D22) -> 0 | E23: =SUM(E20:E22) -> 0 | F23: =SUM(F22:F22) -> 0 | G23: =SUM(G20:G22) -> 238 | H23: =SUM(H20:H22) -> 0 | I23: =SUM(I20:I22) -> 56 | J23: =SUM(J20:J22) -> 0 | K23: =SUM(K20:K22) -> 0 | L23: =SUM(L20:L22) -> 15 | M23: =SUM(M20:M22) -> 0 | N23: =SUM(N20:N22) -> 0 | ... P23: =SUM(P20:P22) -> 102.5
B26: ISKCON WARRI
B27: Temple Cumulative Scores | G27: 249 | I27: 78 | L27: 39 | N27: 53 | O27: =SUM(F27:N27) -> 419 | P27: =(D27*$D$3)+(E27*$E$3)+(F27*$F$3)+(G27*$G$3)+(H27*$H$3)+(I27*$I$3)+(J27*$J$3)+(K27*$K$3)+(L27*$L$3)+(M27*$M$3)+(N27*$N$3) -> 246.25
O28: =SUM(F28:N28) -> 0 | P28: =(D28*$D$3)+(E28*$E$3)+(F28*$F$3)+(G28*$G$3)+(H28*$H$3)+(I28*$I$3)+(J28*$J$3)+(K28*$K$3)+(L28*$L$3)+(M28*$M$3)+(N28*$N$3) -> 0
O29: =SUM(F29:N29) -> 0 | P29: =(D29*$D$3)+(E29*$E$3)+(F29*$F$3)+(G29*$G$3)+(H29*$H$3)+(I29*$I$3)+(J29*$J$3)+(K29*$K$3)+(L29*$L$3)+(M29*$M$3)+(N29*$N$3) -> 0
O30: =SUM(F30:N30) -> 0 | P30: =(D30*$D$3)+(E30*$E$3)+(F30*$F$3)+(G30*$G$3)+(H30*$H$3)+(I30*$I$3)+(J30*$J$3)+(K30*$K$3)+(L30*$L$3)+(M30*$M$3)+(N30*$N$3) -> 0
B31: TOTAL | C31: =SUM(C30:C30) -> 0 | D31: =SUM(D27:D30) -> 0 | E31: =SUM(E27:E30) -> 0 | F31: =SUM(F30:F30) -> 0 | G31: =SUM(G27:G30) -> 249 | H31: =SUM(H27:H30) -> 0 | I31: =SUM(I27:I30) -> 78 | J31: =SUM(J27:J30) -> 0 | K31: =SUM(K27:K30) -> 0 | L31: =SUM(L27:L30) -> 39 | M31: =SUM(M27:M30) -> 0 | N31: =SUM(N27:N30) -> 53 | ... P31: =SUM(P27:P30) -> 246.25
M35: TOTAL | O35: =O31+O23+O16+O10 -> 902 | P35: =P31+P23+P16+P10 -> 425.25

Sheet South Africa
B1: MONTH: March 2022
C2: BTG Sub | D2: CC Set | E2: SB Set | F2: Mag. | G2: Small Books | I2: Medium Books | K2: Big Books | M2: Maha-Books
D3: 36 | E3: 72 | F3: 0.1 | G3: 0.25 | H3: 0.25 | I3: 0.5 | J3: 0.5 | K3: 1 | L3: 1 | M3: 2 | N3: 2
B4: DEVOTEES | F4: M1 | G4: S1 | H4: H1 | I4: S2 | J4: H2 | K4: S3 | L4: H3 | M4: S4 | N4: H4 | O4: T/BKS | P4: Points
B8: ISKCON BLOEMFONTEIN
O9: =SUM(F9:N9) -> 0 | P9: =(D9*$D$3)+(E9*$E$3)+(F9*$F$3)+(G9*$G$3)+(H9*$H$3)+(I9*$I$3)+(J9*$J$3)+(K9*$K$3)+(L9*$L$3)+(M9*$M$3)+(N9*$N$3) -> 0
O10: =SUM(F10:N10) -> 0 | P10: =(D10*$D$3)+(E10*$E$3)+(F10*$F$3)+(G10*$G$3)+(H10*$H$3)+(I10*$I$3)+(J10*$J$3)+(K10*$K$3)+(L10*$L$3)+(M10*$M$3)+(N10*$N$3) -> 0
B11: TOTAL | C11: =SUM(C10:C10) -> 0 | D11: =SUM(D10:D10) -> 0 | E11: =SUM(E9:E10) -> 0 | F11: =SUM(F9:F10) -> 0 | G11: =SUM(G9:G10) -> 0 | H11: =SUM(H9:H10) -> 0 | I11: =SUM(I9:I10) -> 0 | J11: =SUM(J9:J10) -> 0 | K11: =SUM(K9:K10) -> 0 | L11: =SUM(L9:L10) -> 0 | ... P11: =SUM(P9:P10) -> 0
B14: ISKCON CAPE TOWN
O15: =SUM(C15:N15) -> 0 | P15: =(D15*$D$3)+(E15*$E$3)+(F15*$F$3)+(G15*$G$3)+(H15*$H$3)+(I15*$I$3)+(J15*$J$3)+(K15*$K$3)+(L15*$L$3)+(M15*$M$3)+(N15*$N$3) -> 0
O16: =SUM(F16:N16) -> 0 | P16: =(D16*$D$3)+(E16*$E$3)+(F16*$F$3)+(G16*$G$3)+(H16*$H$3)+(I16*$I$3)+(J16*$J$3)+(K16*$K$3)+(L16*$L$3)+(M16*$M$3)+(N16*$N$3) -> 0
O17: =SUM(F17:N17) -> 0 | P17: =(D17*$D$3)+(E17*$E$3)+(F17*$F$3)+(G17*$G$3)+(H17*$H$3)+(I17*$I$3)+(J17*$J$3)+(K17*$K$3)+(L17*$L$3)+(M17*$M$3)+(N17*$N$3) -> 0
O18: =SUM(F18:N18) -> 0 | P18: =(D18*$D$3)+(E18*$E$3)+(F18*$F$3)+(G18*$G$3)+(H18*$H$3)+(I18*$I$3)+(J18*$J$3)+(K18*$K$3)+(L18*$L$3)+(M18*$M$3)+(N18*$N$3) -> 0
O19: =SUM(F19:N19) -> 0 | P19: =(D19*$D$3)+(E19*$E$3)+(F19*$F$3)+(G19*$G$3)+(H19*$H$3)+(I19*$I$3)+(J19*$J$3)+(K19*$K$3)+(L19*$L$3)+(M19*$M$3)+(N19*$N$3) -> 0
O20: =SUM(F20:N20) -> 0 | P20: =(D20*$D$3)+(E20*$E$3)+(F20*$F$3)+(G20*$G$3)+(H20*$H$3)+(I20*$I$3)+(J20*$J$3)+(K20*$K$3)+(L20*$L$3)+(M20*$M$3)+(N20*$N$3) -> 0
O21: =SUM(F21:N21) -> 0 | P21: =(D21*$D$3)+(E21*$E$3)+(F21*$F$3)+(G21*$G$3)+(H21*$H$3)+(I21*$I$3)+(J21*$J$3)+(K21*$K$3)+(L21*$L$3)+(M21*$M$3)+(N21*$N$3) -> 0
O22: =SUM(F22:N22) -> 0 | P22: =(D22*$D$3)+(E22*$E$3)+(F22*$F$3)+(G22*$G$3)+(H22*$H$3)+(I22*$I$3)+(J22*$J$3)+(K22*$K$3)+(L22*$L$3)+(M22*$M$3)+(N22*$N$3) -> 0
O23: =SUM(F23:N23) -> 0 | P23: =(D23*$D$3)+(E23*$E$3)+(F23*$F$3)+(G23*$G$3)+(H23*$H$3)+(I23*$I$3)+(J23*$J$3)+(K23*$K$3)+(L23*$L$3)+(M23*$M$3)+(N23*$N$3) -> 0
O24: =SUM(F24:N24) -> 0 | P24: =(D24*$D$3)+(E24*$E$3)+(F24*$F$3)+(G24*$G$3)+(H24*$H$3)+(I24*$I$3)+(J24*$J$3)+(K24*$K$3)+(L24*$L$3)+(M24*$M$3)+(N24*$N$3) -> 0
O25: =SUM(F25:N25) -> 0 | P25: =(D25*$D$3)+(E25*$E$3)+(F25*$F$3)+(G25*$G$3)+(H25*$H$3)+(I25*$I$3)+(J25*$J$3)+(K25*$K$3)+(L25*$L$3)+(M25*$M$3)+(N25*$N$3) -> 0
O26: =SUM(F26:N26) -> 0 | P26: =(D26*$D$3)+(E26*$E$3)+(F26*$F$3)+(G26*$G$3)+(H26*$H$3)+(I26*$I$3)+(J26*$J$3)+(K26*$K$3)+(L26*$L$3)+(M26*$M$3)+(N26*$N$3) -> 0
O27: =SUM(F27:N27) -> 0 | P27: =(D27*$D$3)+(E27*$E$3)+(F27*$F$3)+(G27*$G$3)+(H27*$H$3)+(I27*$I$3)+(J27*$J$3)+(K27*$K$3)+(L27*$L$3)+(M27*$M$3)+(N27*$N$3) -> 0
... O36: =SUM(F36:N36) -> 0 | P36: =(D36*$D$3)+(E36*$E$3)+(F36*$F$3)+(G36*$G$3)+(H36*$H$3)+(I36*$I$3)+(J36*$J$3)+(K36*$K$3)+(L36*$L$3)+(M36*$M$3)+(N36*$N$3) -> 0
B37: TOTAL | C37: =SUM(C15:C36) -> 0 | D37: =SUM(D15:D36) -> 0 | E37: =SUM(E15:E36) -> 0 | F37: =SUM(F15:F36) -> 0 | G37: =SUM(G15:G36) -> 0 | H37: =SUM(H15:H36) -> 0 | I37: =SUM(I15:I36) -> 0 | J37: =SUM(J15:J36) -> 0 | ... P37: =SUM(P15:P36) -> 0
B40: ISKCON DURBAN
B41: Bhakta Justin and Harinam Team | G41: 109 | K41: 6 | N41: 1 | O41: =SUM(F41:N41)+(E41*18)+(D41*9) -> 116 | P41: =(D41*$D$3)+(E41*$E$3)+(F41*$F$3)+(G41*$G$3)+(H41*$H$3)+(I41*$I$3)+(J41*$J$3)+(K41*$K$3)+(L41*$L$3)+(M41*$M$3)+(N41*$N$3) -> 35.25
B42: Vibhu Caitanya Das | D42: 2 | G42: 4 | I42: 2 | K42: 5 | N42: 20 | O42: =SUM(F42:N42)+(E42*18)+(D42*9) -> 49 | P42: =(D42*$D$3)+(E42*$E$3)+(F42*$F$3)+(G42*$G$3)+(H42*$H$3)+(I42*$I$3)+(J42*$J$3)+(K42*$K$3)+(L42*$L$3)+(M42*$M$3)+(N42*$N$3) -> 119
B43: Ramanujacarya Das | M43: 1 | O43: =SUM(F43:N43)+(E43*18)+(D43*9) -> 1 | P43: =(D43*$D$3)+(E43*$E$3)+(F43*$F$3)+(G43*$G$3)+(H43*$H$3)+(I43*$I$3)+(J43*$J$3)+(K43*$K$3)+(L43*$L$3)+(M43*$M$3)+(N43*$N$3) -> 2
B44: Paramatma Das | D44: 1 | O44: =SUM(F44:N44)+(E44*18)+(D44*9) -> 9 | P44: =(D44*$D$3)+(E44*$E$3)+(F44*$F$3)+(G44*$G$3)+(H44*$H$3)+(I44*$I$3)+(J44*$J$3)+(K44*$K$3)+(L44*$L$3)+(M44*$M$3)+(N44*$N$3) -> 36
B45: Srila Prabhupada Prema Namahatta | N45: 55 | O45: =SUM(F45:N45)+(E45*18)+(D45*9) -> 55 | P45: =(D45*$D$3)+(E45*$E$3)+(F45*$F$3)+(G45*$G$3)+(H45*$H$3)+(I45*$I$3)+(J45*$J$3)+(K45*$K$3)+(L45*$L$3)+(M45*$M$3)+(N45*$N$3) -> 110
B46: Govinda Das | G46: 60 | O46: =SUM(F46:N46)+(E46*18)+(D46*9) -> 60 | P46: =(D46*$D$3)+(E46*$E$3)+(F46*$F$3)+(G46*$G$3)+(H46*$H$3)+(I46*$I$3)+(J46*$J$3)+(K46*$K$3)+(L46*$L$3)+(M46*$M$3)+(N46*$N$3) -> 15
B47: Ranga Devi | D47: 1 | O47: =SUM(F47:N47)+(E47*18)+(D47*9) -> 9 | P47: =(D47*$D$3)+(E47*$E$3)+(F47*$F$3)+(G47*$G$3)+(H47*$H$3)+(I47*$I$3)+(J47*$J$3)+(K47*$K$3)+(L47*$L$3)+(M47*$M$3)+(N47*$N$3) -> 36
O48: =SUM(F48:N48) -> 0 | P48: =(D48*$D$3)+(E48*$E$3)+(F48*$F$3)+(G48*$G$3)+(H48*$H$3)+(I48*$I$3)+(J48*$J$3)+(K48*$K$3)+(L48*$L$3)+(M48*$M$3)+(N48*$N$3) -> 0
O49: =SUM(F49:N49) -> 0 | P49: =(D49*$D$3)+(E49*$E$3)+(F49*$F$3)+(G49*$G$3)+(H49*$H$3)+(I49*$I$3)+(J49*$J$3)+(K49*$K$3)+(L49*$L$3)+(M49*$M$3)+(N49*$N$3) -> 0
C50: =SUM(C41:C49) -> 0 | D50: =SUM(D41:D49) -> 4 | E50: =SUM(E41:E49) -> 0 | F50: =SUM(F41:F49) -> 0 | G50: =SUM(G41:G49) -> 173 | H50: =SUM(H41:H49) -> 0 | I50: =SUM(I41:I49) -> 2 | J50: =SUM(J41:J49) -> 0 | ... P50: =SUM(P41:P49) -> 353.25
B53: ISKCON EAST LONDON
B54: Bimal Prabhu | G54: 3 | O54: =SUM(F54:N54)+(E54*18)+(D54*9) -> 3 | P54: =(D54*$D$3)+(E54*$E$3)+(F54*$F$3)+(G54*$G$3)+(H54*$H$3)+(I54*$I$3)+(J54*$J$3)+(K54*$K$3)+(L54*$L$3)+(M54*$M$3)+(N54*$N$3) -> 0.75
B55: Acyuta Kesava Dasa | G55: 5 | K55: 1 | M55: 1 | O55: =SUM(F55:N55) -> 7 | P55: =(D55*$D$3)+(E55*$E$3)+(F55*$F$3)+(G55*$G$3)+(H55*$H$3)+(I55*$I$3)+(J55*$J$3)+(K55*$K$3)+(L55*$L$3)+(M55*$M$3)+(N55*$N$3) -> 4.25
B56: Congregation | F56: 7 | O56: =SUM(F56:N56) -> 7 | P56: =(D56*$D$3)+(E56*$E$3)+(F56*$F$3)+(G56*$G$3)+(H56*$H$3)+(I56*$I$3)+(J56*$J$3)+(K56*$K$3)+(L56*$L$3)+(M56*$M$3)+(N56*$N$3) -> 0.7
O57: =SUM(F57:N57) -> 0 | P57: =(D57*$D$3)+(E57*$E$3)+(F57*$F$3)+(G57*$G$3)+(H57*$H$3)+(I57*$I$3)+(J57*$J$3)+(K57*$K$3)+(L57*$L$3)+(M57*$M$3)+(N57*$N$3) -> 0
B58: TOTAL | C58: =SUM(C54:C57) -> 0 | D58: =SUM(D54:D57) -> 0 | E58: =SUM(E54:E57) -> 0 | F58: =SUM(F54:F57) -> 7 | G58: =SUM(G54:G57) -> 8 | H58: =SUM(H54:H57) -> 0 | I58: =SUM(I54:I57) -> 0 | J58: =SUM(J54:J57) -> 0 | ... P58: =SUM(P54:P57) -> 5.7
B61: ISKCON HAMMANSKRAAL
B62: Temple Scores | O62: =SUM(F62:N62) -> 0 | P62: =(D62*$D$3)+(E62*$E$3)+(F62*$F$3)+(G62*$G$3)+(H62*$H$3)+(I62*$I$3)+(J62*$J$3)+(K62*$K$3)+(L62*$L$3)+(M62*$M$3)+(N62*$N$3) -> 0
O63: =SUM(F63:N63) -> 0 | P63: =(D63*$D$3)+(E63*$E$3)+(F63*$F$3)+(G63*$G$3)+(H63*$H$3)+(I63*$I$3)+(J63*$J$3)+(K63*$K$3)+(L63*$L$3)+(M63*$M$3)+(N63*$N$3) -> 0
B64: TOTAL | C64: =SUM(C63:C63) -> 0 | D64: =SUM(D63:D63) -> 0 | E64: =SUM(E62:E63) -> 0 | F64: =SUM(F62:F63) -> 0 | G64: =SUM(G62:G63) -> 0 | H64: =SUM(H62:H63) -> 0 | I64: =SUM(I62:I63) -> 0 | J64: =SUM(J62:J63) -> 0 | K64: =SUM(K62:K63) -> 0 | L64: =SUM(L62:L63) -> 0 | ... P64: =SUM(P62:P63) -> 0
B67: ISKCON LENASIA
B68: BTG Office | F68: 536 | O68: =SUM(F68:N68) -> 536 | P68: =(D68*$D$3)+(E68*$E$3)+(F68*$F$3)+(G68*$G$3)+(H68*$H$3)+(I68*$I$3)+(J68*$J$3)+(K68*$K$3)+(L68*$L$3)+(M68*$M$3)+(N68*$N$3) -> 53.6
B69: Mukun Kalan Makan | G69: 60 | I69: 10 | K69: 5 | O69: =SUM(F69:N69) -> 75 | P69: =(D69*$D$3)+(E69*$E$3)+(F69*$F$3)+(G69*$G$3)+(H69*$H$3)+(I69*$I$3)+(J69*$J$3)+(K69*$K$3)+(L69*$L$3)+(M69*$M$3)+(N69*$N$3) -> 25
B70: Book Table - Gaura Purnima | G70: 1 | I70: 1 | K70: 1 | N70: 1 | O70: =SUM(F70:N70) -> 4 | P70: =(D70*$D$3)+(E70*$E$3)+(F70*$F$3)+(G70*$G$3)+(H70*$H$3)+(I70*$I$3)+(J70*$J$3)+(K70*$K$3)+(L70*$L$3)+(M70*$M$3)+(N70*$N$3) -> 3.75
O71: =SUM(F71:N71) -> 0 | P71: =(D71*$D$3)+(E71*$E$3)+(F71*$F$3)+(G71*$G$3)+(H71*$H$3)+(I71*$I$3)+(J71*$J$3)+(K71*$K$3)+(L71*$L$3)+(M71*$M$3)+(N71*$N$3) -> 0
B72: TOTAL | C72: =SUM(C68:C71) -> 0 | D72: =SUM(D68:D71) -> 0 | E72: =SUM(E68:E71) -> 0 | F72: =SUM(F68:F71) -> 536 | G72: =SUM(G68:G71) -> 61 | H72: =SUM(H68:H71) -> 0 | I72: =SUM(I68:I71) -> 11 | J72: =SUM(J68:J71) -> 0 | ... P72: =SUM(P68:P71) -> 82.35
B75: ISKCON MIDRAND
B76: Temple Scores | O76: =SUM(F76:N76)+(E76*18)+(D76*9) -> 0 | P76: =(D76*$D$3)+(E76*$E$3)+(F76*$F$3)+(G76*$G$3)+(H76*$H$3)+(I76*$I$3)+(J76*$J$3)+(K76*$K$3)+(L76*$L$3)+(M76*$M$3)+(N76*$N$3) -> 0
O77: =SUM(F77:N77) -> 0 | P77: =(D77*$D$3)+(E77*$E$3)+(F77*$F$3)+(G77*$G$3)+(H77*$H$3)+(I77*$I$3)+(J77*$J$3)+(K77*$K$3)+(L77*$L$3)+(M77*$M$3)+(N77*$N$3) -> 0
O78: =SUM(F78:N78) -> 0 | P78: =(D78*$D$3)+(E78*$E$3)+(F78*$F$3)+(G78*$G$3)+(H78*$H$3)+(I78*$I$3)+(J78*$J$3)+(K78*$K$3)+(L78*$L$3)+(M78*$M$3)+(N78*$N$3) -> 0
B79: TOTAL | C79: =SUM(C76:C78) -> 0 | D79: =SUM(D76:D78) -> 0 | E79: =SUM(E76:E78) -> 0 | F79: =SUM(F76:F78) -> 0 | G79: =SUM(G76:G78) -> 0 | H79: =SUM(H76:H78) -> 0 | I79: =SUM(I76:I78) -> 0 | J79: =SUM(J76:J78) -> 0 | ... P79: =SUM(P76:P78) -> 0
B82: ISKCON MPUMALANGA
O83: =SUM(F83:N83) -> 0 | P83: =(D83*$D$3)+(E83*$E$3)+(F83*$F$3)+(G83*$G$3)+(H83*$H$3)+(I83*$I$3)+(J83*$J$3)+(K83*$K$3)+(L83*$L$3)+(M83*$M$3)+(N83*$N$3) -> 0
O84: =SUM(F84:N84) -> 0 | P84: =(D84*$D$3)+(E84*$E$3)+(F84*$F$3)+(G84*$G$3)+(H84*$H$3)+(I84*$I$3)+(J84*$J$3)+(K84*$K$3)+(L84*$L$3)+(M84*$M$3)+(N84*$N$3) -> 0
B85: TOTAL | C85: =SUM(C83:C84) -> 0 | D85: =SUM(D83:D84) -> 0 | E85: =SUM(E83:E84) -> 0 | F85: =SUM(F83:F84) -> 0 | G85: =SUM(G83:G84) -> 0 | H85: =SUM(H83:H84) -> 0 | I85: =SUM(I83:I84) -> 0 | J85: =SUM(J83:J84) -> 0 | ... P85: =SUM(P83:P84) -> 0
B88: ISKCON PHOENIX
O89: =SUM(F89:N89) -> 0 | P89: =(D89*$D$3)+(E89*$E$3)+(F89*$F$3)+(G89*$G$3)+(H89*$H$3)+(I89*$I$3)+(J89*$J$3)+(K89*$K$3)+(L89*$L$3)+(M89*$M$3)+(N89*$N$3) -> 0
O90: =SUM(F90:N90) -> 0 | P90: =(D90*$D$3)+(E90*$E$3)+(F90*$F$3)+(G90*$G$3)+(H90*$H$3)+(I90*$I$3)+(J90*$J$3)+(K90*$K$3)+(L90*$L$3)+(M90*$M$3)+(N90*$N$3) -> 0
O91: =SUM(F91:N91) -> 0 | P91: =(D91*$D$3)+(E91*$E$3)+(F91*$F$3)+(G91*$G$3)+(H91*$H$3)+(I91*$I$3)+(J91*$J$3)+(K91*$K$3)+(L91*$L$3)+(M91*$M$3)+(N91*$N$3) -> 0
O92: =SUM(F92:N92) -> 0 | P92: =(D92*$D$3)+(E92*$E$3)+(F92*$F$3)+(G92*$G$3)+(H92*$H$3)+(I92*$I$3)+(J92*$J$3)+(K92*$K$3)+(L92*$L$3)+(M92*$M$3)+(N92*$N$3) -> 0
O93: =SUM(F93:N93) -> 0 | P93: =(D93*$D$3)+(E93*$E$3)+(F93*$F$3)+(G93*$G$3)+(H93*$H$3)+(I93*$I$3)+(J93*$J$3)+(K93*$K$3)+(L93*$L$3)+(M93*$M$3)+(N93*$N$3) -> 0
O94: =SUM(F94:N94) -> 0 | P94: =(D94*$D$3)+(E94*$E$3)+(F94*$F$3)+(G94*$G$3)+(H94*$H$3)+(I94*$I$3)+(J94*$J$3)+(K94*$K$3)+(L94*$L$3)+(M94*$M$3)+(N94*$N$3) -> 0
O95: =SUM(F95:N95) -> 0 | P95: =(D95*$D$3)+(E95*$E$3)+(F95*$F$3)+(G95*$G$3)+(H95*$H$3)+(I95*$I$3)+(J95*$J$3)+(K95*$K$3)+(L95*$L$3)+(M95*$M$3)+(N95*$N$3) -> 0
O96: =SUM(F96:N96) -> 0 | P96: =(D96*$D$3)+(E96*$E$3)+(F96*$F$3)+(G96*$G$3)+(H96*$H$3)+(I96*$I$3)+(J96*$J$3)+(K96*$K$3)+(L96*$L$3)+(M96*$M$3)+(N96*$N$3) -> 0
O97: =SUM(F97:N97) -> 0 | P97: =(D97*$D$3)+(E97*$E$3)+(F97*$F$3)+(G97*$G$3)+(H97*$H$3)+(I97*$I$3)+(J97*$J$3)+(K97*$K$3)+(L97*$L$3)+(M97*$M$3)+(N97*$N$3) -> 0
O98: =SUM(F98:N98) -> 0 | P98: =(D98*$D$3)+(E98*$E$3)+(F98*$F$3)+(G98*$G$3)+(H98*$H$3)+(I98*$I$3)+(J98*$J$3)+(K98*$K$3)+(L98*$L$3)+(M98*$M$3)+(N98*$N$3) -> 0
O99: =SUM(F99:N99) -> 0 | P99: =(D99*$D$3)+(E99*$E$3)+(F99*$F$3)+(G99*$G$3)+(H99*$H$3)+(I99*$I$3)+(J99*$J$3)+(K99*$K$3)+(L99*$L$3)+(M99*$M$3)+(N99*$N$3) -> 0
O100: =SUM(F100:N100) -> 0 | P100: =(D100*$D$3)+(E100*$E$3)+(F100*$F$3)+(G100*$G$3)+(H100*$H$3)+(I100*$I$3)+(J100*$J$3)+(K100*$K$3)+(L100*$L$3)+(M100*$M$3)+(N100*$N$3) -> 0
... O112: =SUM(F112:N112) -> 0 | P112: =(D112*$D$3)+(E112*$E$3)+(F112*$F$3)+(G112*$G$3)+(H112*$H$3)+(I112*$I$3)+(J112*$J$3)+(K112*$K$3)+(L112*$L$3)+(M112*$M$3)+(N112*$N$3) -> 0
B113: TOTAL | C113: =SUM(C112:C112) -> 0 | D113: =SUM(D89:D112) -> 0 | E113: =SUM(E89:E112) -> 0 | F113: =SUM(F89:F112) -> 0 | G113: =SUM(G89:G112) -> 0 | H113: =SUM(H89:H112) -> 0 | I113: =SUM(I89:I112) -> 0 | J113: =SUM(J89:J112) -> 0 | K113: =SUM(K89:K112) -> 0 | ... P113: =SUM(P89:P112) -> 0
B116: ISKCON PIETERMARITZBURG
B117: Temple Cumulative scores | O117: =SUM(F117:N117)+(E117*18)+(D117*9) -> 0 | P117: =(D117*$D$3)+(E117*$E$3)+(F117*$F$3)+(G117*$G$3)+(H117*$H$3)+(I117*$I$3)+(J117*$J$3)+(K117*$K$3)+(L117*$L$3)+(M117*$M$3)+(N117*$N$3) -> 0
O118: =SUM(F118:N118) -> 0 | P118: =(D118*$D$3)+(E118*$E$3)+(F118*$F$3)+(G118*$G$3)+(H118*$H$3)+(I118*$I$3)+(J118*$J$3)+(K118*$K$3)+(L118*$L$3)+(M118*$M$3)+(N118*$N$3) -> 0
O119: =SUM(F119:N119) -> 0 | P119: =(D119*$D$3)+(E119*$E$3)+(F119*$F$3)+(G119*$G$3)+(H119*$H$3)+(I119*$I$3)+(J119*$J$3)+(K119*$K$3)+(L119*$L$3)+(M119*$M$3)+(N119*$N$3) -> 0
O120: =SUM(F120:N120) -> 0 | P120: =(D120*$D$3)+(E120*$E$3)+(F120*$F$3)+(G120*$G$3)+(H120*$H$3)+(I120*$I$3)+(J120*$J$3)+(K120*$K$3)+(L120*$L$3)+(M120*$M$3)+(N120*$N$3) -> 0
B121: TOTAL | C121: =SUM(C120:C120) -> 0 | D121: =SUM(D117:D120) -> 0 | E121: =SUM(E117:E120) -> 0 | F121: =SUM(F120:F120) -> 0 | G121: =SUM(G117:G120) -> 0 | H121: =SUM(H117:H120) -> 0 | I121: =SUM(I117:I120) -> 0 | J121: =SUM(J117:J120) -> 0 | K121: =SUM(K117:K120) -> 0 | L121: =SUM(L117:L120) -> 0 | M121: =SUM(M117:M120) -> 0 | N121: =SUM(N117:N120) -> 0 | ... P121: =SUM(P117:P120) -> 0
B124: ISKCON PORT ELIZABETH
O125: =SUM(F125:N125) -> 0 | P125: =(D125*$D$3)+(E125*$E$3)+(F125*$F$3)+(G125*$G$3)+(H125*$H$3)+(I125*$I$3)+(J125*$J$3)+(K125*$K$3)+(L125*$L$3)+(M125*$M$3)+(N125*$N$3) -> 0
O126: =SUM(F126:N126) -> 0 | P126: =(D126*$D$3)+(E126*$E$3)+(F126*$F$3)+(G126*$G$3)+(H126*$H$3)+(I126*$I$3)+(J126*$J$3)+(K126*$K$3)+(L126*$L$3)+(M126*$M$3)+(N126*$N$3) -> 0
O127: =SUM(F127:N127) -> 0 | P127: =(D127*$D$3)+(E127*$E$3)+(F127*$F$3)+(G127*$G$3)+(H127*$H$3)+(I127*$I$3)+(J127*$J$3)+(K127*$K$3)+(L127*$L$3)+(M127*$M$3)+(N127*$N$3) -> 0
B128: TOTAL | C128: =SUM(C127:C127) -> 0 | D128: =SUM(D125:D127) -> 0 | E128: =SUM(E125:E127) -> 0 | F128: =SUM(F127:F127) -> 0 | G128: =SUM(G125:G127) -> 0 | H128: =SUM(H125:H127) -> 0 | I128: =SUM(I125:I127) -> 0 | J128: =SUM(J125:J127) -> 0 | K128: =SUM(K125:K127) -> 0 | L128: =SUM(L125:L127) -> 0 | M128: =SUM(M125:M127) -> 0 | N128: =SUM(N125:N127) -> 0 | ... P128: =SUM(P125:P127) -> 0
B131: ISKCON PRETORIA
B132: Temple Cumulative scores | G132: 100 | N132: 2 | O132: =SUM(F132:N132)+(E132*18)+(D132*9) -> 102 | P132: =(D132*$D$3)+(E132*$E$3)+(F132*$F$3)+(G132*$G$3)+(H132*$H$3)+(I132*$I$3)+(J132*$J$3)+(K132*$K$3)+(L132*$L$3)+(M132*$M$3)+(N132*$N$3) -> 29
O133: =SUM(F133:N133) -> 0 | P133: =(D133*$D$3)+(E133*$E$3)+(F133*$F$3)+(G133*$G$3)+(H133*$H$3)+(I133*$I$3)+(J133*$J$3)+(K133*$K$3)+(L133*$L$3)+(M133*$M$3)+(N133*$N$3) -> 0
O134: =SUM(F134:N134) -> 0 | P134: =(D134*$D$3)+(E134*$E$3)+(F134*$F$3)+(G134*$G$3)+(H134*$H$3)+(I134*$I$3)+(J134*$J$3)+(K134*$K$3)+(L134*$L$3)+(M134*$M$3)+(N134*$N$3) -> 0
B135: TOTAL | C135: =SUM(C134:C134) -> 0 | D135: =SUM(D132:D134) -> 0 | E135: =SUM(E132:E134) -> 0 | F135: =SUM(F134:F134) -> 0 | G135: =SUM(G132:G134) -> 100 | H135: =SUM(H132:H134) -> 0 | I135: =SUM(I132:I134) -> 0 | J135: =SUM(J132:J134) -> 0 | K135: =SUM(K132:K134) -> 0 | L135: =SUM(L132:L134) -> 0 | M135: =SUM(M132:M134) -> 0 | N135: =SUM(N132:N134) -> 2 | ... P135: =SUM(P132:P134) -> 29
B138: ISKCON SANDTON
B139: Sandton BTG team | F139: 145 | O139: =SUM(F139:N139) -> 145 | P139: =(D139*$D$3)+(E139*$E$3)+(F139*$F$3)+(G139*$G$3)+(H139*$H$3)+(I139*$I$3)+(J139*$J$3)+(K139*$K$3)+(L139*$L$3)+(M139*$M$3)+(N139*$N$3) -> 14.5
B140: Damodar das (BCais) | G140: 7 | O140: =SUM(F140:N140) -> 7 | P140: =(D140*$D$3)+(E140*$E$3)+(F140*$F$3)+(G140*$G$3)+(H140*$H$3)+(I140*$I$3)+(J140*$J$3)+(K140*$K$3)+(L140*$L$3)+(M140*$M$3)+(N140*$N$3) -> 1.75
B141: Radhakund devi dasi | G141: 12 | I141: 18 | K141: 3 | O141: =SUM(F141:N141) -> 33 | P141: =(D141*$D$3)+(E141*$E$3)+(F141*$F$3)+(G141*$G$3)+(H141*$H$3)+(I141*$I$3)+(J141*$J$3)+(K141*$K$3)+(L141*$L$3)+(M141*$M$3)+(N141*$N$3) -> 15
B142: Dinesvara Krsna das | K142: 114 | O142: =SUM(F142:N142) -> 114 | P142: =(D142*$D$3)+(E142*$E$3)+(F142*$F$3)+(G142*$G$3)+(H142*$H$3)+(I142*$I$3)+(J142*$J$3)+(K142*$K$3)+(L142*$L$3)+(M142*$M$3)+(N142*$N$3) -> 114
B143: Shobamayi devi dasi | G143: 27 | I143: 9 | K143: 8 | M143: 5 | O143: =SUM(F143:N143)+(E143*18)+(D143*9) -> 49 | P143: =(D143*$D$3)+(E143*$E$3)+(F143*$F$3)+(G143*$G$3)+(H143*$H$3)+(I143*$I$3)+(J143*$J$3)+(K143*$K$3)+(L143*$L$3)+(M143*$M$3)+(N143*$N$3) -> 29.25
B144: Caitanya Swarup das | D144: 1 | E144: 1 | O144: =SUM(F144:N144)+(E144*18)+(D144*9) -> 27 | P144: =(D144*$D$3)+(E144*$E$3)+(F144*$F$3)+(G144*$G$3)+(H144*$H$3)+(I144*$I$3)+(J144*$J$3)+(K144*$K$3)+(L144*$L$3)+(M144*$M$3)+(N144*$N$3) -> 108
B145: Team AGTSP | D145: 2 | G145: 89 | I145: 13 | K145: 9 | M145: 4 | O145: =SUM(F145:N145)+(E145*18)+(D145*9) -> 133 | P145: =(D145*$D$3)+(E145*$E$3)+(F145*$F$3)+(G145*$G$3)+(H145*$H$3)+(I145*$I$3)+(J145*$J$3)+(K145*$K$3)+(L145*$L$3)+(M145*$M$3)+(N145*$N$3) -> 117.75
O146: =SUM(F146:N146) -> 0 | P146: =(D146*$D$3)+(E146*$E$3)+(F146*$F$3)+(G146*$G$3)+(H146*$H$3)+(I146*$I$3)+(J146*$J$3)+(K146*$K$3)+(L146*$L$3)+(M146*$M$3)+(N146*$N$3) -> 0
...

Sheet Tanzania
B2: TEMPLE: Dar es Salaam
B3: MONTH :
C4: BTG Sub | D4: CC Set | E4: SB Set | F4: Mag. | G4: Small Books | I4: Medium Books | K4: Big Books | M4: Maha-Books
D5: 36 | E5: 72 | F5: 0.1 | G5: 0.25 | H5: 0.25 | I5: 0.5 | J5: 0.5 | K5: 1 | L5: 1 | M5: 2 | N5: 2
B6: DEVOTEES | F6: M1 | G6: S1 | H6: H1 | I6: S2 | J6: H2 | K6: S3 | L6: H3 | M6: S4 | N6: H4 | O6: T/BKS | P6: Points
B9: Cumulative Scores | O9: =SUM(F9:N9) -> 0 | P9: =(D9*$D$5)+(E9*$E$5)+(F9*$F$5)+(G9*$G$5)+(H9*$H$5)+(I9*$I$5)+(J9*$J$5)+(K9*$K$5)+(L9*$L$5)+(M9*$M$5)+(N9*$N$5) -> 0
O10: =SUM(F10:N10) -> 0 | P10: =(D10*$D$5)+(E10*$E$5)+(F10*$F$5)+(G10*$G$5)+(H10*$H$5)+(I10*$I$5)+(J10*$J$5)+(K10*$K$5)+(L10*$L$5)+(M10*$M$5)+(N10*$N$5) -> 0
O11: =SUM(F11:N11) -> 0 | P11: =(D11*$D$5)+(E11*$E$5)+(F11*$F$5)+(G11*$G$5)+(H11*$H$5)+(I11*$I$5)+(J11*$J$5)+(K11*$K$5)+(L11*$L$5)+(M11*$M$5)+(N11*$N$5) -> 0
B12: TOTAL | C12: =SUM(C9:C11) -> 0 | D12: =SUM(D9:D11) -> 0 | E12: =SUM(E9:E11) -> 0 | F12: =SUM(F9:F11) -> 0 | G12: =SUM(G9:G11) -> 0 | H12: =SUM(H9:H11) -> 0 | I12: =SUM(I9:I11) -> 0 | J12: =SUM(J9:J11) -> 0 | ... P12: =SUM(P9:P11) -> 0

Sheet Uganda
B2: TEMPLE: Kampala
B3: MONTH :
C4: BTG Sub | D4: CC Set | E4: SB Set | F4: Mag. | G4: Small Books | I4: Medium Books | K4: Big Books | M4: Maha-Books
D5: 36 | E5: 72 | F5: 0.1 | G5: 0.25 | H5: 0.25 | I5: 0.5 | J5: 0.5 | K5: 1 | L5: 1 | M5: 2 | N5: 2
B6: DEVOTEES | F6: M1 | G6: S1 | H6: H1 | I6: S2 | J6: H2 | K6: S3 | L6: H3 | M6: S4 | N6: H4 | O6: T/BKS | P6: Points
O9: =SUM(F9:N9) -> 0 | P9: =(D9*$D$5)+(E9*$E$5)+(F9*$F$5)+(G9*$G$5)+(H9*$H$5)+(I9*$I$5)+(J9*$J$5)+(K9*$K$5)+(L9*$L$5)+(M9*$M$5)+(N9*$N$5) -> 0
O10: =SUM(F10:N10) -> 0 | P10: =(D10*$D$5)+(E10*$E$5)+(F10*$F$5)+(G10*$G$5)+(H10*$H$5)+(I10*$I$5)+(J10*$J$5)+(K10*$K$5)+(L10*$L$5)+(M10*$M$5)+(N10*$N$5) -> 0
O11: =SUM(F11:N11) -> 0 | P11: =(D11*$D$5)+(E11*$E$5)+(F11*$F$5)+(G11*$G$5)+(H11*$H$5)+(I11*$I$5)+(J11*$J$5)+(K11*$K$5)+(L11*$L$5)+(M11*$M$5)+(N11*$N$5) -> 0
B12: TOTAL | C12: =SUM(C9:C11) -> 0 | D12: =SUM(D9:D11) -> 0 | E12: =SUM(E9:E11) -> 0 | F12: =SUM(F9:F11) -> 0 | G12: =SUM(G9:G11) -> 0 | H12: =SUM(H9:H11) -> 0 | I12: =SUM(I9:I11) -> 0 | J12: =SUM(J9:J11) -> 0 | ... P12: =SUM(P9:P11) -> 0

Sheet Zimbabwe
B2: TEMPLE: Zimbabwe
B3: MONTH :
C4: BTG Sub | D4: CC Set | E4: SB Set | F4: Mag. | G4: Small Books | I4: Medium Books | K4: Big Books | M4: Maha-Books
D5: 36 | E5: 72 | F5: 0.1 | G5: 0.25 | H5: 0.25 | I5: 0.5 | J5: 0.5 | K5: 1 | L5: 1 | M5: 2 | N5: 2
B6: DEVOTEES | F6: M1 | G6: S1 | H6: H1 | I6: S2 | J6: H2 | K6: S3 | L6: H3 | M6: S4 | N6: H4 | O6: T/BKS | P6: Points
B9: Cumulative Scores | O9: =SUM(F9:N9) -> 0 | P9: =(D9*$D$5)+(E9*$E$5)+(F9*$F$5)+(G9*$G$5)+(H9*$H$5)+(I9*$I$5)+(J9*$J$5)+(K9*$K$5)+(L9*$L$5)+(M9*$M$5)+(N9*$N$5) -> 0
B11: TOTAL | C11: =SUM(C9:C10) -> 0 | D11: =SUM(D9:D10) -> 0 | E11: =SUM(E9:E10) -> 0 | F11: =SUM(F9:F10) -> 0 | G11: =SUM(G9:G10) -> 0 | H11: =SUM(H9:H10) -> 0 | I11: =SUM(I9:I10) -> 0 | J11: =SUM(J9:J10) -> 0 | ... P11: =SUM(P9:P10) -> 0

Sheet Togo
B2: TEMPLE: Togo
B3: MONTH : March 2022
C4: BTG Sub | D4: CC Set | E4: SB Set | F4: Mag. | G4: Small Books | I4: Medium Books | K4: Big Books | M4: Maha-Books
D5: 36 | E5: 72 | F5: 0.1 | G5: 0.25 | H5: 0.25 | I5: 0.5 | J5: 0.5 | K5: 1 | L5: 1 | M5: 2 | N5: 2
B6: DEVOTEES | F6: M1 | G6: S1 | H6: H1 | I6: S2 | J6: H2 | K6: S3 | L6: H3 | M6: S4 | N6: H4 | O6: T/BKS | P6: Points
B9: Bhakta Aminou | K9: 41 | O9: =SUM(F9:N9) -> 41 | P9: =(D9*$D$5)+(E9*$E$5)+(F9*$F$5)+(G9*$G$5)+(H9*$H$5)+(I9*$I$5)+(J9*$J$5)+(K9*$K$5)+(L9*$L$5)+(M9*$M$5)+(N9*$N$5) -> 41
B10: Akincana das | K10: 13 | O10: =SUM(F10:N10) -> 13 | P10: =(D10*$D$5)+(E10*$E$5)+(F10*$F$5)+(G10*$G$5)+(H10*$H$5)+(I10*$I$5)+(J10*$J$5)+(K10*$K$5)+(L10*$L$5)+(M10*$M$5)+(N10*$N$5) -> 13
B11: Bhakta Eric | K11: 5 | O11: =SUM(F11:N11) -> 5 | P11: =(D11*$D$5)+(E11*$E$5)+(F11*$F$5)+(G11*$G$5)+(H11*$H$5)+(I11*$I$5)+(J11*$J$5)+(K11*$K$5)+(L11*$L$5)+(M11*$M$5)+(N11*$N$5) -> 5
B12: Mother Raisha | K12: 5 | O12: =SUM(F12:N12) -> 5 | P12: =(D12*$D$5)+(E12*$E$5)+(F12*$F$5)+(G12*$G$5)+(H12*$H$5)+(I12*$I$5)+(J12*$J$5)+(K12*$K$5)+(L12*$L$5)+(M12*$M$5)+(N12*$N$5) -> 5
O13: =SUM(F13:N13) -> 0 | P13: =(D13*$D$5)+(E13*$E$5)+(F13*$F$5)+(G13*$G$5)+(H13*$H$5)+(I13*$I$5)+(J13*$J$5)+(K13*$K$5)+(L13*$L$5)+(M13*$M$5)+(N13*$N$5) -> 0
B14: TOTAL | C14: =SUM(C9:C13) -> 0 | D14: =SUM(D9:D13) -> 0 | E14: =SUM(E9:E13) -> 0 | F14: =SUM(F9:F13) -> 0 | G14: =SUM(G9:G13) -> 0 | H14: =SUM(H9:H13) -> 0 | I14: =SUM(I9:I13) -> 0 | J14: =SUM(J9:J13) -> 0 | ... P14: =SUM(P9:P13) -> 64

Sheet Summary
A2: Country | B2: Books: | C2: Points:
A4: DRC | B4: =SUM('Democratic Republic of Congo'!O18) -> 0 | C4: =SUM('Democratic Republic of Congo'!P18) -> 0
A5: Ghana | B5: =SUM(Ghana!O10) -> 76 | C5: =SUM(Ghana!P10) -> 21.05
A6: Ivory Coast | B6: =SUM('Ivory Coast'!O14) -> 0 | C6: =SUM('Ivory Coast'!P14) -> 0
A7: Kenya | B7: =SUM(Kenya!O34) -> 1302 | C7: =SUM(Kenya!P34) -> 620.55
A8: Malawi | B8: =SUM(Malawi!O17) -> 0 | C8: =SUM(Malawi!P17) -> 0
A9: Mauritius | B9: =SUM(Mauritius!O74) -> 3410 | C9: =SUM(Mauritius!P74) -> 1115.75
A10: Nigeria | B10: =SUM(Nigeria!O35) -> 902 | C10: =SUM(Nigeria!P35) -> 425.25
A11: South Africa | B11: =SUM('South Africa'!O156) -> 1541 | C11: =SUM('South Africa'!P156) -> 870.55
A12: Tanzania | B12: =SUM(Tanzania!O12) -> 0 | C12: =SUM(Tanzania!P12) -> 0
A13: Togo | B13: =SUM(Togo!O14) -> 64 | C13: =SUM(Togo!P14) -> 64
A14: Uganda | B14: =SUM(Uganda!O12) -> 0 | C14: =SUM(Uganda!P12) -> 0
A15: Zimbabwe | B15: =SUM(Zimbabwe!O11) -> 0 | C15: =SUM(Zimbabwe!P11) -> 0
A17: Total: | B17: =SUM(B4:B16) -> 7295 | C17: =SUM(C4:C16) -> 3117.15
B25: All Africa Totals
A26: January | B26: 2868
A27: February | B27: 1902
A28: March | B28: =B17 -> 7295
A29: April
A30: May
A31: June
A32: July
A33: August
A34: September
A35: October
A36: November
A37: December

Sheet Graphs
