Workbook
Name Excel_BuiltIn_Print_Area_1: [1]Malawi!#REF!
Name Excel_BuiltIn_Print_Area_1: [1]Malawi!#REF!
Name Excel_BuiltIn_Print_Area_1: [1]Malawi!#REF!
Name Excel_BuiltIn_Print_Area_1: [1]Malawi!#REF!
Name Excel_BuiltIn_Print_Area_1: [1]Malawi!#REF!
Name Excel_BuiltIn_Print_Area_1: [2]Malawi!#REF!
Name Excel_BuiltIn_Print_Area_1: [1]Malawi!#REF!
Name Excel_BuiltIn_Print_Area_1: [1]Malawi!#REF!

Sheet Botswana
B1: TEMPLE: Botswana
B2: MONTH :
C3: BTG Sub | D3: CC Set | E3: SB Set | F3: Mag. | G3: Small Books | I3: Medium Books | K3: Big Books | M3: Maha-Books
D4: 36 | E4: 72 | F4: 0.1 | G4: 0.25 | H4: 0.25 | I4: 0.5 | J4: 0.5 | K4: 1 | L4: 1 | M4: 2 | N4: 2
B5: DEVOTEES | F5: M1 | G5: S1 | H5: H1 | I5: S2 | J5: H2 | K5: S3 | L5: H3 | M5: S4 | N5: H4 | O5: T/BKS | P5: Points
O8: =SUM(F8:N8) -> 0 | P8: =(D8*$D$4)+(E8*$E$4)+(F8*$F$4)+(G8*$G$4)+(H8*$H$4)+(I8*$I$4)+(J8*$J$4)+(K8*$K$4)+(L8*$L$4)+(M8*$M$4)+(N8*$N$4) -> 0
O9: =SUM(F9:N9) -> 0 | P9: =(D9*$D$4)+(E9*$E$4)+(F9*$F$4)+(G9*$G$4)+(H9*$H$4)+(I9*$I$4)+(J9*$J$4)+(K9*$K$4)+(L9*$L$4)+(M9*$M$4)+(N9*$N$4) -> 0
O10: =SUM(F10:N10) -> 0 | P10: =(D10*$D$4)+(E10*$E$4)+(F10*$F$4)+(G10*$G$4)+(H10*$H$4)+(I10*$I$4)+(J10*$J$4)+(K10*$K$4)+(L10*$L$4)+(M10*$M$4)+(N10*$N$4) -> 0
O11: =SUM(F11:N11) -> 0 | P11: =(D11*$D$4)+(E11*$E$4)+(F11*$F$4)+(G11*$G$4)+(H11*$H$4)+(I11*$I$4)+(J11*$J$4)+(K11*$K$4)+(L11*$L$4)+(M11*$M$4)+(N11*$N$4) -> 0
O12: =SUM(F12:N12) -> 0 | P12: =(D12*$D$4)+(E12*$E$4)+(F12*$F$4)+(G12*$G$4)+(H12*$H$4)+(I12*$I$4)+(J12*$J$4)+(K12*$K$4)+(L12*$L$4)+(M12*$M$4)+(N12*$N$4) -> 0
B13: TOTAL | C13: =SUM(C8:C12) -> 0 | D13: =SUM(D8:D12) -> 0 | E13: =SUM(E8:E12) -> 0 | F13: =SUM(F8:F12) -> 0 | G13: =SUM(G8:G12) -> 0 | H13: =SUM(H8:H12) -> 0 | I13: =SUM(I8:I12) -> 0 | J13: =SUM(J8:J12) -> 0 | ... P13: =SUM(P8:P12) -> 0

Sheet Democratic Republic of Congo
B2: TEMPLE: Kinshasa
B3: MONTH :
C4: BTG Sub | D4: CC Set | E4: SB Set | F4: Mag. | G4: Small Books | I4: Medium Books | K4: Big Books | M4: Maha-Books
D5: 36 | E5: 72 | F5: 0.1 | G5: 0.25 | H5: 0.25 | I5: 0.5 | J5: 0.5 | K5: 1 | L5: 1 | M5: 2 | N5: 2
B6: DEVOTEES | F6: M1 | G6: S1 | H6: H1 | I6: S2 | J6: H2 | K6: S3 | L6: H3 | M6: S4 | N6: H4 | O6: T/BKS | P6: Points
O9: =SUM(F9:N9) -> 0 | P9: =(D9*$D$5)+(E9*$E$5)+(F9*$F$5)+(G9*$G$5)+(H9*$H$5)+(I9*$I$5)+(J9*$J$5)+(K9*$K$5)+(L9*$L$5)+(M9*$M$5)+(N9*$N$5) -> 0
O10: =SUM(F10:N10) -> 0 | P10: =(D10*$D$5)+(E10*$E$5)+(F10*$F$5)+(G10*$G$5)+(H10*$H$5)+(I10*$I$5)+(J10*$J$5)+(K10*$K$5)+(L10*$L$5)+(M10*$M$5)+(N10*$N$5) -> 0
O11: =SUM(F11:N11) -> 0 | P11: =(F11*$F$5)+(G11*$G$5)+(H11*$H$5)+(I11*$I$5)+(J11*$J$5)+(K11*$K$5)+(L11*$L$5)+(M11*$M$5)+(N11*$N$5) -> 0
O12: =SUM(F12:N12) -> 0 | P12: =(F12*$F$5)+(G12*$G$5)+(H12*$H$5)+(I12*$I$5)+(J12*$J$5)+(K12*$K$5)+(L12*$L$5)+(M12*$M$5)+(N12*$N$5) -> 0
O13: =SUM(F13:N13) -> 0 | P13: =(F13*$F$5)+(G13*$G$5)+(H13*$H$5)+(I13*$I$5)+(J13*$J$5)+(K13*$K$5)+(L13*$L$5)+(M13*$M$5)+(N13*$N$5) -> 0
O14: =SUM(F14:N14) -> 0 | P14: =(F14*$F$5)+(G14*$G$5)+(H14*$H$5)+(I14*$I$5)+(J14*$J$5)+(K14*$K$5)+(L14*$L$5)+(M14*$M$5)+(N14*$N$5) -> 0
O15: =SUM(F15:N15) -> 0 | P15: =(F15*$F$5)+(G15*$G$5)+(H15*$H$5)+(I15*$I$5)+(J15*$J$5)+(K15*$K$5)+(L15*$L$5)+(M15*$M$5)+(N15*$N$5) -> 0
O16: =SUM(F16:N16) -> 0 | P16: =(F16*$F$5)+(G16*$G$5)+(H16*$H$5)+(I16*$I$5)+(J16*$J$5)+(K16*$K$5)+(L16*$L$5)+(M16*$M$5)+(N16*$N$5) -> 0
O17: =SUM(F17:N17) -> 0 | P17: =(F17*$F$5)+(G17*$G$5)+(H17*$H$5)+(I17*$I$5)+(J17*$J$5)+(K17*$K$5)+(L17*$L$5)+(M17*$M$5)+(N17*$N$5) -> 0
B18: TOTAL | C18: =SUM(C9:C17) -> 0 | D18: =SUM(D9:D17) -> 0 | E18: =SUM(E9:E17) -> 0 | F18: =SUM(F9:F17) -> 0 | G18: =SUM(G9:G17) -> 0 | H18: =SUM(H9:H17) -> 0 | I18: =SUM(I9:I17) -> 0 | J18: =SUM(J9:J17) -> 0 | ... P18: =SUM(P9:P17) -> 0

Sheet Ghana
B2: TEMPLE: Accra
B3: MONTH : August 2021
C4: BTG Sub | D4: CC Set | E4: SB Set | F4: Mag. | G4: Small Books | I4: Medium Books | K4: Big Books | M4: Maha-Books
D5: 36 | E5: 72 | F5: 0.1 | G5: 0.25 | H5: 0.25 | I5: 0.5 | J5: 0.5 | K5: 1 | L5: 1 | M5: 2 | N5: 2
B6: DEVOTEES | F6: M1 | G6: S1 | H6: H1 | I6: S2 | J6: H2 | K6: S3 | L6: H3 | M6: S4 | N6: H4 | O6: T/BKS | P6: Points
B9: Cumulative Scores | G9: 83 | O9: =SUM(F9:N9) -> 83 | P9: =(D9*$D$5)+(E9*$E$5)+(F9*$F$5)+(G9*$G$5)+(H9*$H$5)+(I9*$I$5)+(J9*$J$5)+(K9*$K$5)+(L9*$L$5)+(M9*$M$5)+(N9*$N$5) -> 20.75
B11: TOTAL | C11: =SUM(C9:C10) -> 0 | D11: =SUM(D9:D10) -> 0 | E11: =SUM(E9:E10) -> 0 | F11: =SUM(F9:F10) -> 0 | G11: =SUM(G9:G10) -> 83 | H11: =SUM(H9:H10) -> 0 | I11: =SUM(I9:I10) -> 0 | J11: =SUM(J9:J10) -> 0 | ... P11: =SUM(P9:P10) -> 20.75

Sheet Ivory Coast
B2: TEMPLE: Ivory Coast
B3: MONTH :
C4: BTG Sub | D4: CC Set | E4: SB Set | F4: Mag. | G4: Small Books | I4: Medium Books | K4: Big Books | M4: Maha-Books
D5: 36 | E5: 72 | F5: 0.1 | G5: 0.25 | H5: 0.25 | I5: 0.5 | J5: 0.5 | K5: 1 | L5: 1 | M5: 2 | N5: 2
B6: DEVOTEES | F6: M1 | G6: S1 | H6: H1 | I6: S2 | J6: H2 | K6: S3 | L6: H3 | M6: S4 | N6: H4 | O6: T/BKS | P6: Points
O9: =SUM(F9:N9) -> 0 | P9: =(D9*$D$5)+(E9*$E$5)+(F9*$F$5)+(G9*$G$5)+(H9*$H$5)+(I9*$I$5)+(J9*$J$5)+(K9*$K$5)+(L9*$L$5)+(M9*$M$5)+(N9*$N$5) -> 0
O10: =SUM(F10:N10) -> 0 | P10: =(D10*$D$5)+(E10*$E$5)+(F10*$F$5)+(G10*$G$5)+(H10*$H$5)+(I10*$I$5)+(J10*$J$5)+(K10*$K$5)+(L10*$L$5)+(M10*$M$5)+(N10*$N$5) -> 0
O11: =SUM(F11:N11) -> 0 | P11: =(D11*$D$5)+(E11*$E$5)+(F11*$F$5)+(G11*$G$5)+(H11*$H$5)+(I11*$I$5)+(J11*$J$5)+(K11*$K$5)+(L11*$L$5)+(M11*$M$5)+(N11*$N$5) -> 0
O12: =SUM(F12:N12) -> 0 | P12: =(D12*$D$5)+(E12*$E$5)+(F12*$F$5)+(G12*$G$5)+(H12*$H$5)+(I12*$I$5)+(J12*$J$5)+(K12*$K$5)+(L12*$L$5)+(M12*$M$5)+(N12*$N$5) -> 0
O13: =SUM(F13:N13) -> 0 | P13: =(D13*$D$5)+(E13*$E$5)+(F13*$F$5)+(G13*$G$5)+(H13*$H$5)+(I13*$I$5)+(J13*$J$5)+(K13*$K$5)+(L13*$L$5)+(M13*$M$5)+(N13*$N$5) -> 0
B14: TOTAL | C14: =SUM(C9:C13) -> 0 | D14: =SUM(D9:D13) -> 0 | E14: =SUM(E9:E13) -> 0 | F14: =SUM(F9:F13) -> 0 | G14: =SUM(G9:G13) -> 0 | H14: =SUM(H9:H13) -> 0 | I14: =SUM(I9:I13) -> 0 | J14: =SUM(J9:J13) -> 0 | ... P14: =SUM(P9:P13) -> 0

Sheet Kenya
B2: MONTH :
C3: BTG Sub | D3: CC Set | E3: SB Set | F3: mag | G3: Small Books | I3: Medium Books | K3: Big Books | M3: Maha-Books
D4: 36 | E4: 72 | F4: 0.1 | G4: 0.25 | H4: 0.25 | I4: 0.5 | J4: 0.5 | K4: 1 | L4: 1 | M4: 2 | N4: 2
B5: DEVOTEES | F5: M1 | G5: S1 | H5: H1 | I5: S2 | J5: H2 | K5: S3 | L5: H3 | M5: S4 | N5: H4 | O5: T/BKS | P5: Points
B7: Iskcon Nairobi
O8: =SUM(F8:N8) -> 0 | P8: =(D8*$D$4)+(E8*$E$4)+(F8*$F$4)+(G8*$G$4)+(H8*$H$4)+(I8*$I$4)+(J8*$J$4)+(K8*$K$4)+(L8*$L$4)+(M8*$M$4)+(N8*$N$4) -> 0
O9: =SUM(F9:N9) -> 0 | P9: =(D9*$D$4)+(E9*$E$4)+(F9*$F$4)+(G9*$G$4)+(H9*$H$4)+(I9*$I$4)+(J9*$J$4)+(K9*$K$4)+(L9*$L$4)+(M9*$M$4)+(N9*$N$4) -> 0
O10: =SUM(F10:N10) -> 0 | P10: =(D10*$D$4)+(E10*$E$4)+(F10*$F$4)+(G10*$G$4)+(H10*$H$4)+(I10*$I$4)+(J10*$J$4)+(K10*$K$4)+(L10*$L$4)+(M10*$M$4)+(N10*$N$4) -> 0
O11: =SUM(F11:N11) -> 0 | P11: =(D11*$D$4)+(E11*$E$4)+(F11*$F$4)+(G11*$G$4)+(H11*$H$4)+(I11*$I$4)+(J11*$J$4)+(K11*$K$4)+(L11*$L$4)+(M11*$M$4)+(N11*$N$4) -> 0
O12: =SUM(F12:N12) -> 0 | P12: =(D12*$D$4)+(E12*$E$4)+(F12*$F$4)+(G12*$G$4)+(H12*$H$4)+(I12*$I$4)+(J12*$J$4)+(K12*$K$4)+(L12*$L$4)+(M12*$M$4)+(N12*$N$4) -> 0
O13: =SUM(F13:N13) -> 0 | P13: =(D13*$D$4)+(E13*$E$4)+(F13*$F$4)+(G13*$G$4)+(H13*$H$4)+(I13*$I$4)+(J13*$J$4)+(K13*$K$4)+(L13*$L$4)+(M13*$M$4)+(N13*$N$4) -> 0
O14: =SUM(F14:N14) -> 0 | P14: =(D14*$D$4)+(E14*$E$4)+(F14*$F$4)+(G14*$G$4)+(H14*$H$4)+(I14*$I$4)+(J14*$J$4)+(K14*$K$4)+(L14*$L$4)+(M14*$M$4)+(N14*$N$4) -> 0
O15: =SUM(F15:N15) -> 0 | P15: =(D15*$D$4)+(E15*$E$4)+(F15*$F$4)+(G15*$G$4)+(H15*$H$4)+(I15*$I$4)+(J15*$J$4)+(K15*$K$4)+(L15*$L$4)+(M15*$M$4)+(N15*$N$4) -> 0
O16: =SUM(F16:N16) -> 0 | P16: =(D16*$D$4)+(E16*$E$4)+(F16*$F$4)+(G16*$G$4)+(H16*$H$4)+(I16*$I$4)+(J16*$J$4)+(K16*$K$4)+(L16*$L$4)+(M16*$M$4)+(N16*$N$4) -> 0
O17: =SUM(F17:N17) -> 0 | P17: =(D17*$D$4)+(E17*$E$4)+(F17*$F$4)+(G17*$G$4)+(H17*$H$4)+(I17*$I$4)+(J17*$J$4)+(K17*$K$4)+(L17*$L$4)+(M17*$M$4)+(N17*$N$4) -> 0
O18: =SUM(F18:N18) -> 0 | P18: =(D18*$D$4)+(E18*$E$4)+(F18*$F$4)+(G18*$G$4)+(H18*$H$4)+(I18*$I$4)+(J18*$J$4)+(K18*$K$4)+(L18*$L$4)+(M18*$M$4)+(N18*$N$4) -> 0
O19: =SUM(F19:N19) -> 0 | P19: =(D19*$D$4)+(E19*$E$4)+(F19*$F$4)+(G19*$G$4)+(H19*$H$4)+(I19*$I$4)+(J19*$J$4)+(K19*$K$4)+(L19*$L$4)+(M19*$M$4)+(N19*$N$4) -> 0
O20: =SUM(F20:N20) -> 0 | P20: =(D20*$D$4)+(E20*$E$4)+(F20*$F$4)+(G20*$G$4)+(H20*$H$4)+(I20*$I$4)+(J20*$J$4)+(K20*$K$4)+(L20*$L$4)+(M20*$M$4)+(N20*$N$4) -> 0
B21: TOTAL | C21: =SUM(C8:C20) -> 0 | D21: =SUM(D8:D20) -> 0 | E21: =SUM(E8:E20) -> 0 | F21: =SUM(F8:F20) -> 0 | G21: =SUM(G8:G20) -> 0 | H21: =SUM(H8:H20) -> 0 | I21: =SUM(I8:I20) -> 0 | J21: =SUM(J8:J20) -> 0 | ... P21: =SUM(P8:P20) -> 0
B24: Iskcon Kisumu
O25: =SUM(F25:N25) -> 0 | P25: =(D25*$D$4)+(E25*$E$4)+(F25*$F$4)+(G25*$G$4)+(H25*$H$4)+(I25*$I$4)+(J25*$J$4)+(K25*$K$4)+(L25*$L$4)+(M25*$M$4)+(N25*$N$4) -> 0
O26: =SUM(F26:N26) -> 0 | P26: =(D26*$D$4)+(E26*$E$4)+(F26*$F$4)+(G26*$G$4)+(H26*$H$4)+(I26*$I$4)+(J26*$J$4)+(K26*$K$4)+(L26*$L$4)+(M26*$M$4)+(N26*$N$4) -> 0
B27: TOTAL | C27: =SUM(C25:C26) -> 0 | D27: =SUM(D25:D26) -> 0 | E27: =SUM(E25:E26) -> 0 | F27: =SUM(F25:F26) -> 0 | G27: =SUM(G25:G26) -> 0 | H27: =SUM(H25:H26) -> 0 | I27: =SUM(I25:I26) -> 0 | J27: =SUM(J25:J26) -> 0 | ... P27: =SUM(P25:P26) -> 0
B30: Iskcon Mombassa
O31: =SUM(F31:N31) -> 0 | P31: =(D31*$D$4)+(E31*$E$4)+(F31*$F$4)+(G31*$G$4)+(H31*$H$4)+(I31*$I$4)+(J31*$J$4)+(K31*$K$4)+(L31*$L$4)+(M31*$M$4)+(N31*$N$4) -> 0
O32: =SUM(F32:N32) -> 0 | P32: =(D32*$D$4)+(E32*$E$4)+(F32*$F$4)+(G32*$G$4)+(H32*$H$4)+(I32*$I$4)+(J32*$J$4)+(K32*$K$4)+(L32*$L$4)+(M32*$M$4)+(N32*$N$4) -> 0
O33: =SUM(C33:N33) -> 0 | P33: =(D33*$D$4)+(E33*$E$4)+(F33*$F$4)+(G33*$G$4)+(H33*$H$4)+(I33*$I$4)+(J33*$J$4)+(K33*$K$4)+(L33*$L$4)+(M33*$M$4)+(N33*$N$4) -> 0
B34: TOTAL | C34: =SUM(C31:C32) -> 0 | D34: =SUM(D31:D32) -> 0 | E34: =SUM(E31:E32) -> 0 | F34: =SUM(F31:F33) -> 0 | G34: =SUM(G31:G33) -> 0 | H34: =SUM(H31:H33) -> 0 | I34: =SUM(I31:I33) -> 0 | J34: =SUM(J31:J33) -> 0 | K34: =SUM(K31:K33) -> 0 | L34: =SUM(L31:L33) -> 0 | M34: =SUM(M31:M33) -> 0 | ... P34: =SUM(P31:P33) -> 0
N36: Total: | O36: =SUM(O21+O27+O34) -> 0 | P36: =SUM(P21+P27+P34) -> 0

Sheet Mauritius
B2: MONTH : | C2: BTG Sub | D2: CC Set | E2: SB Set | F2: Mag. | G2: Small Books | I2: Medium Books | K2: Big Books | M2: Maha-Books
D3: 36 | E3: 72 | F3: 0.1 | G3: 0.25 | H3: 0.25 | I3: 0.5 | J3: 0.5 | K3: 1 | L3: 1 | M3: 2 | N3: 2
B4: DEVOTEES | F4: M1 | G4: S1 | H4: H1 | I4: S2 | J4: H2 | K4: S3 | L4: H3 | M4: S4 | N4: H4 | O4: T/BKS | P4: Points
B6: ISKCON Phoenix Sri Sri Radha Gokulananda Mandir
B7: Danghati lila devi dasi | O7: =SUM(F7:N7) -> 0 | P7: =(D7*$D$3)+(E7*$E$3)+(F7*$F$3)+(G7*$G$3)+(H7*$H$3)+(I7*$I$3)+(J7*$J$3)+(K7*$K$3)+(L7*$L$3)+(M7*$M$3)+(N7*$N$3) -> 0
B8: Taruna mataji | O8: =SUM(F8:N8) -> 0 | P8: =(D8*$D$3)+(E8*$E$3)+(F8*$F$3)+(G8*$G$3)+(H8*$H$3)+(I8*$I$3)+(J8*$J$3)+(K8*$K$3)+(L8*$L$3)+(M8*$M$3)+(N8*$N$3) -> 0
B9: Vinata devi dasi | O9: =SUM(F9:N9) -> 0 | P9: =(D9*$D$3)+(E9*$E$3)+(F9*$F$3)+(G9*$G$3)+(H9*$H$3)+(I9*$I$3)+(J9*$J$3)+(K9*$K$3)+(L9*$L$3)+(M9*$M$3)+(N9*$N$3) -> 0
B10: Charoubala devi dasi | O10: =SUM(F10:N10) -> 0 | P10: =(D10*$D$3)+(E10*$E$3)+(F10*$F$3)+(G10*$G$3)+(H10*$H$3)+(I10*$I$3)+(J10*$J$3)+(K10*$K$3)+(L10*$L$3)+(M10*$M$3)+(N10*$N$3) -> 0
B11: Mahajana Dasa | O11: =SUM(F11:N11) -> 0 | P11: =(D11*$D$3)+(E11*$E$3)+(F11*$F$3)+(G11*$G$3)+(H11*$H$3)+(I11*$I$3)+(J11*$J$3)+(K11*$K$3)+(L11*$L$3)+(M11*$M$3)+(N11*$N$3) -> 0
B12: Swasty devi dasi | O12: =SUM(F12:N12) -> 0 | P12: =(D12*$D$3)+(E12*$E$3)+(F12*$F$3)+(G12*$G$3)+(H12*$H$3)+(I12*$I$3)+(J12*$J$3)+(K12*$K$3)+(L12*$L$3)+(M12*$M$3)+(N12*$N$3) -> 0
B13: Nara Narayana Dasa | O13: =SUM(F13:N13) -> 0 | P13: =(D13*$D$3)+(E13*$E$3)+(F13*$F$3)+(G13*$G$3)+(H13*$H$3)+(I13*$I$3)+(J13*$J$3)+(K13*$K$3)+(L13*$L$3)+(M13*$M$3)+(N13*$N$3) -> 0
B14: Akuti devi dasi | O14: =SUM(F14:N14) -> 0 | P14: =(D14*$D$3)+(E14*$E$3)+(F14*$F$3)+(G14*$G$3)+(H14*$H$3)+(I14*$I$3)+(J14*$J$3)+(K14*$K$3)+(L14*$L$3)+(M14*$M$3)+(N14*$N$3) -> 0
B15: Amit prabhu | O15: =SUM(F15:N15) -> 0 | P15: =(D15*$D$3)+(E15*$E$3)+(F15*$F$3)+(G15*$G$3)+(H15*$H$3)+(I15*$I$3)+(J15*$J$3)+(K15*$K$3)+(L15*$L$3)+(M15*$M$3)+(N15*$N$3) -> 0
B16: Radhastami | O16: =SUM(F16:N16) -> 0 | P16: =(D16*$D$3)+(E16*$E$3)+(F16*$F$3)+(G16*$G$3)+(H16*$H$3)+(I16*$I$3)+(J16*$J$3)+(K16*$K$3)+(L16*$L$3)+(M16*$M$3)+(N16*$N$3) -> 0
B17: Nityananda Kripa Devi Dasi | O17: =SUM(F17:N17) -> 0 | P17: =(D17*$D$3)+(E17*$E$3)+(F17*$F$3)+(G17*$G$3)+(H17*$H$3)+(I17*$I$3)+(J17*$J$3)+(K17*$K$3)+(L17*$L$3)+(M17*$M$3)+(N17*$N$3) -> 0
B18: Sri Manjari Devi Dasi | O18: =SUM(F18:N18) -> 0 | P18: =(D18*$D$3)+(E18*$E$3)+(F18*$F$3)+(G18*$G$3)+(H18*$H$3)+(I18*$I$3)+(J18*$J$3)+(K18*$K$3)+(L18*$L$3)+(M18*$M$3)+(N18*$N$3) -> 0
B19: Gaurangi devi dasi | O19: =SUM(F19:N19) -> 0 | P19: =(D19*$D$3)+(E19*$E$3)+(F19*$F$3)+(G19*$G$3)+(H19*$H$3)+(I19*$I$3)+(J19*$J$3)+(K19*$K$3)+(L19*$L$3)+(M19*$M$3)+(N19*$N$3) -> 0
O20: =SUM(F20:N20) -> 0 | P20: =(D20*$D$3)+(E20*$E$3)+(F20*$F$3)+(G20*$G$3)+(H20*$H$3)+(I20*$I$3)+(J20*$J$3)+(K20*$K$3)+(L20*$L$3)+(M20*$M$3)+(N20*$N$3) -> 0
B21: TOTAL | C21: =SUM(C7:C20) -> 0 | D21: =SUM(D7:D20) -> 0 | E21: =SUM(E7:E20) -> 0 | F21: =SUM(F7:F20) -> 0 | G21: =SUM(G7:G20) -> 0 | H21: =SUM(H7:H20) -> 0 | I21: =SUM(I7:I20) -> 0 | J21: =SUM(J7:J20) -> 0 | ... P21: =SUM(P7:P20) -> 0
B24: ISKCON Bon Accueil Mauritius Sri Sri Krsna Balaram Mandir
B25: Cumulative Scores | O25: =SUM(F25:N25) -> 0 | P25: =(D25*$D$3)+(E25*$E$3)+(F25*$F$3)+(G25*$G$3)+(H25*$H$3)+(I25*$I$3)+(J25*$J$3)+(K25*$K$3)+(L25*$L$3)+(M25*$M$3)+(N25*$N$3) -> 0
O26: =SUM(F26:N26) -> 0 | P26: =(D26*$D$3)+(E26*$E$3)+(F26*$F$3)+(G26*$G$3)+(H26*$H$3)+(I26*$I$3)+(J26*$J$3)+(K26*$K$3)+(L26*$L$3)+(M26*$M$3)+(N26*$N$3) -> 0
O27: =SUM(F27:N27) -> 0 | P27: =(D27*$D$3)+(E27*$E$3)+(F27*$F$3)+(G27*$G$3)+(H27*$H$3)+(I27*$I$3)+(J27*$J$3)+(K27*$K$3)+(L27*$L$3)+(M27*$M$3)+(N27*$N$3) -> 0
B28: TOTAL | C28: =SUM(C25:C27) -> 0 | D28: =SUM(D25:D27) -> 0 | E28: =SUM(E25:E27) -> 0 | F28: =SUM(F25:F27) -> 0 | G28: =SUM(G25:G27) -> 0 | H28: =SUM(H25:H27) -> 0 | I28: =SUM(I25:I27) -> 0 | J28: =SUM(J25:J27) -> 0 | ... P28: =SUM(P25:P27) -> 0
M31: TOTAL | O31: =+O28+O21 -> 0 | P31: =+P28+P21 -> 0

Sheet Nigeria
B1: MONTH : August 2021
C2: BTG Sub | D2: CC Set | E2: SB Set | F2: Mag. | G2: Small Books | I2: Medium Books | K2: Big Books | M2: Maha-Books
D3: 36 | E3: 72 | F3: 0.1 | G3: 0.25 | H3: 0.25 | I3: 0.5 | J3: 0.5 | K3: 1 | L3: 1 | M3: 2 | N3: 2
B4: DEVOTEES | F4: M1 | G4: S1 | H4: H1 | I4: S2 | J4: H2 | K4: S3 | L4: H3 | M4: S4 | N4: H4 | O4: T/BKS | P4: Points
B6: ISKCON BENIN CITY
B7: Temple Cumulative Scores | G7: 52 | O7: =SUM(C7:N7) -> 52 | P7: =(D7*$D$3)+(E7*$E$3)+(F7*$F$3)+(G7*$G$3)+(H7*$H$3)+(I7*$I$3)+(J7*$J$3)+(K7*$K$3)+(L7*$L$3)+(M7*$M$3)+(N7*$N$3) -> 13
O8: =SUM(F8:N8) -> 0 | P8: =(D8*$D$3)+(E8*$E$3)+(F8*$F$3)+(G8*$G$3)+(H8*$H$3)+(I8*$I$3)+(J8*$J$3)+(K8*$K$3)+(L8*$L$3)+(M8*$M$3)+(N8*$N$3) -> 0
O9: =SUM(F9:N9) -> 0 | P9: =(D9*$D$3)+(E9*$E$3)+(F9*$F$3)+(G9*$G$3)+(H9*$H$3)+(I9*$I$3)+(J9*$J$3)+(K9*$K$3)+(L9*$L$3)+(M9*$M$3)+(N9*$N$3) -> 0
B10: TOTAL | C10: =SUM(C7:C9) -> 0 | D10: =SUM(D7:D9) -> 0 | E10: =SUM(E7:E9) -> 0 | F10: =SUM(F7:F9) -> 0 | G10: =SUM(G7:G9) -> 52 | H10: =SUM(H7:H9) -> 0 | I10: =SUM(I7:I9) -> 0 | J10: =SUM(J7:J9) -> 0 | ... P10: =SUM(P7:P9) -> 13
B13: ISKCON LAGOS
B14: Temple Cumulative Scores | G14: 75 | L14: 90 | O14: =SUM(F14:N14) -> 165 | P14: =(D14*$D$3)+(E14*$E$3)+(F14*$F$3)+(G14*$G$3)+(H14*$H$3)+(I14*$I$3)+(J14*$J$3)+(K14*$K$3)+(L14*$L$3)+(M14*$M$3)+(N14*$N$3) -> 108.75
O15: =SUM(F15:N15) -> 0 | P15: =(D15*$D$3)+(E15*$E$3)+(F15*$F$3)+(G15*$G$3)+(H15*$H$3)+(I15*$I$3)+(J15*$J$3)+(K15*$K$3)+(L15*$L$3)+(M15*$M$3)+(N15*$N$3) -> 0
B16: TOTAL | C16: =SUM(C14:C15) -> 0 | D16: =SUM(D14:D15) -> 0 | E16: =SUM(E14:E15) -> 0 | F16: =SUM(F14:F15) -> 0 | G16: =SUM(G14:G15) -> 75 | H16: =SUM(H14:H15) -> 0 | I16: =SUM(I14:I15) -> 0 | J16: =SUM(J14:J15) -> 0 | ... P16: =SUM(P14:P15) -> 108.75
B19: ISKCON KADUNA
B20: Temple Scores | G20: 20 | L20: 31 | O20: =SUM(F20:N20) -> 51 | P20: =(D20*$D$3)+(E20*$E$3)+(F20*$F$3)+(G20*$G$3)+(H20*$H$3)+(I20*$I$3)+(J20*$J$3)+(K20*$K$3)+(L20*$L$3)+(M20*$M$3)+(N20*$N$3) -> 36
O21: =SUM(F21:N21) -> 0 | P21: =(D21*$D$3)+(E21*$E$3)+(F21*$F$3)+(G21*$G$3)+(H21*$H$3)+(I21*$I$3)+(J21*$J$3)+(K21*$K$3)+(L21*$L$3)+(M21*$M$3)+(N21*$N$3) -> 0
O22: =SUM(F22:N22) -> 0 | P22: =(D22*$D$3)+(E22*$E$3)+(F22*$F$3)+(G22*$G$3)+(H22*$H$3)+(I22*$I$3)+(J22*$J$3)+(K22*$K$3)+(L22*$L$3)+(M22*$M$3)+(N22*$N$3) -> 0
B23: TOTAL | C23: =SUM(C21:C22) -> 0 | D23: =SUM(D20:D22) -> 0 | E23: =SUM(E20:E22) -> 0 | F23: =SUM(F21:F22) -> 0 | G23: =SUM(G20:G22) -> 20 | H23: =SUM(H20:H22) -> 0 | I23: =SUM(I20:I22) -> 0 | J23: =SUM(J20:J22) -> 0 | K23: =SUM(K20:K22) -> 0 | L23: =SUM(L20:L22) -> 31 | M23: =SUM(M20:M22) -> 0 | N23: =SUM(N20:N22) -> 0 | ... P23: =SUM(P20:P22) -> 36
M27: TOTAL | O27: =O23+O16+O10 -> 268 | P27: =P23+P16+P10 -> 157.75

Sheet South Africa
B1: MONTH : August 2021
C2: BTG Sub | D2: CC Set | E2: SB Set | F2: Mag. | G2: Small Books | I2: Medium Books | K2: Big Books | M2: Maha-Books
D3: 36 | E3: 72 | F3: 0.1 | G3: 0.25 | H3: 0.25 | I3: 0.5 | J3: 0.5 | K3: 1 | L3: 1 | M3: 2 | N3: 2
B4: DEVOTEES | F4: M1 | G4: S1 | H4: H1 | I4: S2 | J4: H2 | K4: S3 | L4: H3 | M4: S4 | N4: H4 | O4: T/BKS | P4: Points
B7: Bhakti Lounge Johannesburg
O8: =SUM(F8:N8) -> 0 | P8: =(D8*$D$3)+(E8*$E$3)+(F8*$F$3)+(G8*$G$3)+(H8*$H$3)+(I8*$I$3)+(J8*$J$3)+(K8*$K$3)+(L8*$L$3)+(M8*$M$3)+(N8*$N$3) -> 0
O9: =SUM(F9:N9) -> 0 | P9: =(D9*$D$3)+(E9*$E$3)+(F9*$F$3)+(G9*$G$3)+(H9*$H$3)+(I9*$I$3)+(J9*$J$3)+(K9*$K$3)+(L9*$L$3)+(M9*$M$3)+(N9*$N$3) -> 0
B10: TOTAL | C10: =SUM(C9:C9) -> 0 | D10: =SUM(D9:D9) -> 0 | E10: =SUM(E8:E9) -> 0 | F10: =SUM(F8:F9) -> 0 | G10: =SUM(G8:G9) -> 0 | H10: =SUM(H8:H9) -> 0 | I10: =SUM(I8:I9) -> 0 | J10: =SUM(J8:J9) -> 0 | K10: =SUM(K8:K9) -> 0 | L10: =SUM(L8:L9) -> 0 | ... P10: =SUM(P8:P9) -> 0
B13: ISKCON BLOEMFONTEIN
O14: =SUM(F14:N14) -> 0 | P14: =(D14*$D$3)+(E14*$E$3)+(F14*$F$3)+(G14*$G$3)+(H14*$H$3)+(I14*$I$3)+(J14*$J$3)+(K14*$K$3)+(L14*$L$3)+(M14*$M$3)+(N14*$N$3) -> 0
O15: =SUM(F15:N15) -> 0 | P15: =(D15*$D$3)+(E15*$E$3)+(F15*$F$3)+(G15*$G$3)+(H15*$H$3)+(I15*$I$3)+(J15*$J$3)+(K15*$K$3)+(L15*$L$3)+(M15*$M$3)+(N15*$N$3) -> 0
B16: TOTAL | C16: =SUM(C15:C15) -> 0 | D16: =SUM(D15:D15) -> 0 | E16: =SUM(E14:E15) -> 0 | F16: =SUM(F14:F15) -> 0 | G16: =SUM(G14:G15) -> 0 | H16: =SUM(H14:H15) -> 0 | I16: =SUM(I14:I15) -> 0 | J16: =SUM(J14:J15) -> 0 | K16: =SUM(K14:K15) -> 0 | L16: =SUM(L14:L15) -> 0 | ... P16: =SUM(P14:P15) -> 0
B19: ISKCON CAPE TOWN
B20: Advaita Simha Das | O20: =SUM(C20:N20) -> 0 | P20: =(D20*$D$3)+(E20*$E$3)+(F20*$F$3)+(G20*$G$3)+(H20*$H$3)+(I20*$I$3)+(J20*$J$3)+(K20*$K$3)+(L20*$L$3)+(M20*$M$3)+(N20*$N$3) -> 0
B21: Toshani Dasi | O21: =SUM(F21:N21) -> 0 | P21: =(D21*$D$3)+(E21*$E$3)+(F21*$F$3)+(G21*$G$3)+(H21*$H$3)+(I21*$I$3)+(J21*$J$3)+(K21*$K$3)+(L21*$L$3)+(M21*$M$3)+(N21*$N$3) -> 0
B22: Karuna Sindhu Avatara Das | O22: =SUM(F22:N22) -> 0 | P22: =(D22*$D$3)+(E22*$E$3)+(F22*$F$3)+(G22*$G$3)+(H22*$H$3)+(I22*$I$3)+(J22*$J$3)+(K22*$K$3)+(L22*$L$3)+(M22*$M$3)+(N22*$N$3) -> 0
B23: Tusta Gauranga Das | O23: =SUM(F23:N23) -> 0 | P23: =(D23*$D$3)+(E23*$E$3)+(F23*$F$3)+(G23*$G$3)+(H23*$H$3)+(I23*$I$3)+(J23*$J$3)+(K23*$K$3)+(L23*$L$3)+(M23*$M$3)+(N23*$N$3) -> 0
B24: Vrajabasi Das | O24: =SUM(F24:N24) -> 0 | P24: =(D24*$D$3)+(E24*$E$3)+(F24*$F$3)+(G24*$G$3)+(H24*$H$3)+(I24*$I$3)+(J24*$J$3)+(K24*$K$3)+(L24*$L$3)+(M24*$M$3)+(N24*$N$3) -> 0
O25: =SUM(F25:N25) -> 0 | P25: =(D25*$D$3)+(E25*$E$3)+(F25*$F$3)+(G25*$G$3)+(H25*$H$3)+(I25*$I$3)+(J25*$J$3)+(K25*$K$3)+(L25*$L$3)+(M25*$M$3)+(N25*$N$3) -> 0
B26: TOTAL | C26: =SUM(C20:C25) -> 0 | D26: =SUM(D20:D25) -> 0 | E26: =SUM(E20:E25) -> 0 | F26: =SUM(F20:F25) -> 0 | G26: =SUM(G20:G25) -> 0 | H26: =SUM(H20:H25) -> 0 | I26: =SUM(I20:I25) -> 0 | J26: =SUM(J20:J25) -> 0 | ... P26: =SUM(P20:P25) -> 0
B29: ISKCON DURBAN
B30: Vibhu Caitanya das | E30: 11 | G30: 176 | I30: 9 | L30: 163 | N30: 156 | O30: =SUM(F30:N30) -> 504 | P30: =(D30*$D$3)+(E30*$E$3)+(F30*$F$3)+(G30*$G$3)+(H30*$H$3)+(I30*$I$3)+(J30*$J$3)+(K30*$K$3)+(L30*$L$3)+(M30*$M$3)+(N30*$N$3) -> 1315.5
O31: =SUM(F31:N31) -> 0 | P31: =(D31*$D$3)+(E31*$E$3)+(F31*$F$3)+(G31*$G$3)+(H31*$H$3)+(I31*$I$3)+(J31*$J$3)+(K31*$K$3)+(L31*$L$3)+(M31*$M$3)+(N31*$N$3) -> 0
C32: =SUM(C30:C31) -> 0 | D32: =SUM(D30:D31) -> 0 | E32: =SUM(E30:E31) -> 11 | F32: =SUM(F30:F31) -> 0 | G32: =SUM(G30:G31) -> 176 | H32: =SUM(H30:H31) -> 0 | I32: =SUM(I30:I31) -> 9 | J32: =SUM(J30:J31) -> 0 | ... P32: =SUM(P30:P31) -> 1315.5
B35: ISKCON EAST LONDON
B36: Acyuta Kesava Dasa | N36: 30 | O36: =SUM(F36:N36) -> 30 | P36: =(D36*$D$3)+(E36*$E$3)+(F36*$F$3)+(G36*$G$3)+(H36*$H$3)+(I36*$I$3)+(J36*$J$3)+(K36*$K$3)+(L36*$L$3)+(M36*$M$3)+(N36*$N$3) -> 60
B37: Samantha Mathaji | N37: 3 | O37: =SUM(F37:N37) -> 3 | P37: =(D37*$D$3)+(E37*$E$3)+(F37*$F$3)+(G37*$G$3)+(H37*$H$3)+(I37*$I$3)+(J37*$J$3)+(K37*$K$3)+(L37*$L$3)+(M37*$M$3)+(N37*$N$3) -> 6
B38: Bimal Prabhu | G38: 2 | O38: =SUM(F38:N38) -> 2 | P38: =(D38*$D$3)+(E38*$E$3)+(F38*$F$3)+(G38*$G$3)+(H38*$H$3)+(I38*$I$3)+(J38*$J$3)+(K38*$K$3)+(L38*$L$3)+(M38*$M$3)+(N38*$N$3) -> 0.5
O39: =SUM(F39:N39) -> 0 | P39: =(D39*$D$3)+(E39*$E$3)+(F39*$F$3)+(G39*$G$3)+(H39*$H$3)+(I39*$I$3)+(J39*$J$3)+(K39*$K$3)+(L39*$L$3)+(M39*$M$3)+(N39*$N$3) -> 0
B40: TOTAL | C40: =SUM(C36:C39) -> 0 | D40: =SUM(D36:D39) -> 0 | E40: =SUM(E36:E39) -> 0 | F40: =SUM(F36:F39) -> 0 | G40: =SUM(G36:G39) -> 2 | H40: =SUM(H36:H39) -> 0 | I40: =SUM(I36:I39) -> 0 | J40: =SUM(J36:J39) -> 0 | ... P40: =SUM(P36:P39) -> 66.5
B43: ISKCON LENASIA
O44: =SUM(F44:N44) -> 0 | P44: =(D44*$D$3)+(E44*$E$3)+(F44*$F$3)+(G44*$G$3)+(H44*$H$3)+(I44*$I$3)+(J44*$J$3)+(K44*$K$3)+(L44*$L$3)+(M44*$M$3)+(N44*$N$3) -> 0
O45: =SUM(F45:N45) -> 0 | P45: =(D45*$D$3)+(E45*$E$3)+(F45*$F$3)+(G45*$G$3)+(H45*$H$3)+(I45*$I$3)+(J45*$J$3)+(K45*$K$3)+(L45*$L$3)+(M45*$M$3)+(N45*$N$3) -> 0
O46: =SUM(F46:N46) -> 0 | P46: =(D46*$D$3)+(E46*$E$3)+(F46*$F$3)+(G46*$G$3)+(H46*$H$3)+(I46*$I$3)+(J46*$J$3)+(K46*$K$3)+(L46*$L$3)+(M46*$M$3)+(N46*$N$3) -> 0
O47: =SUM(F47:N47) -> 0 | P47: =(D47*$D$3)+(E47*$E$3)+(F47*$F$3)+(G47*$G$3)+(H47*$H$3)+(I47*$I$3)+(J47*$J$3)+(K47*$K$3)+(L47*$L$3)+(M47*$M$3)+(N47*$N$3) -> 0
O48: =SUM(F48:N48) -> 0 | P48: =(D48*$D$3)+(E48*$E$3)+(F48*$F$3)+(G48*$G$3)+(H48*$H$3)+(I48*$I$3)+(J48*$J$3)+(K48*$K$3)+(L48*$L$3)+(M48*$M$3)+(N48*$N$3) -> 0
O49: =SUM(F49:N49) -> 0 | P49: =(D49*$D$3)+(E49*$E$3)+(F49*$F$3)+(G49*$G$3)+(H49*$H$3)+(I49*$I$3)+(J49*$J$3)+(K49*$K$3)+(L49*$L$3)+(M49*$M$3)+(N49*$N$3) -> 0
O50: =SUM(F50:N50) -> 0 | P50: =(D50*$D$3)+(E50*$E$3)+(F50*$F$3)+(G50*$G$3)+(H50*$H$3)+(I50*$I$3)+(J50*$J$3)+(K50*$K$3)+(L50*$L$3)+(M50*$M$3)+(N50*$N$3) -> 0
O51: =SUM(F51:N51) -> 0 | P51: =(D51*$D$3)+(E51*$E$3)+(F51*$F$3)+(G51*$G$3)+(H51*$H$3)+(I51*$I$3)+(J51*$J$3)+(K51*$K$3)+(L51*$L$3)+(M51*$M$3)+(N51*$N$3) -> 0
O52: =SUM(F52:N52) -> 0 | P52: =(D52*$D$3)+(E52*$E$3)+(F52*$F$3)+(G52*$G$3)+(H52*$H$3)+(I52*$I$3)+(J52*$J$3)+(K52*$K$3)+(L52*$L$3)+(M52*$M$3)+(N52*$N$3) -> 0
O53: =SUM(F53:N53) -> 0 | P53: =(D53*$D$3)+(E53*$E$3)+(F53*$F$3)+(G53*$G$3)+(H53*$H$3)+(I53*$I$3)+(J53*$J$3)+(K53*$K$3)+(L53*$L$3)+(M53*$M$3)+(N53*$N$3) -> 0
O54: =SUM(F54:N54) -> 0 | P54: =(D54*$D$3)+(E54*$E$3)+(F54*$F$3)+(G54*$G$3)+(H54*$H$3)+(I54*$I$3)+(J54*$J$3)+(K54*$K$3)+(L54*$L$3)+(M54*$M$3)+(N54*$N$3) -> 0
O55: =SUM(F55:N55) -> 0 | P55: =(D55*$D$3)+(E55*$E$3)+(F55*$F$3)+(G55*$G$3)+(H55*$H$3)+(I55*$I$3)+(J55*$J$3)+(K55*$K$3)+(L55*$L$3)+(M55*$M$3)+(N55*$N$3) -> 0
... O65: =SUM(F65:N65) -> 0 | P65: =(D65*$D$3)+(E65*$E$3)+(F65*$F$3)+(G65*$G$3)+(H65*$H$3)+(I65*$I$3)+(J65*$J$3)+(K65*$K$3)+(L65*$L$3)+(M65*$M$3)+(N65*$N$3) -> 0
B66: TOTAL | C66: =SUM(C44:C65) -> 0 | D66: =SUM(D44:D65) -> 0 | E66: =SUM(E44:E65) -> 0 | F66: =SUM(F44:F65) -> 0 | G66: =SUM(G44:G65) -> 0 | H66: =SUM(H44:H65) -> 0 | I66: =SUM(I44:I65) -> 0 | J66: =SUM(J44:J65) -> 0 | ... P66: =SUM(P44:P65) -> 0
B69: ISKCON MAFIKENG
O70: =SUM(F70:N70) -> 0 | P70: =(D70*$D$3)+(E70*$E$3)+(F70*$F$3)+(G70*$G$3)+(H70*$H$3)+(I70*$I$3)+(J70*$J$3)+(K70*$K$3)+(L70*$L$3)+(M70*$M$3)+(N70*$N$3) -> 0
O71: =SUM(F71:N71) -> 0 | P71: =(D71*$D$3)+(E71*$E$3)+(F71*$F$3)+(G71*$G$3)+(H71*$H$3)+(I71*$I$3)+(J71*$J$3)+(K71*$K$3)+(L71*$L$3)+(M71*$M$3)+(N71*$N$3) -> 0
B72: TOTAL | C72: =SUM(C71:C71) -> 0 | D72: =SUM(D71:D71) -> 0 | E72: =SUM(E70:E71) -> 0 | F72: =SUM(F70:F71) -> 0 | G72: =SUM(G70:G71) -> 0 | H72: =SUM(H70:H71) -> 0 | I72: =SUM(I70:I71) -> 0 | J72: =SUM(J70:J71) -> 0 | K72: =SUM(K70:K71) -> 0 | L72: =SUM(L70:L71) -> 0 | ... P72: =SUM(P70:P71) -> 0
B75: ISKCON MIDRAND
B76: Temple Scores | F76: 62 | O76: =SUM(F76:N76) -> 62 | P76: =(D76*$D$3)+(E76*$E$3)+(F76*$F$3)+(G76*$G$3)+(H76*$H$3)+(I76*$I$3)+(J76*$J$3)+(K76*$K$3)+(L76*$L$3)+(M76*$M$3)+(N76*$N$3) -> 6.2
O77: =SUM(F77:N77) -> 0 | P77: =(D77*$D$3)+(E77*$E$3)+(F77*$F$3)+(G77*$G$3)+(H77*$H$3)+(I77*$I$3)+(J77*$J$3)+(K77*$K$3)+(L77*$L$3)+(M77*$M$3)+(N77*$N$3) -> 0
O78: =SUM(F78:N78) -> 0 | P78: =(D78*$D$3)+(E78*$E$3)+(F78*$F$3)+(G78*$G$3)+(H78*$H$3)+(I78*$I$3)+(J78*$J$3)+(K78*$K$3)+(L78*$L$3)+(M78*$M$3)+(N78*$N$3) -> 0
B79: TOTAL | C79: =SUM(C76:C78) -> 0 | D79: =SUM(D76:D78) -> 0 | E79: =SUM(E76:E78) -> 0 | F79: =SUM(F76:F78) -> 62 | G79: =SUM(G76:G78) -> 0 | H79: =SUM(H76:H78) -> 0 | I79: =SUM(I76:I78) -> 0 | J79: =SUM(J76:J78) -> 0 | ... P79: =SUM(P76:P78) -> 6.2
B82: ISKCON MPUMALANGA
O83: =SUM(F83:N83) -> 0 | P83: =(D83*$D$3)+(E83*$E$3)+(F83*$F$3)+(G83*$G$3)+(H83*$H$3)+(I83*$I$3)+(J83*$J$3)+(K83*$K$3)+(L83*$L$3)+(M83*$M$3)+(N83*$N$3) -> 0
O84: =SUM(F84:N84) -> 0 | P84: =(D84*$D$3)+(E84*$E$3)+(F84*$F$3)+(G84*$G$3)+(H84*$H$3)+(I84*$I$3)+(J84*$J$3)+(K84*$K$3)+(L84*$L$3)+(M84*$M$3)+(N84*$N$3) -> 0
B85: TOTAL | C85: =SUM(C83:C84) -> 0 | D85: =SUM(D83:D84) -> 0 | E85: =SUM(E83:E84) -> 0 | F85: =SUM(F83:F84) -> 0 | G85: =SUM(G83:G84) -> 0 | H85: =SUM(H83:H84) -> 0 | I85: =SUM(I83:I84) -> 0 | J85: =SUM(J83:J84) -> 0 | ... P85: =SUM(P83:P84) -> 0
B88: ISKCON PHOENIX
O89: =SUM(F89:N89) -> 0 | P89: =(D89*$D$3)+(E89*$E$3)+(F89*$F$3)+(G89*$G$3)+(H89*$H$3)+(I89*$I$3)+(J89*$J$3)+(K89*$K$3)+(L89*$L$3)+(M89*$M$3)+(N89*$N$3) -> 0
O90: =SUM(F90:N90) -> 0 | P90: =(D90*$D$3)+(E90*$E$3)+(F90*$F$3)+(G90*$G$3)+(H90*$H$3)+(I90*$I$3)+(J90*$J$3)+(K90*$K$3)+(L90*$L$3)+(M90*$M$3)+(N90*$N$3) -> 0
O91: =SUM(F91:N91) -> 0 | P91: =(D91*$D$3)+(E91*$E$3)+(F91*$F$3)+(G91*$G$3)+(H91*$H$3)+(I91*$I$3)+(J91*$J$3)+(K91*$K$3)+(L91*$L$3)+(M91*$M$3)+(N91*$N$3) -> 0
O92: =SUM(F92:N92) -> 0 | P92: =(D92*$D$3)+(E92*$E$3)+(F92*$F$3)+(G92*$G$3)+(H92*$H$3)+(I92*$I$3)+(J92*$J$3)+(K92*$K$3)+(L92*$L$3)+(M92*$M$3)+(N92*$N$3) -> 0
O93: =SUM(F93:N93) -> 0 | P93: =(D93*$D$3)+(E93*$E$3)+(F93*$F$3)+(G93*$G$3)+(H93*$H$3)+(I93*$I$3)+(J93*$J$3)+(K93*$K$3)+(L93*$L$3)+(M93*$M$3)+(N93*$N$3) -> 0
O94: =SUM(F94:N94) -> 0 | P94: =(D94*$D$3)+(E94*$E$3)+(F94*$F$3)+(G94*$G$3)+(H94*$H$3)+(I94*$I$3)+(J94*$J$3)+(K94*$K$3)+(L94*$L$3)+(M94*$M$3)+(N94*$N$3) -> 0
O95: =SUM(F95:N95) -> 0 | P95: =(D95*$D$3)+(E95*$E$3)+(F95*$F$3)+(G95*$G$3)+(H95*$H$3)+(I95*$I$3)+(J95*$J$3)+(K95*$K$3)+(L95*$L$3)+(M95*$M$3)+(N95*$N$3) -> 0
O96: =SUM(F96:N96) -> 0 | P96: =(D96*$D$3)+(E96*$E$3)+(F96*$F$3)+(G96*$G$3)+(H96*$H$3)+(I96*$I$3)+(J96*$J$3)+(K96*$K$3)+(L96*$L$3)+(M96*$M$3)+(N96*$N$3) -> 0
O97: =SUM(F97:N97) -> 0 | P97: =(D97*$D$3)+(E97*$E$3)+(F97*$F$3)+(G97*$G$3)+(H97*$H$3)+(I97*$I$3)+(J97*$J$3)+(K97*$K$3)+(L97*$L$3)+(M97*$M$3)+(N97*$N$3) -> 0
O98: =SUM(F98:N98) -> 0 | P98: =(D98*$D$3)+(E98*$E$3)+(F98*$F$3)+(G98*$G$3)+(H98*$H$3)+(I98*$I$3)+(J98*$J$3)+(K98*$K$3)+(L98*$L$3)+(M98*$M$3)+(N98*$N$3) -> 0
O99: =SUM(F99:N99) -> 0 | P99: =(D99*$D$3)+(E99*$E$3)+(F99*$F$3)+(G99*$G$3)+(H99*$H$3)+(I99*$I$3)+(J99*$J$3)+(K99*$K$3)+(L99*$L$3)+(M99*$M$3)+(N99*$N$3) -> 0
O100: =SUM(F100:N100) -> 0 | P100: =(D100*$D$3)+(E100*$E$3)+(F100*$F$3)+(G100*$G$3)+(H100*$H$3)+(I100*$I$3)+(J100*$J$3)+(K100*$K$3)+(L100*$L$3)+(M100*$M$3)+(N100*$N$3) -> 0
... O113: =SUM(F113:N113) -> 0 | P113: =(D113*$D$3)+(E113*$E$3)+(F113*$F$3)+(G113*$G$3)+(H113*$H$3)+(I113*$I$3)+(J113*$J$3)+(K113*$K$3)+(L113*$L$3)+(M113*$M$3)+(N113*$N$3) -> 0
B114: TOTAL | C114: =SUM(C113:C113) -> 0 | D114: =SUM(D89:D113) -> 0 | E114: =SUM(E89:E113) -> 0 | F114: =SUM(F113:F113) -> 0 | G114: =SUM(G89:G113) -> 0 | H114: =SUM(H89:H113) -> 0 | I114: =SUM(I89:I113) -> 0 | J114: =SUM(J89:J113) -> 0 | K114: =SUM(K89:K113) -> 0 | L114: =SUM(L89:L113) -> 0 | M114: =SUM(M89:M113) -> 0 | N114: =SUM(N89:N113) -> 0 | ... P114: =SUM(P89:P113) -> 0
B117: ISKCON PIETERMARITZBURG
O118: =SUM(F118:N118) -> 0 | P118: =(D118*$D$3)+(E118*$E$3)+(F118*$F$3)+(G118*$G$3)+(H118*$H$3)+(I118*$I$3)+(J118*$J$3)+(K118*$K$3)+(L118*$L$3)+(M118*$M$3)+(N118*$N$3) -> 0
O119: =SUM(F119:N119) -> 0 | P119: =(D119*$D$3)+(E119*$E$3)+(F119*$F$3)+(G119*$G$3)+(H119*$H$3)+(I119*$I$3)+(J119*$J$3)+(K119*$K$3)+(L119*$L$3)+(M119*$M$3)+(N119*$N$3) -> 0
O120: =SUM(F120:N120) -> 0 | P120: =(D120*$D$3)+(E120*$E$3)+(F120*$F$3)+(G120*$G$3)+(H120*$H$3)+(I120*$I$3)+(J120*$J$3)+(K120*$K$3)+(L120*$L$3)+(M120*$M$3)+(N120*$N$3) -> 0
O121: =SUM(F121:N121) -> 0 | P121: =(D121*$D$3)+(E121*$E$3)+(F121*$F$3)+(G121*$G$3)+(H121*$H$3)+(I121*$I$3)+(J121*$J$3)+(K121*$K$3)+(L121*$L$3)+(M121*$M$3)+(N121*$N$3) -> 0
O122: =SUM(F122:N122) -> 0 | P122: =(D122*$D$3)+(E122*$E$3)+(F122*$F$3)+(G122*$G$3)+(H122*$H$3)+(I122*$I$3)+(J122*$J$3)+(K122*$K$3)+(L122*$L$3)+(M122*$M$3)+(N122*$N$3) -> 0
O123: =SUM(F123:N123) -> 0 | P123: =(D123*$D$3)+(E123*$E$3)+(F123*$F$3)+(G123*$G$3)+(H123*$H$3)+(I123*$I$3)+(J123*$J$3)+(K123*$K$3)+(L123*$L$3)+(M123*$M$3)+(N123*$N$3) -> 0
O124: =SUM(F124:N124) -> 0 | P124: =(D124*$D$3)+(E124*$E$3)+(F124*$F$3)+(G124*$G$3)+(H124*$H$3)+(I124*$I$3)+(J124*$J$3)+(K124*$K$3)+(L124*$L$3)+(M124*$M$3)+(N124*$N$3) -> 0
O125: =SUM(F125:N125) -> 0 | P125: =(D125*$D$3)+(E125*$E$3)+(F125*$F$3)+(G125*$G$3)+(H125*$H$3)+(I125*$I$3)+(J125*$J$3)+(K125*$K$3)+(L125*$L$3)+(M125*$M$3)+(N125*$N$3) -> 0
O126: =SUM(F126:N126) -> 0 | P126: =(D126*$D$3)+(E126*$E$3)+(F126*$F$3)+(G126*$G$3)+(H126*$H$3)+(I126*$I$3)+(J126*$J$3)+(K126*$K$3)+(L126*$L$3)+(M126*$M$3)+(N126*$N$3) -> 0
O127: =SUM(F127:N127) -> 0 | P127: =(D127*$D$3)+(E127*$E$3)+(F127*$F$3)+(G127*$G$3)+(H127*$H$3)+(I127*$I$3)+(J127*$J$3)+(K127*$K$3)+(L127*$L$3)+(M127*$M$3)+(N127*$N$3) -> 0
O128: =SUM(F128:N128) -> 0 | P128: =(D128*$D$3)+(E128*$E$3)+(F128*$F$3)+(G128*$G$3)+(H128*$H$3)+(I128*$I$3)+(J128*$J$3)+(K128*$K$3)+(L128*$L$3)+(M128*$M$3)+(N128*$N$3) -> 0
O129: =SUM(F129:N129) -> 0 | P129: =(D129*$D$3)+(E129*$E$3)+(F129*$F$3)+(G129*$G$3)+(H129*$H$3)+(I129*$I$3)+(J129*$J$3)+(K129*$K$3)+(L129*$L$3)+(M129*$M$3)+(N129*$N$3) -> 0
... O136: =SUM(F136:N136) -> 0 | P136: =(D136*$D$3)+(E136*$E$3)+(F136*$F$3)+(G136*$G$3)+(H136*$H$3)+(I136*$I$3)+(J136*$J$3)+(K136*$K$3)+(L136*$L$3)+(M136*$M$3)+(N136*$N$3) -> 0
B137: TOTAL | C137: =SUM(C136:C136) -> 0 | D137: =SUM(D118:D136) -> 0 | E137: =SUM(E118:E136) -> 0 | F137: =SUM(F136:F136) -> 0 | G137: =SUM(G118:G136) -> 0 | H137: =SUM(H118:H136) -> 0 | I137: =SUM(I118:I136) -> 0 | J137: =SUM(J118:J136) -> 0 | K137: =SUM(K118:K136) -> 0 | L137: =SUM(L118:L136) -> 0 | M137: =SUM(M118:M136) -> 0 | N137: =SUM(N118:N136) -> 0 | ... P137: =SUM(P118:P136) -> 0
B140: ISKCON PORT ELIZABETH
O141: =SUM(F141:N141) -> 0 | P141: =(D141*$D$3)+(E141*$E$3)+(F141*$F$3)+(G141*$G$3)+(H141*$H$3)+(I141*$I$3)+(J141*$J$3)+(K141*$K$3)+(L141*$L$3)+(M141*$M$3)+(N141*$N$3) -> 0
O142: =SUM(F142:N142) -> 0 | P142: =(D142*$D$3)+(E142*$E$3)+(F142*$F$3)+(G142*$G$3)+(H142*$H$3)+(I142*$I$3)+(J142*$J$3)+(K142*$K$3)+(L142*$L$3)+(M142*$M$3)+(N142*$N$3) -> 0
O143: =SUM(F143:N143) -> 0 | P143: =(D143*$D$3)+(E143*$E$3)+(F143*$F$3)+(G143*$G$3)+(H143*$H$3)+(I143*$I$3)+(J143*$J$3)+(K143*$K$3)+(L143*$L$3)+(M143*$M$3)+(N143*$N$3) -> 0
B144: TOTAL | C144: =SUM(C143:C143) -> 0 | D144: =SUM(D141:D143) -> 0 | E144: =SUM(E141:E143) -> 0 | F144: =SUM(F143:F143) -> 0 | G144: =SUM(G141:G143) -> 0 | H144: =SUM(H141:H143) -> 0 | I144: =SUM(I141:I143) -> 0 | J144: =SUM(J141:J143) -> 0 | K144: =SUM(K141:K143) -> 0 | L144: =SUM(L141:L143) -> 0 | M144: =SUM(M141:M143) -> 0 | N144: =SUM(N141:N143) -> 0 | ... P144: =SUM(P141:P143) -> 0
B147: ISKCON PRETORIA
B148: Temple Scores | E148: 2 | K148: 6 | N148: 6 | O148: =SUM(F148:N148) -> 12 | P148: =(D148*$D$3)+(E148*$E$3)+(F148*$F$3)+(G148*$G$3)+(H148*$H$3)+(I148*$I$3)+(J148*$J$3)+(K148*$K$3)+(L148*$L$3)+(M148*$M$3)+(N148*$N$3) -> 162
O149: =SUM(F149:N149) -> 0 | P149: =(D149*$D$3)+(E149*$E$3)+(F149*$F$3)+(G149*$G$3)+(H149*$H$3)+(I149*$I$3)+(J149*$J$3)+(K149*$K$3)+(L149*$L$3)+(M149*$M$3)+(N149*$N$3) -> 0
O150: =SUM(F150:N150) -> 0 | P150: =(D150*$D$3)+(E150*$E$3)+(F150*$F$3)+(G150*$G$3)+(H150*$H$3)+(I150*$I$3)+(J150*$J$3)+(K150*$K$3)+(L150*$L$3)+(M150*$M$3)+(N150*$N$3) -> 0
B151: TOTAL | C151: =SUM(C150:C150) -> 0 | D151: =SUM(D148:D150) -> 0 | E151: =SUM(E148:E150) -> 2 | F151: =SUM(F150:F150) -> 0 | G151: =SUM(G148:G150) -> 0 | H151: =SUM(H148:H150) -> 0 | I151: =SUM(I148:I150) -> 0 | J151: =SUM(J148:J150) -> 0 | K151: =SUM(K148:K150) -> 6 | L151: =SUM(L148:L150) -> 0 | M151: =SUM(M148:M150) -> 0 | N151: =SUM(N148:N150) -> 6 | ... P151: =SUM(P148:P150) -> 162
B154: ISKCON SANDTON
B155: Radhakund devi dasi | F155: 3 | G155: 5 | O155: =SUM(F155:N155) -> 8 | P155: =(D155*$D$3)+(E155*$E$3)+(F155*$F$3)+(G155*$G$3)+(H155*$H$3)+(I155*$I$3)+(J155*$J$3)+(K155*$K$3)+(L155*$L$3)+(M155*$M$3)+(N155*$N$3) -> 1.55
...

Sheet Togo
B2: TEMPLE: Togo
B3: MONTH :
C4: BTG Sub | D4: CC Set | E4: SB Set | F4: Mag. | G4: Small Books | I4: Medium Books | K4: Big Books | M4: Maha-Books
D5: 36 | E5: 72 | F5: 0.1 | G5: 0.25 | H5: 0.25 | I5: 0.5 | J5: 0.5 | K5: 1 | L5: 1 | M5: 2 | N5: 2
B6: DEVOTEES | F6: M1 | G6: S1 | H6: H1 | I6: S2 | J6: H2 | K6: S3 | L6: H3 | M6: S4 | N6: H4 | O6: T/BKS | P6: Points
B9: Cumulative Scores | O9: =SUM(F9:N9) -> 0 | P9: =(D9*$D$5)+(E9*$E$5)+(F9*$F$5)+(G9*$G$5)+(H9*$H$5)+(I9*$I$5)+(J9*$J$5)+(K9*$K$5)+(L9*$L$5)+(M9*$M$5)+(N9*$N$5) -> 0
O10: =SUM(F10:N10) -> 0 | P10: =(D10*$D$5)+(E10*$E$5)+(F10*$F$5)+(G10*$G$5)+(H10*$H$5)+(I10*$I$5)+(J10*$J$5)+(K10*$K$5)+(L10*$L$5)+(M10*$M$5)+(N10*$N$5) -> 0
O11: =SUM(F11:N11) -> 0 | P11: =(D11*$D$5)+(E11*$E$5)+(F11*$F$5)+(G11*$G$5)+(H11*$H$5)+(I11*$I$5)+(J11*$J$5)+(K11*$K$5)+(L11*$L$5)+(M11*$M$5)+(N11*$N$5) -> 0
B12: TOTAL | C12: =SUM(C9:C11) -> 0 | D12: =SUM(D9:D11) -> 0 | E12: =SUM(E9:E11) -> 0 | F12: =SUM(F9:F11) -> 0 | G12: =SUM(G9:G11) -> 0 | H12: =SUM(H9:H11) -> 0 | I12: =SUM(I9:I11) -> 0 | J12: =SUM(J9:J11) -> 0 | ... P12: =SUM(P9:P11) -> 0

Sheet Zambia
B2: TEMPLE: Zambia
B3: MONTH : August 2021
C4: BTG Sub | D4: CC Set | E4: SB Set | F4: Mag. | G4: Small Books | I4: Medium Books | K4: Big Books | M4: Maha-Books
D5: 36 | E5: 72 | F5: 0.1 | G5: 0.25 | H5: 0.25 | I5: 0.5 | J5: 0.5 | K5: 1 | L5: 1 | M5: 2 | N5: 2
B6: DEVOTEES | F6: M1 | G6: S1 | H6: H1 | I6: S2 | J6: H2 | K6: S3 | L6: H3 | M6: S4 | N6: H4 | O6: T/BKS | P6: Points
B9: Cumulative Scores | G9: 5 | I9: 11 | L9: 6 | N9: 8 | O9: =SUM(F9:N9) -> 30 | P9: =(D9*$D$5)+(E9*$E$5)+(F9*$F$5)+(G9*$G$5)+(H9*$H$5)+(I9*$I$5)+(J9*$J$5)+(K9*$K$5)+(L9*$L$5)+(M9*$M$5)+(N9*$N$5) -> 28.75
O10: =SUM(F10:N10) -> 0 | P10: =(D10*$D$5)+(E10*$E$5)+(F10*$F$5)+(G10*$G$5)+(H10*$H$5)+(I10*$I$5)+(J10*$J$5)+(K10*$K$5)+(L10*$L$5)+(M10*$M$5)+(N10*$N$5) -> 0
O11: =SUM(F11:N11) -> 0 | P11: =(D11*$D$5)+(E11*$E$5)+(F11*$F$5)+(G11*$G$5)+(H11*$H$5)+(I11*$I$5)+(J11*$J$5)+(K11*$K$5)+(L11*$L$5)+(M11*$M$5)+(N11*$N$5) -> 0
B12: TOTAL | C12: =SUM(C9:C11) -> 0 | D12: =SUM(D9:D11) -> 0 | E12: =SUM(E9:E11) -> 0 | F12: =SUM(F9:F11) -> 0 | G12: =SUM(G9:G11) -> 5 | H12: =SUM(H9:H11) -> 0 | I12: =SUM(I9:I11) -> 11 | J12: =SUM(J9:J11) -> 0 | ... P12: =SUM(P9:P11) -> 28.75

Sheet Summary
A2: Country | B2: Books: | C2: Points:
A4: Botswana | B4: =SUM(Botswana!O13) -> 0 | C4: =SUM(Botswana!P13) -> 0
A5: DRC | B5: =SUM('Democratic Republic of Congo'!O18) -> 0 | C5: =SUM('Democratic Republic of Congo'!P18) -> 0
A6: Ghana | B6: =SUM(Ghana!O11) -> 83 | C6: =SUM(Ghana!P11) -> 20.75
A7: Ivory Coast | B7: =SUM('Ivory Coast'!O14) -> 0 | C7: =SUM('Ivory Coast'!P14) -> 0
A8: Kenya | B8: =SUM(Kenya!O36) -> 0 | C8: =SUM(Kenya!P36) -> 0
A9: Mauritius | B9: =SUM(Mauritius!O31) -> 0 | C9: =SUM(Mauritius!P31) -> 0
A10: Nigeria | B10: =SUM(Nigeria!O27) -> 268 | C10: =SUM(Nigeria!P27) -> 157.75
A11: South Africa | B11: =SUM('South Africa'!O171) -> 1703 | C11: =SUM('South Africa'!P171) -> 2008.1
A12: Togo | B12: =SUM(Togo!O12) -> 0 | C12: =SUM(Togo!P12) -> 0
A13: Zambia | B13: =SUM(Zambia!O12) -> 30 | C13: =SUM(Zambia!P12) -> 28.75
A15: Total: | B15: =SUM(B4:B14) -> 2084 | C15: =SUM(C4:C14) -> 2215.35
B23: All Africa Totals
A24: January | B24: 4520
A25: February | B25: 2100
A26: March | B26: 4739
A27: April | B27: 2490
A28: May | B28: 3776
A29: June | B29: 428
A30: July | B30: 5415
A31: August | B31: =B15 -> 2084
A32: September
A33: October
A34: November
A35: December

Sheet Graphs
