Workbook
Name Excel_BuiltIn_Print_Area_1: [1]Malawi!#REF!
Name Excel_BuiltIn_Print_Area_1: [1]Malawi!#REF!
Name Excel_BuiltIn_Print_Area_1: [1]Malawi!#REF!
Name Excel_BuiltIn_Print_Area_1: [1]Malawi!#REF!
Name Excel_BuiltIn_Print_Area_1: [1]Malawi!#REF!
Name Excel_BuiltIn_Print_Area_1: [2]Malawi!#REF!
Name Excel_BuiltIn_Print_Area_1: [1]Malawi!#REF!
Name Excel_BuiltIn_Print_Area_1: [1]Malawi!#REF!

Sheet Botswana
B1: TEMPLE: Botswana
B2: MONTH : January 2021
C3: BTG Sub | D3: CC Set | E3: SB Set | F3: Mag. | G3: Small Books | I3: Medium Books | K3: Big Books | M3: Maha-Books
D4: 36 | E4: 72 | F4: 0.1 | G4: 0.25 | H4: 0.25 | I4: 0.5 | J4: 0.5 | K4: 1 | L4: 1 | M4: 2 | N4: 2
B5: DEVOTEES | F5: M1 | G5: S1 | H5: H1 | I5: S2 | J5: H2 | K5: S3 | L5: H3 | M5: S4 | N5: H4 | O5: T/BKS | P5: Points
B8: Devakinandan das | F8: 25 | G8: 9 | O8: =SUM(F8:N8) -> 34 | P8: =(D8*$D$4)+(E8*$E$4)+(F8*$F$4)+(G8*$G$4)+(H8*$H$4)+(I8*$I$4)+(J8*$J$4)+(K8*$K$4)+(L8*$L$4)+(M8*$M$4)+(N8*$N$4) -> 4.75
B9: Rama Priya Devi Dasi | G9: 8 | O9: =SUM(F9:N9) -> 8 | P9: =(D9*$D$4)+(E9*$E$4)+(F9*$F$4)+(G9*$G$4)+(H9*$H$4)+(I9*$I$4)+(J9*$J$4)+(K9*$K$4)+(L9*$L$4)+(M9*$M$4)+(N9*$N$4) -> 2
B10: Jagat Bandu Das | G10: 8 | N10: 1 | O10: =SUM(F10:N10) -> 9 | P10: =(D10*$D$4)+(E10*$E$4)+(F10*$F$4)+(G10*$G$4)+(H10*$H$4)+(I10*$I$4)+(J10*$J$4)+(K10*$K$4)+(L10*$L$4)+(M10*$M$4)+(N10*$N$4) -> 4
O11: =SUM(F11:N11) -> 0 | P11: =(D11*$D$4)+(E11*$E$4)+(F11*$F$4)+(G11*$G$4)+(H11*$H$4)+(I11*$I$4)+(J11*$J$4)+(K11*$K$4)+(L11*$L$4)+(M11*$M$4)+(N11*$N$4) -> 0
O12: =SUM(F12:N12) -> 0 | P12: =(D12*$D$4)+(E12*$E$4)+(F12*$F$4)+(G12*$G$4)+(H12*$H$4)+(I12*$I$4)+(J12*$J$4)+(K12*$K$4)+(L12*$L$4)+(M12*$M$4)+(N12*$N$4) -> 0
B13: TOTAL | C13: =SUM(C8:C12) -> 0 | D13: =SUM(D8:D12) -> 0 | E13: =SUM(E8:E12) -> 0 | F13: =SUM(F8:F12) -> 25 | G13: =SUM(G8:G12) -> 25 | H13: =SUM(H8:H12) -> 0 | I13: =SUM(I8:I12) -> 0 | J13: =SUM(J8:J12) -> 0 | ... P13: =SUM(P8:P12) -> 10.75

Sheet Ghana
B2: TEMPLE: Accra
B3: MONTH : January 2021
C4: BTG Sub | D4: CC Set | E4: SB Set | F4: Mag. | G4: Small Books | I4: Medium Books | K4: Big Books | M4: Maha-Books
D5: 36 | E5: 72 | F5: 0.1 | G5: 0.25 | H5: 0.25 | I5: 0.5 | J5: 0.5 | K5: 1 | L5: 1 | M5: 2 | N5: 2
B6: DEVOTEES | F6: M1 | G6: S1 | H6: H1 | I6: S2 | J6: H2 | K6: S3 | L6: H3 | M6: S4 | N6: H4 | O6: T/BKS | P6: Points
B9: Temple scores | F9: 100 | G9: 105 | O9: =SUM(F9:N9) -> 205 | P9: =(D9*$D$5)+(E9*$E$5)+(F9*$F$5)+(G9*$G$5)+(H9*$H$5)+(I9*$I$5)+(J9*$J$5)+(K9*$K$5)+(L9*$L$5)+(M9*$M$5)+(N9*$N$5) -> 36.25
O10: =SUM(F10:N10) -> 0 | P10: =(D10*$D$5)+(E10*$E$5)+(F10*$F$5)+(G10*$G$5)+(H10*$H$5)+(I10*$I$5)+(J10*$J$5)+(K10*$K$5)+(L10*$L$5)+(M10*$M$5)+(N10*$N$5) -> 0
O11: =SUM(F11:N11) -> 0 | P11: =(F11*$F$5)+(G11*$G$5)+(H11*$H$5)+(I11*$I$5)+(J11*$J$5)+(K11*$K$5)+(L11*$L$5)+(M11*$M$5)+(N11*$N$5) -> 0
O12: =SUM(F12:N12) -> 0 | P12: =(F12*$F$5)+(G12*$G$5)+(H12*$H$5)+(I12*$I$5)+(J12*$J$5)+(K12*$K$5)+(L12*$L$5)+(M12*$M$5)+(N12*$N$5) -> 0
O13: =SUM(F13:N13) -> 0 | P13: =(F13*$F$5)+(G13*$G$5)+(H13*$H$5)+(I13*$I$5)+(J13*$J$5)+(K13*$K$5)+(L13*$L$5)+(M13*$M$5)+(N13*$N$5) -> 0
O14: =SUM(F14:N14) -> 0 | P14: =(F14*$F$5)+(G14*$G$5)+(H14*$H$5)+(I14*$I$5)+(J14*$J$5)+(K14*$K$5)+(L14*$L$5)+(M14*$M$5)+(N14*$N$5) -> 0
O15: =SUM(F15:N15) -> 0 | P15: =(F15*$F$5)+(G15*$G$5)+(H15*$H$5)+(I15*$I$5)+(J15*$J$5)+(K15*$K$5)+(L15*$L$5)+(M15*$M$5)+(N15*$N$5) -> 0
O16: =SUM(F16:N16) -> 0 | P16: =(F16*$F$5)+(G16*$G$5)+(H16*$H$5)+(I16*$I$5)+(J16*$J$5)+(K16*$K$5)+(L16*$L$5)+(M16*$M$5)+(N16*$N$5) -> 0
O17: =SUM(F17:N17) -> 0 | P17: =(F17*$F$5)+(G17*$G$5)+(H17*$H$5)+(I17*$I$5)+(J17*$J$5)+(K17*$K$5)+(L17*$L$5)+(M17*$M$5)+(N17*$N$5) -> 0
B18: TOTAL | C18: =SUM(C9:C17) -> 0 | D18: =SUM(D9:D17) -> 0 | E18: =SUM(E9:E17) -> 0 | F18: =SUM(F9:F17) -> 100 | G18: =SUM(G9:G17) -> 105 | H18: =SUM(H9:H17) -> 0 | I18: =SUM(I9:I17) -> 0 | J18: =SUM(J9:J17) -> 0 | ... P18: =SUM(P9:P17) -> 36.25

Sheet Ivory Coast
B2: TEMPLE: Ivory Coast
B3: MONTH :
C4: BTG Sub | D4: CC Set | E4: SB Set | F4: Mag. | G4: Small Books | I4: Medium Books | K4: Big Books | M4: Maha-Books
D5: 36 | E5: 72 | F5: 0.1 | G5: 0.25 | H5: 0.25 | I5: 0.5 | J5: 0.5 | K5: 1 | L5: 1 | M5: 2 | N5: 2
B6: DEVOTEES | F6: M1 | G6: S1 | H6: H1 | I6: S2 | J6: H2 | K6: S3 | L6: H3 | M6: S4 | N6: H4 | O6: T/BKS | P6: Points
O9: =SUM(F9:N9) -> 0 | P9: =(D9*$D$5)+(E9*$E$5)+(F9*$F$5)+(G9*$G$5)+(H9*$H$5)+(I9*$I$5)+(J9*$J$5)+(K9*$K$5)+(L9*$L$5)+(M9*$M$5)+(N9*$N$5) -> 0
O10: =SUM(F10:N10) -> 0 | P10: =(D10*$D$5)+(E10*$E$5)+(F10*$F$5)+(G10*$G$5)+(H10*$H$5)+(I10*$I$5)+(J10*$J$5)+(K10*$K$5)+(L10*$L$5)+(M10*$M$5)+(N10*$N$5) -> 0
O11: =SUM(F11:N11) -> 0 | P11: =(D11*$D$5)+(E11*$E$5)+(F11*$F$5)+(G11*$G$5)+(H11*$H$5)+(I11*$I$5)+(J11*$J$5)+(K11*$K$5)+(L11*$L$5)+(M11*$M$5)+(N11*$N$5) -> 0
O12: =SUM(F12:N12) -> 0 | P12: =(D12*$D$5)+(E12*$E$5)+(F12*$F$5)+(G12*$G$5)+(H12*$H$5)+(I12*$I$5)+(J12*$J$5)+(K12*$K$5)+(L12*$L$5)+(M12*$M$5)+(N12*$N$5) -> 0
O13: =SUM(F13:N13) -> 0 | P13: =(D13*$D$5)+(E13*$E$5)+(F13*$F$5)+(G13*$G$5)+(H13*$H$5)+(I13*$I$5)+(J13*$J$5)+(K13*$K$5)+(L13*$L$5)+(M13*$M$5)+(N13*$N$5) -> 0
B14: TOTAL | C14: =SUM(C9:C13) -> 0 | D14: =SUM(D9:D13) -> 0 | E14: =SUM(E9:E13) -> 0 | F14: =SUM(F9:F13) -> 0 | G14: =SUM(G9:G13) -> 0 | H14: =SUM(H9:H13) -> 0 | I14: =SUM(I9:I13) -> 0 | J14: =SUM(J9:J13) -> 0 | ... P14: =SUM(P9:P13) -> 0

Sheet Kenya
B2: MONTH :
C3: BTG Sub | D3: CC Set | E3: SB Set | F3: mag | G3: Small Books | I3: Medium Books | K3: Big Books | M3: Maha-Books
D4: 36 | E4: 72 | F4: 0.1 | G4: 0.25 | H4: 0.25 | I4: 0.5 | J4: 0.5 | K4: 1 | L4: 1 | M4: 2 | N4: 2
B5: DEVOTEES | F5: M1 | G5: S1 | H5: H1 | I5: S2 | J5: H2 | K5: S3 | L5: H3 | M5: S4 | N5: H4 | O5: T/BKS | P5: Points
B7: Iskcon Nairobi
O8: =SUM(F8:N8) -> 0 | P8: =(D8*$D$4)+(E8*$E$4)+(F8*$F$4)+(G8*$G$4)+(H8*$H$4)+(I8*$I$4)+(J8*$J$4)+(K8*$K$4)+(L8*$L$4)+(M8*$M$4)+(N8*$N$4) -> 0
O9: =SUM(F9:N9) -> 0 | P9: =(D9*$D$4)+(E9*$E$4)+(F9*$F$4)+(G9*$G$4)+(H9*$H$4)+(I9*$I$4)+(J9*$J$4)+(K9*$K$4)+(L9*$L$4)+(M9*$M$4)+(N9*$N$4) -> 0
O10: =SUM(F10:N10) -> 0 | P10: =(D10*$D$4)+(E10*$E$4)+(F10*$F$4)+(G10*$G$4)+(H10*$H$4)+(I10*$I$4)+(J10*$J$4)+(K10*$K$4)+(L10*$L$4)+(M10*$M$4)+(N10*$N$4) -> 0
O11: =SUM(F11:N11) -> 0 | P11: =(D11*$D$4)+(E11*$E$4)+(F11*$F$4)+(G11*$G$4)+(H11*$H$4)+(I11*$I$4)+(J11*$J$4)+(K11*$K$4)+(L11*$L$4)+(M11*$M$4)+(N11*$N$4) -> 0
O12: =SUM(F12:N12) -> 0 | P12: =(D12*$D$4)+(E12*$E$4)+(F12*$F$4)+(G12*$G$4)+(H12*$H$4)+(I12*$I$4)+(J12*$J$4)+(K12*$K$4)+(L12*$L$4)+(M12*$M$4)+(N12*$N$4) -> 0
O13: =SUM(F13:N13) -> 0 | P13: =(D13*$D$4)+(E13*$E$4)+(F13*$F$4)+(G13*$G$4)+(H13*$H$4)+(I13*$I$4)+(J13*$J$4)+(K13*$K$4)+(L13*$L$4)+(M13*$M$4)+(N13*$N$4) -> 0
O14: =SUM(F14:N14) -> 0 | P14: =(D14*$D$4)+(E14*$E$4)+(F14*$F$4)+(G14*$G$4)+(H14*$H$4)+(I14*$I$4)+(J14*$J$4)+(K14*$K$4)+(L14*$L$4)+(M14*$M$4)+(N14*$N$4) -> 0
O15: =SUM(F15:N15) -> 0 | P15: =(D15*$D$4)+(E15*$E$4)+(F15*$F$4)+(G15*$G$4)+(H15*$H$4)+(I15*$I$4)+(J15*$J$4)+(K15*$K$4)+(L15*$L$4)+(M15*$M$4)+(N15*$N$4) -> 0
O16: =SUM(F16:N16) -> 0 | P16: =(D16*$D$4)+(E16*$E$4)+(F16*$F$4)+(G16*$G$4)+(H16*$H$4)+(I16*$I$4)+(J16*$J$4)+(K16*$K$4)+(L16*$L$4)+(M16*$M$4)+(N16*$N$4) -> 0
O17: =SUM(F17:N17) -> 0 | P17: =(D17*$D$4)+(E17*$E$4)+(F17*$F$4)+(G17*$G$4)+(H17*$H$4)+(I17*$I$4)+(J17*$J$4)+(K17*$K$4)+(L17*$L$4)+(M17*$M$4)+(N17*$N$4) -> 0
O18: =SUM(F18:N18) -> 0 | P18: =(D18*$D$4)+(E18*$E$4)+(F18*$F$4)+(G18*$G$4)+(H18*$H$4)+(I18*$I$4)+(J18*$J$4)+(K18*$K$4)+(L18*$L$4)+(M18*$M$4)+(N18*$N$4) -> 0
O19: =SUM(F19:N19) -> 0 | P19: =(D19*$D$4)+(E19*$E$4)+(F19*$F$4)+(G19*$G$4)+(H19*$H$4)+(I19*$I$4)+(J19*$J$4)+(K19*$K$4)+(L19*$L$4)+(M19*$M$4)+(N19*$N$4) -> 0
O20: =SUM(F20:N20) -> 0 | P20: =(D20*$D$4)+(E20*$E$4)+(F20*$F$4)+(G20*$G$4)+(H20*$H$4)+(I20*$I$4)+(J20*$J$4)+(K20*$K$4)+(L20*$L$4)+(M20*$M$4)+(N20*$N$4) -> 0
B21: TOTAL | C21: =SUM(C8:C20) -> 0 | D21: =SUM(D8:D20) -> 0 | E21: =SUM(E8:E20) -> 0 | F21: =SUM(F8:F20) -> 0 | G21: =SUM(G8:G20) -> 0 | H21: =SUM(H8:H20) -> 0 | I21: =SUM(I8:I20) -> 0 | J21: =SUM(J8:J20) -> 0 | ... P21: =SUM(P8:P20) -> 0
B24: Iskcon Kisumu
O25: =SUM(F25:N25) -> 0 | P25: =(D25*$D$4)+(E25*$E$4)+(F25*$F$4)+(G25*$G$4)+(H25*$H$4)+(I25*$I$4)+(J25*$J$4)+(K25*$K$4)+(L25*$L$4)+(M25*$M$4)+(N25*$N$4) -> 0
O26: =SUM(F26:N26) -> 0 | P26: =(D26*$D$4)+(E26*$E$4)+(F26*$F$4)+(G26*$G$4)+(H26*$H$4)+(I26*$I$4)+(J26*$J$4)+(K26*$K$4)+(L26*$L$4)+(M26*$M$4)+(N26*$N$4) -> 0
B27: TOTAL | C27: =SUM(C25:C26) -> 0 | D27: =SUM(D25:D26) -> 0 | E27: =SUM(E25:E26) -> 0 | F27: =SUM(F25:F26) -> 0 | G27: =SUM(G25:G26) -> 0 | H27: =SUM(H25:H26) -> 0 | I27: =SUM(I25:I26) -> 0 | J27: =SUM(J25:J26) -> 0 | ... P27: =SUM(P25:P26) -> 0
B30: Iskcon Mombassa
O31: =SUM(F31:N31) -> 0 | P31: =(D31*$D$4)+(E31*$E$4)+(F31*$F$4)+(G31*$G$4)+(H31*$H$4)+(I31*$I$4)+(J31*$J$4)+(K31*$K$4)+(L31*$L$4)+(M31*$M$4)+(N31*$N$4) -> 0
O32: =SUM(F32:N32) -> 0 | P32: =(D32*$D$4)+(E32*$E$4)+(F32*$F$4)+(G32*$G$4)+(H32*$H$4)+(I32*$I$4)+(J32*$J$4)+(K32*$K$4)+(L32*$L$4)+(M32*$M$4)+(N32*$N$4) -> 0
O33: =SUM(C33:N33) -> 0 | P33: =(D33*$D$4)+(E33*$E$4)+(F33*$F$4)+(G33*$G$4)+(H33*$H$4)+(I33*$I$4)+(J33*$J$4)+(K33*$K$4)+(L33*$L$4)+(M33*$M$4)+(N33*$N$4) -> 0
B34: TOTAL | C34: =SUM(C31:C32) -> 0 | D34: =SUM(D31:D32) -> 0 | E34: =SUM(E31:E32) -> 0 | F34: =SUM(F31:F33) -> 0 | G34: =SUM(G31:G33) -> 0 | H34: =SUM(H31:H33) -> 0 | I34: =SUM(I31:I33) -> 0 | J34: =SUM(J31:J33) -> 0 | K34: =SUM(K31:K33) -> 0 | L34: =SUM(L31:L33) -> 0 | M34: =SUM(M31:M33) -> 0 | ... P34: =SUM(P31:P33) -> 0
N36: Total: | O36: =SUM(O21+O27+O34) -> 0 | P36: =SUM(P21+P27+P34) -> 0

Sheet Malawi
B2: TEMPLE: Blantyre
B3: MONTH :
C4: BTG Sub | D4: CC Set | E4: SB Set | F4: Mag. | G4: Small Books | I4: Medium Books | K4: Big Books | M4: Maha-Books
D5: 36 | E5: 72 | F5: 0.1 | G5: 0.25 | H5: 0.25 | I5: 0.5 | J5: 0.5 | K5: 1 | L5: 1 | M5: 2 | N5: 2
B6: DEVOTEES | F6: M1 | G6: S1 | H6: H1 | I6: S2 | J6: H2 | K6: S3 | L6: H3 | M6: S4 | N6: H4 | O6: T/BKS | P6: Points
B9: Cumulative Scores | O9: =SUM(F9:N9) -> 0 | P9: =(D9*$D$5)+(E9*$E$5)+(F9*$F$5)+(G9*$G$5)+(H9*$H$5)+(I9*$I$5)+(J9*$J$5)+(K9*$K$5)+(L9*$L$5)+(M9*$M$5)+(N9*$N$5) -> 0
B11: TOTAL | C11: =SUM(C9:C10) -> 0 | D11: =SUM(D9:D10) -> 0 | E11: =SUM(E9:E10) -> 0 | F11: =SUM(F9:F10) -> 0 | G11: =SUM(G9:G10) -> 0 | H11: =SUM(H9:H10) -> 0 | I11: =SUM(I9:I10) -> 0 | J11: =SUM(J9:J10) -> 0 | ... P11: =SUM(P9:P10) -> 0

Sheet Mauritius
B2: MONTH : January 2021 | C2: BTG Sub | D2: CC Set | E2: SB Set | F2: Mag. | G2: Small Books | I2: Medium Books | K2: Big Books | M2: Maha-Books
D3: 36 | E3: 72 | F3: 0.1 | G3: 0.25 | H3: 0.25 | I3: 0.5 | J3: 0.5 | K3: 1 | L3: 1 | M3: 2 | N3: 2
B4: DEVOTEES | F4: M1 | G4: S1 | H4: H1 | I4: S2 | J4: H2 | K4: S3 | L4: H3 | M4: S4 | N4: H4 | O4: T/BKS | P4: Points
B6: ISKCON Phoenix Sri Sri Radha Gokulananda Mandir
B7: Mataji Satyabhama/Vinata/Akuti Devi Dasi | G7: 375 | M7: 5 | O7: =SUM(F7:N7) -> 380 | P7: =(D7*$D$3)+(E7*$E$3)+(F7*$F$3)+(G7*$G$3)+(H7*$H$3)+(I7*$I$3)+(J7*$J$3)+(K7*$K$3)+(L7*$L$3)+(M7*$M$3)+(N7*$N$3) -> 103.75
B8: Pr Naranarayana Das | F8: 4 | G8: 42 | M8: 8 | O8: =SUM(F8:N8) -> 54 | P8: =(D8*$D$3)+(E8*$E$3)+(F8*$F$3)+(G8*$G$3)+(H8*$H$3)+(I8*$I$3)+(J8*$J$3)+(K8*$K$3)+(L8*$L$3)+(M8*$M$3)+(N8*$N$3) -> 26.9
B9: Mataji Taruna | F9: 3 | G9: 14 | M9: 3 | O9: =SUM(F9:N9) -> 20 | P9: =(D9*$D$3)+(E9*$E$3)+(F9*$F$3)+(G9*$G$3)+(H9*$H$3)+(I9*$I$3)+(J9*$J$3)+(K9*$K$3)+(L9*$L$3)+(M9*$M$3)+(N9*$N$3) -> 9.8
B10: Mataji Danghati Lila devi dasi | F10: 1 | G10: 20 | M10: 1 | O10: =SUM(F10:N10) -> 22 | P10: =(D10*$D$3)+(E10*$E$3)+(F10*$F$3)+(G10*$G$3)+(H10*$H$3)+(I10*$I$3)+(J10*$J$3)+(K10*$K$3)+(L10*$L$3)+(M10*$M$3)+(N10*$N$3) -> 7.1
B11: Mataji Vaisnavi priya dasi | G11: 1 | O11: =SUM(F11:N11) -> 1 | P11: =(D11*$D$3)+(E11*$E$3)+(F11*$F$3)+(G11*$G$3)+(H11*$H$3)+(I11*$I$3)+(J11*$J$3)+(K11*$K$3)+(L11*$L$3)+(M11*$M$3)+(N11*$N$3) -> 0.25
B12: Mataji Prishnee | F12: 6 | G12: 7 | M12: 2 | O12: =SUM(F12:N12) -> 15 | P12: =(D12*$D$3)+(E12*$E$3)+(F12*$F$3)+(G12*$G$3)+(H12*$H$3)+(I12*$I$3)+(J12*$J$3)+(K12*$K$3)+(L12*$L$3)+(M12*$M$3)+(N12*$N$3) -> 6.35
B13: Mataji Sri Manjari devi dasi | G13: 2 | O13: =SUM(F13:N13) -> 2 | P13: =(D13*$D$3)+(E13*$E$3)+(F13*$F$3)+(G13*$G$3)+(H13*$H$3)+(I13*$I$3)+(J13*$J$3)+(K13*$K$3)+(L13*$L$3)+(M13*$M$3)+(N13*$N$3) -> 0.5
B14: Pr Acarya Nishtha Das | G14: 3 | I14: 1 | M14: 1 | O14: =SUM(F14:N14) -> 5 | P14: =(D14*$D$3)+(E14*$E$3)+(F14*$F$3)+(G14*$G$3)+(H14*$H$3)+(I14*$I$3)+(J14*$J$3)+(K14*$K$3)+(L14*$L$3)+(M14*$M$3)+(N14*$N$3) -> 3.25
B15: Mataji Carubala devi dasi | G15: 6 | I15: 3 | K15: 1 | M15: 1 | O15: =SUM(F15:N15) -> 11 | P15: =(D15*$D$3)+(E15*$E$3)+(F15*$F$3)+(G15*$G$3)+(H15*$H$3)+(I15*$I$3)+(J15*$J$3)+(K15*$K$3)+(L15*$L$3)+(M15*$M$3)+(N15*$N$3) -> 6
B16: Pr Mahajan das | F16: 1 | G16: 15 | I16: 1 | K16: 1 | O16: =SUM(F16:N16) -> 18 | P16: =(D16*$D$3)+(E16*$E$3)+(F16*$F$3)+(G16*$G$3)+(H16*$H$3)+(I16*$I$3)+(J16*$J$3)+(K16*$K$3)+(L16*$L$3)+(M16*$M$3)+(N16*$N$3) -> 5.35
B17: Mataji Swasti devi dasi | F17: 2 | G17: 11 | I17: 2 | K17: 1 | O17: =SUM(F17:N17) -> 16 | P17: =(D17*$D$3)+(E17*$E$3)+(F17*$F$3)+(G17*$G$3)+(H17*$H$3)+(I17*$I$3)+(J17*$J$3)+(K17*$K$3)+(L17*$L$3)+(M17*$M$3)+(N17*$N$3) -> 4.95
B18: Mataji Manita | G18: 2 | M18: 1 | O18: =SUM(F18:N18) -> 3 | P18: =(D18*$D$3)+(E18*$E$3)+(F18*$F$3)+(G18*$G$3)+(H18*$H$3)+(I18*$I$3)+(J18*$J$3)+(K18*$K$3)+(L18*$L$3)+(M18*$M$3)+(N18*$N$3) -> 2.5
B19: Mataji Veena Ramdhary | M19: 1 | O19: =SUM(F19:N19) -> 1 | P19: =(D19*$D$3)+(E19*$E$3)+(F19*$F$3)+(G19*$G$3)+(H19*$H$3)+(I19*$I$3)+(J19*$J$3)+(K19*$K$3)+(L19*$L$3)+(M19*$M$3)+(N19*$N$3) -> 2
B20: Mataji Anju | G20: 1 | O20: =SUM(F20:N20) -> 1 | P20: =(D20*$D$3)+(E20*$E$3)+(F20*$F$3)+(G20*$G$3)+(H20*$H$3)+(I20*$I$3)+(J20*$J$3)+(K20*$K$3)+(L20*$L$3)+(M20*$M$3)+(N20*$N$3) -> 0.25
B21: Sundar Caitanya Goswami | G21: 52 | O21: =SUM(F21:N21) -> 52 | P21: =(D21*$D$3)+(E21*$E$3)+(F21*$F$3)+(G21*$G$3)+(H21*$H$3)+(I21*$I$3)+(J21*$J$3)+(K21*$K$3)+(L21*$L$3)+(M21*$M$3)+(N21*$N$3) -> 13
B22: Pr Pranlada das | G22: 9 | I22: 1 | K22: 1 | O22: =SUM(F22:N22) -> 11 | P22: =(D22*$D$3)+(E22*$E$3)+(F22*$F$3)+(G22*$G$3)+(H22*$H$3)+(I22*$I$3)+(J22*$J$3)+(K22*$K$3)+(L22*$L$3)+(M22*$M$3)+(N22*$N$3) -> 3.75
B23: Mataji Priti ramburn | G23: 125 | O23: =SUM(F23:N23) -> 125 | P23: =(D23*$D$3)+(E23*$E$3)+(F23*$F$3)+(G23*$G$3)+(H23*$H$3)+(I23*$I$3)+(J23*$J$3)+(K23*$K$3)+(L23*$L$3)+(M23*$M$3)+(N23*$N$3) -> 31.25
B24: Mataji Sudevi dasi | G24: 83 | I24: 11 | K24: 2 | M24: 5 | O24: =SUM(F24:N24) -> 101 | P24: =(D24*$D$3)+(E24*$E$3)+(F24*$F$3)+(G24*$G$3)+(H24*$H$3)+(I24*$I$3)+(J24*$J$3)+(K24*$K$3)+(L24*$L$3)+(M24*$M$3)+(N24*$N$3) -> 38.25
B25: Pr kashyap muni das | I25: 4 | O25: =SUM(F25:N25) -> 4 | P25: =(D25*$D$3)+(E25*$E$3)+(F25*$F$3)+(G25*$G$3)+(H25*$H$3)+(I25*$I$3)+(J25*$J$3)+(K25*$K$3)+(L25*$L$3)+(M25*$M$3)+(N25*$N$3) -> 2
O26: =SUM(F26:N26) -> 0 | P26: =(D26*$D$3)+(E26*$E$3)+(F26*$F$3)+(G26*$G$3)+(H26*$H$3)+(I26*$I$3)+(J26*$J$3)+(K26*$K$3)+(L26*$L$3)+(M26*$M$3)+(N26*$N$3) -> 0
B27: TOTAL | C27: =SUM(C7:C26) -> 0 | D27: =SUM(D7:D26) -> 0 | E27: =SUM(E7:E26) -> 0 | F27: =SUM(F7:F26) -> 17 | G27: =SUM(G7:G26) -> 768 | H27: =SUM(H7:H26) -> 0 | I27: =SUM(I7:I26) -> 23 | J27: =SUM(J7:J26) -> 0 | ... P27: =SUM(P7:P26) -> 267.2
B30: ISKCON Bon Accueil Mauritius Sri Sri Krsna Balaram Mandir
B31: Cumulative Scores | O31: =SUM(F31:N31) -> 0 | P31: =(D31*$D$3)+(E31*$E$3)+(F31*$F$3)+(G31*$G$3)+(H31*$H$3)+(I31*$I$3)+(J31*$J$3)+(K31*$K$3)+(L31*$L$3)+(M31*$M$3)+(N31*$N$3) -> 0
O32: =SUM(F32:N32) -> 0 | P32: =(D32*$D$3)+(E32*$E$3)+(F32*$F$3)+(G32*$G$3)+(H32*$H$3)+(I32*$I$3)+(J32*$J$3)+(K32*$K$3)+(L32*$L$3)+(M32*$M$3)+(N32*$N$3) -> 0
O33: =SUM(F33:N33) -> 0 | P33: =(D33*$D$3)+(E33*$E$3)+(F33*$F$3)+(G33*$G$3)+(H33*$H$3)+(I33*$I$3)+(J33*$J$3)+(K33*$K$3)+(L33*$L$3)+(M33*$M$3)+(N33*$N$3) -> 0
B34: TOTAL | C34: =SUM(C31:C33) -> 0 | D34: =SUM(D31:D33) -> 0 | E34: =SUM(E31:E33) -> 0 | F34: =SUM(F31:F33) -> 0 | G34: =SUM(G31:G33) -> 0 | H34: =SUM(H31:H33) -> 0 | I34: =SUM(I31:I33) -> 0 | J34: =SUM(J31:J33) -> 0 | ... P34: =SUM(P31:P33) -> 0
M37: TOTAL | O37: =+O34+O27 -> 842 | P37: =+P34+P27 -> 267.2

Sheet Nigeria
B1: MONTH :
C2: BTG Sub | D2: CC Set | E2: SB Set | F2: Mag. | G2: Small Books | I2: Medium Books | K2: Big Books | M2: Maha-Books
D3: 36 | E3: 72 | F3: 0.1 | G3: 0.25 | H3: 0.25 | I3: 0.5 | J3: 0.5 | K3: 1 | L3: 1 | M3: 2 | N3: 2
B4: DEVOTEES | F4: M1 | G4: S1 | H4: H1 | I4: S2 | J4: H2 | K4: S3 | L4: H3 | M4: S4 | N4: H4 | O4: T/BKS | P4: Points
B6: ISKCON BENIN CITY
B7: Temple Cumulative Scores | O7: =SUM(C7:N7) -> 0 | P7: =(D7*$D$3)+(E7*$E$3)+(F7*$F$3)+(G7*$G$3)+(H7*$H$3)+(I7*$I$3)+(J7*$J$3)+(K7*$K$3)+(L7*$L$3)+(M7*$M$3)+(N7*$N$3) -> 0
O8: =SUM(F8:N8) -> 0 | P8: =(D8*$D$3)+(E8*$E$3)+(F8*$F$3)+(G8*$G$3)+(H8*$H$3)+(I8*$I$3)+(J8*$J$3)+(K8*$K$3)+(L8*$L$3)+(M8*$M$3)+(N8*$N$3) -> 0
O9: =SUM(F9:N9) -> 0 | P9: =(D9*$D$3)+(E9*$E$3)+(F9*$F$3)+(G9*$G$3)+(H9*$H$3)+(I9*$I$3)+(J9*$J$3)+(K9*$K$3)+(L9*$L$3)+(M9*$M$3)+(N9*$N$3) -> 0
O10: =SUM(F10:N10) -> 0 | P10: =(D10*$D$3)+(E10*$E$3)+(F10*$F$3)+(G10*$G$3)+(H10*$H$3)+(I10*$I$3)+(J10*$J$3)+(K10*$K$3)+(L10*$L$3)+(M10*$M$3)+(N10*$N$3) -> 0
O11: =SUM(F11:N11) -> 0 | P11: =(D11*$D$3)+(E11*$E$3)+(F11*$F$3)+(G11*$G$3)+(H11*$H$3)+(I11*$I$3)+(J11*$J$3)+(K11*$K$3)+(L11*$L$3)+(M11*$M$3)+(N11*$N$3) -> 0
O12: =SUM(F12:N12) -> 0 | P12: =(D12*$D$3)+(E12*$E$3)+(F12*$F$3)+(G12*$G$3)+(H12*$H$3)+(I12*$I$3)+(J12*$J$3)+(K12*$K$3)+(L12*$L$3)+(M12*$M$3)+(N12*$N$3) -> 0
O13: =SUM(F13:N13) -> 0 | P13: =(D13*$D$3)+(E13*$E$3)+(F13*$F$3)+(G13*$G$3)+(H13*$H$3)+(I13*$I$3)+(J13*$J$3)+(K13*$K$3)+(L13*$L$3)+(M13*$M$3)+(N13*$N$3) -> 0
O14: =SUM(F14:N14) -> 0 | P14: =(D14*$D$3)+(E14*$E$3)+(F14*$F$3)+(G14*$G$3)+(H14*$H$3)+(I14*$I$3)+(J14*$J$3)+(K14*$K$3)+(L14*$L$3)+(M14*$M$3)+(N14*$N$3) -> 0
O15: =SUM(F15:N15) -> 0 | P15: =(D15*$D$3)+(E15*$E$3)+(F15*$F$3)+(G15*$G$3)+(H15*$H$3)+(I15*$I$3)+(J15*$J$3)+(K15*$K$3)+(L15*$L$3)+(M15*$M$3)+(N15*$N$3) -> 0
B16: TOTAL | C16: =SUM(C7:C15) -> 0 | D16: =SUM(D7:D15) -> 0 | E16: =SUM(E7:E15) -> 0 | F16: =SUM(F7:F15) -> 0 | G16: =SUM(G7:G15) -> 0 | H16: =SUM(H7:H15) -> 0 | I16: =SUM(I7:I15) -> 0 | J16: =SUM(J7:J15) -> 0 | ... P16: =SUM(P7:P15) -> 0
B19: ISKCON LAGOS
B20: Temple Cumulative Scores | O20: =SUM(F20:N20) -> 0 | P20: =(D20*$D$3)+(E20*$E$3)+(F20*$F$3)+(G20*$G$3)+(H20*$H$3)+(I20*$I$3)+(J20*$J$3)+(K20*$K$3)+(L20*$L$3)+(M20*$M$3)+(N20*$N$3) -> 0
O21: =SUM(F21:N21) -> 0 | P21: =(D21*$D$3)+(E21*$E$3)+(F21*$F$3)+(G21*$G$3)+(H21*$H$3)+(I21*$I$3)+(J21*$J$3)+(K21*$K$3)+(L21*$L$3)+(M21*$M$3)+(N21*$N$3) -> 0
B22: TOTAL | C22: =SUM(C20:C21) -> 0 | D22: =SUM(D20:D21) -> 0 | E22: =SUM(E20:E21) -> 0 | F22: =SUM(F20:F21) -> 0 | G22: =SUM(G20:G21) -> 0 | H22: =SUM(H20:H21) -> 0 | I22: =SUM(I20:I21) -> 0 | J22: =SUM(J20:J21) -> 0 | ... P22: =SUM(P20:P21) -> 0
B25: ISKCON PORT HARCOURT
O26: =SUM(F26:N26) -> 0 | P26: =(D26*$D$3)+(E26*$E$3)+(F26*$F$3)+(G26*$G$3)+(H26*$H$3)+(I26*$I$3)+(J26*$J$3)+(K26*$K$3)+(L26*$L$3)+(M26*$M$3)+(N26*$N$3) -> 0
O27: =SUM(F27:N27) -> 0 | P27: =(D27*$D$3)+(E27*$E$3)+(F27*$F$3)+(G27*$G$3)+(H27*$H$3)+(I27*$I$3)+(J27*$J$3)+(K27*$K$3)+(L27*$L$3)+(M27*$M$3)+(N27*$N$3) -> 0
O28: =SUM(F28:N28) -> 0 | P28: =(D28*$D$3)+(E28*$E$3)+(F28*$F$3)+(G28*$G$3)+(H28*$H$3)+(I28*$I$3)+(J28*$J$3)+(K28*$K$3)+(L28*$L$3)+(M28*$M$3)+(N28*$N$3) -> 0
O29: =SUM(F29:N29) -> 0 | P29: =(D29*$D$3)+(E29*$E$3)+(F29*$F$3)+(G29*$G$3)+(H29*$H$3)+(I29*$I$3)+(J29*$J$3)+(K29*$K$3)+(L29*$L$3)+(M29*$M$3)+(N29*$N$3) -> 0
O30: =SUM(F30:N30) -> 0 | P30: =(D30*$D$3)+(E30*$E$3)+(F30*$F$3)+(G30*$G$3)+(H30*$H$3)+(I30*$I$3)+(J30*$J$3)+(K30*$K$3)+(L30*$L$3)+(M30*$M$3)+(N30*$N$3) -> 0
O31: =SUM(F31:N31) -> 0 | P31: =(D31*$D$3)+(E31*$E$3)+(F31*$F$3)+(G31*$G$3)+(H31*$H$3)+(I31*$I$3)+(J31*$J$3)+(K31*$K$3)+(L31*$L$3)+(M31*$M$3)+(N31*$N$3) -> 0
O32: =SUM(F32:N32) -> 0 | P32: =(D32*$D$3)+(E32*$E$3)+(F32*$F$3)+(G32*$G$3)+(H32*$H$3)+(I32*$I$3)+(J32*$J$3)+(K32*$K$3)+(L32*$L$3)+(M32*$M$3)+(N32*$N$3) -> 0
O33: =SUM(F33:N33) -> 0 | P33: =(D33*$D$3)+(E33*$E$3)+(F33*$F$3)+(G33*$G$3)+(H33*$H$3)+(I33*$I$3)+(J33*$J$3)+(K33*$K$3)+(L33*$L$3)+(M33*$M$3)+(N33*$N$3) -> 0
O34: =SUM(F34:N34) -> 0 | P34: =(D34*$D$3)+(E34*$E$3)+(F34*$F$3)+(G34*$G$3)+(H34*$H$3)+(I34*$I$3)+(J34*$J$3)+(K34*$K$3)+(L34*$L$3)+(M34*$M$3)+(N34*$N$3) -> 0
O35: =SUM(F35:N35) -> 0 | P35: =(D35*$D$3)+(E35*$E$3)+(F35*$F$3)+(G35*$G$3)+(H35*$H$3)+(I35*$I$3)+(J35*$J$3)+(K35*$K$3)+(L35*$L$3)+(M35*$M$3)+(N35*$N$3) -> 0
O36: =SUM(F36:N36) -> 0 | P36: =(D36*$D$3)+(E36*$E$3)+(F36*$F$3)+(G36*$G$3)+(H36*$H$3)+(I36*$I$3)+(J36*$J$3)+(K36*$K$3)+(L36*$L$3)+(M36*$M$3)+(N36*$N$3) -> 0
B37: TOTAL | C37: =SUM(C34:C36) -> 0 | D37: =SUM(D26:D36) -> 0 | E37: =SUM(E26:E36) -> 0 | F37: =SUM(F34:F36) -> 0 | G37: =SUM(G26:G36) -> 0 | H37: =SUM(H26:H36) -> 0 | I37: =SUM(I26:I36) -> 0 | J37: =SUM(J26:J36) -> 0 | K37: =SUM(K26:K36) -> 0 | L37: =SUM(L26:L36) -> 0 | M37: =SUM(M26:M36) -> 0 | N37: =SUM(N26:N36) -> 0 | ... P37: =SUM(P26:P36) -> 0
M41: TOTAL | O41: =O37+O22+O16 -> 0 | P41: =P37+P22+P16 -> 0

Sheet South Africa
B1: MONTH : January 2021
C2: BTG Sub | D2: CC Set | E2: SB Set | F2: Mag. | G2: Small Books | I2: Medium Books | K2: Big Books | M2: Maha-Books
D3: 36 | E3: 72 | F3: 0.1 | G3: 0.25 | H3: 0.25 | I3: 0.5 | J3: 0.5 | K3: 1 | L3: 1 | M3: 2 | N3: 2
B4: DEVOTEES | F4: M1 | G4: S1 | H4: H1 | I4: S2 | J4: H2 | K4: S3 | L4: H3 | M4: S4 | N4: H4 | O4: T/BKS | P4: Points
B7: Bhakti Lounge Johannesburg
O8: =SUM(F8:N8) -> 0 | P8: =(D8*$D$3)+(E8*$E$3)+(F8*$F$3)+(G8*$G$3)+(H8*$H$3)+(I8*$I$3)+(J8*$J$3)+(K8*$K$3)+(L8*$L$3)+(M8*$M$3)+(N8*$N$3) -> 0
O9: =SUM(F9:N9) -> 0 | P9: =(D9*$D$3)+(E9*$E$3)+(F9*$F$3)+(G9*$G$3)+(H9*$H$3)+(I9*$I$3)+(J9*$J$3)+(K9*$K$3)+(L9*$L$3)+(M9*$M$3)+(N9*$N$3) -> 0
B10: TOTAL | C10: =SUM(C9:C9) -> 0 | D10: =SUM(D9:D9) -> 0 | E10: =SUM(E8:E9) -> 0 | F10: =SUM(F8:F9) -> 0 | G10: =SUM(G8:G9) -> 0 | H10: =SUM(H8:H9) -> 0 | I10: =SUM(I8:I9) -> 0 | J10: =SUM(J8:J9) -> 0 | K10: =SUM(K8:K9) -> 0 | L10: =SUM(L8:L9) -> 0 | ... P10: =SUM(P8:P9) -> 0
B13: ISKCON BLOEMFONTEIN
O14: =SUM(F14:N14) -> 0 | P14: =(D14*$D$3)+(E14*$E$3)+(F14*$F$3)+(G14*$G$3)+(H14*$H$3)+(I14*$I$3)+(J14*$J$3)+(K14*$K$3)+(L14*$L$3)+(M14*$M$3)+(N14*$N$3) -> 0
O15: =SUM(F15:N15) -> 0 | P15: =(D15*$D$3)+(E15*$E$3)+(F15*$F$3)+(G15*$G$3)+(H15*$H$3)+(I15*$I$3)+(J15*$J$3)+(K15*$K$3)+(L15*$L$3)+(M15*$M$3)+(N15*$N$3) -> 0
B16: TOTAL | C16: =SUM(C15:C15) -> 0 | D16: =SUM(D15:D15) -> 0 | E16: =SUM(E14:E15) -> 0 | F16: =SUM(F14:F15) -> 0 | G16: =SUM(G14:G15) -> 0 | H16: =SUM(H14:H15) -> 0 | I16: =SUM(I14:I15) -> 0 | J16: =SUM(J14:J15) -> 0 | K16: =SUM(K14:K15) -> 0 | L16: =SUM(L14:L15) -> 0 | ... P16: =SUM(P14:P15) -> 0
B19: ISKCON CAPE TOWN
O20: =SUM(C20:N20) -> 0 | P20: =(D20*$D$3)+(E20*$E$3)+(F20*$F$3)+(G20*$G$3)+(H20*$H$3)+(I20*$I$3)+(J20*$J$3)+(K20*$K$3)+(L20*$L$3)+(M20*$M$3)+(N20*$N$3) -> 0
O21: =SUM(F21:N21) -> 0 | P21: =(D21*$D$3)+(E21*$E$3)+(F21*$F$3)+(G21*$G$3)+(H21*$H$3)+(I21*$I$3)+(J21*$J$3)+(K21*$K$3)+(L21*$L$3)+(M21*$M$3)+(N21*$N$3) -> 0
O22: =SUM(F22:N22) -> 0 | P22: =(D22*$D$3)+(E22*$E$3)+(F22*$F$3)+(G22*$G$3)+(H22*$H$3)+(I22*$I$3)+(J22*$J$3)+(K22*$K$3)+(L22*$L$3)+(M22*$M$3)+(N22*$N$3) -> 0
O23: =SUM(F23:N23) -> 0 | P23: =(D23*$D$3)+(E23*$E$3)+(F23*$F$3)+(G23*$G$3)+(H23*$H$3)+(I23*$I$3)+(J23*$J$3)+(K23*$K$3)+(L23*$L$3)+(M23*$M$3)+(N23*$N$3) -> 0
O24: =SUM(F24:N24) -> 0 | P24: =(D24*$D$3)+(E24*$E$3)+(F24*$F$3)+(G24*$G$3)+(H24*$H$3)+(I24*$I$3)+(J24*$J$3)+(K24*$K$3)+(L24*$L$3)+(M24*$M$3)+(N24*$N$3) -> 0
O25: =SUM(F25:N25) -> 0 | P25: =(D25*$D$3)+(E25*$E$3)+(F25*$F$3)+(G25*$G$3)+(H25*$H$3)+(I25*$I$3)+(J25*$J$3)+(K25*$K$3)+(L25*$L$3)+(M25*$M$3)+(N25*$N$3) -> 0
B26: TOTAL | C26: =SUM(C20:C25) -> 0 | D26: =SUM(D20:D25) -> 0 | E26: =SUM(E20:E25) -> 0 | F26: =SUM(F20:F25) -> 0 | G26: =SUM(G20:G25) -> 0 | H26: =SUM(H20:H25) -> 0 | I26: =SUM(I20:I25) -> 0 | J26: =SUM(J20:J25) -> 0 | ... P26: =SUM(P20:P25) -> 0
B29: ISKCON DURBAN
B30: Vibhu Caitanya das | D30: 1 | G30: 38 | I30: 1 | K30: 28 | N30: 101 | O30: =SUM(F30:N30)+(D30*9) -> 177 | P30: =(D30*$D$3)+(E30*$E$3)+(F30*$F$3)+(G30*$G$3)+(H30*$H$3)+(I30*$I$3)+(J30*$J$3)+(K30*$K$3)+(L30*$L$3)+(M30*$M$3)+(N30*$N$3) -> 276
B31: Patita pavana Nitai das | G31: 15 | I31: 5 | K31: 4 | N31: 7 | O31: =SUM(F31:N31) -> 31 | P31: =(D31*$D$3)+(E31*$E$3)+(F31*$F$3)+(G31*$G$3)+(H31*$H$3)+(I31*$I$3)+(J31*$J$3)+(K31*$K$3)+(L31*$L$3)+(M31*$M$3)+(N31*$N$3) -> 24.25
B32: B T G | F32: 2380 | O32: =SUM(F32:N32) -> 2380 | P32: =(D32*$D$3)+(E32*$E$3)+(F32*$F$3)+(G32*$G$3)+(H32*$H$3)+(I32*$I$3)+(J32*$J$3)+(K32*$K$3)+(L32*$L$3)+(M32*$M$3)+(N32*$N$3) -> 238
O33: =SUM(F33:N33) -> 0 | P33: =(D33*$D$3)+(E33*$E$3)+(F33*$F$3)+(G33*$G$3)+(H33*$H$3)+(I33*$I$3)+(J33*$J$3)+(K33*$K$3)+(L33*$L$3)+(M33*$M$3)+(N33*$N$3) -> 0
C34: =SUM(C30:C33) -> 0 | D34: =SUM(D30:D33) -> 1 | E34: =SUM(E30:E33) -> 0 | F34: =SUM(F30:F33) -> 2380 | G34: =SUM(G30:G33) -> 53 | H34: =SUM(H30:H33) -> 0 | I34: =SUM(I30:I33) -> 6 | J34: =SUM(J30:J33) -> 0 | ... P34: =SUM(P30:P33) -> 538.25
B37: ISKCON EAST LONDON
B38: Acyuta Kesava Dasa | G38: 6 | K38: 1 | O38: =SUM(F38:N38) -> 7 | P38: =(D38*$D$3)+(E38*$E$3)+(F38*$F$3)+(G38*$G$3)+(H38*$H$3)+(I38*$I$3)+(J38*$J$3)+(K38*$K$3)+(L38*$L$3)+(M38*$M$3)+(N38*$N$3) -> 2.5
B39: Bimal Prabhu | G39: 2 | O39: =SUM(F39:N39) -> 2 | P39: =(D39*$D$3)+(E39*$E$3)+(F39*$F$3)+(G39*$G$3)+(H39*$H$3)+(I39*$I$3)+(J39*$J$3)+(K39*$K$3)+(L39*$L$3)+(M39*$M$3)+(N39*$N$3) -> 0.5
O40: =SUM(F40:N40) -> 0 | P40: =(D40*$D$3)+(E40*$E$3)+(F40*$F$3)+(G40*$G$3)+(H40*$H$3)+(I40*$I$3)+(J40*$J$3)+(K40*$K$3)+(L40*$L$3)+(M40*$M$3)+(N40*$N$3) -> 0
B41: TOTAL | C41: =SUM(C38:C40) -> 0 | D41: =SUM(D38:D40) -> 0 | E41: =SUM(E38:E40) -> 0 | F41: =SUM(F38:F40) -> 0 | G41: =SUM(G38:G40) -> 8 | H41: =SUM(H38:H40) -> 0 | I41: =SUM(I38:I40) -> 0 | J41: =SUM(J38:J40) -> 0 | ... P41: =SUM(P38:P40) -> 3
B44: ISKCON HAMMANSKRAAL
B45: Temple Scores | G45: 14 | I45: 4 | K45: 14 | O45: =SUM(F45:N45) -> 32 | P45: =(D45*$D$3)+(E45*$E$3)+(F45*$F$3)+(G45*$G$3)+(H45*$H$3)+(I45*$I$3)+(J45*$J$3)+(K45*$K$3)+(L45*$L$3)+(M45*$M$3)+(N45*$N$3) -> 19.5
O46: =SUM(F46:N46) -> 0 | P46: =(D46*$D$3)+(E46*$E$3)+(F46*$F$3)+(G46*$G$3)+(H46*$H$3)+(I46*$I$3)+(J46*$J$3)+(K46*$K$3)+(L46*$L$3)+(M46*$M$3)+(N46*$N$3) -> 0
B47: TOTAL | C47: =SUM(C45:C46) -> 0 | D47: =SUM(D45:D46) -> 0 | E47: =SUM(E45:E46) -> 0 | F47: =SUM(F45:F46) -> 0 | G47: =SUM(G45:G46) -> 14 | H47: =SUM(H45:H46) -> 0 | I47: =SUM(I45:I46) -> 4 | J47: =SUM(J45:J46) -> 0 | ... P47: =SUM(P45:P46) -> 19.5
B50: ISKCON LENASIA
B51: BTG Office | F51: 536 | O51: =SUM(F51:N51) -> 536 | P51: =(D51*$D$3)+(E51*$E$3)+(F51*$F$3)+(G51*$G$3)+(H51*$H$3)+(I51*$I$3)+(J51*$J$3)+(K51*$K$3)+(L51*$L$3)+(M51*$M$3)+(N51*$N$3) -> 53.6
B52: Gaura Premi Devi Dasi | G52: 4 | I52: 1 | J52: 1 | M52: 1 | N52: 14 | O52: =SUM(F52:N52) -> 21 | P52: =(D52*$D$3)+(E52*$E$3)+(F52*$F$3)+(G52*$G$3)+(H52*$H$3)+(I52*$I$3)+(J52*$J$3)+(K52*$K$3)+(L52*$L$3)+(M52*$M$3)+(N52*$N$3) -> 32
B53: Damodar Prasad Das | N53: 9 | O53: =SUM(F53:N53) -> 9 | P53: =(D53*$D$3)+(E53*$E$3)+(F53*$F$3)+(G53*$G$3)+(H53*$H$3)+(I53*$I$3)+(J53*$J$3)+(K53*$K$3)+(L53*$L$3)+(M53*$M$3)+(N53*$N$3) -> 18
B54: Shyama-lila dasi | G54: 12 | I54: 2 | K54: 1 | L54: 2 | N54: 4 | O54: =SUM(F54:N54) -> 21 | P54: =(D54*$D$3)+(E54*$E$3)+(F54*$F$3)+(G54*$G$3)+(H54*$H$3)+(I54*$I$3)+(J54*$J$3)+(K54*$K$3)+(L54*$L$3)+(M54*$M$3)+(N54*$N$3) -> 15
B55: Sanvir Chotoki | I55: 1 | N55: 7 | O55: =SUM(F55:N55) -> 8 | P55: =(D55*$D$3)+(E55*$E$3)+(F55*$F$3)+(G55*$G$3)+(H55*$H$3)+(I55*$I$3)+(J55*$J$3)+(K55*$K$3)+(L55*$L$3)+(M55*$M$3)+(N55*$N$3) -> 14.5
B56: Dilon Sewnarain | N56: 5 | O56: =SUM(F56:N56) -> 5 | P56: =(D56*$D$3)+(E56*$E$3)+(F56*$F$3)+(G56*$G$3)+(H56*$H$3)+(I56*$I$3)+(J56*$J$3)+(K56*$K$3)+(L56*$L$3)+(M56*$M$3)+(N56*$N$3) -> 10
B57: Sitala Devi Dasi | G57: 21 | N57: 2 | O57: =SUM(F57:N57) -> 23 | P57: =(D57*$D$3)+(E57*$E$3)+(F57*$F$3)+(G57*$G$3)+(H57*$H$3)+(I57*$I$3)+(J57*$J$3)+(K57*$K$3)+(L57*$L$3)+(M57*$M$3)+(N57*$N$3) -> 9.25
B58: Ramola Naidoo | K58: 1 | N58: 2 | O58: =SUM(F58:N58) -> 3 | P58: =(D58*$D$3)+(E58*$E$3)+(F58*$F$3)+(G58*$G$3)+(H58*$H$3)+(I58*$I$3)+(J58*$J$3)+(K58*$K$3)+(L58*$L$3)+(M58*$M$3)+(N58*$N$3) -> 5
B59: Ramapriya Dasi | I59: 6 | O59: =SUM(F59:N59) -> 6 | P59: =(D59*$D$3)+(E59*$E$3)+(F59*$F$3)+(G59*$G$3)+(H59*$H$3)+(I59*$I$3)+(J59*$J$3)+(K59*$K$3)+(L59*$L$3)+(M59*$M$3)+(N59*$N$3) -> 3
B60: Candrasekhara dasa | G60: 1 | I60: 1 | K60: 1 | L60: 1 | O60: =SUM(F60:N60) -> 4 | P60: =(D60*$D$3)+(E60*$E$3)+(F60*$F$3)+(G60*$G$3)+(H60*$H$3)+(I60*$I$3)+(J60*$J$3)+(K60*$K$3)+(L60*$L$3)+(M60*$M$3)+(N60*$N$3) -> 2.75
B61: Jagdish Mithal | N61: 1 | O61: =SUM(F61:N61) -> 1 | P61: =(D61*$D$3)+(E61*$E$3)+(F61*$F$3)+(G61*$G$3)+(H61*$H$3)+(I61*$I$3)+(J61*$J$3)+(K61*$K$3)+(L61*$L$3)+(M61*$M$3)+(N61*$N$3) -> 2
O62: =SUM(F62:N62) -> 0 | P62: =(D62*$D$3)+(E62*$E$3)+(F62*$F$3)+(G62*$G$3)+(H62*$H$3)+(I62*$I$3)+(J62*$J$3)+(K62*$K$3)+(L62*$L$3)+(M62*$M$3)+(N62*$N$3) -> 0
B63: TOTAL | C63: =SUM(C62:C62) -> 0 | D63: =SUM(D62:D62) -> 0 | E63: =SUM(E51:E62) -> 0 | F63: =SUM(F51:F62) -> 536 | G63: =SUM(G51:G62) -> 38 | H63: =SUM(H51:H62) -> 0 | I63: =SUM(I51:I62) -> 11 | J63: =SUM(J51:J62) -> 1 | K63: =SUM(K51:K62) -> 3 | L63: =SUM(L51:L62) -> 3 | ... P63: =SUM(P51:P62) -> 165.1
B66: ISKCON MIDRAND
B67: Temple Scores | F67: 63 | O67: =SUM(F67:N67) -> 63 | P67: =(D67*$D$3)+(E67*$E$3)+(F67*$F$3)+(G67*$G$3)+(H67*$H$3)+(I67*$I$3)+(J67*$J$3)+(K67*$K$3)+(L67*$L$3)+(M67*$M$3)+(N67*$N$3) -> 6.3
O68: =SUM(F68:N68) -> 0 | P68: =(D68*$D$3)+(E68*$E$3)+(F68*$F$3)+(G68*$G$3)+(H68*$H$3)+(I68*$I$3)+(J68*$J$3)+(K68*$K$3)+(L68*$L$3)+(M68*$M$3)+(N68*$N$3) -> 0
B69: TOTAL | C69: =SUM(C67:C68) -> 0 | D69: =SUM(D67:D68) -> 0 | E69: =SUM(E67:E68) -> 0 | F69: =SUM(F67:F68) -> 63 | G69: =SUM(G67:G68) -> 0 | H69: =SUM(H67:H68) -> 0 | I69: =SUM(I67:I68) -> 0 | J69: =SUM(J67:J68) -> 0 | ... P69: =SUM(P67:P68) -> 6.3
B72: ISKCON MPUMALANGA
O73: =SUM(F73:N73) -> 0 | P73: =(D73*$D$3)+(E73*$E$3)+(F73*$F$3)+(G73*$G$3)+(H73*$H$3)+(I73*$I$3)+(J73*$J$3)+(K73*$K$3)+(L73*$L$3)+(M73*$M$3)+(N73*$N$3) -> 0
O74: =SUM(F74:N74) -> 0 | P74: =(D74*$D$3)+(E74*$E$3)+(F74*$F$3)+(G74*$G$3)+(H74*$H$3)+(I74*$I$3)+(J74*$J$3)+(K74*$K$3)+(L74*$L$3)+(M74*$M$3)+(N74*$N$3) -> 0
B75: TOTAL | C75: =SUM(C73:C74) -> 0 | D75: =SUM(D73:D74) -> 0 | E75: =SUM(E73:E74) -> 0 | F75: =SUM(F73:F74) -> 0 | G75: =SUM(G73:G74) -> 0 | H75: =SUM(H73:H74) -> 0 | I75: =SUM(I73:I74) -> 0 | J75: =SUM(J73:J74) -> 0 | ... P75: =SUM(P73:P74) -> 0
B78: ISKCON PHOENIX
O79: =SUM(F79:N79) -> 0 | P79: =(D79*$D$3)+(E79*$E$3)+(F79*$F$3)+(G79*$G$3)+(H79*$H$3)+(I79*$I$3)+(J79*$J$3)+(K79*$K$3)+(L79*$L$3)+(M79*$M$3)+(N79*$N$3) -> 0
O80: =SUM(F80:N80) -> 0 | P80: =(D80*$D$3)+(E80*$E$3)+(F80*$F$3)+(G80*$G$3)+(H80*$H$3)+(I80*$I$3)+(J80*$J$3)+(K80*$K$3)+(L80*$L$3)+(M80*$M$3)+(N80*$N$3) -> 0
O81: =SUM(F81:N81) -> 0 | P81: =(D81*$D$3)+(E81*$E$3)+(F81*$F$3)+(G81*$G$3)+(H81*$H$3)+(I81*$I$3)+(J81*$J$3)+(K81*$K$3)+(L81*$L$3)+(M81*$M$3)+(N81*$N$3) -> 0
O82: =SUM(F82:N82) -> 0 | P82: =(D82*$D$3)+(E82*$E$3)+(F82*$F$3)+(G82*$G$3)+(H82*$H$3)+(I82*$I$3)+(J82*$J$3)+(K82*$K$3)+(L82*$L$3)+(M82*$M$3)+(N82*$N$3) -> 0
O83: =SUM(F83:N83) -> 0 | P83: =(D83*$D$3)+(E83*$E$3)+(F83*$F$3)+(G83*$G$3)+(H83*$H$3)+(I83*$I$3)+(J83*$J$3)+(K83*$K$3)+(L83*$L$3)+(M83*$M$3)+(N83*$N$3) -> 0
O84: =SUM(F84:N84) -> 0 | P84: =(D84*$D$3)+(E84*$E$3)+(F84*$F$3)+(G84*$G$3)+(H84*$H$3)+(I84*$I$3)+(J84*$J$3)+(K84*$K$3)+(L84*$L$3)+(M84*$M$3)+(N84*$N$3) -> 0
O85: =SUM(F85:N85) -> 0 | P85: =(D85*$D$3)+(E85*$E$3)+(F85*$F$3)+(G85*$G$3)+(H85*$H$3)+(I85*$I$3)+(J85*$J$3)+(K85*$K$3)+(L85*$L$3)+(M85*$M$3)+(N85*$N$3) -> 0
O86: =SUM(F86:N86) -> 0 | P86: =(D86*$D$3)+(E86*$E$3)+(F86*$F$3)+(G86*$G$3)+(H86*$H$3)+(I86*$I$3)+(J86*$J$3)+(K86*$K$3)+(L86*$L$3)+(M86*$M$3)+(N86*$N$3) -> 0
O87: =SUM(F87:N87) -> 0 | P87: =(D87*$D$3)+(E87*$E$3)+(F87*$F$3)+(G87*$G$3)+(H87*$H$3)+(I87*$I$3)+(J87*$J$3)+(K87*$K$3)+(L87*$L$3)+(M87*$M$3)+(N87*$N$3) -> 0
O88: =SUM(F88:N88) -> 0 | P88: =(D88*$D$3)+(E88*$E$3)+(F88*$F$3)+(G88*$G$3)+(H88*$H$3)+(I88*$I$3)+(J88*$J$3)+(K88*$K$3)+(L88*$L$3)+(M88*$M$3)+(N88*$N$3) -> 0
O89: =SUM(F89:N89) -> 0 | P89: =(D89*$D$3)+(E89*$E$3)+(F89*$F$3)+(G89*$G$3)+(H89*$H$3)+(I89*$I$3)+(J89*$J$3)+(K89*$K$3)+(L89*$L$3)+(M89*$M$3)+(N89*$N$3) -> 0
O90: =SUM(F90:N90) -> 0 | P90: =(D90*$D$3)+(E90*$E$3)+(F90*$F$3)+(G90*$G$3)+(H90*$H$3)+(I90*$I$3)+(J90*$J$3)+(K90*$K$3)+(L90*$L$3)+(M90*$M$3)+(N90*$N$3) -> 0
... O103: =SUM(F103:N103) -> 0 | P103: =(D103*$D$3)+(E103*$E$3)+(F103*$F$3)+(G103*$G$3)+(H103*$H$3)+(I103*$I$3)+(J103*$J$3)+(K103*$K$3)+(L103*$L$3)+(M103*$M$3)+(N103*$N$3) -> 0
B104: TOTAL | C104: =SUM(C103:C103) -> 0 | D104: =SUM(D79:D103) -> 0 | E104: =SUM(E79:E103) -> 0 | F104: =SUM(F103:F103) -> 0 | G104: =SUM(G79:G103) -> 0 | H104: =SUM(H79:H103) -> 0 | I104: =SUM(I79:I103) -> 0 | J104: =SUM(J79:J103) -> 0 | K104: =SUM(K79:K103) -> 0 | L104: =SUM(L79:L103) -> 0 | M104: =SUM(M79:M103) -> 0 | N104: =SUM(N79:N103) -> 0 | ... P104: =SUM(P79:P103) -> 0
B107: ISKCON PIETERMARITZBURG
O108: =SUM(F108:N108) -> 0 | P108: =(D108*$D$3)+(E108*$E$3)+(F108*$F$3)+(G108*$G$3)+(H108*$H$3)+(I108*$I$3)+(J108*$J$3)+(K108*$K$3)+(L108*$L$3)+(M108*$M$3)+(N108*$N$3) -> 0
O109: =SUM(F109:N109) -> 0 | P109: =(D109*$D$3)+(E109*$E$3)+(F109*$F$3)+(G109*$G$3)+(H109*$H$3)+(I109*$I$3)+(J109*$J$3)+(K109*$K$3)+(L109*$L$3)+(M109*$M$3)+(N109*$N$3) -> 0
O110: =SUM(F110:N110) -> 0 | P110: =(D110*$D$3)+(E110*$E$3)+(F110*$F$3)+(G110*$G$3)+(H110*$H$3)+(I110*$I$3)+(J110*$J$3)+(K110*$K$3)+(L110*$L$3)+(M110*$M$3)+(N110*$N$3) -> 0
O111: =SUM(F111:N111) -> 0 | P111: =(D111*$D$3)+(E111*$E$3)+(F111*$F$3)+(G111*$G$3)+(H111*$H$3)+(I111*$I$3)+(J111*$J$3)+(K111*$K$3)+(L111*$L$3)+(M111*$M$3)+(N111*$N$3) -> 0
O112: =SUM(F112:N112) -> 0 | P112: =(D112*$D$3)+(E112*$E$3)+(F112*$F$3)+(G112*$G$3)+(H112*$H$3)+(I112*$I$3)+(J112*$J$3)+(K112*$K$3)+(L112*$L$3)+(M112*$M$3)+(N112*$N$3) -> 0
O113: =SUM(F113:N113) -> 0 | P113: =(D113*$D$3)+(E113*$E$3)+(F113*$F$3)+(G113*$G$3)+(H113*$H$3)+(I113*$I$3)+(J113*$J$3)+(K113*$K$3)+(L113*$L$3)+(M113*$M$3)+(N113*$N$3) -> 0
O114: =SUM(F114:N114) -> 0 | P114: =(D114*$D$3)+(E114*$E$3)+(F114*$F$3)+(G114*$G$3)+(H114*$H$3)+(I114*$I$3)+(J114*$J$3)+(K114*$K$3)+(L114*$L$3)+(M114*$M$3)+(N114*$N$3) -> 0
O115: =SUM(F115:N115) -> 0 | P115: =(D115*$D$3)+(E115*$E$3)+(F115*$F$3)+(G115*$G$3)+(H115*$H$3)+(I115*$I$3)+(J115*$J$3)+(K115*$K$3)+(L115*$L$3)+(M115*$M$3)+(N115*$N$3) -> 0
O116: =SUM(F116:N116) -> 0 | P116: =(D116*$D$3)+(E116*$E$3)+(F116*$F$3)+(G116*$G$3)+(H116*$H$3)+(I116*$I$3)+(J116*$J$3)+(K116*$K$3)+(L116*$L$3)+(M116*$M$3)+(N116*$N$3) -> 0
O117: =SUM(F117:N117) -> 0 | P117: =(D117*$D$3)+(E117*$E$3)+(F117*$F$3)+(G117*$G$3)+(H117*$H$3)+(I117*$I$3)+(J117*$J$3)+(K117*$K$3)+(L117*$L$3)+(M117*$M$3)+(N117*$N$3) -> 0
O118: =SUM(F118:N118) -> 0 | P118: =(D118*$D$3)+(E118*$E$3)+(F118*$F$3)+(G118*$G$3)+(H118*$H$3)+(I118*$I$3)+(J118*$J$3)+(K118*$K$3)+(L118*$L$3)+(M118*$M$3)+(N118*$N$3) -> 0
O119: =SUM(F119:N119) -> 0 | P119: =(D119*$D$3)+(E119*$E$3)+(F119*$F$3)+(G119*$G$3)+(H119*$H$3)+(I119*$I$3)+(J119*$J$3)+(K119*$K$3)+(L119*$L$3)+(M119*$M$3)+(N119*$N$3) -> 0
... O126: =SUM(F126:N126) -> 0 | P126: =(D126*$D$3)+(E126*$E$3)+(F126*$F$3)+(G126*$G$3)+(H126*$H$3)+(I126*$I$3)+(J126*$J$3)+(K126*$K$3)+(L126*$L$3)+(M126*$M$3)+(N126*$N$3) -> 0
B127: TOTAL | C127: =SUM(C126:C126) -> 0 | D127: =SUM(D108:D126) -> 0 | E127: =SUM(E108:E126) -> 0 | F127: =SUM(F126:F126) -> 0 | G127: =SUM(G108:G126) -> 0 | H127: =SUM(H108:H126) -> 0 | I127: =SUM(I108:I126) -> 0 | J127: =SUM(J108:J126) -> 0 | K127: =SUM(K108:K126) -> 0 | L127: =SUM(L108:L126) -> 0 | M127: =SUM(M108:M126) -> 0 | N127: =SUM(N108:N126) -> 0 | ... P127: =SUM(P108:P126) -> 0
B130: ISKCON PORT ELIZABETH
O131: =SUM(F131:N131) -> 0 | P131: =(D131*$D$3)+(E131*$E$3)+(F131*$F$3)+(G131*$G$3)+(H131*$H$3)+(I131*$I$3)+(J131*$J$3)+(K131*$K$3)+(L131*$L$3)+(M131*$M$3)+(N131*$N$3) -> 0
O132: =SUM(F132:N132) -> 0 | P132: =(D132*$D$3)+(E132*$E$3)+(F132*$F$3)+(G132*$G$3)+(H132*$H$3)+(I132*$I$3)+(J132*$J$3)+(K132*$K$3)+(L132*$L$3)+(M132*$M$3)+(N132*$N$3) -> 0
O133: =SUM(F133:N133) -> 0 | P133: =(D133*$D$3)+(E133*$E$3)+(F133*$F$3)+(G133*$G$3)+(H133*$H$3)+(I133*$I$3)+(J133*$J$3)+(K133*$K$3)+(L133*$L$3)+(M133*$M$3)+(N133*$N$3) -> 0
B134: TOTAL | C134: =SUM(C133:C133) -> 0 | D134: =SUM(D131:D133) -> 0 | E134: =SUM(E131:E133) -> 0 | F134: =SUM(F133:F133) -> 0 | G134: =SUM(G131:G133) -> 0 | H134: =SUM(H131:H133) -> 0 | I134: =SUM(I131:I133) -> 0 | J134: =SUM(J131:J133) -> 0 | K134: =SUM(K131:K133) -> 0 | L134: =SUM(L131:L133) -> 0 | M134: =SUM(M131:M133) -> 0 | N134: =SUM(N131:N133) -> 0 | ... P134: =SUM(P131:P133) -> 0
B137: ISKCON PRETORIA
O138: =SUM(F138:N138) -> 0 | P138: =(D138*$D$3)+(E138*$E$3)+(F138*$F$3)+(G138*$G$3)+(H138*$H$3)+(I138*$I$3)+(J138*$J$3)+(K138*$K$3)+(L138*$L$3)+(M138*$M$3)+(N138*$N$3) -> 0
O139: =SUM(F139:N139) -> 0 | P139: =(D139*$D$3)+(E139*$E$3)+(F139*$F$3)+(G139*$G$3)+(H139*$H$3)+(I139*$I$3)+(J139*$J$3)+(K139*$K$3)+(L139*$L$3)+(M139*$M$3)+(N139*$N$3) -> 0
O140: =SUM(F140:N140) -> 0 | P140: =(D140*$D$3)+(E140*$E$3)+(F140*$F$3)+(G140*$G$3)+(H140*$H$3)+(I140*$I$3)+(J140*$J$3)+(K140*$K$3)+(L140*$L$3)+(M140*$M$3)+(N140*$N$3) -> 0
O141: =SUM(F141:N141) -> 0 | P141: =(D141*$D$3)+(E141*$E$3)+(F141*$F$3)+(G141*$G$3)+(H141*$H$3)+(I141*$I$3)+(J141*$J$3)+(K141*$K$3)+(L141*$L$3)+(M141*$M$3)+(N141*$N$3) -> 0
O142: =SUM(F142:N142) -> 0 | P142: =(D142*$D$3)+(E142*$E$3)+(F142*$F$3)+(G142*$G$3)+(H142*$H$3)+(I142*$I$3)+(J142*$J$3)+(K142*$K$3)+(L142*$L$3)+(M142*$M$3)+(N142*$N$3) -> 0
O143: =SUM(F143:N143) -> 0 | P143: =(D143*$D$3)+(E143*$E$3)+(F143*$F$3)+(G143*$G$3)+(H143*$H$3)+(I143*$I$3)+(J143*$J$3)+(K143*$K$3)+(L143*$L$3)+(M143*$M$3)+(N143*$N$3) -> 0
O144: =SUM(F144:N144) -> 0 | P144: =(D144*$D$3)+(E144*$E$3)+(F144*$F$3)+(G144*$G$3)+(H144*$H$3)+(I144*$I$3)+(J144*$J$3)+(K144*$K$3)+(L144*$L$3)+(M144*$M$3)+(N144*$N$3) -> 0
...

Sheet Zambia
B2: TEMPLE: Zambia
B3: MONTH : January 2021
C4: BTG Sub | D4: CC Set | E4: SB Set | F4: Mag. | G4: Small Books | I4: Medium Books | K4: Big Books | M4: Maha-Books
D5: 36 | E5: 72 | F5: 0.1 | G5: 0.25 | H5: 0.25 | I5: 0.5 | J5: 0.5 | K5: 1 | L5: 1 | M5: 2 | N5: 2
B6: DEVOTEES | F6: M1 | G6: S1 | H6: H1 | I6: S2 | J6: H2 | K6: S3 | L6: H3 | M6: S4 | N6: H4 | O6: T/BKS | P6: Points
B9: Cumulative Scores | G9: 10 | L9: 4 | N9: 2 | O9: =SUM(F9:N9) -> 16 | P9: =(D9*$D$5)+(E9*$E$5)+(F9*$F$5)+(G9*$G$5)+(H9*$H$5)+(I9*$I$5)+(J9*$J$5)+(K9*$K$5)+(L9*$L$5)+(M9*$M$5)+(N9*$N$5) -> 10.5
O10: =SUM(F10:N10) -> 0 | P10: =(D10*$D$5)+(E10*$E$5)+(F10*$F$5)+(G10*$G$5)+(H10*$H$5)+(I10*$I$5)+(J10*$J$5)+(K10*$K$5)+(L10*$L$5)+(M10*$M$5)+(N10*$N$5) -> 0
O11: =SUM(F11:N11) -> 0 | P11: =(D11*$D$5)+(E11*$E$5)+(F11*$F$5)+(G11*$G$5)+(H11*$H$5)+(I11*$I$5)+(J11*$J$5)+(K11*$K$5)+(L11*$L$5)+(M11*$M$5)+(N11*$N$5) -> 0
B12: TOTAL | C12: =SUM(C9:C11) -> 0 | D12: =SUM(D9:D11) -> 0 | E12: =SUM(E9:E11) -> 0 | F12: =SUM(F9:F11) -> 0 | G12: =SUM(G9:G11) -> 10 | H12: =SUM(H9:H11) -> 0 | I12: =SUM(I9:I11) -> 0 | J12: =SUM(J9:J11) -> 0 | ... P12: =SUM(P9:P11) -> 10.5

Sheet Zimbabwe
B2: TEMPLE: Harare
B3: MONTH : January 2021
C4: BTG Sub | D4: CC Set | E4: SB Set | F4: Mag. | G4: Small Books | I4: Medium Books | K4: Big Books | M4: Maha-Books
D5: 36 | E5: 72 | F5: 0.1 | G5: 0.25 | H5: 0.25 | I5: 0.5 | J5: 0.5 | K5: 1 | L5: 1 | M5: 2 | N5: 2
B6: DEVOTEES | F6: M1 | G6: S1 | H6: H1 | I6: S2 | J6: H2 | K6: S3 | L6: H3 | M6: S4 | N6: H4 | O6: T/BKS | P6: Points
B9: Zimbabwe Sankirtana Team | G9: 12 | I9: 2 | K9: 2 | N9: 2 | O9: =SUM(F9:N9) -> 18 | P9: =(D9*$D$5)+(E9*$E$5)+(F9*$F$5)+(G9*$G$5)+(H9*$H$5)+(I9*$I$5)+(J9*$J$5)+(K9*$K$5)+(L9*$L$5)+(M9*$M$5)+(N9*$N$5) -> 10
O10: =SUM(F10:N10) -> 0 | P10: =(D10*$D$5)+(E10*$E$5)+(F10*$F$5)+(G10*$G$5)+(H10*$H$5)+(I10*$I$5)+(J10*$J$5)+(K10*$K$5)+(L10*$L$5)+(M10*$M$5)+(N10*$N$5) -> 0
O11: =SUM(F11:N11) -> 0 | P11: =(D11*$D$5)+(E11*$E$5)+(F11*$F$5)+(G11*$G$5)+(H11*$H$5)+(I11*$I$5)+(J11*$J$5)+(K11*$K$5)+(L11*$L$5)+(M11*$M$5)+(N11*$N$5) -> 0
B12: TOTAL | C12: =SUM(C9:C11) -> 0 | D12: =SUM(D9:D11) -> 0 | E12: =SUM(E9:E11) -> 0 | F12: =SUM(F9:F11) -> 0 | G12: =SUM(G9:G11) -> 12 | H12: =SUM(H9:H11) -> 0 | I12: =SUM(I9:I11) -> 2 | J12: =SUM(J9:J11) -> 0 | ... P12: =SUM(P9:P11) -> 10

Sheet Summary
A2: Country | B2: Books: | C2: Points:
A4: Botswana | B4: =SUM(Botswana!O13) -> 51 | C4: =SUM(Botswana!P13) -> 10.75
A5: Ghana | B5: =SUM(Ghana!O18) -> 205 | C5: =SUM(Ghana!P18) -> 36.25
A6: Ivory Coast | B6: =SUM('Ivory Coast'!O14) -> 0 | C6: =SUM('Ivory Coast'!P14) -> 0
A7: Kenya | B7: =SUM(Kenya!O36) -> 0 | C7: =SUM(Kenya!P36) -> 0
A8: Malawi | B8: =SUM(Malawi!O11) -> 0 | C8: =SUM(Malawi!P11) -> 0
A9: Mauritius | B9: =SUM(Mauritius!O37) -> 842 | C9: =SUM(Mauritius!P37) -> 267.2
A10: Nigeria | B10: =SUM(Nigeria!O41) -> 0 | C10: =SUM(Nigeria!P41) -> 0
A11: South Africa | B11: =SUM('South Africa'!O173) -> 3388 | C11: =SUM('South Africa'!P173) -> 747.9
A12: Zambia | B12: =SUM(Zambia!O12) -> 16 | C12: =SUM(Zambia!P12) -> 10.5
A13: Zimbabwe | B13: =SUM(Zimbabwe!O12) -> 18 | C13: =SUM(Zimbabwe!P12) -> 10
A15: Total: | B15: =SUM(B4:B14) -> 4520 | C15: =SUM(C4:C14) -> 1082.6
B23: All Africa Totals
A24: January | B24: =(B15) -> 4520
A25: February
A26: March
A27: April
A28: May
A29: June
A30: July
A31: August
A32: September
A33: October
A34: November
A35: December

Sheet Graphs
