Workbook
Name Excel_BuiltIn_Print_Area_1: [1]Malawi!#REF!
Name Excel_BuiltIn_Print_Area_1: [1]Malawi!#REF!
Name Excel_BuiltIn_Print_Area_1: [1]Malawi!#REF!
Name Excel_BuiltIn_Print_Area_1: [2]Malawi!#REF!
Name Excel_BuiltIn_Print_Area_1: [1]Malawi!#REF!
Name Excel_BuiltIn_Print_Area_1: [1]Malawi!#REF!
Name Excel_BuiltIn_Print_Area_1: [1]Malawi!#REF!
Name Excel_BuiltIn_Print_Area_1: [1]Malawi!#REF!

Sheet Botswana
B1: TEMPLE: Botswana
B2: MONTH :
C3: BTG Sub | D3: CC Set | E3: SB Set | F3: Mag. | G3: Small Books | I3: Medium Books | K3: Big Books | M3: Maha-Books
D4: 36 | E4: 72 | F4: 0.1 | G4: 0.25 | H4: 0.25 | I4: 0.5 | J4: 0.5 | K4: 1 | L4: 1 | M4: 2 | N4: 2
B5: DEVOTEES | F5: M1 | G5: S1 | H5: H1 | I5: S2 | J5: H2 | K5: S3 | L5: H3 | M5: S4 | N5: H4 | O5: T/BKS | P5: Points
O8: =SUM(F8:N8) -> 0 | P8: =(D8*$D$4)+(E8*$E$4)+(F8*$F$4)+(G8*$G$4)+(H8*$H$4)+(I8*$I$4)+(J8*$J$4)+(K8*$K$4)+(L8*$L$4)+(M8*$M$4)+(N8*$N$4) -> 0
O9: =SUM(F9:N9) -> 0 | P9: =(D9*$D$4)+(E9*$E$4)+(F9*$F$4)+(G9*$G$4)+(H9*$H$4)+(I9*$I$4)+(J9*$J$4)+(K9*$K$4)+(L9*$L$4)+(M9*$M$4)+(N9*$N$4) -> 0
O10: =SUM(F10:N10) -> 0 | P10: =(D10*$D$4)+(E10*$E$4)+(F10*$F$4)+(G10*$G$4)+(H10*$H$4)+(I10*$I$4)+(J10*$J$4)+(K10*$K$4)+(L10*$L$4)+(M10*$M$4)+(N10*$N$4) -> 0
O11: =SUM(F11:N11) -> 0 | P11: =(D11*$D$4)+(E11*$E$4)+(F11*$F$4)+(G11*$G$4)+(H11*$H$4)+(I11*$I$4)+(J11*$J$4)+(K11*$K$4)+(L11*$L$4)+(M11*$M$4)+(N11*$N$4) -> 0
O12: =SUM(F12:N12) -> 0 | P12: =(D12*$D$4)+(E12*$E$4)+(F12*$F$4)+(G12*$G$4)+(H12*$H$4)+(I12*$I$4)+(J12*$J$4)+(K12*$K$4)+(L12*$L$4)+(M12*$M$4)+(N12*$N$4) -> 0
B13: TOTAL | C13: =SUM(C8:C12) -> 0 | D13: =SUM(D8:D12) -> 0 | E13: =SUM(E8:E12) -> 0 | F13: =SUM(F8:F12) -> 0 | G13: =SUM(G8:G12) -> 0 | H13: =SUM(H8:H12) -> 0 | I13: =SUM(I8:I12) -> 0 | J13: =SUM(J8:J12) -> 0 | ... P13: =SUM(P8:P12) -> 0

Sheet Ivory Coast
B2: TEMPLE: Ivory Coast
B3: MONTH : December 2020
C4: BTG Sub | D4: CC Set | E4: SB Set | F4: Mag. | G4: Small Books | I4: Medium Books | K4: Big Books | M4: Maha-Books
D5: 36 | E5: 72 | F5: 0.1 | G5: 0.25 | H5: 0.25 | I5: 0.5 | J5: 0.5 | K5: 1 | L5: 1 | M5: 2 | N5: 2
B6: DEVOTEES | F6: M1 | G6: S1 | H6: H1 | I6: S2 | J6: H2 | K6: S3 | L6: H3 | M6: S4 | N6: H4 | O6: T/BKS | P6: Points
B9: Satrughna das | G9: 40 | O9: =SUM(F9:N9) -> 40 | P9: =(D9*$D$5)+(E9*$E$5)+(F9*$F$5)+(G9*$G$5)+(H9*$H$5)+(I9*$I$5)+(J9*$J$5)+(K9*$K$5)+(L9*$L$5)+(M9*$M$5)+(N9*$N$5) -> 10
B10: Sourabh | G10: 40 | O10: =SUM(F10:N10) -> 40 | P10: =(D10*$D$5)+(E10*$E$5)+(F10*$F$5)+(G10*$G$5)+(H10*$H$5)+(I10*$I$5)+(J10*$J$5)+(K10*$K$5)+(L10*$L$5)+(M10*$M$5)+(N10*$N$5) -> 10
B11: Bhakta Maurice | G11: 40 | O11: =SUM(F11:N11) -> 40 | P11: =(D11*$D$5)+(E11*$E$5)+(F11*$F$5)+(G11*$G$5)+(H11*$H$5)+(I11*$I$5)+(J11*$J$5)+(K11*$K$5)+(L11*$L$5)+(M11*$M$5)+(N11*$N$5) -> 10
B12: Bharat | G12: 40 | O12: =SUM(F12:N12) -> 40 | P12: =(D12*$D$5)+(E12*$E$5)+(F12*$F$5)+(G12*$G$5)+(H12*$H$5)+(I12*$I$5)+(J12*$J$5)+(K12*$K$5)+(L12*$L$5)+(M12*$M$5)+(N12*$N$5) -> 10
B13: Bhakta Martial | G13: 40 | O13: =SUM(F13:N13) -> 40 | P13: =(D13*$D$5)+(E13*$E$5)+(F13*$F$5)+(G13*$G$5)+(H13*$H$5)+(I13*$I$5)+(J13*$J$5)+(K13*$K$5)+(L13*$L$5)+(M13*$M$5)+(N13*$N$5) -> 10
B14: Nitai Prasad Das | G14: 40 | O14: =SUM(F14:N14) -> 40 | P14: =(D14*$D$5)+(E14*$E$5)+(F14*$F$5)+(G14*$G$5)+(H14*$H$5)+(I14*$I$5)+(J14*$J$5)+(K14*$K$5)+(L14*$L$5)+(M14*$M$5)+(N14*$N$5) -> 10
B15: Bhakta John | G15: 40 | O15: =SUM(F15:N15) -> 40 | P15: =(D15*$D$5)+(E15*$E$5)+(F15*$F$5)+(G15*$G$5)+(H15*$H$5)+(I15*$I$5)+(J15*$J$5)+(K15*$K$5)+(L15*$L$5)+(M15*$M$5)+(N15*$N$5) -> 10
B16: Virabhadra Das | G16: 20 | O16: =SUM(F16:N16) -> 20 | P16: =(D16*$D$5)+(E16*$E$5)+(F16*$F$5)+(G16*$G$5)+(H16*$H$5)+(I16*$I$5)+(J16*$J$5)+(K16*$K$5)+(L16*$L$5)+(M16*$M$5)+(N16*$N$5) -> 5
B17: Gaura Kishor Das | G17: 20 | O17: =SUM(F17:N17) -> 20 | P17: =(D17*$D$5)+(E17*$E$5)+(F17*$F$5)+(G17*$G$5)+(H17*$H$5)+(I17*$I$5)+(J17*$J$5)+(K17*$K$5)+(L17*$L$5)+(M17*$M$5)+(N17*$N$5) -> 5
B18: Bhakta Nestor | G18: 20 | O18: =SUM(F18:N18) -> 20 | P18: =(D18*$D$5)+(E18*$E$5)+(F18*$F$5)+(G18*$G$5)+(H18*$H$5)+(I18*$I$5)+(J18*$J$5)+(K18*$K$5)+(L18*$L$5)+(M18*$M$5)+(N18*$N$5) -> 5
B19: Arjuna Das | G19: 40 | O19: =SUM(F19:N19) -> 40 | P19: =(D19*$D$5)+(E19*$E$5)+(F19*$F$5)+(G19*$G$5)+(H19*$H$5)+(I19*$I$5)+(J19*$J$5)+(K19*$K$5)+(L19*$L$5)+(M19*$M$5)+(N19*$N$5) -> 10
B20: Bhakta Ble | G20: 40 | O20: =SUM(F20:N20) -> 40 | P20: =(D20*$D$5)+(E20*$E$5)+(F20*$F$5)+(G20*$G$5)+(H20*$H$5)+(I20*$I$5)+(J20*$J$5)+(K20*$K$5)+(L20*$L$5)+(M20*$M$5)+(N20*$N$5) -> 10
B21: Bhakta Patrick | G21: 40 | N21: 1 | O21: =SUM(F21:N21) -> 41 | P21: =(D21*$D$5)+(E21*$E$5)+(F21*$F$5)+(G21*$G$5)+(H21*$H$5)+(I21*$I$5)+(J21*$J$5)+(K21*$K$5)+(L21*$L$5)+(M21*$M$5)+(N21*$N$5) -> 12
B22: Isita Das | G22: 20 | O22: =SUM(F22:N22) -> 20 | P22: =(D22*$D$5)+(E22*$E$5)+(F22*$F$5)+(G22*$G$5)+(H22*$H$5)+(I22*$I$5)+(J22*$J$5)+(K22*$K$5)+(L22*$L$5)+(M22*$M$5)+(N22*$N$5) -> 5
B23: Bhakta Claver | G23: 20 | O23: =SUM(F23:N23) -> 20 | P23: =(D23*$D$5)+(E23*$E$5)+(F23*$F$5)+(G23*$G$5)+(H23*$H$5)+(I23*$I$5)+(J23*$J$5)+(K23*$K$5)+(L23*$L$5)+(M23*$M$5)+(N23*$N$5) -> 5
B24: Bhakta Yves | G24: 40 | O24: =SUM(F24:N24) -> 40 | P24: =(D24*$D$5)+(E24*$E$5)+(F24*$F$5)+(G24*$G$5)+(H24*$H$5)+(I24*$I$5)+(J24*$J$5)+(K24*$K$5)+(L24*$L$5)+(M24*$M$5)+(N24*$N$5) -> 10
O25: =SUM(F25:N25) -> 0 | P25: =(D25*$D$5)+(E25*$E$5)+(F25*$F$5)+(G25*$G$5)+(H25*$H$5)+(I25*$I$5)+(J25*$J$5)+(K25*$K$5)+(L25*$L$5)+(M25*$M$5)+(N25*$N$5) -> 0
B26: TOTAL | C26: =SUM(C9:C25) -> 0 | D26: =SUM(D9:D25) -> 0 | E26: =SUM(E9:E25) -> 0 | F26: =SUM(F9:F25) -> 0 | G26: =SUM(G9:G25) -> 540 | H26: =SUM(H9:H25) -> 0 | I26: =SUM(I9:I25) -> 0 | J26: =SUM(J9:J25) -> 0 | ... P26: =SUM(P9:P25) -> 137

Sheet Kenya
B2: MONTH : December 2020
C3: BTG Sub | D3: CC Set | E3: SB Set | F3: mag | G3: Small Books | I3: Medium Books | K3: Big Books | M3: Maha-Books
D4: 36 | E4: 72 | F4: 0.1 | G4: 0.25 | H4: 0.25 | I4: 0.5 | J4: 0.5 | K4: 1 | L4: 1 | M4: 2 | N4: 2
B5: DEVOTEES | F5: M1 | G5: S1 | H5: H1 | I5: S2 | J5: H2 | K5: S3 | L5: H3 | M5: S4 | N5: H4 | O5: T/BKS | P5: Points
B7: Iskcon Nairobi
B8: ALL CONGREGATION | E8: 1 | G8: 1000 | I8: 15 | K8: 1660 | N8: 5690 | O8: =SUM(F8:N8)+(E8*18) -> 8383 | P8: =(D8*$D$4)+(E8*$E$4)+(F8*$F$4)+(G8*$G$4)+(H8*$H$4)+(I8*$I$4)+(J8*$J$4)+(K8*$K$4)+(L8*$L$4)+(M8*$M$4)+(N8*$N$4) -> 13369.5
O9: =SUM(F9:N9) -> 0 | P9: =(D9*$D$4)+(E9*$E$4)+(F9*$F$4)+(G9*$G$4)+(H9*$H$4)+(I9*$I$4)+(J9*$J$4)+(K9*$K$4)+(L9*$L$4)+(M9*$M$4)+(N9*$N$4) -> 0
O10: =SUM(F10:N10) -> 0 | P10: =(D10*$D$4)+(E10*$E$4)+(F10*$F$4)+(G10*$G$4)+(H10*$H$4)+(I10*$I$4)+(J10*$J$4)+(K10*$K$4)+(L10*$L$4)+(M10*$M$4)+(N10*$N$4) -> 0
B11: TOTAL | C11: =SUM(C8:C10) -> 0 | D11: =SUM(D8:D10) -> 0 | E11: =SUM(E8:E10) -> 1 | F11: =SUM(F8:F10) -> 0 | G11: =SUM(G8:G10) -> 1000 | H11: =SUM(H8:H10) -> 0 | I11: =SUM(I8:I10) -> 15 | J11: =SUM(J8:J10) -> 0 | ... P11: =SUM(P8:P10) -> 13369.5
B14: Iskcon Kisumu
B15: BALA KRISHNA DASA | E15: 2 | F15: 727 | G15: 16035 | I15: 1215 | K15: 2395 | M15: 12 | N15: 6408 | O15: =SUM(F15:N15)+(E15*18) -> 26828 | P15: =(D15*$D$4)+(E15*$E$4)+(F15*$F$4)+(G15*$G$4)+(H15*$H$4)+(I15*$I$4)+(J15*$J$4)+(K15*$K$4)+(L15*$L$4)+(M15*$M$4)+(N15*$N$4) -> 20067.95
O16: =SUM(F16:N16) -> 0 | P16: =(D16*$D$4)+(E16*$E$4)+(F16*$F$4)+(G16*$G$4)+(H16*$H$4)+(I16*$I$4)+(J16*$J$4)+(K16*$K$4)+(L16*$L$4)+(M16*$M$4)+(N16*$N$4) -> 0
B17: TOTAL | C17: =SUM(C15:C16) -> 0 | D17: =SUM(D15:D16) -> 0 | E17: =SUM(E15:E16) -> 2 | F17: =SUM(F15:F16) -> 727 | G17: =SUM(G15:G16) -> 16035 | H17: =SUM(H15:H16) -> 0 | I17: =SUM(I15:I16) -> 1215 | J17: =SUM(J15:J16) -> 0 | ... P17: =SUM(P15:P16) -> 20067.95
B20: ISKCON ELDORET
B21: PARTH PREM DASA | G21: 124 | I21: 71 | K21: 44 | N21: 50 | O21: =SUM(F21:N21) -> 289 | P21: =(D21*$D$4)+(E21*$E$4)+(F21*$F$4)+(G21*$G$4)+(H21*$H$4)+(I21*$I$4)+(J21*$J$4)+(K21*$K$4)+(L21*$L$4)+(M21*$M$4)+(N21*$N$4) -> 210.5
O22: =SUM(F22:N22) -> 0 | P22: =(D22*$D$4)+(E22*$E$4)+(F22*$F$4)+(G22*$G$4)+(H22*$H$4)+(I22*$I$4)+(J22*$J$4)+(K22*$K$4)+(L22*$L$4)+(M22*$M$4)+(N22*$N$4) -> 0
O23: =SUM(C23:N23) -> 0 | P23: =(D23*$D$4)+(E23*$E$4)+(F23*$F$4)+(G23*$G$4)+(H23*$H$4)+(I23*$I$4)+(J23*$J$4)+(K23*$K$4)+(L23*$L$4)+(M23*$M$4)+(N23*$N$4) -> 0
B24: TOTAL | C24: =SUM(C21:C22) -> 0 | D24: =SUM(D21:D22) -> 0 | E24: =SUM(E21:E22) -> 0 | F24: =SUM(F21:F23) -> 0 | G24: =SUM(G21:G23) -> 124 | H24: =SUM(H21:H23) -> 0 | I24: =SUM(I21:I23) -> 71 | J24: =SUM(J21:J23) -> 0 | K24: =SUM(K21:K23) -> 44 | L24: =SUM(L21:L23) -> 0 | M24: =SUM(M21:M23) -> 0 | ... P24: =SUM(P21:P23) -> 210.5
N26: Total: | O26: =SUM(O11+O17+O24) -> 35500 | P26: =SUM(P11+P17+P24) -> 33647.95

Sheet Mauritius
B2: MONTH : December 2020 | C2: BTG Sub | D2: CC Set | E2: SB Set | F2: Mag. | G2: Small Books | I2: Medium Books | K2: Big Books | M2: Maha-Books
D3: 36 | E3: 72 | F3: 0.1 | G3: 0.25 | H3: 0.25 | I3: 0.5 | J3: 0.5 | K3: 1 | L3: 1 | M3: 2 | N3: 2
B4: DEVOTEES | F4: M1 | G4: S1 | H4: H1 | I4: S2 | J4: H2 | K4: S3 | L4: H3 | M4: S4 | N4: H4 | O4: T/BKS | P4: Points
B6: ISKCON Phoenix Sri Sri Radha Gokulananda Mandir
B7: Matajis :SATYABHAMA/VINATA/AKUTI DEVI DASI | F7: 16 | G7: 4533 | I7: 152 | M7: 839 | O7: =SUM(F7:N7) -> 5540 | P7: =(D7*$D$3)+(E7*$E$3)+(F7*$F$3)+(G7*$G$3)+(H7*$H$3)+(I7*$I$3)+(J7*$J$3)+(K7*$K$3)+(L7*$L$3)+(M7*$M$3)+(N7*$N$3) -> 2888.85
B8: Mataji Vrajesvari Dasi | G8: 1445 | I8: 18 | M8: 39 | O8: =SUM(F8:N8) -> 1502 | P8: =(D8*$D$3)+(E8*$E$3)+(F8*$F$3)+(G8*$G$3)+(H8*$H$3)+(I8*$I$3)+(J8*$J$3)+(K8*$K$3)+(L8*$L$3)+(M8*$M$3)+(N8*$N$3) -> 448.25
B9: Mahebourd festival/Pr Arjuna sakha das | F9: 62 | G9: 943 | I9: 51 | K9: 7 | M9: 78 | O9: =SUM(F9:N9) -> 1141 | P9: =(D9*$D$3)+(E9*$E$3)+(F9*$F$3)+(G9*$G$3)+(H9*$H$3)+(I9*$I$3)+(J9*$J$3)+(K9*$K$3)+(L9*$L$3)+(M9*$M$3)+(N9*$N$3) -> 430.45
B10: Prabhu Manmohan das/ Mataji Draupadi devi dasi | F10: 35 | G10: 510 | I10: 67 | M10: 43 | O10: =SUM(F10:N10) -> 655 | P10: =(D10*$D$3)+(E10*$E$3)+(F10*$F$3)+(G10*$G$3)+(H10*$H$3)+(I10*$I$3)+(J10*$J$3)+(K10*$K$3)+(L10*$L$3)+(M10*$M$3)+(N10*$N$3) -> 250.5
B11: Mataji sudevi dasi | G11: 773 | I11: 2 | M11: 8 | O11: =SUM(F11:N11) -> 783 | P11: =(D11*$D$3)+(E11*$E$3)+(F11*$F$3)+(G11*$G$3)+(H11*$H$3)+(I11*$I$3)+(J11*$J$3)+(K11*$K$3)+(L11*$L$3)+(M11*$M$3)+(N11*$N$3) -> 210.25
B12: Prabhu Kaunteya Dasa | M12: 100 | O12: =SUM(F12:N12) -> 100 | P12: =(D12*$D$3)+(E12*$E$3)+(F12*$F$3)+(G12*$G$3)+(H12*$H$3)+(I12*$I$3)+(J12*$J$3)+(K12*$K$3)+(L12*$L$3)+(M12*$M$3)+(N12*$N$3) -> 200
B13: Mataji Hari Puja Dasi | G13: 480 | O13: =SUM(F13:N13) -> 480 | P13: =(D13*$D$3)+(E13*$E$3)+(F13*$F$3)+(G13*$G$3)+(H13*$H$3)+(I13*$I$3)+(J13*$J$3)+(K13*$K$3)+(L13*$L$3)+(M13*$M$3)+(N13*$N$3) -> 120
B14: PITE team/ Prabhu Krishna Katha Das | G14: 380 | I14: 10 | O14: =SUM(F14:N14) -> 390 | P14: =(D14*$D$3)+(E14*$E$3)+(F14*$F$3)+(G14*$G$3)+(H14*$H$3)+(I14*$I$3)+(J14*$J$3)+(K14*$K$3)+(L14*$L$3)+(M14*$M$3)+(N14*$N$3) -> 100
B15: Mataji Vrnda sundari dasi | F15: 16 | G15: 1 | M15: 33 | O15: =SUM(F15:N15) -> 50 | P15: =(D15*$D$3)+(E15*$E$3)+(F15*$F$3)+(G15*$G$3)+(H15*$H$3)+(I15*$I$3)+(J15*$J$3)+(K15*$K$3)+(L15*$L$3)+(M15*$M$3)+(N15*$N$3) -> 67.85
B16: Prabhu Raghunath Das | G16: 60 | I16: 20 | M16: 20 | O16: =SUM(F16:N16) -> 100 | P16: =(D16*$D$3)+(E16*$E$3)+(F16*$F$3)+(G16*$G$3)+(H16*$H$3)+(I16*$I$3)+(J16*$J$3)+(K16*$K$3)+(L16*$L$3)+(M16*$M$3)+(N16*$N$3) -> 65
B17: Prabhu Harideva Das | M17: 30 | O17: =SUM(F17:N17) -> 30 | P17: =(D17*$D$3)+(E17*$E$3)+(F17*$F$3)+(G17*$G$3)+(H17*$H$3)+(I17*$I$3)+(J17*$J$3)+(K17*$K$3)+(L17*$L$3)+(M17*$M$3)+(N17*$N$3) -> 60
B18: Prabhu Nara Narayan Das | F18: 4 | G18: 50 | I18: 8 | M18: 16 | O18: =SUM(F18:N18) -> 78 | P18: =(D18*$D$3)+(E18*$E$3)+(F18*$F$3)+(G18*$G$3)+(H18*$H$3)+(I18*$I$3)+(J18*$J$3)+(K18*$K$3)+(L18*$L$3)+(M18*$M$3)+(N18*$N$3) -> 48.9
B19: Vidura/Ambarisa/Mathura Prabhus | G19: 83 | I19: 17 | K19: 2 | M19: 7 | O19: =SUM(F19:N19) -> 109 | P19: =(D19*$D$3)+(E19*$E$3)+(F19*$F$3)+(G19*$G$3)+(H19*$H$3)+(I19*$I$3)+(J19*$J$3)+(K19*$K$3)+(L19*$L$3)+(M19*$M$3)+(N19*$N$3) -> 45.25
B20: Prabhu Shatrugana Dasa | I20: 1 | K20: 11 | M20: 12 | O20: =SUM(F20:N20) -> 24 | P20: =(D20*$D$3)+(E20*$E$3)+(F20*$F$3)+(G20*$G$3)+(H20*$H$3)+(I20*$I$3)+(J20*$J$3)+(K20*$K$3)+(L20*$L$3)+(M20*$M$3)+(N20*$N$3) -> 35.5
B21: Prabhu Devaki Suta Das | M21: 16 | O21: =SUM(F21:N21) -> 16 | P21: =(D21*$D$3)+(E21*$E$3)+(F21*$F$3)+(G21*$G$3)+(H21*$H$3)+(I21*$I$3)+(J21*$J$3)+(K21*$K$3)+(L21*$L$3)+(M21*$M$3)+(N21*$N$3) -> 32
B22: Prabhu Rajendra Balram Das | I22: 10 | K22: 2 | M22: 11 | O22: =SUM(F22:N22) -> 23 | P22: =(D22*$D$3)+(E22*$E$3)+(F22*$F$3)+(G22*$G$3)+(H22*$H$3)+(I22*$I$3)+(J22*$J$3)+(K22*$K$3)+(L22*$L$3)+(M22*$M$3)+(N22*$N$3) -> 29
B23: Prabhu Citananda | G23: 110 | I23: 4 | O23: =SUM(F23:N23) -> 114 | P23: =(D23*$D$3)+(E23*$E$3)+(F23*$F$3)+(G23*$G$3)+(H23*$H$3)+(I23*$I$3)+(J23*$J$3)+(K23*$K$3)+(L23*$L$3)+(M23*$M$3)+(N23*$N$3) -> 29.5
B24: Rose belle preaching centre/Prabhu Gajendra Moksha Das | F24: 5 | G24: 43 | I24: 7 | M24: 7 | O24: =SUM(F24:N24) -> 62 | P24: =(D24*$D$3)+(E24*$E$3)+(F24*$F$3)+(G24*$G$3)+(H24*$H$3)+(I24*$I$3)+(J24*$J$3)+(K24*$K$3)+(L24*$L$3)+(M24*$M$3)+(N24*$N$3) -> 28.75
B25: Prabhu Ambarisa Das | G25: 90 | M25: 2 | O25: =SUM(F25:N25) -> 92 | P25: =(D25*$D$3)+(E25*$E$3)+(F25*$F$3)+(G25*$G$3)+(H25*$H$3)+(I25*$I$3)+(J25*$J$3)+(K25*$K$3)+(L25*$L$3)+(M25*$M$3)+(N25*$N$3) -> 26.5
B26: Mataji Taruna | G26: 16 | I26: 1 | K26: 2 | M26: 10 | O26: =SUM(F26:N26) -> 29 | P26: =(D26*$D$3)+(E26*$E$3)+(F26*$F$3)+(G26*$G$3)+(H26*$H$3)+(I26*$I$3)+(J26*$J$3)+(K26*$K$3)+(L26*$L$3)+(M26*$M$3)+(N26*$N$3) -> 26.5
B27: Prabhu Ajay Caitanya Das | I27: 11 | K27: 3 | M27: 7 | O27: =SUM(F27:N27) -> 21 | P27: =(D27*$D$3)+(E27*$E$3)+(F27*$F$3)+(G27*$G$3)+(H27*$H$3)+(I27*$I$3)+(J27*$J$3)+(K27*$K$3)+(L27*$L$3)+(M27*$M$3)+(N27*$N$3) -> 22.5
B28: Mataji Suhasini Gopika Dasi | G28: 84 | O28: =SUM(F28:N28) -> 84 | P28: =(D28*$D$3)+(E28*$E$3)+(F28*$F$3)+(G28*$G$3)+(H28*$H$3)+(I28*$I$3)+(J28*$J$3)+(K28*$K$3)+(L28*$L$3)+(M28*$M$3)+(N28*$N$3) -> 21
B29: HH Bhagavata Maharaj | I29: 40 | O29: =SUM(F29:N29) -> 40 | P29: =(D29*$D$3)+(E29*$E$3)+(F29*$F$3)+(G29*$G$3)+(H29*$H$3)+(I29*$I$3)+(J29*$J$3)+(K29*$K$3)+(L29*$L$3)+(M29*$M$3)+(N29*$N$3) -> 20
B30: Mataji Rocani Devi dasi/ Prabhu Sadhu Hrdaya Das | M30: 10 | O30: =SUM(F30:N30) -> 10 | P30: =(D30*$D$3)+(E30*$E$3)+(F30*$F$3)+(G30*$G$3)+(H30*$H$3)+(I30*$I$3)+(J30*$J$3)+(K30*$K$3)+(L30*$L$3)+(M30*$M$3)+(N30*$N$3) -> 20
B31: Mataji Danghati Lila Devi Dasi | G31: 9 | I31: 2 | K31: 2 | M31: 7 | O31: =SUM(F31:N31) -> 20 | P31: =(D31*$D$3)+(E31*$E$3)+(F31*$F$3)+(G31*$G$3)+(H31*$H$3)+(I31*$I$3)+(J31*$J$3)+(K31*$K$3)+(L31*$L$3)+(M31*$M$3)+(N31*$N$3) -> 19.25
B32: Mataji Atma Sakti dasi | G32: 50 | I32: 13 | O32: =SUM(F32:N32) -> 63 | P32: =(D32*$D$3)+(E32*$E$3)+(F32*$F$3)+(G32*$G$3)+(H32*$H$3)+(I32*$I$3)+(J32*$J$3)+(K32*$K$3)+(L32*$L$3)+(M32*$M$3)+(N32*$N$3) -> 19
B33: Prabhu Mahajan Das | F33: 5 | G33: 25 | I33: 1 | K33: 3 | M33: 4 | O33: =SUM(F33:N33) -> 38 | P33: =(D33*$D$3)+(E33*$E$3)+(F33*$F$3)+(G33*$G$3)+(H33*$H$3)+(I33*$I$3)+(J33*$J$3)+(K33*$K$3)+(L33*$L$3)+(M33*$M$3)+(N33*$N$3) -> 18.25
B34: Mataji Geeta | G34: 68 | I34: 2 | O34: =SUM(F34:N34) -> 70 | P34: =(D34*$D$3)+(E34*$E$3)+(F34*$F$3)+(G34*$G$3)+(H34*$H$3)+(I34*$I$3)+(J34*$J$3)+(K34*$K$3)+(L34*$L$3)+(M34*$M$3)+(N34*$N$3) -> 18
B35: Prabhu Bhakti Yogi Das | G35: 4 | I35: 10 | M35: 4 | O35: =SUM(F35:N35) -> 18 | P35: =(D35*$D$3)+(E35*$E$3)+(F35*$F$3)+(G35*$G$3)+(H35*$H$3)+(I35*$I$3)+(J35*$J$3)+(K35*$K$3)+(L35*$L$3)+(M35*$M$3)+(N35*$N$3) -> 14
B36: Mataji Satta Rupa Devi dasi | G36: 4 | I36: 10 | M36: 4 | O36: =SUM(F36:N36) -> 18 | P36: =(D36*$D$3)+(E36*$E$3)+(F36*$F$3)+(G36*$G$3)+(H36*$H$3)+(I36*$I$3)+(J36*$J$3)+(K36*$K$3)+(L36*$L$3)+(M36*$M$3)+(N36*$N$3) -> 14
B37: Mataji Carubala Devi dasi | F37: 2 | G37: 14 | I37: 2 | K37: 2 | M37: 3 | O37: =SUM(F37:N37) -> 23 | P37: =(D37*$D$3)+(E37*$E$3)+(F37*$F$3)+(G37*$G$3)+(H37*$H$3)+(I37*$I$3)+(J37*$J$3)+(K37*$K$3)+(L37*$L$3)+(M37*$M$3)+(N37*$N$3) -> 12.7
B38: Mataji Dinatarine/Rohini Priya | I38: 9 | M38: 4 | O38: =SUM(F38:N38) -> 13 | P38: =(D38*$D$3)+(E38*$E$3)+(F38*$F$3)+(G38*$G$3)+(H38*$H$3)+(I38*$I$3)+(J38*$J$3)+(K38*$K$3)+(L38*$L$3)+(M38*$M$3)+(N38*$N$3) -> 12.5
B39: Mataji Tulsi devi dasi | M39: 5 | O39: =SUM(F39:N39) -> 5 | P39: =(D39*$D$3)+(E39*$E$3)+(F39*$F$3)+(G39*$G$3)+(H39*$H$3)+(I39*$I$3)+(J39*$J$3)+(K39*$K$3)+(L39*$L$3)+(M39*$M$3)+(N39*$N$3) -> 10
B40: Mataji Swasti Devi Dasi | F40: 6 | G40: 30 | I40: 1 | O40: =SUM(F40:N40) -> 37 | P40: =(D40*$D$3)+(E40*$E$3)+(F40*$F$3)+(G40*$G$3)+(H40*$H$3)+(I40*$I$3)+(J40*$J$3)+(K40*$K$3)+(L40*$L$3)+(M40*$M$3)+(N40*$N$3) -> 8.6
B41: Prabhu Panch Tattva das | F41: 72 | I41: 4 | O41: =SUM(F41:N41) -> 76 | P41: =(D41*$D$3)+(E41*$E$3)+(F41*$F$3)+(G41*$G$3)+(H41*$H$3)+(I41*$I$3)+(J41*$J$3)+(K41*$K$3)+(L41*$L$3)+(M41*$M$3)+(N41*$N$3) -> 9.2
B42: Prabhu Sanju | M42: 4 | O42: =SUM(F42:N42) -> 4 | P42: =(D42*$D$3)+(E42*$E$3)+(F42*$F$3)+(G42*$G$3)+(H42*$H$3)+(I42*$I$3)+(J42*$J$3)+(K42*$K$3)+(L42*$L$3)+(M42*$M$3)+(N42*$N$3) -> 8
B43: Mataji Preeti Ramburn | G43: 2 | I43: 5 | M43: 2 | O43: =SUM(F43:N43) -> 9 | P43: =(D43*$D$3)+(E43*$E$3)+(F43*$F$3)+(G43*$G$3)+(H43*$H$3)+(I43*$I$3)+(J43*$J$3)+(K43*$K$3)+(L43*$L$3)+(M43*$M$3)+(N43*$N$3) -> 7
B44: Mataji Sarojini | G44: 2 | I44: 5 | M44: 2 | O44: =SUM(F44:N44) -> 9 | P44: =(D44*$D$3)+(E44*$E$3)+(F44*$F$3)+(G44*$G$3)+(H44*$H$3)+(I44*$I$3)+(J44*$J$3)+(K44*$K$3)+(L44*$L$3)+(M44*$M$3)+(N44*$N$3) -> 7
B45: Prabhu Boodoye | G45: 2 | I45: 5 | M45: 2 | O45: =SUM(F45:N45) -> 9 | P45: =(D45*$D$3)+(E45*$E$3)+(F45*$F$3)+(G45*$G$3)+(H45*$H$3)+(I45*$I$3)+(J45*$J$3)+(K45*$K$3)+(L45*$L$3)+(M45*$M$3)+(N45*$N$3) -> 7
B46: Prabhu Tulsi Das | G46: 2 | I46: 5 | M46: 2 | O46: =SUM(F46:N46) -> 9 | P46: =(D46*$D$3)+(E46*$E$3)+(F46*$F$3)+(G46*$G$3)+(H46*$H$3)+(I46*$I$3)+(J46*$J$3)+(K46*$K$3)+(L46*$L$3)+(M46*$M$3)+(N46*$N$3) -> 7
B47: Mataji Deepti Geerjan | G47: 2 | I47: 5 | M47: 2 | O47: =SUM(F47:N47) -> 9 | P47: =(D47*$D$3)+(E47*$E$3)+(F47*$F$3)+(G47*$G$3)+(H47*$H$3)+(I47*$I$3)+(J47*$J$3)+(K47*$K$3)+(L47*$L$3)+(M47*$M$3)+(N47*$N$3) -> 7
B48: Mataji Suryanandini Devi dasi | G48: 2 | I48: 5 | M48: 2 | O48: =SUM(F48:N48) -> 9 | P48: =(D48*$D$3)+(E48*$E$3)+(F48*$F$3)+(G48*$G$3)+(H48*$H$3)+(I48*$I$3)+(J48*$J$3)+(K48*$K$3)+(L48*$L$3)+(M48*$M$3)+(N48*$N$3) -> 7
B49: Prabhu Neeraj Ramburn | G49: 2 | I49: 5 | M49: 2 | O49: =SUM(F49:N49) -> 9 | P49: =(D49*$D$3)+(E49*$E$3)+(F49*$F$3)+(G49*$G$3)+(H49*$H$3)+(I49*$I$3)+(J49*$J$3)+(K49*$K$3)+(L49*$L$3)+(M49*$M$3)+(N49*$N$3) -> 7
B50: Mataji Biltah | G50: 2 | I50: 5 | M50: 2 | O50: =SUM(F50:N50) -> 9 | P50: =(D50*$D$3)+(E50*$E$3)+(F50*$F$3)+(G50*$G$3)+(H50*$H$3)+(I50*$I$3)+(J50*$J$3)+(K50*$K$3)+(L50*$L$3)+(M50*$M$3)+(N50*$N$3) -> 7
B51: Pabhu Nandanandan Das | G51: 2 | I51: 5 | M51: 2 | O51: =SUM(F51:N51) -> 9 | P51: =(D51*$D$3)+(E51*$E$3)+(F51*$F$3)+(G51*$G$3)+(H51*$H$3)+(I51*$I$3)+(J51*$J$3)+(K51*$K$3)+(L51*$L$3)+(M51*$M$3)+(N51*$N$3) -> 7
B52: Prabhu Vikash Bunjun | G52: 2 | I52: 5 | M52: 2 | O52: =SUM(F52:N52) -> 9 | P52: =(D52*$D$3)+(E52*$E$3)+(F52*$F$3)+(G52*$G$3)+(H52*$H$3)+(I52*$I$3)+(J52*$J$3)+(K52*$K$3)+(L52*$L$3)+(M52*$M$3)+(N52*$N$3) -> 7
B53: Mataji Hema Bunjun | G53: 2 | I53: 5 | M53: 2 | O53: =SUM(F53:N53) -> 9 | P53: =(D53*$D$3)+(E53*$E$3)+(F53*$F$3)+(G53*$G$3)+(H53*$H$3)+(I53*$I$3)+(J53*$J$3)+(K53*$K$3)+(L53*$L$3)+(M53*$M$3)+(N53*$N$3) -> 7
B54: Prabhu Raghuvir Das | F54: 2 | G54: 5 | M54: 2 | O54: =SUM(F54:N54) -> 9 | P54: =(D54*$D$3)+(E54*$E$3)+(F54*$F$3)+(G54*$G$3)+(H54*$H$3)+(I54*$I$3)+(J54*$J$3)+(K54*$K$3)+(L54*$L$3)+(M54*$M$3)+(N54*$N$3) -> 5.45
B55: Prabhu Satyam | G55: 6 | I55: 2 | M55: 2 | O55: =SUM(F55:N55) -> 10 | P55: =(D55*$D$3)+(E55*$E$3)+(F55*$F$3)+(G55*$G$3)+(H55*$H$3)+(I55*$I$3)+(J55*$J$3)+(K55*$K$3)+(L55*$L$3)+(M55*$M$3)+(N55*$N$3) -> 6.5
B56: Prabhu Asutosa Dasa | G56: 5 | M56: 2 | O56: =SUM(F56:N56) -> 7 | P56: =(D56*$D$3)+(E56*$E$3)+(F56*$F$3)+(G56*$G$3)+(H56*$H$3)+(I56*$I$3)+(J56*$J$3)+(K56*$K$3)+(L56*$L$3)+(M56*$M$3)+(N56*$N$3) -> 5.25
B57: Prabhu Narayan Das | G57: 20 | O57: =SUM(F57:N57) -> 20 | P57: =(D57*$D$3)+(E57*$E$3)+(F57*$F$3)+(G57*$G$3)+(H57*$H$3)+(I57*$I$3)+(J57*$J$3)+(K57*$K$3)+(L57*$L$3)+(M57*$M$3)+(N57*$N$3) -> 5
B58: Prabhu Acharya Nishta Das | G58: 2 | I58: 1 | M58: 1 | O58: =SUM(F58:N58) -> 4 | P58: =(D58*$D$3)+(E58*$E$3)+(F58*$F$3)+(G58*$G$3)+(H58*$H$3)+(I58*$I$3)+(J58*$J$3)+(K58*$K$3)+(L58*$L$3)+(M58*$M$3)+(N58*$N$3) -> 3
B59: Mataji Rani | G59: 10 | O59: =SUM(F59:N59) -> 10 | P59: =(D59*$D$3)+(E59*$E$3)+(F59*$F$3)+(G59*$G$3)+(H59*$H$3)+(I59*$I$3)+(J59*$J$3)+(K59*$K$3)+(L59*$L$3)+(M59*$M$3)+(N59*$N$3) -> 2.5
B60: Mataji Prishnee | F60: 1 | G60: 5 | K60: 1 | O60: =SUM(F60:N60) -> 7 | P60: =(D60*$D$3)+(E60*$E$3)+(F60*$F$3)+(G60*$G$3)+(H60*$H$3)+(I60*$I$3)+(J60*$J$3)+(K60*$K$3)+(L60*$L$3)+(M60*$M$3)+(N60*$N$3) -> 2.35
B61: Mataji Lila Smaran Devi Dasi | G61: 9 | O61: =SUM(F61:N61) -> 9 | P61: =(D61*$D$3)+(E61*$E$3)+(F61*$F$3)+(G61*$G$3)+(H61*$H$3)+(I61*$I$3)+(J61*$J$3)+(K61*$K$3)+(L61*$L$3)+(M61*$M$3)+(N61*$N$3) -> 2.25
B62: Mataji Manita | G62: 2 | O62: =SUM(F62:N62) -> 2 | P62: =(D62*$D$3)+(E62*$E$3)+(F62*$F$3)+(G62*$G$3)+(H62*$H$3)+(I62*$I$3)+(J62*$J$3)+(K62*$K$3)+(L62*$L$3)+(M62*$M$3)+(N62*$N$3) -> 0.5
B63: Mataji Anju | F63: 1 | O63: =SUM(F63:N63) -> 1 | P63: =(D63*$D$3)+(E63*$E$3)+(F63*$F$3)+(G63*$G$3)+(H63*$H$3)+(I63*$I$3)+(J63*$J$3)+(K63*$K$3)+(L63*$L$3)+(M63*$M$3)+(N63*$N$3) -> 0.1
B64: Mataji Veena Ramdhary | F64: 1 | O64: =SUM(F64:N64) -> 1 | P64: =(D64*$D$3)+(E64*$E$3)+(F64*$F$3)+(G64*$G$3)+(H64*$H$3)+(I64*$I$3)+(J64*$J$3)+(K64*$K$3)+(L64*$L$3)+(M64*$M$3)+(N64*$N$3) -> 0.1
O65: =SUM(F65:N65) -> 0 | P65: =(D65*$D$3)+(E65*$E$3)+(F65*$F$3)+(G65*$G$3)+(H65*$H$3)+(I65*$I$3)+(J65*$J$3)+(K65*$K$3)+(L65*$L$3)+(M65*$M$3)+(N65*$N$3) -> 0
B66: TOTAL | C66: =SUM(C7:C65) -> 0 | D66: =SUM(D7:D65) -> 0 | E66: =SUM(E7:E65) -> 0 | F66: =SUM(F7:F65) -> 228 | G66: =SUM(G7:G65) -> 9891 | H66: =SUM(H7:H65) -> 0 | I66: =SUM(I7:I65) -> 531 | J66: =SUM(J7:J65) -> 0 | ... P66: =SUM(P7:P65) -> 5500.05
B69: ISKCON Bon Accueil Mauritius Sri Sri Krsna Balaram Mandir
B70: Cumulative Scores | G70: 4259 | I70: 0 | K70: 662 | O70: =SUM(F70:N70) -> 4921 | P70: =(D70*$D$3)+(E70*$E$3)+(F70*$F$3)+(G70*$G$3)+(H70*$H$3)+(I70*$I$3)+(J70*$J$3)+(K70*$K$3)+(L70*$L$3)+(M70*$M$3)+(N70*$N$3) -> 1726.75
O71: =SUM(F71:N71) -> 0 | P71: =(D71*$D$3)+(E71*$E$3)+(F71*$F$3)+(G71*$G$3)+(H71*$H$3)+(I71*$I$3)+(J71*$J$3)+(K71*$K$3)+(L71*$L$3)+(M71*$M$3)+(N71*$N$3) -> 0
O72: =SUM(F72:N72) -> 0 | P72: =(D72*$D$3)+(E72*$E$3)+(F72*$F$3)+(G72*$G$3)+(H72*$H$3)+(I72*$I$3)+(J72*$J$3)+(K72*$K$3)+(L72*$L$3)+(M72*$M$3)+(N72*$N$3) -> 0
B73: TOTAL | C73: =SUM(C70:C72) -> 0 | D73: =SUM(D70:D72) -> 0 | E73: =SUM(E70:E72) -> 0 | F73: =SUM(F70:F72) -> 0 | G73: =SUM(G70:G72) -> 4259 | H73: =SUM(H70:H72) -> 0 | I73: =SUM(I70:I72) -> 0 | J73: =SUM(J70:J72) -> 0 | ... P73: =SUM(P70:P72) -> 1726.75
M76: TOTAL | O76: =+O73+O66 -> 16958 | P76: =+P73+P66 -> 7226.8

Sheet Nigeria
B1: MONTH : December 2020
C2: BTG Sub | D2: CC Set | E2: SB Set | F2: Mag. | G2: Small Books | I2: Medium Books | K2: Big Books | M2: Maha-Books
D3: 36 | E3: 72 | F3: 0.1 | G3: 0.25 | H3: 0.25 | I3: 0.5 | J3: 0.5 | K3: 1 | L3: 1 | M3: 2 | N3: 2
B4: DEVOTEES | F4: M1 | G4: S1 | H4: H1 | I4: S2 | J4: H2 | K4: S3 | L4: H3 | M4: S4 | N4: H4 | O4: T/BKS | P4: Points
B6: ISKCON BENIN CITY
B7: Bhakta Newman | G7: 67 | N7: 10 | O7: =SUM(C7:N7) -> 77 | P7: =(D7*$D$3)+(E7*$E$3)+(F7*$F$3)+(G7*$G$3)+(H7*$H$3)+(I7*$I$3)+(J7*$J$3)+(K7*$K$3)+(L7*$L$3)+(M7*$M$3)+(N7*$N$3) -> 36.75
B8: Bhakta Austine | G8: 19 | N8: 3 | O8: =SUM(F8:N8) -> 22 | P8: =(D8*$D$3)+(E8*$E$3)+(F8*$F$3)+(G8*$G$3)+(H8*$H$3)+(I8*$I$3)+(J8*$J$3)+(K8*$K$3)+(L8*$L$3)+(M8*$M$3)+(N8*$N$3) -> 10.75
B9: Yadhunatha Dasa | G9: 19 | N9: 3 | O9: =SUM(F9:N9) -> 22 | P9: =(D9*$D$3)+(E9*$E$3)+(F9*$F$3)+(G9*$G$3)+(H9*$H$3)+(I9*$I$3)+(J9*$J$3)+(K9*$K$3)+(L9*$L$3)+(M9*$M$3)+(N9*$N$3) -> 10.75
O10: =SUM(F10:N10) -> 0 | P10: =(D10*$D$3)+(E10*$E$3)+(F10*$F$3)+(G10*$G$3)+(H10*$H$3)+(I10*$I$3)+(J10*$J$3)+(K10*$K$3)+(L10*$L$3)+(M10*$M$3)+(N10*$N$3) -> 0
B11: TOTAL | C11: =SUM(C7:C10) -> 0 | D11: =SUM(D7:D10) -> 0 | E11: =SUM(E7:E10) -> 0 | F11: =SUM(F7:F10) -> 0 | G11: =SUM(G7:G10) -> 105 | H11: =SUM(H7:H10) -> 0 | I11: =SUM(I7:I10) -> 0 | J11: =SUM(J7:J10) -> 0 | ... P11: =SUM(P7:P10) -> 58.25
B14: ISKCON LAGOS
B15: Bhakti Dhira Damodara Swami | N15: 30 | O15: =SUM(F15:N15) -> 30 | P15: =(D15*$D$3)+(E15*$E$3)+(F15*$F$3)+(G15*$G$3)+(H15*$H$3)+(I15*$I$3)+(J15*$J$3)+(K15*$K$3)+(L15*$L$3)+(M15*$M$3)+(N15*$N$3) -> 60
B16: Acintya Rupa Dasa | N16: 18 | O16: =SUM(F16:N16) -> 18 | P16: =(D16*$D$3)+(E16*$E$3)+(F16*$F$3)+(G16*$G$3)+(H16*$H$3)+(I16*$I$3)+(J16*$J$3)+(K16*$K$3)+(L16*$L$3)+(M16*$M$3)+(N16*$N$3) -> 36
B17: Amrta Gopal Dasa | N17: 5 | O17: =SUM(F17:N17) -> 5 | P17: =(D17*$D$3)+(E17*$E$3)+(F17*$F$3)+(G17*$G$3)+(H17*$H$3)+(I17*$I$3)+(J17*$J$3)+(K17*$K$3)+(L17*$L$3)+(M17*$M$3)+(N17*$N$3) -> 10
B18: Govinda Ananda Dasa | N18: 14 | O18: =SUM(F18:N18) -> 14 | P18: =(D18*$D$3)+(E18*$E$3)+(F18*$F$3)+(G18*$G$3)+(H18*$H$3)+(I18*$I$3)+(J18*$J$3)+(K18*$K$3)+(L18*$L$3)+(M18*$M$3)+(N18*$N$3) -> 28
B19: Beenu | N19: 10 | O19: =SUM(F19:N19) -> 10 | P19: =(D19*$D$3)+(E19*$E$3)+(F19*$F$3)+(G19*$G$3)+(H19*$H$3)+(I19*$I$3)+(J19*$J$3)+(K19*$K$3)+(L19*$L$3)+(M19*$M$3)+(N19*$N$3) -> 20
B20: Bhuvana Sundari devi dasi | N20: 19 | O20: =SUM(F20:N20) -> 19 | P20: =(D20*$D$3)+(E20*$E$3)+(F20*$F$3)+(G20*$G$3)+(H20*$H$3)+(I20*$I$3)+(J20*$J$3)+(K20*$K$3)+(L20*$L$3)+(M20*$M$3)+(N20*$N$3) -> 38
O21: =SUM(F21:N21) -> 0 | P21: =(D21*$D$3)+(E21*$E$3)+(F21*$F$3)+(G21*$G$3)+(H21*$H$3)+(I21*$I$3)+(J21*$J$3)+(K21*$K$3)+(L21*$L$3)+(M21*$M$3)+(N21*$N$3) -> 0
B22: TOTAL | C22: =SUM(C15:C21) -> 0 | D22: =SUM(D15:D21) -> 0 | E22: =SUM(E15:E21) -> 0 | F22: =SUM(F15:F21) -> 0 | G22: =SUM(G15:G21) -> 0 | H22: =SUM(H15:H21) -> 0 | I22: =SUM(I15:I21) -> 0 | J22: =SUM(J15:J21) -> 0 | ... P22: =SUM(P15:P21) -> 192
B25: ISKCON PORT HARCOURT
O26: =SUM(F26:N26) -> 0 | P26: =(D26*$D$3)+(E26*$E$3)+(F26*$F$3)+(G26*$G$3)+(H26*$H$3)+(I26*$I$3)+(J26*$J$3)+(K26*$K$3)+(L26*$L$3)+(M26*$M$3)+(N26*$N$3) -> 0
O27: =SUM(F27:N27) -> 0 | P27: =(D27*$D$3)+(E27*$E$3)+(F27*$F$3)+(G27*$G$3)+(H27*$H$3)+(I27*$I$3)+(J27*$J$3)+(K27*$K$3)+(L27*$L$3)+(M27*$M$3)+(N27*$N$3) -> 0
O28: =SUM(F28:N28) -> 0 | P28: =(D28*$D$3)+(E28*$E$3)+(F28*$F$3)+(G28*$G$3)+(H28*$H$3)+(I28*$I$3)+(J28*$J$3)+(K28*$K$3)+(L28*$L$3)+(M28*$M$3)+(N28*$N$3) -> 0
O29: =SUM(F29:N29) -> 0 | P29: =(D29*$D$3)+(E29*$E$3)+(F29*$F$3)+(G29*$G$3)+(H29*$H$3)+(I29*$I$3)+(J29*$J$3)+(K29*$K$3)+(L29*$L$3)+(M29*$M$3)+(N29*$N$3) -> 0
O30: =SUM(F30:N30) -> 0 | P30: =(D30*$D$3)+(E30*$E$3)+(F30*$F$3)+(G30*$G$3)+(H30*$H$3)+(I30*$I$3)+(J30*$J$3)+(K30*$K$3)+(L30*$L$3)+(M30*$M$3)+(N30*$N$3) -> 0
O31: =SUM(F31:N31) -> 0 | P31: =(D31*$D$3)+(E31*$E$3)+(F31*$F$3)+(G31*$G$3)+(H31*$H$3)+(I31*$I$3)+(J31*$J$3)+(K31*$K$3)+(L31*$L$3)+(M31*$M$3)+(N31*$N$3) -> 0
O32: =SUM(F32:N32) -> 0 | P32: =(D32*$D$3)+(E32*$E$3)+(F32*$F$3)+(G32*$G$3)+(H32*$H$3)+(I32*$I$3)+(J32*$J$3)+(K32*$K$3)+(L32*$L$3)+(M32*$M$3)+(N32*$N$3) -> 0
O33: =SUM(F33:N33) -> 0 | P33: =(D33*$D$3)+(E33*$E$3)+(F33*$F$3)+(G33*$G$3)+(H33*$H$3)+(I33*$I$3)+(J33*$J$3)+(K33*$K$3)+(L33*$L$3)+(M33*$M$3)+(N33*$N$3) -> 0
O34: =SUM(F34:N34) -> 0 | P34: =(D34*$D$3)+(E34*$E$3)+(F34*$F$3)+(G34*$G$3)+(H34*$H$3)+(I34*$I$3)+(J34*$J$3)+(K34*$K$3)+(L34*$L$3)+(M34*$M$3)+(N34*$N$3) -> 0
O35: =SUM(F35:N35) -> 0 | P35: =(D35*$D$3)+(E35*$E$3)+(F35*$F$3)+(G35*$G$3)+(H35*$H$3)+(I35*$I$3)+(J35*$J$3)+(K35*$K$3)+(L35*$L$3)+(M35*$M$3)+(N35*$N$3) -> 0
O36: =SUM(F36:N36) -> 0 | P36: =(D36*$D$3)+(E36*$E$3)+(F36*$F$3)+(G36*$G$3)+(H36*$H$3)+(I36*$I$3)+(J36*$J$3)+(K36*$K$3)+(L36*$L$3)+(M36*$M$3)+(N36*$N$3) -> 0
B37: TOTAL | C37: =SUM(C34:C36) -> 0 | D37: =SUM(D26:D36) -> 0 | E37: =SUM(E26:E36) -> 0 | F37: =SUM(F34:F36) -> 0 | G37: =SUM(G26:G36) -> 0 | H37: =SUM(H26:H36) -> 0 | I37: =SUM(I26:I36) -> 0 | J37: =SUM(J26:J36) -> 0 | K37: =SUM(K26:K36) -> 0 | L37: =SUM(L26:L36) -> 0 | M37: =SUM(M26:M36) -> 0 | N37: =SUM(N26:N36) -> 0 | ... P37: =SUM(P26:P36) -> 0
M40: TOTAL | O40: =O37+O22+O11 -> 217 | P40: =P37+P22+P11 -> 250.25

Sheet South Africa
B1: MONTH : December 2020
C2: BTG Sub | D2: CC Set | E2: SB Set | F2: Mag. | G2: Small Books | I2: Medium Books | K2: Big Books | M2: Maha-Books
D3: 36 | E3: 72 | F3: 0.1 | G3: 0.25 | H3: 0.25 | I3: 0.5 | J3: 0.5 | K3: 1 | L3: 1 | M3: 2 | N3: 2
B4: DEVOTEES | F4: M1 | G4: S1 | H4: H1 | I4: S2 | J4: H2 | K4: S3 | L4: H3 | M4: S4 | N4: H4 | O4: T/BKS | P4: Points
B7: Bhakti Lounge Johannesburg
O8: =SUM(F8:N8) -> 0 | P8: =(D8*$D$3)+(E8*$E$3)+(F8*$F$3)+(G8*$G$3)+(H8*$H$3)+(I8*$I$3)+(J8*$J$3)+(K8*$K$3)+(L8*$L$3)+(M8*$M$3)+(N8*$N$3) -> 0
O9: =SUM(F9:N9) -> 0 | P9: =(D9*$D$3)+(E9*$E$3)+(F9*$F$3)+(G9*$G$3)+(H9*$H$3)+(I9*$I$3)+(J9*$J$3)+(K9*$K$3)+(L9*$L$3)+(M9*$M$3)+(N9*$N$3) -> 0
B10: TOTAL | C10: =SUM(C9:C9) -> 0 | D10: =SUM(D9:D9) -> 0 | E10: =SUM(E8:E9) -> 0 | F10: =SUM(F8:F9) -> 0 | G10: =SUM(G8:G9) -> 0 | H10: =SUM(H8:H9) -> 0 | I10: =SUM(I8:I9) -> 0 | J10: =SUM(J8:J9) -> 0 | K10: =SUM(K8:K9) -> 0 | L10: =SUM(L8:L9) -> 0 | ... P10: =SUM(P8:P9) -> 0
B13: ISKCON BLOEMFONTEIN
O14: =SUM(F14:N14) -> 0 | P14: =(D14*$D$3)+(E14*$E$3)+(F14*$F$3)+(G14*$G$3)+(H14*$H$3)+(I14*$I$3)+(J14*$J$3)+(K14*$K$3)+(L14*$L$3)+(M14*$M$3)+(N14*$N$3) -> 0
O15: =SUM(F15:N15) -> 0 | P15: =(D15*$D$3)+(E15*$E$3)+(F15*$F$3)+(G15*$G$3)+(H15*$H$3)+(I15*$I$3)+(J15*$J$3)+(K15*$K$3)+(L15*$L$3)+(M15*$M$3)+(N15*$N$3) -> 0
B16: TOTAL | C16: =SUM(C15:C15) -> 0 | D16: =SUM(D15:D15) -> 0 | E16: =SUM(E14:E15) -> 0 | F16: =SUM(F14:F15) -> 0 | G16: =SUM(G14:G15) -> 0 | H16: =SUM(H14:H15) -> 0 | I16: =SUM(I14:I15) -> 0 | J16: =SUM(J14:J15) -> 0 | K16: =SUM(K14:K15) -> 0 | L16: =SUM(L14:L15) -> 0 | ... P16: =SUM(P14:P15) -> 0
B19: ISKCON CAPE TOWN
B20: Bhakta Jason Finlay | G20: 200 | I20: 54 | K20: 80 | M20: 0 | N20: 10 | O20: =SUM(C20:N20) -> 344 | P20: =(D20*$D$3)+(E20*$E$3)+(F20*$F$3)+(G20*$G$3)+(H20*$H$3)+(I20*$I$3)+(J20*$J$3)+(K20*$K$3)+(L20*$L$3)+(M20*$M$3)+(N20*$N$3) -> 177
B21: Bhakta Dale Wastell | G21: 27 | I21: 6 | K21: 20 | N21: 12 | O21: =SUM(F21:N21) -> 65 | P21: =(D21*$D$3)+(E21*$E$3)+(F21*$F$3)+(G21*$G$3)+(H21*$H$3)+(I21*$I$3)+(J21*$J$3)+(K21*$K$3)+(L21*$L$3)+(M21*$M$3)+(N21*$N$3) -> 53.75
B22: Gita Gamya devi dasi | G22: 14 | I22: 18 | K22: 3 | M22: 0 | N22: 3 | O22: =SUM(F22:N22) -> 38 | P22: =(D22*$D$3)+(E22*$E$3)+(F22*$F$3)+(G22*$G$3)+(H22*$H$3)+(I22*$I$3)+(J22*$J$3)+(K22*$K$3)+(L22*$L$3)+(M22*$M$3)+(N22*$N$3) -> 21.5
B23: Gopa Kumar Das | G23: 77 | I23: 63 | K23: 17 | N23: 7 | O23: =SUM(F23:N23) -> 164 | P23: =(D23*$D$3)+(E23*$E$3)+(F23*$F$3)+(G23*$G$3)+(H23*$H$3)+(I23*$I$3)+(J23*$J$3)+(K23*$K$3)+(L23*$L$3)+(M23*$M$3)+(N23*$N$3) -> 81.75
B24: Karuna-Sindhu Avatara Das | G24: 2 | I24: 0 | K24: 0 | N24: 2 | O24: =SUM(F24:N24) -> 4 | P24: =(D24*$D$3)+(E24*$E$3)+(F24*$F$3)+(G24*$G$3)+(H24*$H$3)+(I24*$I$3)+(J24*$J$3)+(K24*$K$3)+(L24*$L$3)+(M24*$M$3)+(N24*$N$3) -> 4.5
B25: Murari Gupta das | N25: 1 | O25: =SUM(F25:N25) -> 1 | P25: =(D25*$D$3)+(E25*$E$3)+(F25*$F$3)+(G25*$G$3)+(H25*$H$3)+(I25*$I$3)+(J25*$J$3)+(K25*$K$3)+(L25*$L$3)+(M25*$M$3)+(N25*$N$3) -> 2
B26: Gokulesh Das | N26: 30 | O26: =SUM(F26:N26) -> 30 | P26: =(D26*$D$3)+(E26*$E$3)+(F26*$F$3)+(G26*$G$3)+(H26*$H$3)+(I26*$I$3)+(J26*$J$3)+(K26*$K$3)+(L26*$L$3)+(M26*$M$3)+(N26*$N$3) -> 60
B27: Govardhan Sila Das | G27: 60 | N27: 21 | O27: =SUM(F27:N27) -> 81 | P27: =(D27*$D$3)+(E27*$E$3)+(F27*$F$3)+(G27*$G$3)+(H27*$H$3)+(I27*$I$3)+(J27*$J$3)+(K27*$K$3)+(L27*$L$3)+(M27*$M$3)+(N27*$N$3) -> 57
B28: Bhakta Ravi Moodley | G28: 25 | I28: 60 | O28: =SUM(F28:N28) -> 85 | P28: =(D28*$D$3)+(E28*$E$3)+(F28*$F$3)+(G28*$G$3)+(H28*$H$3)+(I28*$I$3)+(J28*$J$3)+(K28*$K$3)+(L28*$L$3)+(M28*$M$3)+(N28*$N$3) -> 36.25
B29: Sadhu Priya das | I29: 4 | O29: =SUM(F29:N29) -> 4 | P29: =(D29*$D$3)+(E29*$E$3)+(F29*$F$3)+(G29*$G$3)+(H29*$H$3)+(I29*$I$3)+(J29*$J$3)+(K29*$K$3)+(L29*$L$3)+(M29*$M$3)+(N29*$N$3) -> 2
B30: Syamananda Krishna das | E30: 1 | I30: 0 | O30: =SUM(F30:N30)+(D30*9)+(E30*18) -> 18 | P30: =(D30*$D$3)+(E30*$E$3)+(F30*$F$3)+(G30*$G$3)+(H30*$H$3)+(I30*$I$3)+(J30*$J$3)+(K30*$K$3)+(L30*$L$3)+(M30*$M$3)+(N30*$N$3) -> 72
B31: Tusta Gauranga das | G31: 32 | I31: 8 | O31: =SUM(F31:N31) -> 40 | P31: =(D31*$D$3)+(E31*$E$3)+(F31*$F$3)+(G31*$G$3)+(H31*$H$3)+(I31*$I$3)+(J31*$J$3)+(K31*$K$3)+(L31*$L$3)+(M31*$M$3)+(N31*$N$3) -> 12
B32: Vasanti Dasi | G32: 5 | I32: 4 | K32: 2 | N32: 2 | O32: =SUM(F32:N32) -> 13 | P32: =(D32*$D$3)+(E32*$E$3)+(F32*$F$3)+(G32*$G$3)+(H32*$H$3)+(I32*$I$3)+(J32*$J$3)+(K32*$K$3)+(L32*$L$3)+(M32*$M$3)+(N32*$N$3) -> 9.25
B33: Tanumadhya Devi Dasi | N33: 10 | O33: =SUM(F33:N33) -> 10 | P33: =(D33*$D$3)+(E33*$E$3)+(F33*$F$3)+(G33*$G$3)+(H33*$H$3)+(I33*$I$3)+(J33*$J$3)+(K33*$K$3)+(L33*$L$3)+(M33*$M$3)+(N33*$N$3) -> 20
O34: =SUM(F34:N34) -> 0 | P34: =(D34*$D$3)+(E34*$E$3)+(F34*$F$3)+(G34*$G$3)+(H34*$H$3)+(I34*$I$3)+(J34*$J$3)+(K34*$K$3)+(L34*$L$3)+(M34*$M$3)+(N34*$N$3) -> 0
B35: TOTAL | C35: =SUM(C20:C34) -> 0 | D35: =SUM(D20:D34) -> 0 | E35: =SUM(E20:E34) -> 1 | F35: =SUM(F20:F34) -> 0 | G35: =SUM(G20:G34) -> 442 | H35: =SUM(H20:H34) -> 0 | I35: =SUM(I20:I34) -> 217 | J35: =SUM(J20:J34) -> 0 | ... P35: =SUM(P20:P34) -> 609
B38: ISKCON DURBAN
B39: Vibhu Caitanya das | D39: 3 | E39: 2 | G39: 306 | I39: 47 | K39: 733 | N39: 958 | O39: =SUM(F39:N39)+(D39*9)+(E39*18) -> 2107 | P39: =(D39*$D$3)+(E39*$E$3)+(F39*$F$3)+(G39*$G$3)+(H39*$H$3)+(I39*$I$3)+(J39*$J$3)+(K39*$K$3)+(L39*$L$3)+(M39*$M$3)+(N39*$N$3) -> 3001
B40: Nikunja seva devi dasi | E40: 1 | G40: 1 | I40: 20 | K40: 248 | N40: 356 | O40: =SUM(F40:N40)+(D40*9)+(E40*18) -> 643 | P40: =(D40*$D$3)+(E40*$E$3)+(F40*$F$3)+(G40*$G$3)+(H40*$H$3)+(I40*$I$3)+(J40*$J$3)+(K40*$K$3)+(L40*$L$3)+(M40*$M$3)+(N40*$N$3) -> 1042.25
B41: Bilvamangala Thakur das | N41: 508 | O41: =SUM(F41:N41) -> 508 | P41: =(D41*$D$3)+(E41*$E$3)+(F41*$F$3)+(G41*$G$3)+(H41*$H$3)+(I41*$I$3)+(J41*$J$3)+(K41*$K$3)+(L41*$L$3)+(M41*$M$3)+(N41*$N$3) -> 1016
B42: Govindaji das | K42: 8 | N42: 262 | O42: =SUM(F42:N42) -> 270 | P42: =(D42*$D$3)+(E42*$E$3)+(F42*$F$3)+(G42*$G$3)+(H42*$H$3)+(I42*$I$3)+(J42*$J$3)+(K42*$K$3)+(L42*$L$3)+(M42*$M$3)+(N42*$N$3) -> 532
B43: Jaisacinandan das | K43: 400 | N43: 137 | O43: =SUM(F43:N43) -> 537 | P43: =(D43*$D$3)+(E43*$E$3)+(F43*$F$3)+(G43*$G$3)+(H43*$H$3)+(I43*$I$3)+(J43*$J$3)+(K43*$K$3)+(L43*$L$3)+(M43*$M$3)+(N43*$N$3) -> 674
B44: Krishna prema Nama Hatta | G44: 700 | K44: 25 | N44: 100 | O44: =SUM(F44:N44) -> 825 | P44: =(D44*$D$3)+(E44*$E$3)+(F44*$F$3)+(G44*$G$3)+(H44*$H$3)+(I44*$I$3)+(J44*$J$3)+(K44*$K$3)+(L44*$L$3)+(M44*$M$3)+(N44*$N$3) -> 400
B45: Patita pavana Nitai das | G45: 7 | K45: 28 | N45: 143 | O45: =SUM(F45:N45) -> 178 | P45: =(D45*$D$3)+(E45*$E$3)+(F45*$F$3)+(G45*$G$3)+(H45*$H$3)+(I45*$I$3)+(J45*$J$3)+(K45*$K$3)+(L45*$L$3)+(M45*$M$3)+(N45*$N$3) -> 315.75
B46: B T G | F46: 2429 | O46: =SUM(F46:N46) -> 2429 | P46: =(D46*$D$3)+(E46*$E$3)+(F46*$F$3)+(G46*$G$3)+(H46*$H$3)+(I46*$I$3)+(J46*$J$3)+(K46*$K$3)+(L46*$L$3)+(M46*$M$3)+(N46*$N$3) -> 242.9
B47: Smita Krishna das | K47: 5 | N47: 110 | O47: =SUM(F47:N47) -> 115 | P47: =(D47*$D$3)+(E47*$E$3)+(F47*$F$3)+(G47*$G$3)+(H47*$H$3)+(I47*$I$3)+(J47*$J$3)+(K47*$K$3)+(L47*$L$3)+(M47*$M$3)+(N47*$N$3) -> 225
B48: TEAM Jahnavi dasis | G48: 201 | K48: 43 | N48: 55 | O48: =SUM(F48:N48) -> 299 | P48: =(D48*$D$3)+(E48*$E$3)+(F48*$F$3)+(G48*$G$3)+(H48*$H$3)+(I48*$I$3)+(J48*$J$3)+(K48*$K$3)+(L48*$L$3)+(M48*$M$3)+(N48*$N$3) -> 203.25
B49: Anand Maharaj | N49: 100 | O49: =SUM(F49:N49) -> 100 | P49: =(D49*$D$3)+(E49*$E$3)+(F49*$F$3)+(G49*$G$3)+(H49*$H$3)+(I49*$I$3)+(J49*$J$3)+(K49*$K$3)+(L49*$L$3)+(M49*$M$3)+(N49*$N$3) -> 200
B50: Indran | N50: 100 | O50: =SUM(F50:N50) -> 100 | P50: =(D50*$D$3)+(E50*$E$3)+(F50*$F$3)+(G50*$G$3)+(H50*$H$3)+(I50*$I$3)+(J50*$J$3)+(K50*$K$3)+(L50*$L$3)+(M50*$M$3)+(N50*$N$3) -> 200
B51: Sukumari devi dasi | G51: 40 | I51: 50 | K51: 100 | N51: 27 | O51: =SUM(F51:N51) -> 217 | P51: =(D51*$D$3)+(E51*$E$3)+(F51*$F$3)+(G51*$G$3)+(H51*$H$3)+(I51*$I$3)+(J51*$J$3)+(K51*$K$3)+(L51*$L$3)+(M51*$M$3)+(N51*$N$3) -> 189
B52: Balaram das (PSDG) | I52: 30 | N52: 80 | O52: =SUM(F52:N52) -> 110 | P52: =(D52*$D$3)+(E52*$E$3)+(F52*$F$3)+(G52*$G$3)+(H52*$H$3)+(I52*$I$3)+(J52*$J$3)+(K52*$K$3)+(L52*$L$3)+(M52*$M$3)+(N52*$N$3) -> 175
B53: Ranga devi dasi | D53: 1 | G53: 71 | I53: 7 | K53: 41 | N53: 38 | O53: =SUM(F53:N53)+(D53*9)+(E53*18) -> 166 | P53: =(D53*$D$3)+(E53*$E$3)+(F53*$F$3)+(G53*$G$3)+(H53*$H$3)+(I53*$I$3)+(J53*$J$3)+(K53*$K$3)+(L53*$L$3)+(M53*$M$3)+(N53*$N$3) -> 174.25
B54: TEAM Radha Damodara Sankirtan Party | N54: 65 | O54: =SUM(F54:N54) -> 65 | P54: =(D54*$D$3)+(E54*$E$3)+(F54*$F$3)+(G54*$G$3)+(H54*$H$3)+(I54*$I$3)+(J54*$J$3)+(K54*$K$3)+(L54*$L$3)+(M54*$M$3)+(N54*$N$3) -> 130
B55: Rajesh | N55: 60 | O55: =SUM(F55:N55) -> 60 | P55: =(D55*$D$3)+(E55*$E$3)+(F55*$F$3)+(G55*$G$3)+(H55*$H$3)+(I55*$I$3)+(J55*$J$3)+(K55*$K$3)+(L55*$L$3)+(M55*$M$3)+(N55*$N$3) -> 120
B56: Northdene Nama hatta | E56: 1 | N56: 5 | O56: =SUM(F56:N56)+(D56*9)+(E56*18) -> 23 | P56: =(D56*$D$3)+(E56*$E$3)+(F56*$F$3)+(G56*$G$3)+(H56*$H$3)+(I56*$I$3)+(J56*$J$3)+(K56*$K$3)+(L56*$L$3)+(M56*$M$3)+(N56*$N$3) -> 82
B57: Balaram das (KDS) | N57: 40 | O57: =SUM(F57:N57) -> 40 | P57: =(D57*$D$3)+(E57*$E$3)+(F57*$F$3)+(G57*$G$3)+(H57*$H$3)+(I57*$I$3)+(J57*$J$3)+(K57*$K$3)+(L57*$L$3)+(M57*$M$3)+(N57*$N$3) -> 80
B58: Priya kisori devi dasi & Radha Raman das | N58: 40 | O58: =SUM(F58:N58) -> 40 | P58: =(D58*$D$3)+(E58*$E$3)+(F58*$F$3)+(G58*$G$3)+(H58*$H$3)+(I58*$I$3)+(J58*$J$3)+(K58*$K$3)+(L58*$L$3)+(M58*$M$3)+(N58*$N$3) -> 80
B59: Radha Gopinath das | G59: 21 | N59: 31 | O59: =SUM(F59:N59) -> 52 | P59: =(D59*$D$3)+(E59*$E$3)+(F59*$F$3)+(G59*$G$3)+(H59*$H$3)+(I59*$I$3)+(J59*$J$3)+(K59*$K$3)+(L59*$L$3)+(M59*$M$3)+(N59*$N$3) -> 67.25
B60: Bhakta Raghunath & Family | G60: 6 | I60: 3 | N60: 21 | O60: =SUM(F60:N60) -> 30 | P60: =(D60*$D$3)+(E60*$E$3)+(F60*$F$3)+(G60*$G$3)+(H60*$H$3)+(I60*$I$3)+(J60*$J$3)+(K60*$K$3)+(L60*$L$3)+(M60*$M$3)+(N60*$N$3) -> 45
B61: Rama thirta das | N61: 20 | O61: =SUM(F61:N61) -> 20 | P61: =(D61*$D$3)+(E61*$E$3)+(F61*$F$3)+(G61*$G$3)+(H61*$H$3)+(I61*$I$3)+(J61*$J$3)+(K61*$K$3)+(L61*$L$3)+(M61*$M$3)+(N61*$N$3) -> 40
B62: TEAM ISKCON Institute for Higher Education | N62: 20 | O62: =SUM(F62:N62) -> 20 | P62: =(D62*$D$3)+(E62*$E$3)+(F62*$F$3)+(G62*$G$3)+(H62*$H$3)+(I62*$I$3)+(J62*$J$3)+(K62*$K$3)+(L62*$L$3)+(M62*$M$3)+(N62*$N$3) -> 40
B63: Padyavali dasi | N63: 19 | O63: =SUM(F63:N63) -> 19 | P63: =(D63*$D$3)+(E63*$E$3)+(F63*$F$3)+(G63*$G$3)+(H63*$H$3)+(I63*$I$3)+(J63*$J$3)+(K63*$K$3)+(L63*$L$3)+(M63*$M$3)+(N63*$N$3) -> 38
B64: Vikash | I64: 10 | K64: 32 | O64: =SUM(F64:N64) -> 42 | P64: =(D64*$D$3)+(E64*$E$3)+(F64*$F$3)+(G64*$G$3)+(H64*$H$3)+(I64*$I$3)+(J64*$J$3)+(K64*$K$3)+(L64*$L$3)+(M64*$M$3)+(N64*$N$3) -> 37
B65: Harichandan das | G65: 86 | I65: 1 | K65: 2 | N65: 2 | O65: =SUM(F65:N65) -> 91 | P65: =(D65*$D$3)+(E65*$E$3)+(F65*$F$3)+(G65*$G$3)+(H65*$H$3)+(I65*$I$3)+(J65*$J$3)+(K65*$K$3)+(L65*$L$3)+(M65*$M$3)+(N65*$N$3) -> 28
B66: Santa rupa devi dasi | N66: 13 | O66: =SUM(F66:N66) -> 13 | P66: =(D66*$D$3)+(E66*$E$3)+(F66*$F$3)+(G66*$G$3)+(H66*$H$3)+(I66*$I$3)+(J66*$J$3)+(K66*$K$3)+(L66*$L$3)+(M66*$M$3)+(N66*$N$3) -> 26
B67: Syama Behari das | G67: 10 | N67: 10 | O67: =SUM(F67:N67) -> 20 | P67: =(D67*$D$3)+(E67*$E$3)+(F67*$F$3)+(G67*$G$3)+(H67*$H$3)+(I67*$I$3)+(J67*$J$3)+(K67*$K$3)+(L67*$L$3)+(M67*$M$3)+(N67*$N$3) -> 22.5
B68: Sarvanga sundari devi dasi | N68: 10 | O68: =SUM(F68:N68) -> 10 | P68: =(D68*$D$3)+(E68*$E$3)+(F68*$F$3)+(G68*$G$3)+(H68*$H$3)+(I68*$I$3)+(J68*$J$3)+(K68*$K$3)+(L68*$L$3)+(M68*$M$3)+(N68*$N$3) -> 20
B69: Prabashnee | G69: 2 | K69: 10 | N69: 4 | O69: =SUM(F69:N69) -> 16 | P69: =(D69*$D$3)+(E69*$E$3)+(F69*$F$3)+(G69*$G$3)+(H69*$H$3)+(I69*$I$3)+(J69*$J$3)+(K69*$K$3)+(L69*$L$3)+(M69*$M$3)+(N69*$N$3) -> 18.5
B70: Westville Nama hatta | G70: 7 | K70: 1 | N70: 3 | O70: =SUM(F70:N70) -> 11 | P70: =(D70*$D$3)+(E70*$E$3)+(F70*$F$3)+(G70*$G$3)+(H70*$H$3)+(I70*$I$3)+(J70*$J$3)+(K70*$K$3)+(L70*$L$3)+(M70*$M$3)+(N70*$N$3) -> 8.75
B71: Rasasthali dasi | N71: 4 | O71: =SUM(F71:N71) -> 4 | P71: =(D71*$D$3)+(E71*$E$3)+(F71*$F$3)+(G71*$G$3)+(H71*$H$3)+(I71*$I$3)+(J71*$J$3)+(K71*$K$3)+(L71*$L$3)+(M71*$M$3)+(N71*$N$3) -> 8
B72: Nivedita dasi | G72: 30 | O72: =SUM(F72:N72) -> 30 | P72: =(D72*$D$3)+(E72*$E$3)+(F72*$F$3)+(G72*$G$3)+(H72*$H$3)+(I72*$I$3)+(J72*$J$3)+(K72*$K$3)+(L72*$L$3)+(M72*$M$3)+(N72*$N$3) -> 7.5
B73: Aradhya murti devi dasi | I73: 10 | O73: =SUM(F73:N73) -> 10 | P73: =(D73*$D$3)+(E73*$E$3)+(F73*$F$3)+(G73*$G$3)+(H73*$H$3)+(I73*$I$3)+(J73*$J$3)+(K73*$K$3)+(L73*$L$3)+(M73*$M$3)+(N73*$N$3) -> 5
B74: Surika | K74: 1 | N74: 1 | O74: =SUM(F74:N74) -> 2 | P74: =(D74*$D$3)+(E74*$E$3)+(F74*$F$3)+(G74*$G$3)+(H74*$H$3)+(I74*$I$3)+(J74*$J$3)+(K74*$K$3)+(L74*$L$3)+(M74*$M$3)+(N74*$N$3) -> 3
B75: Ujjvala rasa devi dasi | G75: 3 | O75: =SUM(F75:N75) -> 3 | P75: =(D75*$D$3)+(E75*$E$3)+(F75*$F$3)+(G75*$G$3)+(H75*$H$3)+(I75*$I$3)+(J75*$J$3)+(K75*$K$3)+(L75*$L$3)+(M75*$M$3)+(N75*$N$3) -> 0.75
O76: =SUM(F76:N76) -> 0 | P76: =(D76*$D$3)+(E76*$E$3)+(F76*$F$3)+(G76*$G$3)+(H76*$H$3)+(I76*$I$3)+(J76*$J$3)+(K76*$K$3)+(L76*$L$3)+(M76*$M$3)+(N76*$N$3) -> 0
C77: =SUM(C39:C76) -> 0 | D77: =SUM(D39:D76) -> 4 | E77: =SUM(E39:E76) -> 4 | F77: =SUM(F39:F76) -> 2429 | G77: =SUM(G39:G76) -> 1491 | H77: =SUM(H39:H76) -> 0 | I77: =SUM(I39:I76) -> 178 | J77: =SUM(J39:J76) -> 0 | ... P77: =SUM(P39:P76) -> 9497.65
B80: ISKCON EAST LONDON
B81: Acyuta Kesava Dasa | G81: 386 | N81: 126 | O81: =SUM(F81:N81) -> 512 | P81: =(D81*$D$3)+(E81*$E$3)+(F81*$F$3)+(G81*$G$3)+(H81*$H$3)+(I81*$I$3)+(J81*$J$3)+(K81*$K$3)+(L81*$L$3)+(M81*$M$3)+(N81*$N$3) -> 348.5
B82: Bimal Prabhu | G82: 4 | O82: =SUM(F82:N82) -> 4 | P82: =(D82*$D$3)+(E82*$E$3)+(F82*$F$3)+(G82*$G$3)+(H82*$H$3)+(I82*$I$3)+(J82*$J$3)+(K82*$K$3)+(L82*$L$3)+(M82*$M$3)+(N82*$N$3) -> 1
B83: Paramisvari Mathaji | G83: 1 | O83: =SUM(F83:N83) -> 1 | P83: =(D83*$D$3)+(E83*$E$3)+(F83*$F$3)+(G83*$G$3)+(H83*$H$3)+(I83*$I$3)+(J83*$J$3)+(K83*$K$3)+(L83*$L$3)+(M83*$M$3)+(N83*$N$3) -> 0.25
B84: Anakulya Devi Dasi | G84: 6 | N84: 4 | O84: =SUM(F84:N84) -> 10 | P84: =(D84*$D$3)+(E84*$E$3)+(F84*$F$3)+(G84*$G$3)+(H84*$H$3)+(I84*$I$3)+(J84*$J$3)+(K84*$K$3)+(L84*$L$3)+(M84*$M$3)+(N84*$N$3) -> 9.5
B85: TOTAL | C85: =SUM(C81:C84) -> 0 | D85: =SUM(D81:D84) -> 0 | E85: =SUM(E81:E84) -> 0 | F85: =SUM(F81:F84) -> 0 | G85: =SUM(G81:G84) -> 397 | H85: =SUM(H81:H84) -> 0 | I85: =SUM(I81:I84) -> 0 | J85: =SUM(J81:J84) -> 0 | ... P85: =SUM(P81:P84) -> 359.25
B88: ISKCON HAMMANSKRAAL
B89: Temple Cumulative Scores | G89: 70 | I89: 10 | K89: 36 | N89: 9 | O89: =SUM(F89:N89) -> 125 | P89: =(D89*$D$3)+(E89*$E$3)+(F89*$F$3)+(G89*$G$3)+(H89*$H$3)+(I89*$I$3)+(J89*$J$3)+(K89*$K$3)+(L89*$L$3)+(M89*$M$3)+(N89*$N$3) -> 76.5
O90: =SUM(F90:N90) -> 0 | P90: =(D90*$D$3)+(E90*$E$3)+(F90*$F$3)+(G90*$G$3)+(H90*$H$3)+(I90*$I$3)+(J90*$J$3)+(K90*$K$3)+(L90*$L$3)+(M90*$M$3)+(N90*$N$3) -> 0
B91: TOTAL | C91: =SUM(C89:C90) -> 0 | D91: =SUM(D89:D90) -> 0 | E91: =SUM(E89:E90) -> 0 | F91: =SUM(F89:F90) -> 0 | G91: =SUM(G89:G90) -> 70 | H91: =SUM(H89:H90) -> 0 | I91: =SUM(I89:I90) -> 10 | J91: =SUM(J89:J90) -> 0 | ... P91: =SUM(P89:P90) -> 76.5
B94: ISKCON LENASIA
B95: Mukun Kalan Makan | N95: 107 | O95: =SUM(F95:N95) -> 107 | P95: =(D95*$D$3)+(E95*$E$3)+(F95*$F$3)+(G95*$G$3)+(H95*$H$3)+(I95*$I$3)+(J95*$J$3)+(K95*$K$3)+(L95*$L$3)+(M95*$M$3)+(N95*$N$3) -> 214
B96: Rasasthali mataji | N96: 50 | O96: =SUM(F96:N96) -> 50 | P96: =(D96*$D$3)+(E96*$E$3)+(F96*$F$3)+(G96*$G$3)+(H96*$H$3)+(I96*$I$3)+(J96*$J$3)+(K96*$K$3)+(L96*$L$3)+(M96*$M$3)+(N96*$N$3) -> 100
B97: BTG Office | F97: 536 | O97: =SUM(F97:N97) -> 536 | P97: =(D97*$D$3)+(E97*$E$3)+(F97*$F$3)+(G97*$G$3)+(H97*$H$3)+(I97*$I$3)+(J97*$J$3)+(K97*$K$3)+(L97*$L$3)+(M97*$M$3)+(N97*$N$3) -> 53.6
B98: Gaura Premi devi dasi | N98: 14 | O98: =SUM(F98:N98) -> 14 | P98: =(D98*$D$3)+(E98*$E$3)+(F98*$F$3)+(G98*$G$3)+(H98*$H$3)+(I98*$I$3)+(J98*$J$3)+(K98*$K$3)+(L98*$L$3)+(M98*$M$3)+(N98*$N$3) -> 28
B99: Mother Kalindi | N99: 12 | O99: =SUM(F99:N99) -> 12 | P99: =(D99*$D$3)+(E99*$E$3)+(F99*$F$3)+(G99*$G$3)+(H99*$H$3)+(I99*$I$3)+(J99*$J$3)+(K99*$K$3)+(L99*$L$3)+(M99*$M$3)+(N99*$N$3) -> 24
B100: Hemanthi Bhaga | N100: 11 | O100: =SUM(F100:N100) -> 11 | P100: =(D100*$D$3)+(E100*$E$3)+(F100*$F$3)+(G100*$G$3)+(H100*$H$3)+(I100*$I$3)+(J100*$J$3)+(K100*$K$3)+(L100*$L$3)+(M100*$M$3)+(N100*$N$3) -> 22
B101: Syam Rupa Das | N101: 10 | O101: =SUM(F101:N101) -> 10 | P101: =(D101*$D$3)+(E101*$E$3)+(F101*$F$3)+(G101*$G$3)+(H101*$H$3)+(I101*$I$3)+(J101*$J$3)+(K101*$K$3)+(L101*$L$3)+(M101*$M$3)+(N101*$N$3) -> 20
B102: Kulashekar Das | G102: 6 | I102: 3 | N102: 5 | O102: =SUM(F102:N102) -> 14 | P102: =(D102*$D$3)+(E102*$E$3)+(F102*$F$3)+(G102*$G$3)+(H102*$H$3)+(I102*$I$3)+(J102*$J$3)+(K102*$K$3)+(L102*$L$3)+(M102*$M$3)+(N102*$N$3) -> 13
B103: Leanne Goondi | N103: 5 | O103: =SUM(F103:N103) -> 5 | P103: =(D103*$D$3)+(E103*$E$3)+(F103*$F$3)+(G103*$G$3)+(H103*$H$3)+(I103*$I$3)+(J103*$J$3)+(K103*$K$3)+(L103*$L$3)+(M103*$M$3)+(N103*$N$3) -> 10
B104: Seva Priya Mataji | I104: 1 | N104: 4 | O104: =SUM(F104:N104) -> 5 | P104: =(D104*$D$3)+(E104*$E$3)+(F104*$F$3)+(G104*$G$3)+(H104*$H$3)+(I104*$I$3)+(J104*$J$3)+(K104*$K$3)+(L104*$L$3)+(M104*$M$3)+(N104*$N$3) -> 8.5
B105: Jamnadas C Makan | G105: 1 | K105: 1 | N105: 3 | O105: =SUM(F105:N105) -> 5 | P105: =(D105*$D$3)+(E105*$E$3)+(F105*$F$3)+(G105*$G$3)+(H105*$H$3)+(I105*$I$3)+(J105*$J$3)+(K105*$K$3)+(L105*$L$3)+(M105*$M$3)+(N105*$N$3) -> 7.25
B106: Remuna Priya Mataji | N106: 3 | O106: =SUM(F106:N106) -> 3 | P106: =(D106*$D$3)+(E106*$E$3)+(F106*$F$3)+(G106*$G$3)+(H106*$H$3)+(I106*$I$3)+(J106*$J$3)+(K106*$K$3)+(L106*$L$3)+(M106*$M$3)+(N106*$N$3) -> 6
B107: Lokanath Das | L107: 1 | N107: 2 | O107: =SUM(F107:N107) -> 3 | P107: =(D107*$D$3)+(E107*$E$3)+(F107*$F$3)+(G107*$G$3)+(H107*$H$3)+(I107*$I$3)+(J107*$J$3)+(K107*$K$3)+(L107*$L$3)+(M107*$M$3)+(N107*$N$3) -> 5
B108: Vinutha Pillai | L108: 1 | N108: 2 | O108: =SUM(F108:N108) -> 3 | P108: =(D108*$D$3)+(E108*$E$3)+(F108*$F$3)+(G108*$G$3)+(H108*$H$3)+(I108*$I$3)+(J108*$J$3)+(K108*$K$3)+(L108*$L$3)+(M108*$M$3)+(N108*$N$3) -> 5
B109: Krsna Chandra Das | N109: 2 | O109: =SUM(F109:N109) -> 2 | P109: =(D109*$D$3)+(E109*$E$3)+(F109*$F$3)+(G109*$G$3)+(H109*$H$3)+(I109*$I$3)+(J109*$J$3)+(K109*$K$3)+(L109*$L$3)+(M109*$M$3)+(N109*$N$3) -> 4
B110: Madhava Caitanya Das | N110: 2 | O110: =SUM(F110:N110) -> 2 | P110: =(D110*$D$3)+(E110*$E$3)+(F110*$F$3)+(G110*$G$3)+(H110*$H$3)+(I110*$I$3)+(J110*$J$3)+(K110*$K$3)+(L110*$L$3)+(M110*$M$3)+(N110*$N$3) -> 4
B111: Prema Sarovara Dasi | N111: 2 | O111: =SUM(F111:N111) -> 2 | P111: =(D111*$D$3)+(E111*$E$3)+(F111*$F$3)+(G111*$G$3)+(H111*$H$3)+(I111*$I$3)+(J111*$J$3)+(K111*$K$3)+(L111*$L$3)+(M111*$M$3)+(N111*$N$3) -> 4
B112: Priya Malani dasi | M112: 1 | N112: 1 | O112: =SUM(F112:N112) -> 2 | P112: =(D112*$D$3)+(E112*$E$3)+(F112*$F$3)+(G112*$G$3)+(H112*$H$3)+(I112*$I$3)+(J112*$J$3)+(K112*$K$3)+(L112*$L$3)+(M112*$M$3)+(N112*$N$3) -> 4
B113: Ramapriya Dasi | I113: 6 | O113: =SUM(F113:N113) -> 6 | P113: =(D113*$D$3)+(E113*$E$3)+(F113*$F$3)+(G113*$G$3)+(H113*$H$3)+(I113*$I$3)+(J113*$J$3)+(K113*$K$3)+(L113*$L$3)+(M113*$M$3)+(N113*$N$3) -> 3
B114: Ananta Sesa Das | N114: 1 | O114: =SUM(F114:N114) -> 1 | P114: =(D114*$D$3)+(E114*$E$3)+(F114*$F$3)+(G114*$G$3)+(H114*$H$3)+(I114*$I$3)+(J114*$J$3)+(K114*$K$3)+(L114*$L$3)+(M114*$M$3)+(N114*$N$3) -> 2
...

Sheet Togo
B2: TEMPLE: Togo
B3: MONTH :
C4: BTG Sub | D4: CC Set | E4: SB Set | F4: Mag. | G4: Small Books | I4: Medium Books | K4: Big Books | M4: Maha-Books
D5: 36 | E5: 72 | F5: 0.1 | G5: 0.25 | H5: 0.25 | I5: 0.5 | J5: 0.5 | K5: 1 | L5: 1 | M5: 2 | N5: 2
B6: DEVOTEES | F6: M1 | G6: S1 | H6: H1 | I6: S2 | J6: H2 | K6: S3 | L6: H3 | M6: S4 | N6: H4 | O6: T/BKS | P6: Points
B9: Cumulative Scores | O9: =SUM(F9:N9) -> 0 | P9: =(D9*$D$5)+(E9*$E$5)+(F9*$F$5)+(G9*$G$5)+(H9*$H$5)+(I9*$I$5)+(J9*$J$5)+(K9*$K$5)+(L9*$L$5)+(M9*$M$5)+(N9*$N$5) -> 0
O10: =SUM(F10:N10) -> 0 | P10: =(D10*$D$5)+(E10*$E$5)+(F10*$F$5)+(G10*$G$5)+(H10*$H$5)+(I10*$I$5)+(J10*$J$5)+(K10*$K$5)+(L10*$L$5)+(M10*$M$5)+(N10*$N$5) -> 0
O11: =SUM(F11:N11) -> 0 | P11: =(D11*$D$5)+(E11*$E$5)+(F11*$F$5)+(G11*$G$5)+(H11*$H$5)+(I11*$I$5)+(J11*$J$5)+(K11*$K$5)+(L11*$L$5)+(M11*$M$5)+(N11*$N$5) -> 0
B12: TOTAL | C12: =SUM(C9:C11) -> 0 | D12: =SUM(D9:D11) -> 0 | E12: =SUM(E9:E11) -> 0 | F12: =SUM(F9:F11) -> 0 | G12: =SUM(G9:G11) -> 0 | H12: =SUM(H9:H11) -> 0 | I12: =SUM(I9:I11) -> 0 | J12: =SUM(J9:J11) -> 0 | ... P12: =SUM(P9:P11) -> 0

Sheet Tanzania
B2: TEMPLE: Dar es Salaam
B3: MONTH : December 2020
C4: BTG Sub | D4: CC Set | E4: SB Set | F4: Mag. | G4: Small Books | I4: Medium Books | K4: Big Books | M4: Maha-Books
D5: 36 | E5: 72 | F5: 0.1 | G5: 0.25 | H5: 0.25 | I5: 0.5 | J5: 0.5 | K5: 1 | L5: 1 | M5: 2 | N5: 2
B6: DEVOTEES | F6: M1 | G6: S1 | H6: H1 | I6: S2 | J6: H2 | K6: S3 | L6: H3 | M6: S4 | N6: H4 | O6: T/BKS | P6: Points
B9: PARIKSHIT HARI DASA | D9: 1 | E9: 2 | N9: 137 | O9: =SUM(F9:N9)+(D9*9)+(E9*18) -> 182 | P9: =(D9*$D$5)+(E9*$E$5)+(F9*$F$5)+(G9*$G$5)+(H9*$H$5)+(I9*$I$5)+(J9*$J$5)+(K9*$K$5)+(L9*$L$5)+(M9*$M$5)+(N9*$N$5) -> 454
O10: =SUM(F10:N10) -> 0 | P10: =(D10*$D$5)+(E10*$E$5)+(F10*$F$5)+(G10*$G$5)+(H10*$H$5)+(I10*$I$5)+(J10*$J$5)+(K10*$K$5)+(L10*$L$5)+(M10*$M$5)+(N10*$N$5) -> 0
O11: =SUM(F11:N11) -> 0 | P11: =(F11*$F$5)+(G11*$G$5)+(H11*$H$5)+(I11*$I$5)+(J11*$J$5)+(K11*$K$5)+(L11*$L$5)+(M11*$M$5)+(N11*$N$5) -> 0
O12: =SUM(F12:N12) -> 0 | P12: =(F12*$F$5)+(G12*$G$5)+(H12*$H$5)+(I12*$I$5)+(J12*$J$5)+(K12*$K$5)+(L12*$L$5)+(M12*$M$5)+(N12*$N$5) -> 0
O13: =SUM(F13:N13) -> 0 | P13: =(F13*$F$5)+(G13*$G$5)+(H13*$H$5)+(I13*$I$5)+(J13*$J$5)+(K13*$K$5)+(L13*$L$5)+(M13*$M$5)+(N13*$N$5) -> 0
O14: =SUM(F14:N14) -> 0 | P14: =(F14*$F$5)+(G14*$G$5)+(H14*$H$5)+(I14*$I$5)+(J14*$J$5)+(K14*$K$5)+(L14*$L$5)+(M14*$M$5)+(N14*$N$5) -> 0
O15: =SUM(F15:N15) -> 0 | P15: =(F15*$F$5)+(G15*$G$5)+(H15*$H$5)+(I15*$I$5)+(J15*$J$5)+(K15*$K$5)+(L15*$L$5)+(M15*$M$5)+(N15*$N$5) -> 0
O16: =SUM(F16:N16) -> 0 | P16: =(F16*$F$5)+(G16*$G$5)+(H16*$H$5)+(I16*$I$5)+(J16*$J$5)+(K16*$K$5)+(L16*$L$5)+(M16*$M$5)+(N16*$N$5) -> 0
O17: =SUM(F17:N17) -> 0 | P17: =(F17*$F$5)+(G17*$G$5)+(H17*$H$5)+(I17*$I$5)+(J17*$J$5)+(K17*$K$5)+(L17*$L$5)+(M17*$M$5)+(N17*$N$5) -> 0
B18: TOTAL | C18: =SUM(C9:C17) -> 0 | D18: =SUM(D9:D17) -> 1 | E18: =SUM(E9:E17) -> 2 | F18: =SUM(F9:F17) -> 0 | G18: =SUM(G9:G17) -> 0 | H18: =SUM(H9:H17) -> 0 | I18: =SUM(I9:I17) -> 0 | J18: =SUM(J9:J17) -> 0 | ... P18: =SUM(P9:P17) -> 454

Sheet Zambia
B2: TEMPLE: Zambia
B3: MONTH : December 2020
C4: BTG Sub | D4: CC Set | E4: SB Set | F4: Mag. | G4: Small Books | I4: Medium Books | K4: Big Books | M4: Maha-Books
D5: 36 | E5: 72 | F5: 0.1 | G5: 0.25 | H5: 0.25 | I5: 0.5 | J5: 0.5 | K5: 1 | L5: 1 | M5: 2 | N5: 2
B6: DEVOTEES | F6: M1 | G6: S1 | H6: H1 | I6: S2 | J6: H2 | K6: S3 | L6: H3 | M6: S4 | N6: H4 | O6: T/BKS | P6: Points
B9: Cumulative Scores | F9: 40 | G9: 31 | I9: 7 | L9: 10 | N9: 67 | O9: =SUM(F9:N9) -> 155 | P9: =(D9*$D$5)+(E9*$E$5)+(F9*$F$5)+(G9*$G$5)+(H9*$H$5)+(I9*$I$5)+(J9*$J$5)+(K9*$K$5)+(L9*$L$5)+(M9*$M$5)+(N9*$N$5) -> 159.25
O10: =SUM(F10:N10) -> 0 | P10: =(D10*$D$5)+(E10*$E$5)+(F10*$F$5)+(G10*$G$5)+(H10*$H$5)+(I10*$I$5)+(J10*$J$5)+(K10*$K$5)+(L10*$L$5)+(M10*$M$5)+(N10*$N$5) -> 0
O11: =SUM(F11:N11) -> 0 | P11: =(D11*$D$5)+(E11*$E$5)+(F11*$F$5)+(G11*$G$5)+(H11*$H$5)+(I11*$I$5)+(J11*$J$5)+(K11*$K$5)+(L11*$L$5)+(M11*$M$5)+(N11*$N$5) -> 0
B12: TOTAL | C12: =SUM(C9:C11) -> 0 | D12: =SUM(D9:D11) -> 0 | E12: =SUM(E9:E11) -> 0 | F12: =SUM(F9:F11) -> 40 | G12: =SUM(G9:G11) -> 31 | H12: =SUM(H9:H11) -> 0 | I12: =SUM(I9:I11) -> 7 | J12: =SUM(J9:J11) -> 0 | ... P12: =SUM(P9:P11) -> 159.25

Sheet Zimbabwe
B2: TEMPLE: Zimbabwe
B3: MONTH : December 2020
C4: BTG Sub | D4: CC Set | E4: SB Set | F4: Mag. | G4: Small Books | I4: Medium Books | K4: Big Books | M4: Maha-Books
D5: 36 | E5: 72 | F5: 0.1 | G5: 0.25 | H5: 0.25 | I5: 0.5 | J5: 0.5 | K5: 1 | L5: 1 | M5: 2 | N5: 2
B6: DEVOTEES | F6: M1 | G6: S1 | H6: H1 | I6: S2 | J6: H2 | K6: S3 | L6: H3 | M6: S4 | N6: H4 | O6: T/BKS | P6: Points
B9: Zimbabwe Sankirtan Team | F9: 19 | G9: 138 | I9: 11 | K9: 69 | M9: 19 | O9: =SUM(F9:N9) -> 256 | P9: =(D9*$D$5)+(E9*$E$5)+(F9*$F$5)+(G9*$G$5)+(H9*$H$5)+(I9*$I$5)+(J9*$J$5)+(K9*$K$5)+(L9*$L$5)+(M9*$M$5)+(N9*$N$5) -> 148.9
B11: TOTAL | C11: =SUM(C9:C10) -> 0 | D11: =SUM(D9:D10) -> 0 | E11: =SUM(E9:E10) -> 0 | F11: =SUM(F9:F10) -> 19 | G11: =SUM(G9:G10) -> 138 | H11: =SUM(H9:H10) -> 0 | I11: =SUM(I9:I10) -> 11 | J11: =SUM(J9:J10) -> 0 | ... P11: =SUM(P9:P10) -> 148.9

Sheet Summary
A2: Country | B2: Books: | C2: Points:
A4: Botswana | B4: =SUM(Botswana!O13) -> 0 | C4: =SUM(Botswana!P13) -> 0
A5: Ivory Coast | B5: =SUM('Ivory Coast'!O26) -> 541 | C5: =SUM('Ivory Coast'!P26) -> 137
A6: Kenya | B6: =SUM(Kenya!O26) -> 35500 | C6: =SUM(Kenya!P26) -> 33647.95
A7: Mauritius | B7: =SUM(Mauritius!O76) -> 16958 | C7: =SUM(Mauritius!P76) -> 7226.8
A8: Nigeria | B8: =SUM(Nigeria!O40) -> 217 | C8: =SUM(Nigeria!P40) -> 250.25
A9: South Africa | B9: =SUM('South Africa'!O230) -> 16465 | C9: =SUM('South Africa'!P230) -> 14568.45
A10: Tanzania | B10: =SUM(Tanzania!O18) -> 182 | C10: =SUM(Tanzania!P18) -> 454
A11: Togo | B11: =SUM(Togo!O12) -> 0 | C11: =SUM(Togo!P12) -> 0
A12: Zambia | B12: =SUM(Zambia!O12) -> 155 | C12: =SUM(Zambia!P12) -> 159.25
A13: Zimbabwe | B13: =SUM(Zimbabwe!O11) -> 256 | C13: =SUM(Zimbabwe!P11) -> 148.9
A15: Total: | B15: =SUM(B4:B14) -> 70274 | C15: =SUM(C4:C14) -> 56592.6
B23: All Africa Totals
A24: January | B24: 4400
A25: February | B25: 2900
A26: March | B26: 894
A27: April | B27: 740
A28: May | B28: 664
A29: June | B29: 1349
A30: July | B30: 6509
A31: August | B31: 11216
A32: September | B32: 6631
A33: October | B33: 5261
A34: November | B34: 5223
A35: December | B35: =B15 -> 70274

Sheet Graphs
