Workbook
Name Excel_BuiltIn_Print_Area_1: [1]Malawi!#REF!
Name Excel_BuiltIn_Print_Area_1: [1]Malawi!#REF!
Name Excel_BuiltIn_Print_Area_1: [1]Malawi!#REF!
Name Excel_BuiltIn_Print_Area_1: [1]Malawi!#REF!
Name Excel_BuiltIn_Print_Area_1: [1]Malawi!#REF!
Name Excel_BuiltIn_Print_Area_1: [1]Malawi!#REF!
Name Excel_BuiltIn_Print_Area_1: [2]Malawi!#REF!
Name Excel_BuiltIn_Print_Area_1: [1]Malawi!#REF!
Name Excel_BuiltIn_Print_Area_1: [1]Malawi!#REF!

Sheet Democratic Republic of Congo
B2: TEMPLE: Kinshasa
B3: MONTH : September 2019
C4: BTG Sub | D4: CC Set | E4: SB Set | F4: Mag. | G4: Small Books | I4: Medium Books | K4: Big Books | M4: Maha-Books
C5: 5 | F5: 0.1 | G5: 0.25 | H5: 0.25 | I5: 0.5 | J5: 0.5 | K5: 1 | L5: 1 | M5: 2 | N5: 2
B6: DEVOTEES | F6: M1 | G6: S1 | H6: H1 | I6: S2 | J6: H2 | K6: S3 | L6: H3 | M6: S4 | N6: H4 | O6: T/BKS | P6: Points
O9: =SUM(F9:N9) -> 0 | P9: =(F9*$F$5)+(G9*$G$5)+(H9*$H$5)+(I9*$I$5)+(J9*$J$5)+(K9*$K$5)+(L9*$L$5)+(M9*$M$5)+(N9*$N$5) -> 0
O10: =SUM(F10:N10) -> 0 | P10: =(F10*$F$5)+(G10*$G$5)+(H10*$H$5)+(I10*$I$5)+(J10*$J$5)+(K10*$K$5)+(L10*$L$5)+(M10*$M$5)+(N10*$N$5) -> 0
O11: =SUM(F11:N11) -> 0 | P11: =(F11*$F$5)+(G11*$G$5)+(H11*$H$5)+(I11*$I$5)+(J11*$J$5)+(K11*$K$5)+(L11*$L$5)+(M11*$M$5)+(N11*$N$5) -> 0
O12: =SUM(F12:N12) -> 0 | P12: =(F12*$F$5)+(G12*$G$5)+(H12*$H$5)+(I12*$I$5)+(J12*$J$5)+(K12*$K$5)+(L12*$L$5)+(M12*$M$5)+(N12*$N$5) -> 0
O13: =SUM(F13:N13) -> 0 | P13: =(F13*$F$5)+(G13*$G$5)+(H13*$H$5)+(I13*$I$5)+(J13*$J$5)+(K13*$K$5)+(L13*$L$5)+(M13*$M$5)+(N13*$N$5) -> 0
O14: =SUM(F14:N14) -> 0 | P14: =(F14*$F$5)+(G14*$G$5)+(H14*$H$5)+(I14*$I$5)+(J14*$J$5)+(K14*$K$5)+(L14*$L$5)+(M14*$M$5)+(N14*$N$5) -> 0
O15: =SUM(F15:N15) -> 0 | P15: =(F15*$F$5)+(G15*$G$5)+(H15*$H$5)+(I15*$I$5)+(J15*$J$5)+(K15*$K$5)+(L15*$L$5)+(M15*$M$5)+(N15*$N$5) -> 0
O16: =SUM(F16:N16) -> 0 | P16: =(F16*$F$5)+(G16*$G$5)+(H16*$H$5)+(I16*$I$5)+(J16*$J$5)+(K16*$K$5)+(L16*$L$5)+(M16*$M$5)+(N16*$N$5) -> 0
O17: =SUM(F17:N17) -> 0 | P17: =(F17*$F$5)+(G17*$G$5)+(H17*$H$5)+(I17*$I$5)+(J17*$J$5)+(K17*$K$5)+(L17*$L$5)+(M17*$M$5)+(N17*$N$5) -> 0
B18: TOTAL | C18: =SUM(C9:C17) -> 0 | D18: =SUM(D9:D17) -> 0 | E18: =SUM(E9:E17) -> 0 | F18: =SUM(F9:F17) -> 0 | G18: =SUM(G9:G17) -> 0 | H18: =SUM(H9:H17) -> 0 | I18: =SUM(I9:I17) -> 0 | J18: =SUM(J9:J17) -> 0 | ... P18: =SUM(P9:P17) -> 0

Sheet Ivory Coast
B2: TEMPLE: Ivory Coast
B3: MONTH : September 2019
C4: BTG Sub | D4: CC Set | E4: SB Set | F4: Mag. | G4: Small Books | I4: Medium Books | K4: Big Books | M4: Maha-Books
C5: 5 | F5: 0.1 | G5: 0.25 | H5: 0.25 | I5: 0.5 | J5: 0.5 | K5: 1 | L5: 1 | M5: 2 | N5: 2
B6: DEVOTEES | F6: M1 | G6: S1 | H6: H1 | I6: S2 | J6: H2 | K6: S3 | L6: H3 | M6: S4 | N6: H4 | O6: T/BKS | P6: Points
B9: Cumulative Scores | O9: =SUM(F9:N9) -> 0 | P9: =(F9*$F$5)+(G9*$G$5)+(H9*$H$5)+(I9*$I$5)+(J9*$J$5)+(K9*$K$5)+(L9*$L$5)+(M9*$M$5)+(N9*$N$5) -> 0
O10: =SUM(F10:N10) -> 0 | P10: =(F10*$F$5)+(G10*$G$5)+(H10*$H$5)+(I10*$I$5)+(J10*$J$5)+(K10*$K$5)+(L10*$L$5)+(M10*$M$5)+(N10*$N$5) -> 0
O11: =SUM(F11:N11) -> 0 | P11: =(F11*$F$5)+(G11*$G$5)+(H11*$H$5)+(I11*$I$5)+(J11*$J$5)+(K11*$K$5)+(L11*$L$5)+(M11*$M$5)+(N11*$N$5) -> 0
O12: =SUM(F12:N12) -> 0 | P12: =(F12*$F$5)+(G12*$G$5)+(H12*$H$5)+(I12*$I$5)+(J12*$J$5)+(K12*$K$5)+(L12*$L$5)+(M12*$M$5)+(N12*$N$5) -> 0
O13: =SUM(F13:N13) -> 0 | P13: =(F13*$F$5)+(G13*$G$5)+(H13*$H$5)+(I13*$I$5)+(J13*$J$5)+(K13*$K$5)+(L13*$L$5)+(M13*$M$5)+(N13*$N$5) -> 0
B14: TOTAL | C14: =SUM(C9:C13) -> 0 | D14: =SUM(D9:D13) -> 0 | E14: =SUM(E9:E13) -> 0 | F14: =SUM(F9:F13) -> 0 | G14: =SUM(G9:G13) -> 0 | H14: =SUM(H9:H13) -> 0 | I14: =SUM(I9:I13) -> 0 | J14: =SUM(J9:J13) -> 0 | ... P14: =SUM(P9:P13) -> 0

Sheet Botswana
B2: MONTH : September 2019
C3: BTG Sub | D3: CC Set | E3: SB Set | F3: mag | G3: Small Books | I3: Medium Books | K3: Big Books | M3: Maha-Books
C4: 5 | F4: 0.1 | G4: 0.25 | H4: 0.25 | I4: 0.5 | J4: 0.5 | K4: 1 | L4: 1 | M4: 2 | N4: 2
B5: DEVOTEES | F5: M1 | G5: S1 | H5: H1 | I5: S2 | J5: H2 | K5: S3 | L5: H3 | M5: S4 | N5: H4 | O5: T/BKS | P5: Points
B7: Iskcon Nairobi
B8: Devakinandan das | F8: 20 | G8: 92 | O8: =SUM(C8:N8) -> 112 | P8: =(C8*$C$4)+(F8*$F$4)+(G8*$G$4)+(H8*$H$4)+(I8*$I$4)+(J8*$J$4)+(K8*$K$4)+(L8*$L$4)+(M8*$M$4)+(N8*$N$4) -> 25
B9: Rama Priya Devi Dasi | G9: 70 | O9: =SUM(F9:N9) -> 70 | P9: =(F9*$F$4)+(G9*$G$4)+(H9*$H$4)+(I9*$I$4)+(J9*$J$4)+(K9*$K$4)+(L9*$L$4)+(M9*$M$4)+(N9*$N$4) -> 17.5
B10: KHYG | G10: 12 | O10: =SUM(F10:N10) -> 12 | P10: =(F10*$F$4)+(G10*$G$4)+(H10*$H$4)+(I10*$I$4)+(J10*$J$4)+(K10*$K$4)+(L10*$L$4)+(M10*$M$4)+(N10*$N$4) -> 3
B11: Keshavanand das | G11: 8 | O11: =SUM(F11:N11) -> 8 | P11: =(F11*$F$4)+(G11*$G$4)+(H11*$H$4)+(I11*$I$4)+(J11*$J$4)+(K11*$K$4)+(L11*$L$4)+(M11*$M$4)+(N11*$N$4) -> 2
O12: =SUM(F12:N12) -> 0 | P12: =(F12*$F$4)+(G12*$G$4)+(H12*$H$4)+(I12*$I$4)+(J12*$J$4)+(K12*$K$4)+(L12*$L$4)+(M12*$M$4)+(N12*$N$4) -> 0
B13: TOTAL | C13: =SUM(C8:C12) -> 0 | D13: =SUM(D8:D12) -> 0 | E13: =SUM(E8:E12) -> 0 | F13: =SUM(F8:F12) -> 20 | G13: =SUM(G8:G12) -> 182 | H13: =SUM(H8:H12) -> 0 | I13: =SUM(I8:I12) -> 0 | J13: =SUM(J8:J12) -> 0 | ... P13: =SUM(P8:P12) -> 47.5

Sheet Kenya
B2: MONTH : September 2019
C3: BTG Sub | D3: CC Set | E3: SB Set | F3: mag | G3: Small Books | I3: Medium Books | K3: Big Books | M3: Maha-Books
C4: 5 | F4: 0.1 | G4: 0.25 | H4: 0.25 | I4: 0.5 | J4: 0.5 | K4: 1 | L4: 1 | M4: 2 | N4: 2
B5: DEVOTEES | F5: M1 | G5: S1 | H5: H1 | I5: S2 | J5: H2 | K5: S3 | L5: H3 | M5: S4 | N5: H4 | O5: T/BKS | P5: Points
B7: Iskcon Nairobi
B8: BHAKTA RUPESH | G8: 15 | I8: 3 | K8: 5 | N8: 2 | O8: =SUM(C8:N8) -> 25 | P8: =(C8*$C$4)+(F8*$F$4)+(G8*$G$4)+(H8*$H$4)+(I8*$I$4)+(J8*$J$4)+(K8*$K$4)+(L8*$L$4)+(M8*$M$4)+(N8*$N$4) -> 14.25
B9: LAVANGA DASA | I9: 5 | K9: 11 | O9: =SUM(F9:N9) -> 16 | P9: =(F9*$F$4)+(G9*$G$4)+(H9*$H$4)+(I9*$I$4)+(J9*$J$4)+(K9*$K$4)+(L9*$L$4)+(M9*$M$4)+(N9*$N$4) -> 13.5
B10: GIFT SHOP | G10: 20 | I10: 7 | K10: 2 | N10: 23 | O10: =SUM(F10:N10) -> 52 | P10: =(F10*$F$4)+(G10*$G$4)+(H10*$H$4)+(I10*$I$4)+(J10*$J$4)+(K10*$K$4)+(L10*$L$4)+(M10*$M$4)+(N10*$N$4) -> 56.5
B11: KRISHNA KIDS SENA | G11: 300 | I11: 25 | K11: 40 | N11: 40 | O11: =SUM(F11:N11) -> 405 | P11: =(F11*$F$4)+(G11*$G$4)+(H11*$H$4)+(I11*$I$4)+(J11*$J$4)+(K11*$K$4)+(L11*$L$4)+(M11*$M$4)+(N11*$N$4) -> 207.5
O12: =SUM(F12:N12) -> 0 | P12: =(F12*$F$4)+(G12*$G$4)+(H12*$H$4)+(I12*$I$4)+(J12*$J$4)+(K12*$K$4)+(L12*$L$4)+(M12*$M$4)+(N12*$N$4) -> 0
B13: TOTAL | C13: =SUM(C8:C12) -> 0 | D13: =SUM(D8:D12) -> 0 | E13: =SUM(E8:E12) -> 0 | F13: =SUM(F8:F12) -> 0 | G13: =SUM(G8:G12) -> 335 | H13: =SUM(H8:H12) -> 0 | I13: =SUM(I8:I12) -> 40 | J13: =SUM(J8:J12) -> 0 | ... P13: =SUM(P8:P12) -> 291.75
B16: Iskcon Kisumu
O17: =SUM(F17:N17) -> 0 | P17: =(F17*$F$4)+(G17*$G$4)+(H17*$H$4)+(I17*$I$4)+(J17*$J$4)+(K17*$K$4)+(L17*$L$4)+(M17*$M$4)+(N17*$N$4) -> 0
O18: =SUM(F18:N18) -> 0 | P18: =(F18*$F$4)+(G18*$G$4)+(H18*$H$4)+(I18*$I$4)+(J18*$J$4)+(K18*$K$4)+(L18*$L$4)+(M18*$M$4)+(N18*$N$4) -> 0
B19: TOTAL | C19: =SUM(C17:C18) -> 0 | D19: =SUM(D17:D18) -> 0 | E19: =SUM(E17:E18) -> 0 | F19: =SUM(F17:F18) -> 0 | G19: =SUM(G17:G18) -> 0 | H19: =SUM(H17:H18) -> 0 | I19: =SUM(I17:I18) -> 0 | J19: =SUM(J17:J18) -> 0 | ... P19: =SUM(P17:P18) -> 0
B22: Iskcon Mombassa
O23: =SUM(F23:N23) -> 0 | P23: =(F23*$F$4)+(G23*$G$4)+(H23*$H$4)+(I23*$I$4)+(J23*$J$4)+(K23*$K$4)+(L23*$L$4)+(M23*$M$4)+(N23*$N$4) -> 0
O24: =SUM(F24:N24) -> 0 | P24: =(F24*$F$4)+(G24*$G$4)+(H24*$H$4)+(I24*$I$4)+(J24*$J$4)+(K24*$K$4)+(L24*$L$4)+(M24*$M$4)+(N24*$N$4) -> 0
O25: =SUM(C25:N25) -> 0 | P25: =(C25*$C$4)+(G25*$G$4)+(H25*$H$4)+(I25*$I$4)+(J25*$J$4)+(K25*$K$4)+(L25*$L$4)+(M25*$M$4)+(N25*$N$4) -> 0
B26: TOTAL | C26: =SUM(C23:C24) -> 0 | D26: =SUM(D23:D24) -> 0 | E26: =SUM(E23:E24) -> 0 | F26: =SUM(F23:F25) -> 0 | G26: =SUM(G23:G25) -> 0 | H26: =SUM(H23:H25) -> 0 | I26: =SUM(I23:I25) -> 0 | J26: =SUM(J23:J25) -> 0 | K26: =SUM(K23:K25) -> 0 | L26: =SUM(L23:L25) -> 0 | M26: =SUM(M23:M25) -> 0 | ... P26: =SUM(P23:P25) -> 0
N28: Total: | O28: =SUM(O13+O19+O26) -> 498 | P28: =SUM(P13+P19+P26) -> 291.75

Sheet Malawi
B2: TEMPLE: Blantyre
B3: MONTH : September 2019
C4: BTG Sub | D4: CC Set | E4: SB Set | F4: Mag. | G4: Small Books | I4: Medium Books | K4: Big Books | M4: Maha-Books
C5: 5 | F5: 0.1 | G5: 0.25 | H5: 0.25 | I5: 0.5 | J5: 0.5 | K5: 1 | L5: 1 | M5: 2 | N5: 2
B6: DEVOTEES | F6: M1 | G6: S1 | H6: H1 | I6: S2 | J6: H2 | K6: S3 | L6: H3 | M6: S4 | N6: H4 | O6: T/BKS | P6: Points
B9: Cumulative Scores | O9: =SUM(F9:N9) -> 0 | P9: =(F9*$F$5)+(G9*$G$5)+(H9*$H$5)+(I9*$I$5)+(J9*$J$5)+(K9*$K$5)+(L9*$L$5)+(M9*$M$5)+(N9*$N$5) -> 0
B11: TOTAL | C11: =SUM(C9:C10) -> 0 | D11: =SUM(D9:D10) -> 0 | E11: =SUM(E9:E10) -> 0 | F11: =SUM(F9:F10) -> 0 | G11: =SUM(G9:G10) -> 0 | H11: =SUM(H9:H10) -> 0 | I11: =SUM(I9:I10) -> 0 | J11: =SUM(J9:J10) -> 0 | ... P11: =SUM(P9:P10) -> 0

Sheet Mauritius
B2: MONTH : September 2019 | C2: BTG Sub | D2: CC Set | E2: SB Set | F2: Mag. | G2: Small Books | I2: Medium Books | K2: Big Books | M2: Maha-Books
C3: 5 | D3: 18 | E3: 36 | F3: 0.1 | G3: 0.25 | H3: 0.25 | I3: 0.5 | J3: 0.5 | K3: 1 | L3: 1 | M3: 2 | N3: 2
B4: DEVOTEES | F4: M1 | G4: S1 | H4: H1 | I4: S2 | J4: H2 | K4: S3 | L4: H3 | M4: S4 | N4: H4 | O4: T/BKS | P4: Points
B6: ISKCON Phoenix Sri Sri Radha Gokulananda Mandir
B7: RadhaGolokananda Sankirtan Team | F7: 8 | G7: 1237 | I7: 11 | K7: 9 | M7: 137 | O7: =SUM(F7:N7) -> 1402 | P7: =(F7*$F$3)+(G7*$G$3)+(H7*$H$3)+(I7*$I$3)+(J7*$J$3)+(K7*$K$3)+(L7*$L$3)+(M7*$M$3)+(N7*$N$3) -> 598.55
B8: Harinaam ananda Team | G8: 1327 | I8: 40 | M8: 33 | O8: =SUM(F8:N8) -> 1400 | P8: =(F8*$F$3)+(G8*$G$3)+(H8*$H$3)+(I8*$I$3)+(J8*$J$3)+(K8*$K$3)+(L8*$L$3)+(M8*$M$3)+(N8*$N$3) -> 417.75
B9: Prabhu Vidura | G9: 100 | M9: 10 | O9: =SUM(F9:N9) -> 110 | P9: =(F9*$F$3)+(G9*$G$3)+(H9*$H$3)+(I9*$I$3)+(J9*$J$3)+(K9*$K$3)+(L9*$L$3)+(M9*$M$3)+(N9*$N$3) -> 45
B10: Prabhu dev | G10: 105 | O10: =SUM(F10:N10) -> 105 | P10: =(F10*$F$3)+(G10*$G$3)+(H10*$H$3)+(I10*$I$3)+(J10*$J$3)+(K10*$K$3)+(L10*$L$3)+(M10*$M$3)+(N10*$N$3) -> 26.25
B11: Prabhu Ramchurn | G11: 24 | M11: 12 | O11: =SUM(F11:N11) -> 36 | P11: =(F11*$F$3)+(G11*$G$3)+(H11*$H$3)+(I11*$I$3)+(J11*$J$3)+(K11*$K$3)+(L11*$L$3)+(M11*$M$3)+(N11*$N$3) -> 30
B12: Mt Hema kIsori Dasi | M12: 1 | O12: =SUM(F12:N12) -> 1 | P12: =(F12*$F$3)+(G12*$G$3)+(H12*$H$3)+(I12*$I$3)+(J12*$J$3)+(K12*$K$3)+(L12*$L$3)+(M12*$M$3)+(N12*$N$3) -> 2
O13: =SUM(F13:N13) -> 0 | P13: =(F13*$F$3)+(G13*$G$3)+(H13*$H$3)+(I13*$I$3)+(J13*$J$3)+(K13*$K$3)+(L13*$L$3)+(M13*$M$3)+(N13*$N$3) -> 0
B14: TOTAL | C14: =SUM(C7:C13) -> 0 | D14: =SUM(D7:D13) -> 0 | E14: =SUM(E7:E13) -> 0 | F14: =SUM(F7:F13) -> 8 | G14: =SUM(G7:G13) -> 2793 | H14: =SUM(H7:H13) -> 0 | I14: =SUM(I7:I13) -> 51 | J14: =SUM(J7:J13) -> 0 | ... P14: =SUM(P7:P13) -> 1119.55
B17: ISKCON Bon Accueil Mauritius Sri Sri Krsna Balaram Mandir
B18: Cumulative Scores | O18: =SUM(F18:N18) -> 0 | P18: =(C18*$C$3)+(F18*$F$3)+(G18*$G$3)+(H18*$H$3)+(I18*$I$3)+(J18*$J$3)+(K18*$K$3)+(L18*$L$3)+(M18*$M$3)+(N18*$N$3) -> 0
O19: =SUM(F19:N19) -> 0 | P19: =(F19*$F$3)+(G19*$G$3)+(H19*$H$3)+(I19*$I$3)+(J19*$J$3)+(K19*$K$3)+(L19*$L$3)+(M19*$M$3)+(N19*$N$3) -> 0
O20: =SUM(F20:N20) -> 0 | P20: =(F20*$F$3)+(G20*$G$3)+(H20*$H$3)+(I20*$I$3)+(J20*$J$3)+(K20*$K$3)+(L20*$L$3)+(M20*$M$3)+(N20*$N$3) -> 0
B21: TOTAL | C21: =SUM(C18:C20) -> 0 | D21: =SUM(D18:D20) -> 0 | E21: =SUM(E18:E20) -> 0 | F21: =SUM(F18:F20) -> 0 | G21: =SUM(G18:G20) -> 0 | H21: =SUM(H18:H20) -> 0 | I21: =SUM(I18:I20) -> 0 | J21: =SUM(J18:J20) -> 0 | ... P21: =SUM(P18:P20) -> 0
M24: TOTAL | O24: =+O21+O14 -> 3054 | P24: =+P21+P14 -> 1119.55

Sheet Nigeria
B1: MONTH : September 2019
C2: BTG Sub | D2: CC Set | E2: SB Set | F2: Mag. | G2: Small Books | I2: Medium Books | K2: Big Books | M2: Maha-Books
C3: 5 | D3: 18 | E3: 36 | F3: 0.1 | G3: 0.25 | H3: 0.25 | I3: 0.5 | J3: 0.5 | K3: 1 | L3: 1 | M3: 2 | N3: 2
B4: DEVOTEES | F4: M1 | G4: S1 | H4: H1 | I4: S2 | J4: H2 | K4: S3 | L4: H3 | M4: S4 | N4: H4 | O4: T/BKS | P4: Points
B6: ISKCON BENIN CITY
B7: Temple Cumulative Scores | O7: =SUM(C7:N7) -> 0 | P7: =(C7*$C$3)+(F7*$F$3)+(G7*$G$3)+(H7*$H$3)+(I7*$I$3)+(J7*$J$3)+(K7*$K$3)+(L7*$L$3)+(M7*$M$3)+(N7*$N$3) -> 0
O8: =SUM(F8:N8) -> 0 | P8: =(F8*$F$3)+(G8*$G$3)+(H8*$H$3)+(I8*$I$3)+(J8*$J$3)+(K8*$K$3)+(L8*$L$3)+(M8*$M$3)+(N8*$N$3) -> 0
O9: =SUM(F9:N9) -> 0 | P9: =(F9*$F$3)+(G9*$G$3)+(H9*$H$3)+(I9*$I$3)+(J9*$J$3)+(K9*$K$3)+(L9*$L$3)+(M9*$M$3)+(N9*$N$3) -> 0
O10: =SUM(F10:N10) -> 0 | P10: =(F10*$F$3)+(G10*$G$3)+(H10*$H$3)+(I10*$I$3)+(J10*$J$3)+(K10*$K$3)+(L10*$L$3)+(M10*$M$3)+(N10*$N$3) -> 0
O11: =SUM(F11:N11) -> 0 | P11: =(F11*$F$3)+(G11*$G$3)+(H11*$H$3)+(I11*$I$3)+(J11*$J$3)+(K11*$K$3)+(L11*$L$3)+(M11*$M$3)+(N11*$N$3) -> 0
O12: =SUM(F12:N12) -> 0 | P12: =(F12*$F$3)+(G12*$G$3)+(H12*$H$3)+(I12*$I$3)+(J12*$J$3)+(K12*$K$3)+(L12*$L$3)+(M12*$M$3)+(N12*$N$3) -> 0
O13: =SUM(F13:N13) -> 0 | P13: =(F13*$F$3)+(G13*$G$3)+(H13*$H$3)+(I13*$I$3)+(J13*$J$3)+(K13*$K$3)+(L13*$L$3)+(M13*$M$3)+(N13*$N$3) -> 0
O14: =SUM(F14:N14) -> 0 | P14: =(F14*$F$3)+(G14*$G$3)+(H14*$H$3)+(I14*$I$3)+(J14*$J$3)+(K14*$K$3)+(L14*$L$3)+(M14*$M$3)+(N14*$N$3) -> 0
O15: =SUM(F15:N15) -> 0 | P15: =(F15*$F$3)+(G15*$G$3)+(H15*$H$3)+(I15*$I$3)+(J15*$J$3)+(K15*$K$3)+(L15*$L$3)+(M15*$M$3)+(N15*$N$3) -> 0
O16: =SUM(F16:N16) -> 0 | P16: =(F16*$F$3)+(G16*$G$3)+(H16*$H$3)+(I16*$I$3)+(J16*$J$3)+(K16*$K$3)+(L16*$L$3)+(M16*$M$3)+(N16*$N$3) -> 0
O17: =SUM(F17:N17) -> 0 | P17: =(F17*$F$3)+(G17*$G$3)+(H17*$H$3)+(I17*$I$3)+(J17*$J$3)+(K17*$K$3)+(L17*$L$3)+(M17*$M$3)+(N17*$N$3) -> 0
O18: =SUM(F18:N18) -> 0 | P18: =(F18*$F$3)+(G18*$G$3)+(H18*$H$3)+(I18*$I$3)+(J18*$J$3)+(K18*$K$3)+(L18*$L$3)+(M18*$M$3)+(N18*$N$3) -> 0
O19: =SUM(F19:N19) -> 0 | P19: =(F19*$F$3)+(G19*$G$3)+(H19*$H$3)+(I19*$I$3)+(J19*$J$3)+(K19*$K$3)+(L19*$L$3)+(M19*$M$3)+(N19*$N$3) -> 0
... O21: =SUM(F21:N21) -> 0 | P21: =(F21*$F$3)+(G21*$G$3)+(H21*$H$3)+(I21*$I$3)+(J21*$J$3)+(K21*$K$3)+(L21*$L$3)+(M21*$M$3)+(N21*$N$3) -> 0
B22: TOTAL | C22: =SUM(C7:C21) -> 0 | D22: =SUM(D7:D21) -> 0 | E22: =SUM(E7:E21) -> 0 | F22: =SUM(F7:F21) -> 0 | G22: =SUM(G7:G21) -> 0 | H22: =SUM(H7:H21) -> 0 | I22: =SUM(I7:I21) -> 0 | J22: =SUM(J7:J21) -> 0 | ... P22: =SUM(P7:P21) -> 0
B25: ISKCON LAGOS
B26: Temple Cumulative Scores | F26: 554 | G26: 358 | N26: 20 | O26: =SUM(F26:N26) -> 932 | P26: =(F26*$F$3)+(G26*$G$3)+(H26*$H$3)+(I26*$I$3)+(J26*$J$3)+(K26*$K$3)+(L26*$L$3)+(M26*$M$3)+(N26*$N$3) -> 184.9
O27: =SUM(F27:N27) -> 0 | P27: =(F27*$F$3)+(G27*$G$3)+(H27*$H$3)+(I27*$I$3)+(J27*$J$3)+(K27*$K$3)+(L27*$L$3)+(M27*$M$3)+(N27*$N$3) -> 0
B28: TOTAL | C28: =SUM(C26:C27) -> 0 | D28: =SUM(D26:D27) -> 0 | E28: =SUM(E26:E27) -> 0 | F28: =SUM(F26:F27) -> 554 | G28: =SUM(G26:G27) -> 358 | H28: =SUM(H26:H27) -> 0 | I28: =SUM(I26:I27) -> 0 | J28: =SUM(J26:J27) -> 0 | ... P28: =SUM(P26:P27) -> 184.9
B31: ISKCON PORT HARCOURT
O32: =SUM(F32:N32) -> 0 | P32: =(F32*$F$3)+(G32*$G$3)+(H32*$H$3)+(I32*$I$3)+(J32*$J$3)+(K32*$K$3)+(L32*$L$3)+(M32*$M$3)+(N32*$N$3) -> 0
O33: =SUM(F33:N33) -> 0 | P33: =(F33*$F$3)+(G33*$G$3)+(H33*$H$3)+(I33*$I$3)+(J33*$J$3)+(K33*$K$3)+(L33*$L$3)+(M33*$M$3)+(N33*$N$3) -> 0
O34: =SUM(F34:N34) -> 0 | P34: =(F34*$F$3)+(G34*$G$3)+(H34*$H$3)+(I34*$I$3)+(J34*$J$3)+(K34*$K$3)+(L34*$L$3)+(M34*$M$3)+(N34*$N$3) -> 0
O35: =SUM(F35:N35) -> 0 | P35: =(F35*$F$3)+(G35*$G$3)+(H35*$H$3)+(I35*$I$3)+(J35*$J$3)+(K35*$K$3)+(L35*$L$3)+(M35*$M$3)+(N35*$N$3) -> 0
O36: =SUM(F36:N36) -> 0 | P36: =(F36*$F$3)+(G36*$G$3)+(H36*$H$3)+(I36*$I$3)+(J36*$J$3)+(K36*$K$3)+(L36*$L$3)+(M36*$M$3)+(N36*$N$3) -> 0
O37: =SUM(F37:N37) -> 0 | P37: =(F37*$F$3)+(G37*$G$3)+(H37*$H$3)+(I37*$I$3)+(J37*$J$3)+(K37*$K$3)+(L37*$L$3)+(M37*$M$3)+(N37*$N$3) -> 0
O38: =SUM(F38:N38) -> 0 | P38: =(F38*$F$3)+(G38*$G$3)+(H38*$H$3)+(I38*$I$3)+(J38*$J$3)+(K38*$K$3)+(L38*$L$3)+(M38*$M$3)+(N38*$N$3) -> 0
O39: =SUM(F39:N39) -> 0 | P39: =(F39*$F$3)+(G39*$G$3)+(H39*$H$3)+(I39*$I$3)+(J39*$J$3)+(K39*$K$3)+(L39*$L$3)+(M39*$M$3)+(N39*$N$3) -> 0
O40: =SUM(F40:N40) -> 0 | P40: =(F40*$F$3)+(G40*$G$3)+(H40*$H$3)+(I40*$I$3)+(J40*$J$3)+(K40*$K$3)+(L40*$L$3)+(M40*$M$3)+(N40*$N$3) -> 0
O41: =SUM(F41:N41) -> 0 | P41: =(F41*$F$3)+(G41*$G$3)+(H41*$H$3)+(I41*$I$3)+(J41*$J$3)+(K41*$K$3)+(L41*$L$3)+(M41*$M$3)+(N41*$N$3) -> 0
O42: =SUM(F42:N42) -> 0 | P42: =(F42*$F$3)+(G42*$G$3)+(H42*$H$3)+(I42*$I$3)+(J42*$J$3)+(K42*$K$3)+(L42*$L$3)+(M42*$M$3)+(N42*$N$3) -> 0
O43: =SUM(F43:N43) -> 0 | P43: =(F43*$F$3)+(G43*$G$3)+(H43*$H$3)+(I43*$I$3)+(J43*$J$3)+(K43*$K$3)+(L43*$L$3)+(M43*$M$3)+(N43*$N$3) -> 0
... O55: =SUM(F55:N55) -> 0 | P55: =(F55*$F$3)+(G55*$G$3)+(H55*$H$3)+(I55*$I$3)+(J55*$J$3)+(K55*$K$3)+(L55*$L$3)+(M55*$M$3)+(N55*$N$3) -> 0
B56: TOTAL | C56: =SUM(C53:C55) -> 0 | D56: =SUM(D32:D55) -> 0 | E56: =SUM(E32:E55) -> 0 | F56: =SUM(F53:F55) -> 0 | G56: =SUM(G32:G55) -> 0 | H56: =SUM(H32:H55) -> 0 | I56: =SUM(I32:I55) -> 0 | J56: =SUM(J32:J55) -> 0 | K56: =SUM(K32:K55) -> 0 | L56: =SUM(L32:L55) -> 0 | M56: =SUM(M32:M55) -> 0 | N56: =SUM(N32:N55) -> 0 | ... P56: =SUM(P32:P55) -> 0
M60: TOTAL | O60: =O56+O28+O22 -> 932 | P60: =P56+P28+P22 -> 184.9

Sheet South Africa
B1: MONTH : September 2019
C2: BTG Sub | D2: CC Set | E2: SB Set | F2: Mag. | G2: Small Books | I2: Medium Books | K2: Big Books | M2: Maha-Books
C3: 5 | D3: 18 | E3: 36 | F3: 0.1 | G3: 0.25 | H3: 0.25 | I3: 0.5 | J3: 0.5 | K3: 1 | L3: 1 | M3: 2 | N3: 2
B4: DEVOTEES | F4: M1 | G4: S1 | H4: H1 | I4: S2 | J4: H2 | K4: S3 | L4: H3 | M4: S4 | N4: H4 | O4: T/BKS | P4: Points
B7: Bhakti Lounge Johannesburg
O8: =SUM(F8:N8) -> 0 | P8: =(F8*$F$3)+(G8*$G$3)+(H8*$H$3)+(I8*$I$3)+(J8*$J$3)+(K8*$K$3)+(L8*$L$3)+(M8*$M$3)+(N8*$N$3) -> 0
O9: =SUM(F9:N9) -> 0 | P9: =(F9*$F$3)+(G9*$G$3)+(H9*$H$3)+(I9*$I$3)+(J9*$J$3)+(K9*$K$3)+(L9*$L$3)+(M9*$M$3)+(N9*$N$3) -> 0
B10: TOTAL | C10: =SUM(C9:C9) -> 0 | D10: =SUM(D9:D9) -> 0 | E10: =SUM(E8:E9) -> 0 | F10: =SUM(F8:F9) -> 0 | G10: =SUM(G8:G9) -> 0 | H10: =SUM(H8:H9) -> 0 | I10: =SUM(I8:I9) -> 0 | J10: =SUM(J8:J9) -> 0 | K10: =SUM(K8:K9) -> 0 | L10: =SUM(L8:L9) -> 0 | ... P10: =SUM(P8:P9) -> 0
B13: ISKCON BLOEMFONTEIN
O14: =SUM(F14:N14) -> 0 | P14: =(F14*$F$3)+(G14*$G$3)+(H14*$H$3)+(I14*$I$3)+(J14*$J$3)+(K14*$K$3)+(L14*$L$3)+(M14*$M$3)+(N14*$N$3) -> 0
O15: =SUM(F15:N15) -> 0 | P15: =(F15*$F$3)+(G15*$G$3)+(H15*$H$3)+(I15*$I$3)+(J15*$J$3)+(K15*$K$3)+(L15*$L$3)+(M15*$M$3)+(N15*$N$3) -> 0
B16: TOTAL | C16: =SUM(C15:C15) -> 0 | D16: =SUM(D15:D15) -> 0 | E16: =SUM(E14:E15) -> 0 | F16: =SUM(F14:F15) -> 0 | G16: =SUM(G14:G15) -> 0 | H16: =SUM(H14:H15) -> 0 | I16: =SUM(I14:I15) -> 0 | J16: =SUM(J14:J15) -> 0 | K16: =SUM(K14:K15) -> 0 | L16: =SUM(L14:L15) -> 0 | ... P16: =SUM(P14:P15) -> 0
B19: ISKCON CAPE TOWN
B20: Jagadananda Das | G20: 31 | I20: 22 | K20: 11 | N20: 4 | O20: =SUM(C20:N20) -> 68 | P20: =(C20*$C$3)+(F20*$F$3)+(G20*$G$3)+(H20*$H$3)+(I20*$I$3)+(J20*$J$3)+(K20*$K$3)+(L20*$L$3)+(M20*$M$3)+(N20*$N$3) -> 37.75
B21: Gita Gamya | G21: 10 | K21: 5 | O21: =SUM(F21:N21) -> 15 | P21: =(F21*$F$3)+(G21*$G$3)+(H21*$H$3)+(I21*$I$3)+(J21*$J$3)+(K21*$K$3)+(L21*$L$3)+(M21*$M$3)+(N21*$N$3) -> 7.5
B22: Bhaktin Dimphiwe | G22: 1 | O22: =SUM(F22:N22) -> 1 | P22: =(F22*$F$3)+(G22*$G$3)+(H22*$H$3)+(I22*$I$3)+(J22*$J$3)+(K22*$K$3)+(L22*$L$3)+(M22*$M$3)+(N22*$N$3) -> 0.25
B23: Bhakta Riley | G23: 4 | O23: =SUM(F23:N23) -> 4 | P23: =(F23*$F$3)+(G23*$G$3)+(H23*$H$3)+(I23*$I$3)+(J23*$J$3)+(K23*$K$3)+(L23*$L$3)+(M23*$M$3)+(N23*$N$3) -> 1
B24: Bhakta Arjuna | E24: 1 | G24: 4 | N24: 18 | O24: =SUM(F24:N24) -> 22 | P24: =(F24*$F$3)+(G24*$G$3)+(H24*$H$3)+(I24*$I$3)+(J24*$J$3)+(K24*$K$3)+(L24*$L$3)+(M24*$M$3)+(N24*$N$3) -> 37
B25: Vrajbasi Das | G25: 7 | N25: 2 | O25: =SUM(F25:N25) -> 9 | P25: =(F25*$F$3)+(G25*$G$3)+(H25*$H$3)+(I25*$I$3)+(J25*$J$3)+(K25*$K$3)+(L25*$L$3)+(M25*$M$3)+(N25*$N$3) -> 5.75
B26: Tamalini dasi | E26: 1 | N26: 18 | O26: =SUM(F26:N26) -> 18 | P26: =(F26*$F$3)+(G26*$G$3)+(H26*$H$3)+(I26*$I$3)+(J26*$J$3)+(K26*$K$3)+(L26*$L$3)+(M26*$M$3)+(N26*$N$3) -> 36
B27: Govindas Restaurant | G27: 8 | I27: 3 | M27: 3 | O27: =SUM(F27:N27) -> 14 | P27: =(F27*$F$3)+(G27*$G$3)+(H27*$H$3)+(I27*$I$3)+(J27*$J$3)+(K27*$K$3)+(L27*$L$3)+(M27*$M$3)+(N27*$N$3) -> 9.5
B28: Advaita Simha Dasa | G28: 83 | I28: 11 | M28: 1 | O28: =SUM(F28:N28) -> 95 | P28: =(F28*$F$3)+(G28*$G$3)+(H28*$H$3)+(I28*$I$3)+(J28*$J$3)+(K28*$K$3)+(L28*$L$3)+(M28*$M$3)+(N28*$N$3) -> 28.25
B29: Bhatin Mckyla | G29: 99 | I29: 7 | K29: 2 | M29: 3 | O29: =SUM(F29:N29) -> 111 | P29: =(F29*$F$3)+(G29*$G$3)+(H29*$H$3)+(I29*$I$3)+(J29*$J$3)+(K29*$K$3)+(L29*$L$3)+(M29*$M$3)+(N29*$N$3) -> 36.25
O30: =SUM(F30:N30) -> 0 | P30: =(F30*$F$3)+(G30*$G$3)+(H30*$H$3)+(I30*$I$3)+(J30*$J$3)+(K30*$K$3)+(L30*$L$3)+(M30*$M$3)+(N30*$N$3) -> 0
B31: TOTAL | C31: =SUM(C20:C30) -> 0 | D31: =SUM(D20:D30) -> 0 | E31: =SUM(E20:E30) -> 2 | F31: =SUM(F20:F30) -> 0 | G31: =SUM(G20:G30) -> 247 | H31: =SUM(H20:H30) -> 0 | I31: =SUM(I20:I30) -> 43 | J31: =SUM(J20:J30) -> 0 | ... P31: =SUM(P20:P30) -> 199.25
B34: ISKCON DURBAN
B35: Monthly Sankirtan Festival | G35: 127 | I35: 12 | K35: 13 | N35: 8 | O35: =SUM(F35:N35) -> 160 | P35: =(F35*$F$3)+(G35*$G$3)+(H35*$H$3)+(I35*$I$3)+(J35*$J$3)+(K35*$K$3)+(L35*$L$3)+(M35*$M$3)+(N35*$N$3) -> 66.75
B36: Radhadhyuti dasi | G36: 25 | I36: 3 | O36: =SUM(F36:N36) -> 28 | P36: =(F36*$F$3)+(G36*$G$3)+(H36*$H$3)+(I36*$I$3)+(J36*$J$3)+(K36*$K$3)+(L36*$L$3)+(M36*$M$3)+(N36*$N$3) -> 7.75
B37: Rasa valli dasi | G37: 10 | O37: =SUM(F37:N37) -> 10 | P37: =(F37*$F$3)+(G37*$G$3)+(H37*$H$3)+(I37*$I$3)+(J37*$J$3)+(K37*$K$3)+(L37*$L$3)+(M37*$M$3)+(N37*$N$3) -> 2.5
B38: Rama tirtha das | G38: 10 | O38: =SUM(F38:N38) -> 10 | P38: =(F38*$F$3)+(G38*$G$3)+(H38*$H$3)+(I38*$I$3)+(J38*$J$3)+(K38*$K$3)+(L38*$L$3)+(M38*$M$3)+(N38*$N$3) -> 2.5
B39: Rasa vathi dasi | G39: 30 | I39: 2 | O39: =SUM(F39:N39) -> 32 | P39: =(F39*$F$3)+(G39*$G$3)+(H39*$H$3)+(I39*$I$3)+(J39*$J$3)+(K39*$K$3)+(L39*$L$3)+(M39*$M$3)+(N39*$N$3) -> 8.5
B40: Kunti dasi | G40: 10 | O40: =SUM(F40:N40) -> 10 | P40: =(F40*$F$3)+(G40*$G$3)+(H40*$H$3)+(I40*$I$3)+(J40*$J$3)+(K40*$K$3)+(L40*$L$3)+(M40*$M$3)+(N40*$N$3) -> 2.5
B41: Kanu thakur das | G41: 9 | O41: =SUM(F41:N41) -> 9 | P41: =(F41*$F$3)+(G41*$G$3)+(H41*$H$3)+(I41*$I$3)+(J41*$J$3)+(K41*$K$3)+(L41*$L$3)+(M41*$M$3)+(N41*$N$3) -> 2.25
B42: Nikunja seva dasi | G42: 63 | K42: 267 | N42: 10 | O42: =SUM(F42:N42) -> 340 | P42: =(F42*$F$3)+(G42*$G$3)+(H42*$H$3)+(I42*$I$3)+(J42*$J$3)+(K42*$K$3)+(L42*$L$3)+(M42*$M$3)+(N42*$N$3) -> 302.75
B43: Radha Vallabha das | G43: 9 | O43: =SUM(F43:N43) -> 9 | P43: =(F43*$F$3)+(G43*$G$3)+(H43*$H$3)+(I43*$I$3)+(J43*$J$3)+(K43*$K$3)+(L43*$L$3)+(M43*$M$3)+(N43*$N$3) -> 2.25
B44: Radha asthami devi dasi | G44: 6 | O44: =SUM(F44:N44) -> 6 | P44: =(F44*$F$3)+(G44*$G$3)+(H44*$H$3)+(I44*$I$3)+(J44*$J$3)+(K44*$K$3)+(L44*$L$3)+(M44*$M$3)+(N44*$N$3) -> 1.5
B45: Krishna asthami das | G45: 6 | O45: =SUM(F45:N45) -> 6 | P45: =(F45*$F$3)+(G45*$G$3)+(H45*$H$3)+(I45*$I$3)+(J45*$J$3)+(K45*$K$3)+(L45*$L$3)+(M45*$M$3)+(N45*$N$3) -> 1.5
B46: Mukara devi dasi | G46: 6 | O46: =SUM(F46:N46) -> 6 | P46: =(F46*$F$3)+(G46*$G$3)+(H46*$H$3)+(I46*$I$3)+(J46*$J$3)+(K46*$K$3)+(L46*$L$3)+(M46*$M$3)+(N46*$N$3) -> 1.5
B47: Prema madhurya devi dasi | G47: 5 | O47: =SUM(F47:N47) -> 5 | P47: =(F47*$F$3)+(G47*$G$3)+(H47*$H$3)+(I47*$I$3)+(J47*$J$3)+(K47*$K$3)+(L47*$L$3)+(M47*$M$3)+(N47*$N$3) -> 1.25
B48: Satyabhama dasi | I48: 7 | O48: =SUM(F48:N48) -> 7 | P48: =(F48*$F$3)+(G48*$G$3)+(H48*$H$3)+(I48*$I$3)+(J48*$J$3)+(K48*$K$3)+(L48*$L$3)+(M48*$M$3)+(N48*$N$3) -> 3.5
B49: Rasalika dasi | G49: 14 | O49: =SUM(F49:N49) -> 14 | P49: =(F49*$F$3)+(G49*$G$3)+(H49*$H$3)+(I49*$I$3)+(J49*$J$3)+(K49*$K$3)+(L49*$L$3)+(M49*$M$3)+(N49*$N$3) -> 3.5
B50: Ernest May | G50: 15 | I50: 5 | O50: =SUM(F50:N50) -> 20 | P50: =(F50*$F$3)+(G50*$G$3)+(H50*$H$3)+(I50*$I$3)+(J50*$J$3)+(K50*$K$3)+(L50*$L$3)+(M50*$M$3)+(N50*$N$3) -> 6.25
B51: Rati manjari devi dasi | K51: 4 | O51: =SUM(F51:N51) -> 4 | P51: =(F51*$F$3)+(G51*$G$3)+(H51*$H$3)+(I51*$I$3)+(J51*$J$3)+(K51*$K$3)+(L51*$L$3)+(M51*$M$3)+(N51*$N$3) -> 4
B52: Peter Mwale | G52: 15 | K52: 2 | N52: 5 | O52: =SUM(F52:N52) -> 22 | P52: =(F52*$F$3)+(G52*$G$3)+(H52*$H$3)+(I52*$I$3)+(J52*$J$3)+(K52*$K$3)+(L52*$L$3)+(M52*$M$3)+(N52*$N$3) -> 15.75
B53: Krishna loka dasi | G53: 16 | O53: =SUM(F53:N53) -> 16 | P53: =(F53*$F$3)+(G53*$G$3)+(H53*$H$3)+(I53*$I$3)+(J53*$J$3)+(K53*$K$3)+(L53*$L$3)+(M53*$M$3)+(N53*$N$3) -> 4
B54: Vibhu Caitanya das | E54: 1 | G54: 29 | K54: 16 | N54: 48 | O54: =SUM(F54:N54) -> 93 | P54: =(F54*$F$3)+(G54*$G$3)+(H54*$H$3)+(I54*$I$3)+(J54*$J$3)+(K54*$K$3)+(L54*$L$3)+(M54*$M$3)+(N54*$N$3) -> 119.25
B55: Rama Bhadra das | K55: 10 | O55: =SUM(F55:N55) -> 10 | P55: =(F55*$F$3)+(G55*$G$3)+(H55*$H$3)+(I55*$I$3)+(J55*$J$3)+(K55*$K$3)+(L55*$L$3)+(M55*$M$3)+(N55*$N$3) -> 10
B56: Vrajaraj das | G56: 26 | N56: 6 | O56: =SUM(F56:N56) -> 32 | P56: =(F56*$F$3)+(G56*$G$3)+(H56*$H$3)+(I56*$I$3)+(J56*$J$3)+(K56*$K$3)+(L56*$L$3)+(M56*$M$3)+(N56*$N$3) -> 18.5
B57: Sukumari devi dasi | E57: 1 | G57: 27 | K57: 14 | N57: 18 | O57: =SUM(F57:N57) -> 59 | P57: =(F57*$F$3)+(G57*$G$3)+(H57*$H$3)+(I57*$I$3)+(J57*$J$3)+(K57*$K$3)+(L57*$L$3)+(M57*$M$3)+(N57*$N$3) -> 56.75
B58: Sad goswami das | G58: 6 | O58: =SUM(F58:N58) -> 6 | P58: =(F58*$F$3)+(G58*$G$3)+(H58*$H$3)+(I58*$I$3)+(J58*$J$3)+(K58*$K$3)+(L58*$L$3)+(M58*$M$3)+(N58*$N$3) -> 1.5
B59: Dukhi Radha devi dasi | G59: 10 | O59: =SUM(F59:N59) -> 10 | P59: =(F59*$F$3)+(G59*$G$3)+(H59*$H$3)+(I59*$I$3)+(J59*$J$3)+(K59*$K$3)+(L59*$L$3)+(M59*$M$3)+(N59*$N$3) -> 2.5
B60: Surya kunda das | G60: 6 | O60: =SUM(F60:N60) -> 6 | P60: =(F60*$F$3)+(G60*$G$3)+(H60*$H$3)+(I60*$I$3)+(J60*$J$3)+(K60*$K$3)+(L60*$L$3)+(M60*$M$3)+(N60*$N$3) -> 1.5
B61: Guna manjari devi dasi | G61: 6 | O61: =SUM(F61:N61) -> 6 | P61: =(F61*$F$3)+(G61*$G$3)+(H61*$H$3)+(I61*$I$3)+(J61*$J$3)+(K61*$K$3)+(L61*$L$3)+(M61*$M$3)+(N61*$N$3) -> 1.5
B62: Yamunangi dasi & Family | G62: 5 | O62: =SUM(F62:N62) -> 5 | P62: =(F62*$F$3)+(G62*$G$3)+(H62*$H$3)+(I62*$I$3)+(J62*$J$3)+(K62*$K$3)+(L62*$L$3)+(M62*$M$3)+(N62*$N$3) -> 1.25
B63: Premagali devi dasi | G63: 16 | O63: =SUM(F63:N63) -> 16 | P63: =(F63*$F$3)+(G63*$G$3)+(H63*$H$3)+(I63*$I$3)+(J63*$J$3)+(K63*$K$3)+(L63*$L$3)+(M63*$M$3)+(N63*$N$3) -> 4
B64: Carana renu dasi | G64: 5 | O64: =SUM(F64:N64) -> 5 | P64: =(F64*$F$3)+(G64*$G$3)+(H64*$H$3)+(I64*$I$3)+(J64*$J$3)+(K64*$K$3)+(L64*$L$3)+(M64*$M$3)+(N64*$N$3) -> 1.25
B65: Book Counter | G65: 26 | K65: 30 | N65: 40 | O65: =SUM(F65:N65) -> 96 | P65: =(F65*$F$3)+(G65*$G$3)+(H65*$H$3)+(I65*$I$3)+(J65*$J$3)+(K65*$K$3)+(L65*$L$3)+(M65*$M$3)+(N65*$N$3) -> 116.5
B66: Krishna katha das | G66: 10 | O66: =SUM(F66:N66) -> 10 | P66: =(F66*$F$3)+(G66*$G$3)+(H66*$H$3)+(I66*$I$3)+(J66*$J$3)+(K66*$K$3)+(L66*$L$3)+(M66*$M$3)+(N66*$N$3) -> 2.5
B67: Kajal Singh | G67: 1 | K67: 1 | O67: =SUM(F67:N67) -> 2 | P67: =(F67*$F$3)+(G67*$G$3)+(H67*$H$3)+(I67*$I$3)+(J67*$J$3)+(K67*$K$3)+(L67*$L$3)+(M67*$M$3)+(N67*$N$3) -> 1.25
B68: Sivananda das | G68: 5 | O68: =SUM(F68:N68) -> 5 | P68: =(F68*$F$3)+(G68*$G$3)+(H68*$H$3)+(I68*$I$3)+(J68*$J$3)+(K68*$K$3)+(L68*$L$3)+(M68*$M$3)+(N68*$N$3) -> 1.25
B69: Lalitha devi dasi | G69: 25 | O69: =SUM(F69:N69) -> 25 | P69: =(F69*$F$3)+(G69*$G$3)+(H69*$H$3)+(I69*$I$3)+(J69*$J$3)+(K69*$K$3)+(L69*$L$3)+(M69*$M$3)+(N69*$N$3) -> 6.25
B70: Sri Mukunda das | E70: 1 | N70: 18 | O70: =SUM(F70:N70) -> 18 | P70: =(F70*$F$3)+(G70*$G$3)+(H70*$H$3)+(I70*$I$3)+(J70*$J$3)+(K70*$K$3)+(L70*$L$3)+(M70*$M$3)+(N70*$N$3) -> 36
B71: Michael Msowoya | G71: 71 | K71: 5 | O71: =SUM(F71:N71) -> 76 | P71: =(F71*$F$3)+(G71*$G$3)+(H71*$H$3)+(I71*$I$3)+(J71*$J$3)+(K71*$K$3)+(L71*$L$3)+(M71*$M$3)+(N71*$N$3) -> 22.75
B72: Nihal Singh | E72: 1 | N72: 18 | O72: =SUM(F72:N72) -> 18 | P72: =(F72*$F$3)+(G72*$G$3)+(H72*$H$3)+(I72*$I$3)+(J72*$J$3)+(K72*$K$3)+(L72*$L$3)+(M72*$M$3)+(N72*$N$3) -> 36
B73: Jahnava dasis | N73: 12 | O73: =SUM(F73:N73) -> 12 | P73: =(F73*$F$3)+(G73*$G$3)+(H73*$H$3)+(I73*$I$3)+(J73*$J$3)+(K73*$K$3)+(L73*$L$3)+(M73*$M$3)+(N73*$N$3) -> 24
B74: Venilla Rughubar | G74: 8 | O74: =SUM(F74:N74) -> 8 | P74: =(F74*$F$3)+(G74*$G$3)+(H74*$H$3)+(I74*$I$3)+(J74*$J$3)+(K74*$K$3)+(L74*$L$3)+(M74*$M$3)+(N74*$N$3) -> 2
B75: Jaisacinandan das | E75: 2 | N75: 36 | O75: =SUM(F75:N75) -> 36 | P75: =(F75*$F$3)+(G75*$G$3)+(H75*$H$3)+(I75*$I$3)+(J75*$J$3)+(K75*$K$3)+(L75*$L$3)+(M75*$M$3)+(N75*$N$3) -> 72
B76: Nitai padakamala Team | G76: 21 | O76: =SUM(F76:N76) -> 21 | P76: =(F76*$F$3)+(G76*$G$3)+(H76*$H$3)+(I76*$I$3)+(J76*$J$3)+(K76*$K$3)+(L76*$L$3)+(M76*$M$3)+(N76*$N$3) -> 5.25
B77: Sanjay Singh | G77: 50 | O77: =SUM(F77:N77) -> 50 | P77: =(F77*$F$3)+(G77*$G$3)+(H77*$H$3)+(I77*$I$3)+(J77*$J$3)+(K77*$K$3)+(L77*$L$3)+(M77*$M$3)+(N77*$N$3) -> 12.5
B78: Vajanath das | G78: 8 | O78: =SUM(F78:N78) -> 8 | P78: =(F78*$F$3)+(G78*$G$3)+(H78*$H$3)+(I78*$I$3)+(J78*$J$3)+(K78*$K$3)+(L78*$L$3)+(M78*$M$3)+(N78*$N$3) -> 2
B79: Kripa moya das | G79: 8 | O79: =SUM(F79:N79) -> 8 | P79: =(F79*$F$3)+(G79*$G$3)+(H79*$H$3)+(I79*$I$3)+(J79*$J$3)+(K79*$K$3)+(L79*$L$3)+(M79*$M$3)+(N79*$N$3) -> 2
B80: Kripa mayi devi dasi | G80: 5 | O80: =SUM(F80:N80) -> 5 | P80: =(F80*$F$3)+(G80*$G$3)+(H80*$H$3)+(I80*$I$3)+(J80*$J$3)+(K80*$K$3)+(L80*$L$3)+(M80*$M$3)+(N80*$N$3) -> 1.25
B81: Ekachakra das | G81: 8 | O81: =SUM(F81:N81) -> 8 | P81: =(F81*$F$3)+(G81*$G$3)+(H81*$H$3)+(I81*$I$3)+(J81*$J$3)+(K81*$K$3)+(L81*$L$3)+(M81*$M$3)+(N81*$N$3) -> 2
B82: Gundica dasi | G82: 5 | O82: =SUM(F82:N82) -> 5 | P82: =(F82*$F$3)+(G82*$G$3)+(H82*$H$3)+(I82*$I$3)+(J82*$J$3)+(K82*$K$3)+(L82*$L$3)+(M82*$M$3)+(N82*$N$3) -> 1.25
B83: Prataparudra das | G83: 5 | O83: =SUM(F83:N83) -> 5 | P83: =(F83*$F$3)+(G83*$G$3)+(H83*$H$3)+(I83*$I$3)+(J83*$J$3)+(K83*$K$3)+(L83*$L$3)+(M83*$M$3)+(N83*$N$3) -> 1.25
B84: Cunerl Nepaul | G84: 5 | O84: =SUM(F84:N84) -> 5 | P84: =(F84*$F$3)+(G84*$G$3)+(H84*$H$3)+(I84*$I$3)+(J84*$J$3)+(K84*$K$3)+(L84*$L$3)+(M84*$M$3)+(N84*$N$3) -> 1.25
B85: Sudha tattva dasi | G85: 5 | O85: =SUM(F85:N85) -> 5 | P85: =(F85*$F$3)+(G85*$G$3)+(H85*$H$3)+(I85*$I$3)+(J85*$J$3)+(K85*$K$3)+(L85*$L$3)+(M85*$M$3)+(N85*$N$3) -> 1.25
B86: Varuni dasi | G86: 5 | O86: =SUM(F86:N86) -> 5 | P86: =(F86*$F$3)+(G86*$G$3)+(H86*$H$3)+(I86*$I$3)+(J86*$J$3)+(K86*$K$3)+(L86*$L$3)+(M86*$M$3)+(N86*$N$3) -> 1.25
B87: Alanath das | G87: 5 | O87: =SUM(F87:N87) -> 5 | P87: =(F87*$F$3)+(G87*$G$3)+(H87*$H$3)+(I87*$I$3)+(J87*$J$3)+(K87*$K$3)+(L87*$L$3)+(M87*$M$3)+(N87*$N$3) -> 1.25
... B97: Kesi ghat das | G97: 5 | O97: =SUM(F97:N97) -> 5 | P97: =(F97*$F$3)+(G97*$G$3)+(H97*$H$3)+(I97*$I$3)+(J97*$J$3)+(K97*$K$3)+(L97*$L$3)+(M97*$M$3)+(N97*$N$3) -> 1.25
B98: Padyavali dasi | K98: 134 | O98: =SUM(F98:N98) -> 134 | P98: =(F98*$F$3)+(G98*$G$3)+(H98*$H$3)+(I98*$I$3)+(J98*$J$3)+(K98*$K$3)+(L98*$L$3)+(M98*$M$3)+(N98*$N$3) -> 134
B99: Balaram das & Subhadra dasi | G99: 27 | O99: =SUM(F99:N99) -> 27 | P99: =(F99*$F$3)+(G99*$G$3)+(H99*$H$3)+(I99*$I$3)+(J99*$J$3)+(K99*$K$3)+(L99*$L$3)+(M99*$M$3)+(N99*$N$3) -> 6.75
B100: Somlal Ramduth | G100: 5 | O100: =SUM(F100:N100) -> 5 | P100: =(F100*$F$3)+(G100*$G$3)+(H100*$H$3)+(I100*$I$3)+(J100*$J$3)+(K100*$K$3)+(L100*$L$3)+(M100*$M$3)+(N100*$N$3) -> 1.25
B101: Nesan Naidoo | G101: 5 | O101: =SUM(F101:N101) -> 5 | P101: =(F101*$F$3)+(G101*$G$3)+(H101*$H$3)+(I101*$I$3)+(J101*$J$3)+(K101*$K$3)+(L101*$L$3)+(M101*$M$3)+(N101*$N$3) -> 1.25
B102: Madhyahna lila dasi | G102: 5 | O102: =SUM(F102:N102) -> 5 | P102: =(F102*$F$3)+(G102*$G$3)+(H102*$H$3)+(I102*$I$3)+(J102*$J$3)+(K102*$K$3)+(L102*$L$3)+(M102*$M$3)+(N102*$N$3) -> 1.25
B103: Candra bindhu dasi | G103: 9 | O103: =SUM(F103:N103) -> 9 | P103: =(F103*$F$3)+(G103*$G$3)+(H103*$H$3)+(I103*$I$3)+(J103*$J$3)+(K103*$K$3)+(L103*$L$3)+(M103*$M$3)+(N103*$N$3) -> 2.25
B104: Radhanath's Gifts | G104: 19 | O104: =SUM(F104:N104) -> 19 | P104: =(F104*$F$3)+(G104*$G$3)+(H104*$H$3)+(I104*$I$3)+(J104*$J$3)+(K104*$K$3)+(L104*$L$3)+(M104*$M$3)+(N104*$N$3) -> 4.75
B105: Nrsinga das | G105: 9 | O105: =SUM(F105:N105) -> 9 | P105: =(F105*$F$3)+(G105*$G$3)+(H105*$H$3)+(I105*$I$3)+(J105*$J$3)+(K105*$K$3)+(L105*$L$3)+(M105*$M$3)+(N105*$N$3) -> 2.25
B106: Jaya dharma devi dasi | G106: 23 | I106: 4 | K106: 1 | N106: 1 | O106: =SUM(F106:N106) -> 29 | P106: =(F106*$F$3)+(G106*$G$3)+(H106*$H$3)+(I106*$I$3)+(J106*$J$3)+(K106*$K$3)+(L106*$L$3)+(M106*$M$3)+(N106*$N$3) -> 10.75
B107: Ramananda das | G107: 5 | O107: =SUM(F107:N107) -> 5 | P107: =(F107*$F$3)+(G107*$G$3)+(H107*$H$3)+(I107*$I$3)+(J107*$J$3)+(K107*$K$3)+(L107*$L$3)+(M107*$M$3)+(N107*$N$3) -> 1.25
B108: Nanda Baba das | G108: 5 | O108: =SUM(F108:N108) -> 5 | P108: =(F108*$F$3)+(G108*$G$3)+(H108*$H$3)+(I108*$I$3)+(J108*$J$3)+(K108*$K$3)+(L108*$L$3)+(M108*$M$3)+(N108*$N$3) -> 1.25
B109: Yasodamayi dasi | G109: 5 | O109: =SUM(F109:N109) -> 5 | P109: =(F109*$F$3)+(G109*$G$3)+(H109*$H$3)+(I109*$I$3)+(J109*$J$3)+(K109*$K$3)+(L109*$L$3)+(M109*$M$3)+(N109*$N$3) -> 1.25
B110: Lotus Market Sales | G110: 9 | I110: 1 | K110: 2 | N110: 10 | O110: =SUM(F110:N110) -> 22 | P110: =(F110*$F$3)+(G110*$G$3)+(H110*$H$3)+(I110*$I$3)+(J110*$J$3)+(K110*$K$3)+(L110*$L$3)+(M110*$M$3)+(N110*$N$3) -> 24.75
O111: =SUM(F111:N111) -> 0 | P111: =(F111*$F$3)+(G111*$G$3)+(H111*$H$3)+(I111*$I$3)+(J111*$J$3)+(K111*$K$3)+(L111*$L$3)+(M111*$M$3)+(N111*$N$3) -> 0
C112: =SUM(C35:C111) -> 0 | D112: =SUM(D35:D111) -> 0 | E112: =SUM(E35:E111) -> 6 | F112: =SUM(F35:F111) -> 0 | G112: =SUM(G35:G111) -> 971 | H112: =SUM(H35:H111) -> 0 | I112: =SUM(I35:I111) -> 34 | J112: =SUM(J35:J111) -> 0 | ... P112: =SUM(P35:P111) -> 1218.75
B115: ISKCON EAST LONDON
B116: Acyuta Kesava Dasa | G116: 11 | L116: 2 | O116: =SUM(F116:N116) -> 13 | P116: =(F116*$F$3)+(G116*$G$3)+(H116*$H$3)+(I116*$I$3)+(J116*$J$3)+(K116*$K$3)+(L116*$L$3)+(M116*$M$3)+(N116*$N$3) -> 4.75
B117: Congregation | F117: 7 | O117: =SUM(F117:N117) -> 7 | P117: =(F117*$F$3)+(G117*$G$3)+(H117*$H$3)+(I117*$I$3)+(J117*$J$3)+(K117*$K$3)+(L117*$L$3)+(M117*$M$3)+(N117*$N$3) -> 0.7
O118: =SUM(F118:N118) -> 0 | P118: =(F118*$F$3)+(G118*$G$3)+(H118*$H$3)+(I118*$I$3)+(J118*$J$3)+(K118*$K$3)+(L118*$L$3)+(M118*$M$3)+(N118*$N$3) -> 0
B119: TOTAL | C119: =SUM(C116:C118) -> 0 | D119: =SUM(D116:D118) -> 0 | E119: =SUM(E116:E118) -> 0 | F119: =SUM(F116:F118) -> 7 | G119: =SUM(G116:G118) -> 11 | H119: =SUM(H116:H118) -> 0 | I119: =SUM(I116:I118) -> 0 | J119: =SUM(J116:J118) -> 0 | ... P119: =SUM(P116:P118) -> 5.45
...

Sheet Togo
B2: TEMPLE: Togo
B3: MONTH : September 2019
C4: BTG Sub | D4: CC Set | E4: SB Set | F4: Mag. | G4: Small Books | I4: Medium Books | K4: Big Books | M4: Maha-Books
C5: 5 | F5: 0.1 | G5: 0.25 | H5: 0.25 | I5: 0.5 | J5: 0.5 | K5: 1 | L5: 1 | M5: 2 | N5: 2
B6: DEVOTEES | F6: M1 | G6: S1 | H6: H1 | I6: S2 | J6: H2 | K6: S3 | L6: H3 | M6: S4 | N6: H4 | O6: T/BKS | P6: Points
B9: Cumulative Scores | O9: =SUM(F9:N9) -> 0 | P9: =(F9*$F$5)+(G9*$G$5)+(H9*$H$5)+(I9*$I$5)+(J9*$J$5)+(K9*$K$5)+(L9*$L$5)+(M9*$M$5)+(N9*$N$5) -> 0
O10: =SUM(F10:N10) -> 0 | P10: =(F10*$F$5)+(G10*$G$5)+(H10*$H$5)+(I10*$I$5)+(J10*$J$5)+(K10*$K$5)+(L10*$L$5)+(M10*$M$5)+(N10*$N$5) -> 0
O11: =SUM(F11:N11) -> 0 | P11: =(F11*$F$5)+(G11*$G$5)+(H11*$H$5)+(I11*$I$5)+(J11*$J$5)+(K11*$K$5)+(L11*$L$5)+(M11*$M$5)+(N11*$N$5) -> 0
B12: TOTAL | C12: =SUM(C9:C11) -> 0 | D12: =SUM(D9:D11) -> 0 | E12: =SUM(E9:E11) -> 0 | F12: =SUM(F9:F11) -> 0 | G12: =SUM(G9:G11) -> 0 | H12: =SUM(H9:H11) -> 0 | I12: =SUM(I9:I11) -> 0 | J12: =SUM(J9:J11) -> 0 | ... P12: =SUM(P9:P11) -> 0

Sheet Zambia
B2: TEMPLE: Zambia
B3: MONTH : September 2019
C4: BTG Sub | D4: CC Set | E4: SB Set | F4: Mag. | G4: Small Books | I4: Medium Books | K4: Big Books | M4: Maha-Books
C5: 5 | F5: 0.1 | G5: 0.25 | H5: 0.25 | I5: 0.5 | J5: 0.5 | K5: 1 | L5: 1 | M5: 2 | N5: 2
B6: DEVOTEES | F6: M1 | G6: S1 | H6: H1 | I6: S2 | J6: H2 | K6: S3 | L6: H3 | M6: S4 | N6: H4 | O6: T/BKS | P6: Points
B9: Cumulative Scores | G9: 2 | I9: 1 | L9: 3 | N9: 4 | O9: =SUM(F9:N9) -> 10 | P9: =(F9*$F$5)+(G9*$G$5)+(H9*$H$5)+(I9*$I$5)+(J9*$J$5)+(K9*$K$5)+(L9*$L$5)+(M9*$M$5)+(N9*$N$5) -> 12
O10: =SUM(F10:N10) -> 0 | P10: =(F10*$F$5)+(G10*$G$5)+(H10*$H$5)+(I10*$I$5)+(J10*$J$5)+(K10*$K$5)+(L10*$L$5)+(M10*$M$5)+(N10*$N$5) -> 0
O11: =SUM(F11:N11) -> 0 | P11: =(F11*$F$5)+(G11*$G$5)+(H11*$H$5)+(I11*$I$5)+(J11*$J$5)+(K11*$K$5)+(L11*$L$5)+(M11*$M$5)+(N11*$N$5) -> 0
B12: TOTAL | C12: =SUM(C9:C11) -> 0 | D12: =SUM(D9:D11) -> 0 | E12: =SUM(E9:E11) -> 0 | F12: =SUM(F9:F11) -> 0 | G12: =SUM(G9:G11) -> 2 | H12: =SUM(H9:H11) -> 0 | I12: =SUM(I9:I11) -> 1 | J12: =SUM(J9:J11) -> 0 | ... P12: =SUM(P9:P11) -> 12

Sheet Summary
A2: Country | B2: Books: | C2: Points:
A4: Botswana | B4: =SUM(Botswana!O13) -> 202 | C4: =SUM(Botswana!P13) -> 47.5
A5: DRC | B5: =SUM('Democratic Republic of Congo'!O18) -> 0 | C5: =SUM('Democratic Republic of Congo'!P18) -> 0
A6: Ivory Coast | B6: =SUM('Ivory Coast'!O14) -> 0 | C6: =SUM('Ivory Coast'!P14) -> 0
A7: Kenya | B7: =SUM(Kenya!O28) -> 498 | C7: =SUM(Kenya!P28) -> 291.75
A8: Malawi | B8: =SUM(Malawi!O11) -> 0 | C8: =SUM(Malawi!P11) -> 0
A9: Mauritius | B9: =SUM(Mauritius!O24) -> 3054 | C9: =SUM(Mauritius!P24) -> 1119.55
A10: Nigeria | B10: =SUM(Nigeria!O60) -> 932 | C10: =SUM(Nigeria!P60) -> 184.9
A11: South Africa | B11: =SUM('South Africa'!O243) -> 2390 | C11: =SUM('South Africa'!P243) -> 1518.2
A12: Togo | B12: =SUM(Togo!O12) -> 0 | C12: =SUM(Togo!P12) -> 0
A13: Zambia | B13: =SUM(Zambia!O12) -> 10 | C13: =SUM(Zambia!P12) -> 12
A15: Total: | B15: =SUM(B5:B14) -> 6884 | C15: =SUM(C5:C14) -> 3126.4
