Workbook
Name Excel_BuiltIn_Print_Area_1: [1]Malawi!#REF!
Name Excel_BuiltIn_Print_Area_1: [1]Malawi!#REF!
Name Excel_BuiltIn_Print_Area_1: [1]Malawi!#REF!
Name Excel_BuiltIn_Print_Area_1: [1]Malawi!#REF!
Name Excel_BuiltIn_Print_Area_1: [1]Malawi!#REF!
Name Excel_BuiltIn_Print_Area_1: [2]Malawi!#REF!
Name Excel_BuiltIn_Print_Area_1: [1]Malawi!#REF!
Name Excel_BuiltIn_Print_Area_1: [1]Malawi!#REF!

Sheet Botswana
B2: TEMPLE: Gabarone
B3: MONTH : February 2018
C4: BTG Sub | D4: CC Set | E4: SB Set | F4: Mag. | G4: Small Books | I4: Medium Books | K4: Big Books | M4: Maha-Books
C5: 5 | F5: 0.1 | G5: 0.25 | H5: 0.25 | I5: 0.5 | J5: 0.5 | K5: 1 | L5: 1 | M5: 2 | N5: 2
B6: DEVOTEES | F6: M1 | G6: S1 | H6: H1 | I6: S2 | J6: H2 | K6: S3 | L6: H3 | M6: S4 | N6: H4 | O6: T/BKS | P6: Points
B9: Devakinandan das | F9: 25 | G9: 23 | O9: =SUM(F9:N9) -> 48 | P9: =(F9*$F$5)+(G9*$G$5)+(H9*$H$5)+(I9*$I$5)+(J9*$J$5)+(K9*$K$5)+(L9*$L$5)+(M9*$M$5)+(N9*$N$5) -> 8.25
B10: Rama Priya Devi Dasi | G10: 8 | O10: =SUM(F10:N10) -> 8 | P10: =(F10*$F$5)+(G10*$G$5)+(H10*$H$5)+(I10*$I$5)+(J10*$J$5)+(K10*$K$5)+(L10*$L$5)+(M10*$M$5)+(N10*$N$5) -> 2
B11: Keshavanand Das | I11: 26 | O11: =SUM(F11:N11) -> 26 | P11: =(F11*$F$5)+(G11*$G$5)+(H11*$H$5)+(I11*$I$5)+(J11*$J$5)+(K11*$K$5)+(L11*$L$5)+(M11*$M$5)+(N11*$N$5) -> 13
B12: Baktin Sahana | G12: 8 | O12: =SUM(F12:N12) -> 8 | P12: =(F12*$F$5)+(G12*$G$5)+(H12*$H$5)+(I12*$I$5)+(J12*$J$5)+(K12*$K$5)+(L12*$L$5)+(M12*$M$5)+(N12*$N$5) -> 2
O13: =SUM(F13:N13) -> 0 | P13: =(F13*$F$5)+(G13*$G$5)+(H13*$H$5)+(I13*$I$5)+(J13*$J$5)+(K13*$K$5)+(L13*$L$5)+(M13*$M$5)+(N13*$N$5) -> 0
B14: TOTAL | C14: =SUM(C9:C13) -> 0 | D14: =SUM(D9:D13) -> 0 | E14: =SUM(E9:E13) -> 0 | F14: =SUM(F9:F13) -> 25 | G14: =SUM(G9:G13) -> 39 | H14: =SUM(H9:H13) -> 0 | I14: =SUM(I9:I13) -> 26 | J14: =SUM(J9:J13) -> 0 | ... P14: =SUM(P9:P13) -> 25.25

Sheet Burkina Faso
B2: TEMPLE: Burkina Faso
B3: MONTH : February 2018
C4: BTG Sub | D4: CC Set | E4: SB Set | F4: Mag. | G4: Small Books | I4: Medium Books | K4: Big Books | M4: Maha-Books
C5: 5 | F5: 0.1 | G5: 0.25 | H5: 0.25 | I5: 0.5 | J5: 0.5 | K5: 1 | L5: 1 | M5: 2 | N5: 2
B6: DEVOTEES | F6: M1 | G6: S1 | H6: H1 | I6: S2 | J6: H2 | K6: S3 | L6: H3 | M6: S4 | N6: H4 | O6: T/BKS | P6: Points
O9: =SUM(F9:N9) -> 0 | P9: =(F9*$F$5)+(G9*$G$5)+(H9*$H$5)+(I9*$I$5)+(J9*$J$5)+(K9*$K$5)+(L9*$L$5)+(M9*$M$5)+(N9*$N$5) -> 0
O10: =SUM(F10:N10) -> 0 | P10: =(F10*$F$5)+(G10*$G$5)+(H10*$H$5)+(I10*$I$5)+(J10*$J$5)+(K10*$K$5)+(L10*$L$5)+(M10*$M$5)+(N10*$N$5) -> 0
B11: TOTAL | C11: =SUM(C9:C10) -> 0 | D11: =SUM(D9:D10) -> 0 | E11: =SUM(E9:E10) -> 0 | F11: =SUM(F9:F10) -> 0 | G11: =SUM(G9:G10) -> 0 | H11: =SUM(H9:H10) -> 0 | I11: =SUM(I9:I10) -> 0 | J11: =SUM(J9:J10) -> 0 | ... P11: =SUM(P9:P10) -> 0

Sheet Ivory Coast
B2: TEMPLE: Ivory Coast
B3: MONTH : February 2018
C4: BTG Sub | D4: CC Set | E4: SB Set | F4: Mag. | G4: Small Books | I4: Medium Books | K4: Big Books | M4: Maha-Books
C5: 5 | F5: 0.1 | G5: 0.25 | H5: 0.25 | I5: 0.5 | J5: 0.5 | K5: 1 | L5: 1 | M5: 2 | N5: 2
B6: DEVOTEES | F6: M1 | G6: S1 | H6: H1 | I6: S2 | J6: H2 | K6: S3 | L6: H3 | M6: S4 | N6: H4 | O6: T/BKS | P6: Points
O9: =SUM(F9:N9) -> 0 | P9: =(F9*$F$5)+(G9*$G$5)+(H9*$H$5)+(I9*$I$5)+(J9*$J$5)+(K9*$K$5)+(L9*$L$5)+(M9*$M$5)+(N9*$N$5) -> 0
O10: =SUM(F10:N10) -> 0 | P10: =(F10*$F$5)+(G10*$G$5)+(H10*$H$5)+(I10*$I$5)+(J10*$J$5)+(K10*$K$5)+(L10*$L$5)+(M10*$M$5)+(N10*$N$5) -> 0
O11: =SUM(F11:N11) -> 0 | P11: =(F11*$F$5)+(G11*$G$5)+(H11*$H$5)+(I11*$I$5)+(J11*$J$5)+(K11*$K$5)+(L11*$L$5)+(M11*$M$5)+(N11*$N$5) -> 0
O12: =SUM(F12:N12) -> 0 | P12: =(F12*$F$5)+(G12*$G$5)+(H12*$H$5)+(I12*$I$5)+(J12*$J$5)+(K12*$K$5)+(L12*$L$5)+(M12*$M$5)+(N12*$N$5) -> 0
O13: =SUM(F13:N13) -> 0 | P13: =(F13*$F$5)+(G13*$G$5)+(H13*$H$5)+(I13*$I$5)+(J13*$J$5)+(K13*$K$5)+(L13*$L$5)+(M13*$M$5)+(N13*$N$5) -> 0
B14: TOTAL | C14: =SUM(C9:C13) -> 0 | D14: =SUM(D9:D13) -> 0 | E14: =SUM(E9:E13) -> 0 | F14: =SUM(F9:F13) -> 0 | G14: =SUM(G9:G13) -> 0 | H14: =SUM(H9:H13) -> 0 | I14: =SUM(I9:I13) -> 0 | J14: =SUM(J9:J13) -> 0 | ... P14: =SUM(P9:P13) -> 0

Sheet Kenya
B2: MONTH : February 2018
C3: BTG Sub | D3: CC Set | E3: SB Set | F3: mag | G3: Small Books | I3: Medium Books | K3: Big Books | M3: Maha-Books
C4: 5 | F4: 0.1 | G4: 0.25 | H4: 0.25 | I4: 0.5 | J4: 0.5 | K4: 1 | L4: 1 | M4: 2 | N4: 2
B5: DEVOTEES | F5: M1 | G5: S1 | H5: H1 | I5: S2 | J5: H2 | K5: S3 | L5: H3 | M5: S4 | N5: H4 | O5: T/BKS | P5: Points
B7: Iskcon Nairobi
B8: VAISHNAVI SANGA | E8: 3 | N8: 174 | O8: =SUM(F8:N8) -> 174 | P8: =(F8*$F$4)+(G8*$G$4)+(H8*$H$4)+(I8*$I$4)+(J8*$J$4)+(K8*$K$4)+(L8*$L$4)+(M8*$M$4)+(N8*$N$4) -> 348
B9: SAKHI JIVANI DEVI DASA | N9: 5 | O9: =SUM(F9:N9) -> 5 | P9: =(F9*$F$4)+(G9*$G$4)+(H9*$H$4)+(I9*$I$4)+(J9*$J$4)+(K9*$K$4)+(L9*$L$4)+(M9*$M$4)+(N9*$N$4) -> 10
B10: VEDATATTVA DASA | G10: 4 | K10: 2 | N10: 2 | O10: =SUM(F10:N10) -> 8 | P10: =(F10*$F$4)+(G10*$G$4)+(H10*$H$4)+(I10*$I$4)+(J10*$J$4)+(K10*$K$4)+(L10*$L$4)+(M10*$M$4)+(N10*$N$4) -> 7
O11: =SUM(F11:N11) -> 0 | P11: =(F11*$F$4)+(G11*$G$4)+(H11*$H$4)+(I11*$I$4)+(J11*$J$4)+(K11*$K$4)+(L11*$L$4)+(M11*$M$4)+(N11*$N$4) -> 0
B12: TOTAL | C12: =SUM(C8:C11) -> 0 | D12: =SUM(D8:D11) -> 0 | E12: =SUM(E8:E11) -> 3 | F12: =SUM(F8:F11) -> 0 | G12: =SUM(G8:G11) -> 4 | H12: =SUM(H8:H11) -> 0 | I12: =SUM(I8:I11) -> 0 | J12: =SUM(J8:J11) -> 0 | ... P12: =SUM(P8:P11) -> 365
B15: Iskcon Kisumu
B16: PARTH PREM DASA | G16: 29 | I16: 22 | K16: 20 | M16: 6 | O16: =SUM(F16:N16) -> 77 | P16: =(F16*$F$4)+(G16*$G$4)+(H16*$H$4)+(I16*$I$4)+(J16*$J$4)+(K16*$K$4)+(L16*$L$4)+(M16*$M$4)+(N16*$N$4) -> 50.25
O17: =SUM(F17:N17) -> 0 | P17: =(F17*$F$4)+(G17*$G$4)+(H17*$H$4)+(I17*$I$4)+(J17*$J$4)+(K17*$K$4)+(L17*$L$4)+(M17*$M$4)+(N17*$N$4) -> 0
B18: TOTAL | C18: =SUM(C16:C17) -> 0 | D18: =SUM(D16:D17) -> 0 | E18: =SUM(E16:E17) -> 0 | F18: =SUM(F16:F17) -> 0 | G18: =SUM(G16:G17) -> 29 | H18: =SUM(H16:H17) -> 0 | I18: =SUM(I16:I17) -> 22 | J18: =SUM(J16:J17) -> 0 | ... P18: =SUM(P16:P17) -> 50.25
B21: Iskcon Mombassa
O22: =SUM(F22:N22) -> 0 | P22: =(F22*$F$4)+(G22*$G$4)+(H22*$H$4)+(I22*$I$4)+(J22*$J$4)+(K22*$K$4)+(L22*$L$4)+(M22*$M$4)+(N22*$N$4) -> 0
O23: =SUM(F23:N23) -> 0 | P23: =(F23*$F$4)+(G23*$G$4)+(H23*$H$4)+(I23*$I$4)+(J23*$J$4)+(K23*$K$4)+(L23*$L$4)+(M23*$M$4)+(N23*$N$4) -> 0
O24: =SUM(C24:N24) -> 0 | P24: =(C24*$C$4)+(G24*$G$4)+(H24*$H$4)+(I24*$I$4)+(J24*$J$4)+(K24*$K$4)+(L24*$L$4)+(M24*$M$4)+(N24*$N$4) -> 0
B25: TOTAL | C25: =SUM(C22:C23) -> 0 | D25: =SUM(D22:D23) -> 0 | E25: =SUM(E22:E23) -> 0 | F25: =SUM(F22:F24) -> 0 | G25: =SUM(G22:G24) -> 0 | H25: =SUM(H22:H24) -> 0 | I25: =SUM(I22:I24) -> 0 | J25: =SUM(J22:J24) -> 0 | K25: =SUM(K22:K24) -> 0 | L25: =SUM(L22:L24) -> 0 | M25: =SUM(M22:M24) -> 0 | ... P25: =SUM(P22:P24) -> 0
N27: Total: | O27: =SUM(O12+O18+O25) -> 264 | P27: =SUM(P12+P18+P25) -> 415.25

Sheet Malawi
B2: TEMPLE: Blantyre
B3: MONTH : February 2018
C4: BTG Sub | D4: CC Set | E4: SB Set | F4: Mag. | G4: Small Books | I4: Medium Books | K4: Big Books | M4: Maha-Books
C5: 5 | F5: 0.1 | G5: 0.25 | H5: 0.25 | I5: 0.5 | J5: 0.5 | K5: 1 | L5: 1 | M5: 2 | N5: 2
B6: DEVOTEES | F6: M1 | G6: S1 | H6: H1 | I6: S2 | J6: H2 | K6: S3 | L6: H3 | M6: S4 | N6: H4 | O6: T/BKS | P6: Points
B9: Temple Scores | G9: 67 | L9: 10 | N9: 2 | O9: =SUM(F9:N9) -> 79 | P9: =(F9*$F$5)+(G9*$G$5)+(H9*$H$5)+(I9*$I$5)+(J9*$J$5)+(K9*$K$5)+(L9*$L$5)+(M9*$M$5)+(N9*$N$5) -> 30.75
B11: TOTAL | C11: =SUM(C9:C10) -> 0 | D11: =SUM(D9:D10) -> 0 | E11: =SUM(E9:E10) -> 0 | F11: =SUM(F9:F10) -> 0 | G11: =SUM(G9:G10) -> 67 | H11: =SUM(H9:H10) -> 0 | I11: =SUM(I9:I10) -> 0 | J11: =SUM(J9:J10) -> 0 | ... P11: =SUM(P9:P10) -> 30.75

Sheet Mauritius
B2: MONTH : February 2018 | C2: BTG Sub | D2: CC Set | E2: SB Set | F2: Mag. | G2: Small Books | I2: Medium Books | K2: Big Books | M2: Maha-Books
C3: 5 | D3: 18 | E3: 36 | F3: 0.1 | G3: 0.25 | H3: 0.25 | I3: 0.5 | J3: 0.5 | K3: 1 | L3: 1 | M3: 2 | N3: 2
B4: DEVOTEES | F4: M1 | G4: S1 | H4: H1 | I4: S2 | J4: H2 | K4: S3 | L4: H3 | M4: S4 | N4: H4 | O4: T/BKS | P4: Points
B6: ISKCON Phoenix Sri Sri Radha Gokulananda Mandir
B7: Harimananda's Team | G7: 340 | N7: 19 | O7: =SUM(F7:N7) -> 359 | P7: =(F7*$F$3)+(G7*$G$3)+(H7*$H$3)+(I7*$I$3)+(J7*$J$3)+(K7*$K$3)+(L7*$L$3)+(M7*$M$3)+(N7*$N$3) -> 123
B8: Cit Ananda Dasa & Team | G8: 700 | O8: =SUM(F8:N8) -> 700 | P8: =(F8*$F$3)+(G8*$G$3)+(H8*$H$3)+(I8*$I$3)+(J8*$J$3)+(K8*$K$3)+(L8*$L$3)+(M8*$M$3)+(N8*$N$3) -> 175
B9: Raghunatha Dasa ( Nama Hatta ) | G9: 256 | N9: 20 | O9: =SUM(F9:N9) -> 276 | P9: =(F9*$F$3)+(G9*$G$3)+(H9*$H$3)+(I9*$I$3)+(J9*$J$3)+(K9*$K$3)+(L9*$L$3)+(M9*$M$3)+(N9*$N$3) -> 104
B10: Kasyapa Muni Dasa | E10: 1 | N10: 18 | O10: =SUM(F10:N10) -> 18 | P10: =(F10*$F$3)+(G10*$G$3)+(H10*$H$3)+(I10*$I$3)+(J10*$J$3)+(K10*$K$3)+(L10*$L$3)+(M10*$M$3)+(N10*$N$3) -> 36
B11: Ajay Caitanya Dasa | E11: 1 | N11: 18 | O11: =SUM(F11:N11) -> 18 | P11: =(F11*$F$3)+(G11*$G$3)+(H11*$H$3)+(I11*$I$3)+(J11*$J$3)+(K11*$K$3)+(L11*$L$3)+(M11*$M$3)+(N11*$N$3) -> 36
B12: Devaki Suta Dasa | G12: 60 | O12: =SUM(F12:N12) -> 60 | P12: =(F12*$F$3)+(G12*$G$3)+(H12*$H$3)+(I12*$I$3)+(J12*$J$3)+(K12*$K$3)+(L12*$L$3)+(M12*$M$3)+(N12*$N$3) -> 15
B13: Suveshadari Dasa | G13: 90 | O13: =SUM(F13:N13) -> 90 | P13: =(F13*$F$3)+(G13*$G$3)+(H13*$H$3)+(I13*$I$3)+(J13*$J$3)+(K13*$K$3)+(L13*$L$3)+(M13*$M$3)+(N13*$N$3) -> 22.5
B14: Kirtan Ashraya Team ( Monthly Sankirtana Festival ) | G14: 167 | O14: =SUM(F14:N14) -> 167 | P14: =(F14*$F$3)+(G14*$G$3)+(H14*$H$3)+(I14*$I$3)+(J14*$J$3)+(K14*$K$3)+(L14*$L$3)+(M14*$M$3)+(N14*$N$3) -> 41.75
O15: =SUM(F15:N15) -> 0 | P15: =(F15*$F$3)+(G15*$G$3)+(H15*$H$3)+(I15*$I$3)+(J15*$J$3)+(K15*$K$3)+(L15*$L$3)+(M15*$M$3)+(N15*$N$3) -> 0
O16: =SUM(F16:N16) -> 0 | P16: =(F16*$F$3)+(G16*$G$3)+(H16*$H$3)+(I16*$I$3)+(J16*$J$3)+(K16*$K$3)+(L16*$L$3)+(M16*$M$3)+(N16*$N$3) -> 0
O17: =SUM(F17:N17) -> 0 | P17: =(F17*$F$3)+(G17*$G$3)+(H17*$H$3)+(I17*$I$3)+(J17*$J$3)+(K17*$K$3)+(L17*$L$3)+(M17*$M$3)+(N17*$N$3) -> 0
O18: =SUM(F18:N18) -> 0 | P18: =(F18*$F$3)+(G18*$G$3)+(H18*$H$3)+(I18*$I$3)+(J18*$J$3)+(K18*$K$3)+(L18*$L$3)+(M18*$M$3)+(N18*$N$3) -> 0
O19: =SUM(F19:N19) -> 0 | P19: =(F19*$F$3)+(G19*$G$3)+(H19*$H$3)+(I19*$I$3)+(J19*$J$3)+(K19*$K$3)+(L19*$L$3)+(M19*$M$3)+(N19*$N$3) -> 0
O20: =SUM(F20:N20) -> 0 | P20: =(F20*$F$3)+(G20*$G$3)+(H20*$H$3)+(I20*$I$3)+(J20*$J$3)+(K20*$K$3)+(L20*$L$3)+(M20*$M$3)+(N20*$N$3) -> 0
O21: =SUM(F21:N21) -> 0 | P21: =(F21*$F$3)+(G21*$G$3)+(H21*$H$3)+(I21*$I$3)+(J21*$J$3)+(K21*$K$3)+(L21*$L$3)+(M21*$M$3)+(N21*$N$3) -> 0
O22: =SUM(F22:N22) -> 0 | P22: =(F22*$F$3)+(G22*$G$3)+(H22*$H$3)+(I22*$I$3)+(J22*$J$3)+(K22*$K$3)+(L22*$L$3)+(M22*$M$3)+(N22*$N$3) -> 0
O23: =SUM(F23:N23) -> 0 | P23: =(F23*$F$3)+(G23*$G$3)+(H23*$H$3)+(I23*$I$3)+(J23*$J$3)+(K23*$K$3)+(L23*$L$3)+(M23*$M$3)+(N23*$N$3) -> 0
B24: TOTAL | C24: =SUM(C7:C23) -> 0 | D24: =SUM(D7:D23) -> 0 | E24: =SUM(E7:E23) -> 2 | F24: =SUM(F7:F23) -> 0 | G24: =SUM(G7:G23) -> 1613 | H24: =SUM(H7:H23) -> 0 | I24: =SUM(I7:I23) -> 0 | J24: =SUM(J7:J23) -> 0 | ... P24: =SUM(P7:P23) -> 553.25
B27: ISKCON Bon Accueil Mauritius Sri Sri Krsna Balaram Mandir
B28: Cumulative Scores | O28: =SUM(F28:N28) -> 0 | P28: =(C28*$C$3)+(F28*$F$3)+(G28*$G$3)+(H28*$H$3)+(I28*$I$3)+(J28*$J$3)+(K28*$K$3)+(L28*$L$3)+(M28*$M$3)+(N28*$N$3) -> 0
O29: =SUM(F29:N29) -> 0 | P29: =(F29*$F$3)+(G29*$G$3)+(H29*$H$3)+(I29*$I$3)+(J29*$J$3)+(K29*$K$3)+(L29*$L$3)+(M29*$M$3)+(N29*$N$3) -> 0
O30: =SUM(F30:N30) -> 0 | P30: =(F30*$F$3)+(G30*$G$3)+(H30*$H$3)+(I30*$I$3)+(J30*$J$3)+(K30*$K$3)+(L30*$L$3)+(M30*$M$3)+(N30*$N$3) -> 0
B31: TOTAL | C31: =SUM(C28:C30) -> 0 | D31: =SUM(D28:D30) -> 0 | E31: =SUM(E28:E30) -> 0 | F31: =SUM(F28:F30) -> 0 | G31: =SUM(G28:G30) -> 0 | H31: =SUM(H28:H30) -> 0 | I31: =SUM(I28:I30) -> 0 | J31: =SUM(J28:J30) -> 0 | ... P31: =SUM(P28:P30) -> 0
M34: TOTAL | O34: =+O31+O24 -> 1688 | P34: =+P31+P24 -> 553.25

Sheet Nigeria
B1: MONTH : February 2018
C2: BTG Sub | D2: CC Set | E2: SB Set | F2: Mag. | G2: Small Books | I2: Medium Books | K2: Big Books | M2: Maha-Books
C3: 5 | D3: 18 | E3: 36 | F3: 0.1 | G3: 0.25 | H3: 0.25 | I3: 0.5 | J3: 0.5 | K3: 1 | L3: 1 | M3: 2 | N3: 2
B4: DEVOTEES | F4: M1 | G4: S1 | H4: H1 | I4: S2 | J4: H2 | K4: S3 | L4: H3 | M4: S4 | N4: H4 | O4: T/BKS | P4: Points
B6: ISKCON BENIN CITY
B7: Temple Cumulative Scores | O7: =SUM(C7:N7) -> 0 | P7: =(C7*$C$3)+(F7*$F$3)+(G7*$G$3)+(H7*$H$3)+(I7*$I$3)+(J7*$J$3)+(K7*$K$3)+(L7*$L$3)+(M7*$M$3)+(N7*$N$3) -> 0
O8: =SUM(F8:N8) -> 0 | P8: =(F8*$F$3)+(G8*$G$3)+(H8*$H$3)+(I8*$I$3)+(J8*$J$3)+(K8*$K$3)+(L8*$L$3)+(M8*$M$3)+(N8*$N$3) -> 0
O9: =SUM(F9:N9) -> 0 | P9: =(F9*$F$3)+(G9*$G$3)+(H9*$H$3)+(I9*$I$3)+(J9*$J$3)+(K9*$K$3)+(L9*$L$3)+(M9*$M$3)+(N9*$N$3) -> 0
O10: =SUM(F10:N10) -> 0 | P10: =(F10*$F$3)+(G10*$G$3)+(H10*$H$3)+(I10*$I$3)+(J10*$J$3)+(K10*$K$3)+(L10*$L$3)+(M10*$M$3)+(N10*$N$3) -> 0
O11: =SUM(F11:N11) -> 0 | P11: =(F11*$F$3)+(G11*$G$3)+(H11*$H$3)+(I11*$I$3)+(J11*$J$3)+(K11*$K$3)+(L11*$L$3)+(M11*$M$3)+(N11*$N$3) -> 0
O12: =SUM(F12:N12) -> 0 | P12: =(F12*$F$3)+(G12*$G$3)+(H12*$H$3)+(I12*$I$3)+(J12*$J$3)+(K12*$K$3)+(L12*$L$3)+(M12*$M$3)+(N12*$N$3) -> 0
O13: =SUM(F13:N13) -> 0 | P13: =(F13*$F$3)+(G13*$G$3)+(H13*$H$3)+(I13*$I$3)+(J13*$J$3)+(K13*$K$3)+(L13*$L$3)+(M13*$M$3)+(N13*$N$3) -> 0
O14: =SUM(F14:N14) -> 0 | P14: =(F14*$F$3)+(G14*$G$3)+(H14*$H$3)+(I14*$I$3)+(J14*$J$3)+(K14*$K$3)+(L14*$L$3)+(M14*$M$3)+(N14*$N$3) -> 0
O15: =SUM(F15:N15) -> 0 | P15: =(F15*$F$3)+(G15*$G$3)+(H15*$H$3)+(I15*$I$3)+(J15*$J$3)+(K15*$K$3)+(L15*$L$3)+(M15*$M$3)+(N15*$N$3) -> 0
O16: =SUM(F16:N16) -> 0 | P16: =(F16*$F$3)+(G16*$G$3)+(H16*$H$3)+(I16*$I$3)+(J16*$J$3)+(K16*$K$3)+(L16*$L$3)+(M16*$M$3)+(N16*$N$3) -> 0
O17: =SUM(F17:N17) -> 0 | P17: =(F17*$F$3)+(G17*$G$3)+(H17*$H$3)+(I17*$I$3)+(J17*$J$3)+(K17*$K$3)+(L17*$L$3)+(M17*$M$3)+(N17*$N$3) -> 0
O18: =SUM(F18:N18) -> 0 | P18: =(F18*$F$3)+(G18*$G$3)+(H18*$H$3)+(I18*$I$3)+(J18*$J$3)+(K18*$K$3)+(L18*$L$3)+(M18*$M$3)+(N18*$N$3) -> 0
O19: =SUM(F19:N19) -> 0 | P19: =(F19*$F$3)+(G19*$G$3)+(H19*$H$3)+(I19*$I$3)+(J19*$J$3)+(K19*$K$3)+(L19*$L$3)+(M19*$M$3)+(N19*$N$3) -> 0
... O21: =SUM(F21:N21) -> 0 | P21: =(F21*$F$3)+(G21*$G$3)+(H21*$H$3)+(I21*$I$3)+(J21*$J$3)+(K21*$K$3)+(L21*$L$3)+(M21*$M$3)+(N21*$N$3) -> 0
B22: TOTAL | C22: =SUM(C7:C21) -> 0 | D22: =SUM(D7:D21) -> 0 | E22: =SUM(E7:E21) -> 0 | F22: =SUM(F7:F21) -> 0 | G22: =SUM(G7:G21) -> 0 | H22: =SUM(H7:H21) -> 0 | I22: =SUM(I7:I21) -> 0 | J22: =SUM(J7:J21) -> 0 | ... P22: =SUM(P7:P21) -> 0
B25: ISKCON LAGOS
B26: Bhakta Arthur and Tribhuvanatha | O26: =SUM(F26:N26) -> 0 | P26: =(F26*$F$3)+(G26*$G$3)+(H26*$H$3)+(I26*$I$3)+(J26*$J$3)+(K26*$K$3)+(L26*$L$3)+(M26*$M$3)+(N26*$N$3) -> 0
B27: Beach Programme | O27: =SUM(F27:N27) -> 0 | P27: =(F27*$F$3)+(G27*$G$3)+(H27*$H$3)+(I27*$I$3)+(J27*$J$3)+(K27*$K$3)+(L27*$L$3)+(M27*$M$3)+(N27*$N$3) -> 0
B28: Balabhadra Dasa | O28: =SUM(F28:N28) -> 0 | P28: =(F28*$F$3)+(G28*$G$3)+(H28*$H$3)+(I28*$I$3)+(J28*$J$3)+(K28*$K$3)+(L28*$L$3)+(M28*$M$3)+(N28*$N$3) -> 0
B29: Beenu | O29: =SUM(F29:N29) -> 0 | P29: =(F29*$F$3)+(G29*$G$3)+(H29*$H$3)+(I29*$I$3)+(J29*$J$3)+(K29*$K$3)+(L29*$L$3)+(M29*$M$3)+(N29*$N$3) -> 0
B30: Benson | O30: =SUM(F30:N30) -> 0 | P30: =(F30*$F$3)+(G30*$G$3)+(H30*$H$3)+(I30*$I$3)+(J30*$J$3)+(K30*$K$3)+(L30*$L$3)+(M30*$M$3)+(N30*$N$3) -> 0
B31: Ganga Dasa | O31: =SUM(F31:N31) -> 0 | P31: =(F31*$F$3)+(G31*$G$3)+(H31*$H$3)+(I31*$I$3)+(J31*$J$3)+(K31*$K$3)+(L31*$L$3)+(M31*$M$3)+(N31*$N$3) -> 0
B32: Devarishi dasa | O32: =SUM(F32:N32) -> 0 | P32: =(F32*$F$3)+(G32*$G$3)+(H32*$H$3)+(I32*$I$3)+(J32*$J$3)+(K32*$K$3)+(L32*$L$3)+(M32*$M$3)+(N32*$N$3) -> 0
B33: Gaura Gopala Dasa | O33: =SUM(F33:N33) -> 0 | P33: =(F33*$F$3)+(G33*$G$3)+(H33*$H$3)+(I33*$I$3)+(J33*$J$3)+(K33*$K$3)+(L33*$L$3)+(M33*$M$3)+(N33*$N$3) -> 0
B34: Kavikarnapura dasa | O34: =SUM(F34:N34) -> 0 | P34: =(F34*$F$3)+(G34*$G$3)+(H34*$H$3)+(I34*$I$3)+(J34*$J$3)+(K34*$K$3)+(L34*$L$3)+(M34*$M$3)+(N34*$N$3) -> 0
B35: Kavikarnapura and Tribuvanatha dasa | O35: =SUM(F35:N35) -> 0 | P35: =(F35*$F$3)+(G35*$G$3)+(H35*$H$3)+(I35*$I$3)+(J35*$J$3)+(K35*$K$3)+(L35*$L$3)+(M35*$M$3)+(N35*$N$3) -> 0
B36: Kavikarnapura and Beenu | O36: =SUM(F36:N36) -> 0 | P36: =(F36*$F$3)+(G36*$G$3)+(H36*$H$3)+(I36*$I$3)+(J36*$J$3)+(K36*$K$3)+(L36*$L$3)+(M36*$M$3)+(N36*$N$3) -> 0
B37: Tribuvanatha dasa | O37: =SUM(F37:N37) -> 0 | P37: =(F37*$F$3)+(G37*$G$3)+(H37*$H$3)+(I37*$I$3)+(J37*$J$3)+(K37*$K$3)+(L37*$L$3)+(M37*$M$3)+(N37*$N$3) -> 0
... B43: Interfaith Programme | O43: =SUM(F43:N43) -> 0 | P43: =(F43*$F$3)+(G43*$G$3)+(H43*$H$3)+(I43*$I$3)+(J43*$J$3)+(K43*$K$3)+(L43*$L$3)+(M43*$M$3)+(N43*$N$3) -> 0
B44: TOTAL | C44: =SUM(C26:C43) -> 0 | D44: =SUM(D26:D43) -> 0 | E44: =SUM(E26:E43) -> 0 | F44: =SUM(F26:F43) -> 0 | G44: =SUM(G26:G43) -> 0 | H44: =SUM(H26:H43) -> 0 | I44: =SUM(I26:I43) -> 0 | J44: =SUM(J26:J43) -> 0 | ... P44: =SUM(P26:P43) -> 0
B47: ISKCON PORT HARCOURT
O48: =SUM(F48:N48) -> 0 | P48: =(F48*$F$3)+(G48*$G$3)+(H48*$H$3)+(I48*$I$3)+(J48*$J$3)+(K48*$K$3)+(L48*$L$3)+(M48*$M$3)+(N48*$N$3) -> 0
O49: =SUM(F49:N49) -> 0 | P49: =(F49*$F$3)+(G49*$G$3)+(H49*$H$3)+(I49*$I$3)+(J49*$J$3)+(K49*$K$3)+(L49*$L$3)+(M49*$M$3)+(N49*$N$3) -> 0
O50: =SUM(F50:N50) -> 0 | P50: =(F50*$F$3)+(G50*$G$3)+(H50*$H$3)+(I50*$I$3)+(J50*$J$3)+(K50*$K$3)+(L50*$L$3)+(M50*$M$3)+(N50*$N$3) -> 0
O51: =SUM(F51:N51) -> 0 | P51: =(F51*$F$3)+(G51*$G$3)+(H51*$H$3)+(I51*$I$3)+(J51*$J$3)+(K51*$K$3)+(L51*$L$3)+(M51*$M$3)+(N51*$N$3) -> 0
O52: =SUM(F52:N52) -> 0 | P52: =(F52*$F$3)+(G52*$G$3)+(H52*$H$3)+(I52*$I$3)+(J52*$J$3)+(K52*$K$3)+(L52*$L$3)+(M52*$M$3)+(N52*$N$3) -> 0
O53: =SUM(F53:N53) -> 0 | P53: =(F53*$F$3)+(G53*$G$3)+(H53*$H$3)+(I53*$I$3)+(J53*$J$3)+(K53*$K$3)+(L53*$L$3)+(M53*$M$3)+(N53*$N$3) -> 0
O54: =SUM(F54:N54) -> 0 | P54: =(F54*$F$3)+(G54*$G$3)+(H54*$H$3)+(I54*$I$3)+(J54*$J$3)+(K54*$K$3)+(L54*$L$3)+(M54*$M$3)+(N54*$N$3) -> 0
O55: =SUM(F55:N55) -> 0 | P55: =(F55*$F$3)+(G55*$G$3)+(H55*$H$3)+(I55*$I$3)+(J55*$J$3)+(K55*$K$3)+(L55*$L$3)+(M55*$M$3)+(N55*$N$3) -> 0
O56: =SUM(F56:N56) -> 0 | P56: =(F56*$F$3)+(G56*$G$3)+(H56*$H$3)+(I56*$I$3)+(J56*$J$3)+(K56*$K$3)+(L56*$L$3)+(M56*$M$3)+(N56*$N$3) -> 0
O57: =SUM(F57:N57) -> 0 | P57: =(F57*$F$3)+(G57*$G$3)+(H57*$H$3)+(I57*$I$3)+(J57*$J$3)+(K57*$K$3)+(L57*$L$3)+(M57*$M$3)+(N57*$N$3) -> 0
O58: =SUM(F58:N58) -> 0 | P58: =(F58*$F$3)+(G58*$G$3)+(H58*$H$3)+(I58*$I$3)+(J58*$J$3)+(K58*$K$3)+(L58*$L$3)+(M58*$M$3)+(N58*$N$3) -> 0
O59: =SUM(F59:N59) -> 0 | P59: =(F59*$F$3)+(G59*$G$3)+(H59*$H$3)+(I59*$I$3)+(J59*$J$3)+(K59*$K$3)+(L59*$L$3)+(M59*$M$3)+(N59*$N$3) -> 0
... O71: =SUM(F71:N71) -> 0 | P71: =(F71*$F$3)+(G71*$G$3)+(H71*$H$3)+(I71*$I$3)+(J71*$J$3)+(K71*$K$3)+(L71*$L$3)+(M71*$M$3)+(N71*$N$3) -> 0
B72: TOTAL | C72: =SUM(C69:C71) -> 0 | D72: =SUM(D48:D71) -> 0 | E72: =SUM(E48:E71) -> 0 | F72: =SUM(F69:F71) -> 0 | G72: =SUM(G48:G71) -> 0 | H72: =SUM(H48:H71) -> 0 | I72: =SUM(I48:I71) -> 0 | J72: =SUM(J48:J71) -> 0 | K72: =SUM(K48:K71) -> 0 | L72: =SUM(L48:L71) -> 0 | M72: =SUM(M48:M71) -> 0 | N72: =SUM(N48:N71) -> 0 | ... P72: =SUM(P48:P71) -> 0
M76: TOTAL | O76: =O72+O44+O22 -> 0 | P76: =P72+P44+P22 -> 0

Sheet South Africa
B1: MONTH : February 2018
C2: BTG Sub | D2: CC Set | E2: SB Set | F2: Mag. | G2: Small Books | I2: Medium Books | K2: Big Books | M2: Maha-Books
C3: 5 | D3: 18 | E3: 36 | F3: 0.1 | G3: 0.25 | H3: 0.25 | I3: 0.5 | J3: 0.5 | K3: 1 | L3: 1 | M3: 2 | N3: 2
B4: DEVOTEES | F4: M1 | G4: S1 | H4: H1 | I4: S2 | J4: H2 | K4: S3 | L4: H3 | M4: S4 | N4: H4 | O4: T/BKS | P4: Points
B7: Bhakti Lounge Johannesburg
O8: =SUM(F8:N8) -> 0 | P8: =(F8*$F$3)+(G8*$G$3)+(H8*$H$3)+(I8*$I$3)+(J8*$J$3)+(K8*$K$3)+(L8*$L$3)+(M8*$M$3)+(N8*$N$3) -> 0
O9: =SUM(F9:N9) -> 0 | P9: =(F9*$F$3)+(G9*$G$3)+(H9*$H$3)+(I9*$I$3)+(J9*$J$3)+(K9*$K$3)+(L9*$L$3)+(M9*$M$3)+(N9*$N$3) -> 0
B10: TOTAL | C10: =SUM(C9:C9) -> 0 | D10: =SUM(D9:D9) -> 0 | E10: =SUM(E8:E9) -> 0 | F10: =SUM(F8:F9) -> 0 | G10: =SUM(G8:G9) -> 0 | H10: =SUM(H8:H9) -> 0 | I10: =SUM(I8:I9) -> 0 | J10: =SUM(J8:J9) -> 0 | K10: =SUM(K8:K9) -> 0 | L10: =SUM(L8:L9) -> 0 | ... P10: =SUM(P8:P9) -> 0
B13: ISKCON BLOEMFONTEIN
B14: Tattva Darshan Das | G14: 35 | I14: 5 | L14: 1 | O14: =SUM(F14:N14) -> 41 | P14: =(F14*$F$3)+(G14*$G$3)+(H14*$H$3)+(I14*$I$3)+(J14*$J$3)+(K14*$K$3)+(L14*$L$3)+(M14*$M$3)+(N14*$N$3) -> 12.25
O15: =SUM(F15:N15) -> 0 | P15: =(F15*$F$3)+(G15*$G$3)+(H15*$H$3)+(I15*$I$3)+(J15*$J$3)+(K15*$K$3)+(L15*$L$3)+(M15*$M$3)+(N15*$N$3) -> 0
B16: TOTAL | C16: =SUM(C15:C15) -> 0 | D16: =SUM(D15:D15) -> 0 | E16: =SUM(E14:E15) -> 0 | F16: =SUM(F14:F15) -> 0 | G16: =SUM(G14:G15) -> 35 | H16: =SUM(H14:H15) -> 0 | I16: =SUM(I14:I15) -> 5 | J16: =SUM(J14:J15) -> 0 | K16: =SUM(K14:K15) -> 0 | L16: =SUM(L14:L15) -> 1 | ... P16: =SUM(P14:P15) -> 12.25
B19: ISKCON CAPE TOWN
B20: Ramanandini Roy | G20: 14 | O20: =SUM(C20:N20) -> 14 | P20: =(C20*$C$3)+(F20*$F$3)+(G20*$G$3)+(H20*$H$3)+(I20*$I$3)+(J20*$J$3)+(K20*$K$3)+(L20*$L$3)+(M20*$M$3)+(N20*$N$3) -> 3.5
B21: Govardhana Sila | G21: 5 | N21: 2 | O21: =SUM(F21:N21) -> 7 | P21: =(F21*$F$3)+(G21*$G$3)+(H21*$H$3)+(I21*$I$3)+(J21*$J$3)+(K21*$K$3)+(L21*$L$3)+(M21*$M$3)+(N21*$N$3) -> 5.25
B22: Shohana Roberts | G22: 8 | I22: 3 | K22: 2 | N22: 2 | O22: =SUM(F22:N22) -> 15 | P22: =(F22*$F$3)+(G22*$G$3)+(H22*$H$3)+(I22*$I$3)+(J22*$J$3)+(K22*$K$3)+(L22*$L$3)+(M22*$M$3)+(N22*$N$3) -> 9.5
B23: Thando | G23: 20 | I23: 10 | O23: =SUM(F23:N23) -> 30 | P23: =(F23*$F$3)+(G23*$G$3)+(H23*$H$3)+(I23*$I$3)+(J23*$J$3)+(K23*$K$3)+(L23*$L$3)+(M23*$M$3)+(N23*$N$3) -> 10
B24: Adhokshaj Jugmohan | N24: 5 | O24: =SUM(F24:N24) -> 5 | P24: =(F24*$F$3)+(G24*$G$3)+(H24*$H$3)+(I24*$I$3)+(J24*$J$3)+(K24*$K$3)+(L24*$L$3)+(M24*$M$3)+(N24*$N$3) -> 10
B25: Medhavi Prabhu | I25: 20 | O25: =SUM(F25:N25) -> 20 | P25: =(F25*$F$3)+(G25*$G$3)+(H25*$H$3)+(I25*$I$3)+(J25*$J$3)+(K25*$K$3)+(L25*$L$3)+(M25*$M$3)+(N25*$N$3) -> 10
B26: Christian Bangala | G26: 23 | I26: 3 | K26: 3 | O26: =SUM(F26:N26) -> 29 | P26: =(F26*$F$3)+(G26*$G$3)+(H26*$H$3)+(I26*$I$3)+(J26*$J$3)+(K26*$K$3)+(L26*$L$3)+(M26*$M$3)+(N26*$N$3) -> 10.25
B27: Tulsi Finlay | G27: 22 | I27: 13 | O27: =SUM(F27:N27) -> 35 | P27: =(F27*$F$3)+(G27*$G$3)+(H27*$H$3)+(I27*$I$3)+(J27*$J$3)+(K27*$K$3)+(L27*$L$3)+(M27*$M$3)+(N27*$N$3) -> 12
B28: Meena Kasiram | G28: 9 | I28: 4 | K28: 1 | N28: 6 | O28: =SUM(F28:N28) -> 20 | P28: =(F28*$F$3)+(G28*$G$3)+(H28*$H$3)+(I28*$I$3)+(J28*$J$3)+(K28*$K$3)+(L28*$L$3)+(M28*$M$3)+(N28*$N$3) -> 17.25
B29: Devon | G29: 30 | I29: 8 | K29: 3 | N29: 2 | O29: =SUM(F29:N29) -> 43 | P29: =(F29*$F$3)+(G29*$G$3)+(H29*$H$3)+(I29*$I$3)+(J29*$J$3)+(K29*$K$3)+(L29*$L$3)+(M29*$M$3)+(N29*$N$3) -> 18.5
B30: Dale Wastell | K30: 5 | M30: 2 | O30: =SUM(F30:N30) -> 7 | P30: =(F30*$F$3)+(G30*$G$3)+(H30*$H$3)+(I30*$I$3)+(J30*$J$3)+(K30*$K$3)+(L30*$L$3)+(M30*$M$3)+(N30*$N$3) -> 9
B31: Gopa Kumar | G31: 60 | O31: =SUM(F31:N31) -> 60 | P31: =(F31*$F$3)+(G31*$G$3)+(H31*$H$3)+(I31*$I$3)+(J31*$J$3)+(K31*$K$3)+(L31*$L$3)+(M31*$M$3)+(N31*$N$3) -> 15
B32: Jade Green | G32: 5 | M32: 2 | O32: =SUM(F32:N32) -> 7 | P32: =(F32*$F$3)+(G32*$G$3)+(H32*$H$3)+(I32*$I$3)+(J32*$J$3)+(K32*$K$3)+(L32*$L$3)+(M32*$M$3)+(N32*$N$3) -> 5.25
B33: Jason Finlay | M33: 2 | O33: =SUM(F33:N33) -> 2 | P33: =(F33*$F$3)+(G33*$G$3)+(H33*$H$3)+(I33*$I$3)+(J33*$J$3)+(K33*$K$3)+(L33*$L$3)+(M33*$M$3)+(N33*$N$3) -> 4
B34: Lila Le Roux | M34: 1 | O34: =SUM(F34:N34) -> 1 | P34: =(F34*$F$3)+(G34*$G$3)+(H34*$H$3)+(I34*$I$3)+(J34*$J$3)+(K34*$K$3)+(L34*$L$3)+(M34*$M$3)+(N34*$N$3) -> 2
B35: Bhavananda Das | G35: 17 | I35: 2 | O35: =SUM(F35:N35) -> 19 | P35: =(F35*$F$3)+(G35*$G$3)+(H35*$H$3)+(I35*$I$3)+(J35*$J$3)+(K35*$K$3)+(L35*$L$3)+(M35*$M$3)+(N35*$N$3) -> 5.25
B36: Ryan Harricharan | G36: 31 | I36: 7 | K36: 2 | M36: 1 | O36: =SUM(F36:N36) -> 41 | P36: =(F36*$F$3)+(G36*$G$3)+(H36*$H$3)+(I36*$I$3)+(J36*$J$3)+(K36*$K$3)+(L36*$L$3)+(M36*$M$3)+(N36*$N$3) -> 15.25
B37: Sarasvati Kwane | G37: 21 | O37: =SUM(F37:N37) -> 21 | P37: =(F37*$F$3)+(G37*$G$3)+(H37*$H$3)+(I37*$I$3)+(J37*$J$3)+(K37*$K$3)+(L37*$L$3)+(M37*$M$3)+(N37*$N$3) -> 5.25
B38: Craig Kanyangarara | G38: 6 | I38: 1 | O38: =SUM(F38:N38) -> 7 | P38: =(F38*$F$3)+(G38*$G$3)+(H38*$H$3)+(I38*$I$3)+(J38*$J$3)+(K38*$K$3)+(L38*$L$3)+(M38*$M$3)+(N38*$N$3) -> 2
O39: =SUM(F39:N39) -> 0 | P39: =(F39*$F$3)+(G39*$G$3)+(H39*$H$3)+(I39*$I$3)+(J39*$J$3)+(K39*$K$3)+(L39*$L$3)+(M39*$M$3)+(N39*$N$3) -> 0
B40: TOTAL | C40: =SUM(C20:C39) -> 0 | D40: =SUM(D20:D39) -> 0 | E40: =SUM(E20:E39) -> 0 | F40: =SUM(F20:F39) -> 0 | G40: =SUM(G20:G39) -> 271 | H40: =SUM(H20:H39) -> 0 | I40: =SUM(I20:I39) -> 71 | J40: =SUM(J20:J39) -> 0 | ... P40: =SUM(P20:P39) -> 169.25
B43: ISKCON DURBAN
B44: BTG OFFICE | F44: 2914 | O44: =SUM(F44:N44) -> 2914 | P44: =(F44*$F$3)+(G44*$G$3)+(H44*$H$3)+(I44*$I$3)+(J44*$J$3)+(K44*$K$3)+(L44*$L$3)+(M44*$M$3)+(N44*$N$3) -> 291.4
B45: BOOK COUNTER | G45: 126 | I45: 21 | K45: 35 | N45: 32 | O45: =SUM(F45:N45) -> 214 | P45: =(F45*$F$3)+(G45*$G$3)+(H45*$H$3)+(I45*$I$3)+(J45*$J$3)+(K45*$K$3)+(L45*$L$3)+(M45*$M$3)+(N45*$N$3) -> 141
B46: KRSNA CHARAN DAS | N46: 55 | O46: =SUM(F46:N46) -> 55 | P46: =(F46*$F$3)+(G46*$G$3)+(H46*$H$3)+(I46*$I$3)+(J46*$J$3)+(K46*$K$3)+(L46*$L$3)+(M46*$M$3)+(N46*$N$3) -> 110
B47: MONTHLY SANKIRTAN FESTIVAL | G47: 90 | I47: 23 | K47: 11 | N47: 10 | O47: =SUM(F47:N47) -> 134 | P47: =(F47*$F$3)+(G47*$G$3)+(H47*$H$3)+(I47*$I$3)+(J47*$J$3)+(K47*$K$3)+(L47*$L$3)+(M47*$M$3)+(N47*$N$3) -> 65
B48: VIBHU CAITANYA DAS | I48: 5 | K48: 20 | N48: 20 | O48: =SUM(F48:N48) -> 45 | P48: =(F48*$F$3)+(G48*$G$3)+(H48*$H$3)+(I48*$I$3)+(J48*$J$3)+(K48*$K$3)+(L48*$L$3)+(M48*$M$3)+(N48*$N$3) -> 62.5
B49: NITAI PADA KAMALA TEAM | G49: 31 | I49: 12 | N49: 6 | O49: =SUM(F49:N49) -> 49 | P49: =(F49*$F$3)+(G49*$G$3)+(H49*$H$3)+(I49*$I$3)+(J49*$J$3)+(K49*$K$3)+(L49*$L$3)+(M49*$M$3)+(N49*$N$3) -> 25.75
B50: KRISHEN MORARJEE | G50: 10 | I50: 1 | K50: 5 | N50: 8 | O50: =SUM(F50:N50) -> 24 | P50: =(F50*$F$3)+(G50*$G$3)+(H50*$H$3)+(I50*$I$3)+(J50*$J$3)+(K50*$K$3)+(L50*$L$3)+(M50*$M$3)+(N50*$N$3) -> 24
B51: RAHUL MAHARAJ | G51: 29 | I51: 4 | K51: 3 | N51: 4 | O51: =SUM(F51:N51) -> 40 | P51: =(F51*$F$3)+(G51*$G$3)+(H51*$H$3)+(I51*$I$3)+(J51*$J$3)+(K51*$K$3)+(L51*$L$3)+(M51*$M$3)+(N51*$N$3) -> 20.25
B52: NIKUNJA SEVA DASI | G52: 35 | I52: 4 | N52: 3 | O52: =SUM(F52:N52) -> 42 | P52: =(F52*$F$3)+(G52*$G$3)+(H52*$H$3)+(I52*$I$3)+(J52*$J$3)+(K52*$K$3)+(L52*$L$3)+(M52*$M$3)+(N52*$N$3) -> 16.75
B53: JAI SACINANDAN DAS | G53: 60 | O53: =SUM(F53:N53) -> 60 | P53: =(F53*$F$3)+(G53*$G$3)+(H53*$H$3)+(I53*$I$3)+(J53*$J$3)+(K53*$K$3)+(L53*$L$3)+(M53*$M$3)+(N53*$N$3) -> 15
B54: PREASKA REDDY | G54: 33 | I54: 5 | O54: =SUM(F54:N54) -> 38 | P54: =(F54*$F$3)+(G54*$G$3)+(H54*$H$3)+(I54*$I$3)+(J54*$J$3)+(K54*$K$3)+(L54*$L$3)+(M54*$M$3)+(N54*$N$3) -> 10.75
B55: SURESH & SHIRLEY RAMAVATHER | G55: 6 | I55: 6 | K55: 6 | O55: =SUM(F55:N55) -> 18 | P55: =(F55*$F$3)+(G55*$G$3)+(H55*$H$3)+(I55*$I$3)+(J55*$J$3)+(K55*$K$3)+(L55*$L$3)+(M55*$M$3)+(N55*$N$3) -> 10.5
B56: JAHNAVA DASIS | N56: 4 | O56: =SUM(F56:N56) -> 4 | P56: =(F56*$F$3)+(G56*$G$3)+(H56*$H$3)+(I56*$I$3)+(J56*$J$3)+(K56*$K$3)+(L56*$L$3)+(M56*$M$3)+(N56*$N$3) -> 8
B57: PARJANYA DAS | G57: 20 | O57: =SUM(F57:N57) -> 20 | P57: =(F57*$F$3)+(G57*$G$3)+(H57*$H$3)+(I57*$I$3)+(J57*$J$3)+(K57*$K$3)+(L57*$L$3)+(M57*$M$3)+(N57*$N$3) -> 5
B58: RADHA VINOD DASI | K58: 1 | N58: 1 | O58: =SUM(F58:N58) -> 2 | P58: =(F58*$F$3)+(G58*$G$3)+(H58*$H$3)+(I58*$I$3)+(J58*$J$3)+(K58*$K$3)+(L58*$L$3)+(M58*$M$3)+(N58*$N$3) -> 3
B59: RADHANATH'S GIFTS | N59: 1 | O59: =SUM(F59:N59) -> 1 | P59: =(F59*$F$3)+(G59*$G$3)+(H59*$H$3)+(I59*$I$3)+(J59*$J$3)+(K59*$K$3)+(L59*$L$3)+(M59*$M$3)+(N59*$N$3) -> 2
B60: RISHIE SEWPAUL | G60: 1 | O60: =SUM(F60:N60) -> 1 | P60: =(F60*$F$3)+(G60*$G$3)+(H60*$H$3)+(I60*$I$3)+(J60*$J$3)+(K60*$K$3)+(L60*$L$3)+(M60*$M$3)+(N60*$N$3) -> 0.25
O61: =SUM(F61:N61) -> 0 | P61: =(F61*$F$3)+(G61*$G$3)+(H61*$H$3)+(I61*$I$3)+(J61*$J$3)+(K61*$K$3)+(L61*$L$3)+(M61*$M$3)+(N61*$N$3) -> 0
C62: =SUM(C44:C61) -> 0 | D62: =SUM(D44:D61) -> 0 | E62: =SUM(E44:E61) -> 0 | F62: =SUM(F44:F61) -> 2914 | G62: =SUM(G44:G61) -> 441 | H62: =SUM(H44:H61) -> 0 | I62: =SUM(I44:I61) -> 81 | J62: =SUM(J44:J61) -> 0 | ... P62: =SUM(P44:P61) -> 811.15
B65: ISKCON EAST LONDON
B66: Vrajabasi das | G66: 13 | I66: 6 | K66: 3 | N66: 1 | O66: =SUM(F66:N66) -> 23 | P66: =(F66*$F$3)+(G66*$G$3)+(H66*$H$3)+(I66*$I$3)+(J66*$J$3)+(K66*$K$3)+(L66*$L$3)+(M66*$M$3)+(N66*$N$3) -> 11.25
O67: =SUM(F67:N67) -> 0 | P67: =(F67*$F$3)+(G67*$G$3)+(H67*$H$3)+(I67*$I$3)+(J67*$J$3)+(K67*$K$3)+(L67*$L$3)+(M67*$M$3)+(N67*$N$3) -> 0
B68: TOTAL | C68: =SUM(C66:C67) -> 0 | D68: =SUM(D66:D67) -> 0 | E68: =SUM(E66:E67) -> 0 | F68: =SUM(F66:F67) -> 0 | G68: =SUM(G66:G67) -> 13 | H68: =SUM(H66:H67) -> 0 | I68: =SUM(I66:I67) -> 6 | J68: =SUM(J66:J67) -> 0 | ... P68: =SUM(P66:P67) -> 11.25
B71: ISKCON LENASIA
O72: =SUM(F72:N72) -> 0 | P72: =(F72*$F$3)+(G72*$G$3)+(H72*$H$3)+(I72*$I$3)+(J72*$J$3)+(K72*$K$3)+(L72*$L$3)+(M72*$M$3)+(N72*$N$3) -> 0
O73: =SUM(F73:N73) -> 0 | P73: =(F73*$F$3)+(G73*$G$3)+(H73*$H$3)+(I73*$I$3)+(J73*$J$3)+(K73*$K$3)+(L73*$L$3)+(M73*$M$3)+(N73*$N$3) -> 0
O74: =SUM(F74:N74) -> 0 | P74: =(F74*$F$3)+(G74*$G$3)+(H74*$H$3)+(I74*$I$3)+(J74*$J$3)+(K74*$K$3)+(L74*$L$3)+(M74*$M$3)+(N74*$N$3) -> 0
O75: =SUM(F75:N75) -> 0 | P75: =(F75*$F$3)+(G75*$G$3)+(H75*$H$3)+(I75*$I$3)+(J75*$J$3)+(K75*$K$3)+(L75*$L$3)+(M75*$M$3)+(N75*$N$3) -> 0
O76: =SUM(F76:N76) -> 0 | P76: =(F76*$F$3)+(G76*$G$3)+(H76*$H$3)+(I76*$I$3)+(J76*$J$3)+(K76*$K$3)+(L76*$L$3)+(M76*$M$3)+(N76*$N$3) -> 0
O77: =SUM(F77:N77) -> 0 | P77: =(F77*$F$3)+(G77*$G$3)+(H77*$H$3)+(I77*$I$3)+(J77*$J$3)+(K77*$K$3)+(L77*$L$3)+(M77*$M$3)+(N77*$N$3) -> 0
O78: =SUM(F78:N78) -> 0 | P78: =(F78*$F$3)+(G78*$G$3)+(H78*$H$3)+(I78*$I$3)+(J78*$J$3)+(K78*$K$3)+(L78*$L$3)+(M78*$M$3)+(N78*$N$3) -> 0
O79: =SUM(F79:N79) -> 0 | P79: =(F79*$F$3)+(G79*$G$3)+(H79*$H$3)+(I79*$I$3)+(J79*$J$3)+(K79*$K$3)+(L79*$L$3)+(M79*$M$3)+(N79*$N$3) -> 0
B80: TOTAL | C80: =SUM(C72:C79) -> 0 | D80: =SUM(D72:D79) -> 0 | E80: =SUM(E72:E79) -> 0 | F80: =SUM(F72:F79) -> 0 | G80: =SUM(G72:G79) -> 0 | H80: =SUM(H72:H79) -> 0 | I80: =SUM(I72:I79) -> 0 | J80: =SUM(J72:J79) -> 0 | ... P80: =SUM(P72:P79) -> 0
B83: ISKCON MAFIKENG
O84: =SUM(F84:N84) -> 0 | P84: =(F84*$F$3)+(G84*$G$3)+(H84*$H$3)+(I84*$I$3)+(J84*$J$3)+(K84*$K$3)+(L84*$L$3)+(M84*$M$3)+(N84*$N$3) -> 0
O85: =SUM(F85:N85) -> 0 | P85: =(F85*$F$3)+(G85*$G$3)+(H85*$H$3)+(I85*$I$3)+(J85*$J$3)+(K85*$K$3)+(L85*$L$3)+(M85*$M$3)+(N85*$N$3) -> 0
B86: TOTAL | C86: =SUM(C85:C85) -> 0 | D86: =SUM(D85:D85) -> 0 | E86: =SUM(E84:E85) -> 0 | F86: =SUM(F84:F85) -> 0 | G86: =SUM(G84:G85) -> 0 | H86: =SUM(H84:H85) -> 0 | I86: =SUM(I84:I85) -> 0 | J86: =SUM(J84:J85) -> 0 | K86: =SUM(K84:K85) -> 0 | L86: =SUM(L84:L85) -> 0 | ... P86: =SUM(P84:P85) -> 0
B89: ISKCON MIDRAND
B90: Midrand BTG team | F90: 235 | O90: =SUM(F90:N90) -> 235 | P90: =(F90*$F$3)+(G90*$G$3)+(H90*$H$3)+(I90*$I$3)+(J90*$J$3)+(K90*$K$3)+(L90*$L$3)+(M90*$M$3)+(N90*$N$3) -> 23.5
B91: Damodar das (BCAIS) | F91: 9 | G91: 1 | N91: 2 | O91: =SUM(F91:N91) -> 12 | P91: =(F91*$F$3)+(G91*$G$3)+(H91*$H$3)+(I91*$I$3)+(J91*$J$3)+(K91*$K$3)+(L91*$L$3)+(M91*$M$3)+(N91*$N$3) -> 5.15
B92: Priya Malini devi dasi | I92: 5 | O92: =SUM(F92:N92) -> 5 | P92: =(F92*$F$3)+(G92*$G$3)+(H92*$H$3)+(I92*$I$3)+(J92*$J$3)+(K92*$K$3)+(L92*$L$3)+(M92*$M$3)+(N92*$N$3) -> 2.5
B93: Radhakund devi dasi | F93: 24 | G93: 49 | I93: 12 | J93: 2 | K93: 21 | L93: 3 | M93: 0 | N93: 23 | O93: =SUM(F93:N93) -> 134 | P93: =(F93*$F$3)+(G93*$G$3)+(H93*$H$3)+(I93*$I$3)+(J93*$J$3)+(K93*$K$3)+(L93*$L$3)+(M93*$M$3)+(N93*$N$3) -> 91.65
B94: Radhika Kripa devi dasi | G94: 3 | J94: 1 | N94: 1 | O94: =SUM(F94:N94) -> 5 | P94: =(F94*$F$3)+(G94*$G$3)+(H94*$H$3)+(I94*$I$3)+(J94*$J$3)+(K94*$K$3)+(L94*$L$3)+(M94*$M$3)+(N94*$N$3) -> 3.25
B95: Rishal and Nelene Sooklal | F95: 1 | I95: 1 | N95: 1 | O95: =SUM(F95:N95) -> 3 | P95: =(F95*$F$3)+(G95*$G$3)+(H95*$H$3)+(I95*$I$3)+(J95*$J$3)+(K95*$K$3)+(L95*$L$3)+(M95*$M$3)+(N95*$N$3) -> 2.6
O96: =SUM(F96:N96) -> 0 | P96: =(F96*$F$3)+(G96*$G$3)+(H96*$H$3)+(I96*$I$3)+(J96*$J$3)+(K96*$K$3)+(L96*$L$3)+(M96*$M$3)+(N96*$N$3) -> 0
B97: TOTAL | C97: =SUM(C90:C96) -> 0 | D97: =SUM(D90:D96) -> 0 | E97: =SUM(E90:E96) -> 0 | F97: =SUM(F90:F96) -> 269 | G97: =SUM(G90:G96) -> 53 | H97: =SUM(H90:H96) -> 0 | I97: =SUM(I90:I96) -> 18 | J97: =SUM(J90:J96) -> 3 | ... P97: =SUM(P90:P96) -> 128.65
B100: ISKCON MPUMALANGA
B101: Cumulative Scores | G101: 66 | I101: 4 | J101: 8 | K101: 2 | L101: 12 | N101: 1 | O101: =SUM(F101:N101) -> 93 | P101: =(F101*$F$3)+(G101*$G$3)+(H101*$H$3)+(I101*$I$3)+(J101*$J$3)+(K101*$K$3)+(L101*$L$3)+(M101*$M$3)+(N101*$N$3) -> 38.5
O102: =SUM(F102:N102) -> 0 | P102: =(F102*$F$3)+(G102*$G$3)+(H102*$H$3)+(I102*$I$3)+(J102*$J$3)+(K102*$K$3)+(L102*$L$3)+(M102*$M$3)+(N102*$N$3) -> 0
B103: TOTAL | C103: =SUM(C101:C102) -> 0 | D103: =SUM(D101:D102) -> 0 | E103: =SUM(E101:E102) -> 0 | F103: =SUM(F101:F102) -> 0 | G103: =SUM(G101:G102) -> 66 | H103: =SUM(H101:H102) -> 0 | I103: =SUM(I101:I102) -> 4 | J103: =SUM(J101:J102) -> 8 | ... P103: =SUM(P101:P102) -> 38.5
B106: ISKCON PHOENIX
B107: Radhadesh dd | E107: 1 | N107: 18 | O107: =SUM(F107:N107) -> 18 | P107: =(F107*$F$3)+(G107*$G$3)+(H107*$H$3)+(I107*$I$3)+(J107*$J$3)+(K107*$K$3)+(L107*$L$3)+(M107*$M$3)+(N107*$N$3) -> 36
B108: Gift Shop | G108: 10 | I108: 2 | L108: 2 | N108: 3 | O108: =SUM(F108:N108) -> 17 | P108: =(F108*$F$3)+(G108*$G$3)+(H108*$H$3)+(I108*$I$3)+(J108*$J$3)+(K108*$K$3)+(L108*$L$3)+(M108*$M$3)+(N108*$N$3) -> 11.5
B109: Melisha | G109: 1 | L109: 1 | N109: 1 | O109: =SUM(F109:N109) -> 3 | P109: =(F109*$F$3)+(G109*$G$3)+(H109*$H$3)+(I109*$I$3)+(J109*$J$3)+(K109*$K$3)+(L109*$L$3)+(M109*$M$3)+(N109*$N$3) -> 3.25
B110: Monthly sankirtan | G110: 155 | O110: =SUM(F110:N110) -> 155 | P110: =(F110*$F$3)+(G110*$G$3)+(H110*$H$3)+(I110*$I$3)+(J110*$J$3)+(K110*$K$3)+(L110*$L$3)+(M110*$M$3)+(N110*$N$3) -> 38.75
B111: Tony Prabhu | G111: 1 | I111: 1 | K111: 1 | O111: =SUM(F111:N111) -> 3 | P111: =(F111*$F$3)+(G111*$G$3)+(H111*$H$3)+(I111*$I$3)+(J111*$J$3)+(K111*$K$3)+(L111*$L$3)+(M111*$M$3)+(N111*$N$3) -> 1.75
B112: BTG Magazines | F112: 800 | O112: =SUM(F112:N112) -> 800 | P112: =(F112*$F$3)+(G112*$G$3)+(H112*$H$3)+(I112*$I$3)+(J112*$J$3)+(K112*$K$3)+(L112*$L$3)+(M112*$M$3)+(N112*$N$3) -> 80
O113: =SUM(F113:N113) -> 0 | P113: =(F113*$F$3)+(G113*$G$3)+(H113*$H$3)+(I113*$I$3)+(J113*$J$3)+(K113*$K$3)+(L113*$L$3)+(M113*$M$3)+(N113*$N$3) -> 0
B114: TOTAL | C114: =SUM(C113:C113) -> 0 | D114: =SUM(D107:D113) -> 0 | E114: =SUM(E107:E113) -> 1 | F114: =SUM(F113:F113) -> 0 | G114: =SUM(G107:G113) -> 167 | H114: =SUM(H107:H113) -> 0 | I114: =SUM(I107:I113) -> 3 | J114: =SUM(J107:J113) -> 0 | K114: =SUM(K107:K113) -> 1 | L114: =SUM(L107:L113) -> 3 | M114: =SUM(M107:M113) -> 0 | N114: =SUM(N107:N113) -> 22 | ... P114: =SUM(P107:P113) -> 171.25
B117: ISKCON PIETERMARITZBURG
O118: =SUM(F118:N118) -> 0 | P118: =(F118*$F$3)+(G118*$G$3)+(H118*$H$3)+(I118*$I$3)+(J118*$J$3)+(K118*$K$3)+(L118*$L$3)+(M118*$M$3)+(N118*$N$3) -> 0
O119: =SUM(F119:N119) -> 0 | P119: =(F119*$F$3)+(G119*$G$3)+(H119*$H$3)+(I119*$I$3)+(J119*$J$3)+(K119*$K$3)+(L119*$L$3)+(M119*$M$3)+(N119*$N$3) -> 0
O120: =SUM(F120:N120) -> 0 | P120: =(F120*$F$3)+(G120*$G$3)+(H120*$H$3)+(I120*$I$3)+(J120*$J$3)+(K120*$K$3)+(L120*$L$3)+(M120*$M$3)+(N120*$N$3) -> 0
O121: =SUM(F121:N121) -> 0 | P121: =(F121*$F$3)+(G121*$G$3)+(H121*$H$3)+(I121*$I$3)+(J121*$J$3)+(K121*$K$3)+(L121*$L$3)+(M121*$M$3)+(N121*$N$3) -> 0
O122: =SUM(F122:N122) -> 0 | P122: =(F122*$F$3)+(G122*$G$3)+(H122*$H$3)+(I122*$I$3)+(J122*$J$3)+(K122*$K$3)+(L122*$L$3)+(M122*$M$3)+(N122*$N$3) -> 0
...

Sheet Togo
B2: TEMPLE: Togo
B3: MONTH : February 2018
C4: BTG Sub | D4: CC Set | E4: SB Set | F4: Mag. | G4: Small Books | I4: Medium Books | K4: Big Books | M4: Maha-Books
C5: 5 | F5: 0.1 | G5: 0.25 | H5: 0.25 | I5: 0.5 | J5: 0.5 | K5: 1 | L5: 1 | M5: 2 | N5: 2
B6: DEVOTEES | F6: M1 | G6: S1 | H6: H1 | I6: S2 | J6: H2 | K6: S3 | L6: H3 | M6: S4 | N6: H4 | O6: T/BKS | P6: Points
O9: =SUM(F9:N9) -> 0 | P9: =(F9*$F$5)+(G9*$G$5)+(H9*$H$5)+(I9*$I$5)+(J9*$J$5)+(K9*$K$5)+(L9*$L$5)+(M9*$M$5)+(N9*$N$5) -> 0
O10: =SUM(F10:N10) -> 0 | P10: =(F10*$F$5)+(G10*$G$5)+(H10*$H$5)+(I10*$I$5)+(J10*$J$5)+(K10*$K$5)+(L10*$L$5)+(M10*$M$5)+(N10*$N$5) -> 0
O11: =SUM(F11:N11) -> 0 | P11: =(F11*$F$5)+(G11*$G$5)+(H11*$H$5)+(I11*$I$5)+(J11*$J$5)+(K11*$K$5)+(L11*$L$5)+(M11*$M$5)+(N11*$N$5) -> 0
O12: =SUM(F12:N12) -> 0 | P12: =(F12*$F$5)+(G12*$G$5)+(H12*$H$5)+(I12*$I$5)+(J12*$J$5)+(K12*$K$5)+(L12*$L$5)+(M12*$M$5)+(N12*$N$5) -> 0
O13: =SUM(F13:N13) -> 0 | P13: =(F13*$F$5)+(G13*$G$5)+(H13*$H$5)+(I13*$I$5)+(J13*$J$5)+(K13*$K$5)+(L13*$L$5)+(M13*$M$5)+(N13*$N$5) -> 0
O14: =SUM(F14:N14) -> 0 | P14: =(F14*$F$5)+(G14*$G$5)+(H14*$H$5)+(I14*$I$5)+(J14*$J$5)+(K14*$K$5)+(L14*$L$5)+(M14*$M$5)+(N14*$N$5) -> 0
B15: TOTAL | C15: =SUM(C9:C14) -> 0 | D15: =SUM(D9:D14) -> 0 | E15: =SUM(E9:E14) -> 0 | F15: =SUM(F9:F14) -> 0 | G15: =SUM(G9:G14) -> 0 | H15: =SUM(H9:H14) -> 0 | I15: =SUM(I9:I14) -> 0 | J15: =SUM(J9:J14) -> 0 | ... P15: =SUM(P9:P14) -> 0

Sheet Zambia
B2: TEMPLE: Zambia
B3: MONTH : February 2018
C4: BTG Sub | D4: CC Set | E4: SB Set | F4: Mag. | G4: Small Books | I4: Medium Books | K4: Big Books | M4: Maha-Books
C5: 5 | F5: 0.1 | G5: 0.25 | H5: 0.25 | I5: 0.5 | J5: 0.5 | K5: 1 | L5: 1 | M5: 2 | N5: 2
B6: DEVOTEES | F6: M1 | G6: S1 | H6: H1 | I6: S2 | J6: H2 | K6: S3 | L6: H3 | M6: S4 | N6: H4 | O6: T/BKS | P6: Points
B9: Cumulative Scores | G9: 27 | I9: 3 | K9: 4 | L9: 1 | N9: 2 | O9: =SUM(F9:N9) -> 37 | P9: =(F9*$F$5)+(G9*$G$5)+(H9*$H$5)+(I9*$I$5)+(J9*$J$5)+(K9*$K$5)+(L9*$L$5)+(M9*$M$5)+(N9*$N$5) -> 17.25
O10: =SUM(F10:N10) -> 0 | P10: =(F10*$F$5)+(G10*$G$5)+(H10*$H$5)+(I10*$I$5)+(J10*$J$5)+(K10*$K$5)+(L10*$L$5)+(M10*$M$5)+(N10*$N$5) -> 0
O11: =SUM(F11:N11) -> 0 | P11: =(F11*$F$5)+(G11*$G$5)+(H11*$H$5)+(I11*$I$5)+(J11*$J$5)+(K11*$K$5)+(L11*$L$5)+(M11*$M$5)+(N11*$N$5) -> 0
B12: TOTAL | C12: =SUM(C9:C11) -> 0 | D12: =SUM(D9:D11) -> 0 | E12: =SUM(E9:E11) -> 0 | F12: =SUM(F9:F11) -> 0 | G12: =SUM(G9:G11) -> 27 | H12: =SUM(H9:H11) -> 0 | I12: =SUM(I9:I11) -> 3 | J12: =SUM(J9:J11) -> 0 | ... P12: =SUM(P9:P11) -> 17.25

Sheet Summary
A2: Country | B2: Books: | C2: Points:
A4: Botswana | B4: =SUM(Botswana!O14) -> 90 | C4: =SUM(Botswana!P14) -> 25.25
A5: Burkina Faso | B5: =SUM('Burkina Faso'!O11) -> 0 | C5: =SUM('Burkina Faso'!P11) -> 0
A6: Ivory Coast | B6: =SUM('Ivory Coast'!O14) -> 0 | C6: =SUM('Ivory Coast'!P14) -> 0
A7: Kenya | B7: =SUM(Kenya!O27) -> 264 | C7: =SUM(Kenya!P27) -> 415.25
A8: Malawi | B8: =SUM(Malawi!O11) -> 79 | C8: =SUM(Malawi!P11) -> 30.75
A9: Mauritius | B9: =SUM(Mauritius!O34) -> 1688 | C9: =SUM(Mauritius!P34) -> 553.25
A10: Nigeria | B10: =SUM(Nigeria!O76) -> 0 | C10: =SUM(Nigeria!P76) -> 0
A11: South Africa | B11: =SUM('South Africa'!O170) -> 5628 | C11: =SUM('South Africa'!P170) -> 1353.05
A12: Togo | B12: =SUM(Togo!O15) -> 0 | C12: =SUM(Togo!P15) -> 0
A13: Zambia | B13: =SUM(Zambia!O12) -> 37 | C13: =SUM(Zambia!P12) -> 17.25
A15: Total: | B15: =SUM(B5:B14) -> 7696 | C15: =SUM(C5:C14) -> 2369.55
