Workbook
Name Excel_BuiltIn_Print_Area_1: [1]Malawi!#REF!
Name Excel_BuiltIn_Print_Area_1: [1]Malawi!#REF!
Name Excel_BuiltIn_Print_Area_1: [1]Malawi!#REF!
Name Excel_BuiltIn_Print_Area_1: [1]Malawi!#REF!
Name Excel_BuiltIn_Print_Area_1: [1]Malawi!#REF!
Name Excel_BuiltIn_Print_Area_1: [2]Malawi!#REF!
Name Excel_BuiltIn_Print_Area_1: [1]Malawi!#REF!
Name Excel_BuiltIn_Print_Area_1: [1]Malawi!#REF!

Sheet Burkina Faso
B2: TEMPLE: Burkina Faso
B3: MONTH : January 2017
C4: BTG Sub | D4: CC Set | E4: SB Set | F4: Mag. | G4: Small Books | I4: Medium Books | K4: Big Books | M4: Maha-Books
C5: 5 | F5: 0.1 | G5: 0.25 | H5: 0.25 | I5: 0.5 | J5: 0.5 | K5: 1 | L5: 1 | M5: 2 | N5: 2
B6: DEVOTEES | F6: M1 | G6: S1 | H6: H1 | I6: S2 | J6: H2 | K6: S3 | L6: H3 | M6: S4 | N6: H4 | O6: T/BKS | P6: Points
O9: =SUM(F9:N9) -> 0 | P9: =(F9*$F$5)+(G9*$G$5)+(H9*$H$5)+(I9*$I$5)+(J9*$J$5)+(K9*$K$5)+(L9*$L$5)+(M9*$M$5)+(N9*$N$5) -> 0
O10: =SUM(F10:N10) -> 0 | P10: =(F10*$F$5)+(G10*$G$5)+(H10*$H$5)+(I10*$I$5)+(J10*$J$5)+(K10*$K$5)+(L10*$L$5)+(M10*$M$5)+(N10*$N$5) -> 0
B11: TOTAL | C11: =SUM(C9:C10) -> 0 | D11: =SUM(D9:D10) -> 0 | E11: =SUM(E9:E10) -> 0 | F11: =SUM(F9:F10) -> 0 | G11: =SUM(G9:G10) -> 0 | H11: =SUM(H9:H10) -> 0 | I11: =SUM(I9:I10) -> 0 | J11: =SUM(J9:J10) -> 0 | ... P11: =SUM(P9:P10) -> 0

Sheet Democratic Republic of Congo
B2: TEMPLE: Kinshasa
B3: MONTH : January 2017
C4: BTG Sub | D4: CC Set | E4: SB Set | F4: Mag. | G4: Small Books | I4: Medium Books | K4: Big Books | M4: Maha-Books
C5: 5 | F5: 0.1 | G5: 0.25 | H5: 0.25 | I5: 0.5 | J5: 0.5 | K5: 1 | L5: 1 | M5: 2 | N5: 2
B6: DEVOTEES | F6: M1 | G6: S1 | H6: H1 | I6: S2 | J6: H2 | K6: S3 | L6: H3 | M6: S4 | N6: H4 | O6: T/BKS | P6: Points
O9: =SUM(F9:N9) -> 0 | P9: =(F9*$F$5)+(G9*$G$5)+(H9*$H$5)+(I9*$I$5)+(J9*$J$5)+(K9*$K$5)+(L9*$L$5)+(M9*$M$5)+(N9*$N$5) -> 0
O10: =SUM(F10:N10) -> 0 | P10: =(F10*$F$5)+(G10*$G$5)+(H10*$H$5)+(I10*$I$5)+(J10*$J$5)+(K10*$K$5)+(L10*$L$5)+(M10*$M$5)+(N10*$N$5) -> 0
O11: =SUM(F11:N11) -> 0 | P11: =(F11*$F$5)+(G11*$G$5)+(H11*$H$5)+(I11*$I$5)+(J11*$J$5)+(K11*$K$5)+(L11*$L$5)+(M11*$M$5)+(N11*$N$5) -> 0
O12: =SUM(F12:N12) -> 0 | P12: =(F12*$F$5)+(G12*$G$5)+(H12*$H$5)+(I12*$I$5)+(J12*$J$5)+(K12*$K$5)+(L12*$L$5)+(M12*$M$5)+(N12*$N$5) -> 0
O13: =SUM(F13:N13) -> 0 | P13: =(F13*$F$5)+(G13*$G$5)+(H13*$H$5)+(I13*$I$5)+(J13*$J$5)+(K13*$K$5)+(L13*$L$5)+(M13*$M$5)+(N13*$N$5) -> 0
O14: =SUM(F14:N14) -> 0 | P14: =(F14*$F$5)+(G14*$G$5)+(H14*$H$5)+(I14*$I$5)+(J14*$J$5)+(K14*$K$5)+(L14*$L$5)+(M14*$M$5)+(N14*$N$5) -> 0
O15: =SUM(F15:N15) -> 0 | P15: =(F15*$F$5)+(G15*$G$5)+(H15*$H$5)+(I15*$I$5)+(J15*$J$5)+(K15*$K$5)+(L15*$L$5)+(M15*$M$5)+(N15*$N$5) -> 0
O16: =SUM(F16:N16) -> 0 | P16: =(F16*$F$5)+(G16*$G$5)+(H16*$H$5)+(I16*$I$5)+(J16*$J$5)+(K16*$K$5)+(L16*$L$5)+(M16*$M$5)+(N16*$N$5) -> 0
O17: =SUM(F17:N17) -> 0 | P17: =(F17*$F$5)+(G17*$G$5)+(H17*$H$5)+(I17*$I$5)+(J17*$J$5)+(K17*$K$5)+(L17*$L$5)+(M17*$M$5)+(N17*$N$5) -> 0
B18: TOTAL | C18: =SUM(C9:C17) -> 0 | D18: =SUM(D9:D17) -> 0 | E18: =SUM(E9:E17) -> 0 | F18: =SUM(F9:F17) -> 0 | G18: =SUM(G9:G17) -> 0 | H18: =SUM(H9:H17) -> 0 | I18: =SUM(I9:I17) -> 0 | J18: =SUM(J9:J17) -> 0 | ... P18: =SUM(P9:P17) -> 0

Sheet Ivory Coast
B2: TEMPLE: Ivory Coast
B3: MONTH : November 2017
C4: BTG Sub | D4: CC Set | E4: SB Set | F4: Mag. | G4: Small Books | I4: Medium Books | K4: Big Books | M4: Maha-Books
C5: 5 | F5: 0.1 | G5: 0.25 | H5: 0.25 | I5: 0.5 | J5: 0.5 | K5: 1 | L5: 1 | M5: 2 | N5: 2
B6: DEVOTEES | F6: M1 | G6: S1 | H6: H1 | I6: S2 | J6: H2 | K6: S3 | L6: H3 | M6: S4 | N6: H4 | O6: T/BKS | P6: Points
B9: Harinam Sankirtana Team | I9: 10 | L9: 2 | N9: 3 | O9: =SUM(F9:N9) -> 15 | P9: =(F9*$F$5)+(G9*$G$5)+(H9*$H$5)+(I9*$I$5)+(J9*$J$5)+(K9*$K$5)+(L9*$L$5)+(M9*$M$5)+(N9*$N$5) -> 13
O10: =SUM(F10:N10) -> 0 | P10: =(F10*$F$5)+(G10*$G$5)+(H10*$H$5)+(I10*$I$5)+(J10*$J$5)+(K10*$K$5)+(L10*$L$5)+(M10*$M$5)+(N10*$N$5) -> 0
O11: =SUM(F11:N11) -> 0 | P11: =(F11*$F$5)+(G11*$G$5)+(H11*$H$5)+(I11*$I$5)+(J11*$J$5)+(K11*$K$5)+(L11*$L$5)+(M11*$M$5)+(N11*$N$5) -> 0
O12: =SUM(F12:N12) -> 0 | P12: =(F12*$F$5)+(G12*$G$5)+(H12*$H$5)+(I12*$I$5)+(J12*$J$5)+(K12*$K$5)+(L12*$L$5)+(M12*$M$5)+(N12*$N$5) -> 0
O13: =SUM(F13:N13) -> 0 | P13: =(F13*$F$5)+(G13*$G$5)+(H13*$H$5)+(I13*$I$5)+(J13*$J$5)+(K13*$K$5)+(L13*$L$5)+(M13*$M$5)+(N13*$N$5) -> 0
B14: TOTAL | C14: =SUM(C9:C13) -> 0 | D14: =SUM(D9:D13) -> 0 | E14: =SUM(E9:E13) -> 0 | F14: =SUM(F9:F13) -> 0 | G14: =SUM(G9:G13) -> 0 | H14: =SUM(H9:H13) -> 0 | I14: =SUM(I9:I13) -> 10 | J14: =SUM(J9:J13) -> 0 | ... P14: =SUM(P9:P13) -> 13

Sheet Kenya
B2: TEMPLE: Nairobi | C2: Sri Sri Radha Bankebihari
B3: MONTH : January 2017
C4: BTG Sub | D4: CC Set | E4: SB Set | F4: mag | G4: Small Books | I4: Medium Books | K4: Big Books | M4: Maha-Books
C5: 5 | F5: 0.1 | G5: 0.25 | H5: 0.25 | I5: 0.5 | J5: 0.5 | K5: 1 | L5: 1 | M5: 2 | N5: 2
B6: DEVOTEES | F6: M1 | G6: S1 | H6: H1 | I6: S2 | J6: H2 | K6: S3 | L6: H3 | M6: S4 | N6: H4 | O6: T/BKS | P6: Points
B8: Iskcon Nairobi
O9: =SUM(C9:N9) -> 0 | P9: =(C9*$C$5)+(F9*$F$5)+(G9*$G$5)+(H9*$H$5)+(I9*$I$5)+(J9*$J$5)+(K9*$K$5)+(L9*$L$5)+(M9*$M$5)+(N9*$N$5) -> 0
O10: =SUM(F10:N10) -> 0 | P10: =(F10*$F$5)+(G10*$G$5)+(H10*$H$5)+(I10*$I$5)+(J10*$J$5)+(K10*$K$5)+(L10*$L$5)+(M10*$M$5)+(N10*$N$5) -> 0
O11: =SUM(F11:N11) -> 0 | P11: =(F11*$F$5)+(G11*$G$5)+(H11*$H$5)+(I11*$I$5)+(J11*$J$5)+(K11*$K$5)+(L11*$L$5)+(M11*$M$5)+(N11*$N$5) -> 0
O12: =SUM(F12:N12) -> 0 | P12: =(F12*$F$5)+(G12*$G$5)+(H12*$H$5)+(I12*$I$5)+(J12*$J$5)+(K12*$K$5)+(L12*$L$5)+(M12*$M$5)+(N12*$N$5) -> 0
O13: =SUM(F13:N13) -> 0 | P13: =(F13*$F$5)+(G13*$G$5)+(H13*$H$5)+(I13*$I$5)+(J13*$J$5)+(K13*$K$5)+(L13*$L$5)+(M13*$M$5)+(N13*$N$5) -> 0
O14: =SUM(F14:N14) -> 0 | P14: =(F14*$F$5)+(G14*$G$5)+(H14*$H$5)+(I14*$I$5)+(J14*$J$5)+(K14*$K$5)+(L14*$L$5)+(M14*$M$5)+(N14*$N$5) -> 0
O15: =SUM(F15:N15) -> 0 | P15: =(F15*$F$5)+(G15*$G$5)+(H15*$H$5)+(I15*$I$5)+(J15*$J$5)+(K15*$K$5)+(L15*$L$5)+(M15*$M$5)+(N15*$N$5) -> 0
O16: =SUM(F16:N16) -> 0 | P16: =(F16*$F$5)+(G16*$G$5)+(H16*$H$5)+(I16*$I$5)+(J16*$J$5)+(K16*$K$5)+(L16*$L$5)+(M16*$M$5)+(N16*$N$5) -> 0
O17: =SUM(F17:N17) -> 0 | P17: =(F17*$F$5)+(G17*$G$5)+(H17*$H$5)+(I17*$I$5)+(J17*$J$5)+(K17*$K$5)+(L17*$L$5)+(M17*$M$5)+(N17*$N$5) -> 0
O18: =SUM(F18:N18) -> 0 | P18: =(F18*$F$5)+(G18*$G$5)+(H18*$H$5)+(I18*$I$5)+(J18*$J$5)+(K18*$K$5)+(L18*$L$5)+(M18*$M$5)+(N18*$N$5) -> 0
O19: =SUM(F19:N19) -> 0 | P19: =(F19*$F$5)+(G19*$G$5)+(H19*$H$5)+(I19*$I$5)+(J19*$J$5)+(K19*$K$5)+(L19*$L$5)+(M19*$M$5)+(N19*$N$5) -> 0
O20: =SUM(F20:N20) -> 0 | P20: =(F20*$F$5)+(G20*$G$5)+(H20*$H$5)+(I20*$I$5)+(J20*$J$5)+(K20*$K$5)+(L20*$L$5)+(M20*$M$5)+(N20*$N$5) -> 0
O21: =SUM(F21:N21) -> 0 | P21: =(F21*$F$5)+(G21*$G$5)+(H21*$H$5)+(I21*$I$5)+(J21*$J$5)+(K21*$K$5)+(L21*$L$5)+(M21*$M$5)+(N21*$N$5) -> 0
B22: TOTAL | C22: =SUM(C9:C21) -> 0 | D22: =SUM(D9:D21) -> 0 | E22: =SUM(E9:E21) -> 0 | F22: =SUM(F9:F21) -> 0 | G22: =SUM(G9:G21) -> 0 | H22: =SUM(H9:H21) -> 0 | I22: =SUM(I9:I21) -> 0 | J22: =SUM(J9:J21) -> 0 | ... P22: =SUM(P9:P21) -> 0
B25: Iskcon Kisumu
O26: =SUM(F26:N26) -> 0 | P26: =(F26*$F$5)+(G26*$G$5)+(H26*$H$5)+(I26*$I$5)+(J26*$J$5)+(K26*$K$5)+(L26*$L$5)+(M26*$M$5)+(N26*$N$5) -> 0
O27: =SUM(F27:N27) -> 0 | P27: =(F27*$F$5)+(G27*$G$5)+(H27*$H$5)+(I27*$I$5)+(J27*$J$5)+(K27*$K$5)+(L27*$L$5)+(M27*$M$5)+(N27*$N$5) -> 0
B28: TOTAL | C28: =SUM(C26:C27) -> 0 | D28: =SUM(D26:D27) -> 0 | E28: =SUM(E26:E27) -> 0 | F28: =SUM(F26:F27) -> 0 | G28: =SUM(G26:G27) -> 0 | H28: =SUM(H26:H27) -> 0 | I28: =SUM(I26:I27) -> 0 | J28: =SUM(J26:J27) -> 0 | ... P28: =SUM(P26:P27) -> 0
B31: Iskcon Mombassa
O32: =SUM(F32:N32) -> 0 | P32: =(F32*$F$5)+(G32*$G$5)+(H32*$H$5)+(I32*$I$5)+(J32*$J$5)+(K32*$K$5)+(L32*$L$5)+(M32*$M$5)+(N32*$N$5) -> 0
O33: =SUM(F33:N33) -> 0 | P33: =(F33*$F$5)+(G33*$G$5)+(H33*$H$5)+(I33*$I$5)+(J33*$J$5)+(K33*$K$5)+(L33*$L$5)+(M33*$M$5)+(N33*$N$5) -> 0
O34: =SUM(C34:N34) -> 0 | P34: =(C34*$C$5)+(G34*$G$5)+(H34*$H$5)+(I34*$I$5)+(J34*$J$5)+(K34*$K$5)+(L34*$L$5)+(M34*$M$5)+(N34*$N$5) -> 0
P35: =(F35*$F$5)+(G35*$G$5)+(H35*$H$5)+(I35*$I$5)+(J35*$J$5)+(K35*$K$5)+(L35*$L$5)+(M35*$M$5)+(N35*$N$5) -> 0
B36: TOTAL | C36: =SUM(C32:C33) -> 0 | D36: =SUM(D32:D33) -> 0 | E36: =SUM(E32:E33) -> 0 | F36: =SUM(F32:F35) -> 0 | G36: =SUM(G32:G35) -> 0 | H36: =SUM(H32:H35) -> 0 | I36: =SUM(I32:I35) -> 0 | J36: =SUM(J32:J35) -> 0 | K36: =SUM(K32:K35) -> 0 | L36: =SUM(L32:L35) -> 0 | M36: =SUM(M32:M35) -> 0 | ... P36: =SUM(P32:P35) -> 0
N38: Total: | O38: =SUM(O22+O28+O36) -> 0 | P38: =SUM(P22+P28+P36) -> 0

Sheet Malawi
B2: TEMPLE: Blantyre
B3: MONTH : January 2017
C4: BTG Sub | D4: CC Set | E4: SB Set | F4: Mag. | G4: Small Books | I4: Medium Books | K4: Big Books | M4: Maha-Books
C5: 5 | F5: 0.1 | G5: 0.25 | H5: 0.25 | I5: 0.5 | J5: 0.5 | K5: 1 | L5: 1 | M5: 2 | N5: 2
B6: DEVOTEES | F6: M1 | G6: S1 | H6: H1 | I6: S2 | J6: H2 | K6: S3 | L6: H3 | M6: S4 | N6: H4 | O6: T/BKS | P6: Points
O9: =SUM(F9:N9) -> 0 | P9: =(F9*$F$5)+(G9*$G$5)+(H9*$H$5)+(I9*$I$5)+(J9*$J$5)+(K9*$K$5)+(L9*$L$5)+(M9*$M$5)+(N9*$N$5) -> 0
B11: TOTAL | C11: =SUM(C9:C10) -> 0 | D11: =SUM(D9:D10) -> 0 | E11: =SUM(E9:E10) -> 0 | F11: =SUM(F9:F10) -> 0 | G11: =SUM(G9:G10) -> 0 | H11: =SUM(H9:H10) -> 0 | I11: =SUM(I9:I10) -> 0 | J11: =SUM(J9:J10) -> 0 | ... P11: =SUM(P9:P10) -> 0

Sheet Mauritius
B2: MONTH : January 2017 | C2: BTG Sub | D2: CC Set | E2: SB Set | F2: Mag. | G2: Small Books | I2: Medium Books | K2: Big Books | M2: Maha-Books
C3: 5 | D3: 18 | E3: 36 | F3: 0.1 | G3: 0.25 | H3: 0.25 | I3: 0.5 | J3: 0.5 | K3: 1 | L3: 1 | M3: 2 | N3: 2
B4: DEVOTEES | F4: M1 | G4: S1 | H4: H1 | I4: S2 | J4: H2 | K4: S3 | L4: H3 | M4: S4 | N4: H4 | O4: T/BKS | P4: Points
B6: ISKCON Phoenix Sri Sri Radha Gokulananda Mandir
O7: =SUM(F7:N7) -> 0 | P7: =(F7*$F$3)+(G7*$G$3)+(H7*$H$3)+(I7*$I$3)+(J7*$J$3)+(K7*$K$3)+(L7*$L$3)+(M7*$M$3)+(N7*$N$3) -> 0
O8: =SUM(F8:N8) -> 0 | P8: =(F8*$F$3)+(G8*$G$3)+(H8*$H$3)+(I8*$I$3)+(J8*$J$3)+(K8*$K$3)+(L8*$L$3)+(M8*$M$3)+(N8*$N$3) -> 0
O9: =SUM(F9:N9) -> 0 | P9: =(F9*$F$3)+(G9*$G$3)+(H9*$H$3)+(I9*$I$3)+(J9*$J$3)+(K9*$K$3)+(L9*$L$3)+(M9*$M$3)+(N9*$N$3) -> 0
O10: =SUM(F10:N10) -> 0 | P10: =(F10*$F$3)+(G10*$G$3)+(H10*$H$3)+(I10*$I$3)+(J10*$J$3)+(K10*$K$3)+(L10*$L$3)+(M10*$M$3)+(N10*$N$3) -> 0
O11: =SUM(F11:N11) -> 0 | P11: =(F11*$F$3)+(G11*$G$3)+(H11*$H$3)+(I11*$I$3)+(J11*$J$3)+(K11*$K$3)+(L11*$L$3)+(M11*$M$3)+(N11*$N$3) -> 0
O12: =SUM(F12:N12) -> 0 | P12: =(F12*$F$3)+(G12*$G$3)+(H12*$H$3)+(I12*$I$3)+(J12*$J$3)+(K12*$K$3)+(L12*$L$3)+(M12*$M$3)+(N12*$N$3) -> 0
O13: =SUM(F13:N13) -> 0 | P13: =(F13*$F$3)+(G13*$G$3)+(H13*$H$3)+(I13*$I$3)+(J13*$J$3)+(K13*$K$3)+(L13*$L$3)+(M13*$M$3)+(N13*$N$3) -> 0
O14: =SUM(F14:N14) -> 0 | P14: =(F14*$F$3)+(G14*$G$3)+(H14*$H$3)+(I14*$I$3)+(J14*$J$3)+(K14*$K$3)+(L14*$L$3)+(M14*$M$3)+(N14*$N$3) -> 0
O15: =SUM(F15:N15) -> 0 | P15: =(F15*$F$3)+(G15*$G$3)+(H15*$H$3)+(I15*$I$3)+(J15*$J$3)+(K15*$K$3)+(L15*$L$3)+(M15*$M$3)+(N15*$N$3) -> 0
O16: =SUM(F16:N16) -> 0 | P16: =(F16*$F$3)+(G16*$G$3)+(H16*$H$3)+(I16*$I$3)+(J16*$J$3)+(K16*$K$3)+(L16*$L$3)+(M16*$M$3)+(N16*$N$3) -> 0
O17: =SUM(F17:N17) -> 0 | P17: =(F17*$F$3)+(G17*$G$3)+(H17*$H$3)+(I17*$I$3)+(J17*$J$3)+(K17*$K$3)+(L17*$L$3)+(M17*$M$3)+(N17*$N$3) -> 0
O18: =SUM(F18:N18) -> 0 | P18: =(F18*$F$3)+(G18*$G$3)+(H18*$H$3)+(I18*$I$3)+(J18*$J$3)+(K18*$K$3)+(L18*$L$3)+(M18*$M$3)+(N18*$N$3) -> 0
... O38: =SUM(F38:N38) -> 0 | P38: =(F38*$F$3)+(G38*$G$3)+(H38*$H$3)+(I38*$I$3)+(J38*$J$3)+(K38*$K$3)+(L38*$L$3)+(M38*$M$3)+(N38*$N$3) -> 0
B39: TOTAL | C39: =SUM(C7:C38) -> 0 | D39: =SUM(D7:D38) -> 0 | E39: =SUM(E7:E38) -> 0 | F39: =SUM(F7:F38) -> 0 | G39: =SUM(G7:G38) -> 0 | H39: =SUM(H7:H38) -> 0 | I39: =SUM(I7:I38) -> 0 | J39: =SUM(J7:J38) -> 0 | ... P39: =SUM(P7:P38) -> 0
B42: ISKCON Bon Accueil Mauritius Sri Sri Krsna Balaram Mandir
O43: =SUM(F43:N43) -> 0 | P43: =(C43*$C$3)+(F43*$F$3)+(G43*$G$3)+(H43*$H$3)+(I43*$I$3)+(J43*$J$3)+(K43*$K$3)+(L43*$L$3)+(M43*$M$3)+(N43*$N$3) -> 0
O44: =SUM(F44:N44) -> 0 | P44: =(F44*$F$3)+(G44*$G$3)+(H44*$H$3)+(I44*$I$3)+(J44*$J$3)+(K44*$K$3)+(L44*$L$3)+(M44*$M$3)+(N44*$N$3) -> 0
O45: =SUM(F45:N45) -> 0 | P45: =(F45*$F$3)+(G45*$G$3)+(H45*$H$3)+(I45*$I$3)+(J45*$J$3)+(K45*$K$3)+(L45*$L$3)+(M45*$M$3)+(N45*$N$3) -> 0
B46: TOTAL | C46: =SUM(C43:C45) -> 0 | D46: =SUM(D43:D45) -> 0 | E46: =SUM(E43:E45) -> 0 | F46: =SUM(F43:F45) -> 0 | G46: =SUM(G43:G45) -> 0 | H46: =SUM(H43:H45) -> 0 | I46: =SUM(I43:I45) -> 0 | J46: =SUM(J43:J45) -> 0 | ... P46: =SUM(P43:P45) -> 0
M49: TOTAL | O49: =+O46+O39 -> 0 | P49: =+P46+P39 -> 0

Sheet Nigeria
B1: MONTH : January 2017
C2: BTG Sub | D2: CC Set | E2: SB Set | F2: Mag. | G2: Small Books | I2: Medium Books | K2: Big Books | M2: Maha-Books
C3: 5 | D3: 18 | E3: 36 | F3: 0.1 | G3: 0.25 | H3: 0.25 | I3: 0.5 | J3: 0.5 | K3: 1 | L3: 1 | M3: 2 | N3: 2
B4: DEVOTEES | F4: M1 | G4: S1 | H4: H1 | I4: S2 | J4: H2 | K4: S3 | L4: H3 | M4: S4 | N4: H4 | O4: T/BKS | P4: Points
B6: ISKCON BENIN CITY
B7: Temple Cumulative Scores | O7: =SUM(C7:N7) -> 0 | P7: =(C7*$C$3)+(F7*$F$3)+(G7*$G$3)+(H7*$H$3)+(I7*$I$3)+(J7*$J$3)+(K7*$K$3)+(L7*$L$3)+(M7*$M$3)+(N7*$N$3) -> 0
O8: =SUM(F8:N8) -> 0 | P8: =(F8*$F$3)+(G8*$G$3)+(H8*$H$3)+(I8*$I$3)+(J8*$J$3)+(K8*$K$3)+(L8*$L$3)+(M8*$M$3)+(N8*$N$3) -> 0
O9: =SUM(F9:N9) -> 0 | P9: =(F9*$F$3)+(G9*$G$3)+(H9*$H$3)+(I9*$I$3)+(J9*$J$3)+(K9*$K$3)+(L9*$L$3)+(M9*$M$3)+(N9*$N$3) -> 0
O10: =SUM(F10:N10) -> 0 | P10: =(F10*$F$3)+(G10*$G$3)+(H10*$H$3)+(I10*$I$3)+(J10*$J$3)+(K10*$K$3)+(L10*$L$3)+(M10*$M$3)+(N10*$N$3) -> 0
O11: =SUM(F11:N11) -> 0 | P11: =(F11*$F$3)+(G11*$G$3)+(H11*$H$3)+(I11*$I$3)+(J11*$J$3)+(K11*$K$3)+(L11*$L$3)+(M11*$M$3)+(N11*$N$3) -> 0
O12: =SUM(F12:N12) -> 0 | P12: =(F12*$F$3)+(G12*$G$3)+(H12*$H$3)+(I12*$I$3)+(J12*$J$3)+(K12*$K$3)+(L12*$L$3)+(M12*$M$3)+(N12*$N$3) -> 0
O13: =SUM(F13:N13) -> 0 | P13: =(F13*$F$3)+(G13*$G$3)+(H13*$H$3)+(I13*$I$3)+(J13*$J$3)+(K13*$K$3)+(L13*$L$3)+(M13*$M$3)+(N13*$N$3) -> 0
O14: =SUM(F14:N14) -> 0 | P14: =(F14*$F$3)+(G14*$G$3)+(H14*$H$3)+(I14*$I$3)+(J14*$J$3)+(K14*$K$3)+(L14*$L$3)+(M14*$M$3)+(N14*$N$3) -> 0
O15: =SUM(F15:N15) -> 0 | P15: =(F15*$F$3)+(G15*$G$3)+(H15*$H$3)+(I15*$I$3)+(J15*$J$3)+(K15*$K$3)+(L15*$L$3)+(M15*$M$3)+(N15*$N$3) -> 0
O16: =SUM(F16:N16) -> 0 | P16: =(F16*$F$3)+(G16*$G$3)+(H16*$H$3)+(I16*$I$3)+(J16*$J$3)+(K16*$K$3)+(L16*$L$3)+(M16*$M$3)+(N16*$N$3) -> 0
O17: =SUM(F17:N17) -> 0 | P17: =(F17*$F$3)+(G17*$G$3)+(H17*$H$3)+(I17*$I$3)+(J17*$J$3)+(K17*$K$3)+(L17*$L$3)+(M17*$M$3)+(N17*$N$3) -> 0
O18: =SUM(F18:N18) -> 0 | P18: =(F18*$F$3)+(G18*$G$3)+(H18*$H$3)+(I18*$I$3)+(J18*$J$3)+(K18*$K$3)+(L18*$L$3)+(M18*$M$3)+(N18*$N$3) -> 0
O19: =SUM(F19:N19) -> 0 | P19: =(F19*$F$3)+(G19*$G$3)+(H19*$H$3)+(I19*$I$3)+(J19*$J$3)+(K19*$K$3)+(L19*$L$3)+(M19*$M$3)+(N19*$N$3) -> 0
... O21: =SUM(F21:N21) -> 0 | P21: =(F21*$F$3)+(G21*$G$3)+(H21*$H$3)+(I21*$I$3)+(J21*$J$3)+(K21*$K$3)+(L21*$L$3)+(M21*$M$3)+(N21*$N$3) -> 0
B22: TOTAL | C22: =SUM(C7:C21) -> 0 | D22: =SUM(D7:D21) -> 0 | E22: =SUM(E7:E21) -> 0 | F22: =SUM(F7:F21) -> 0 | G22: =SUM(G7:G21) -> 0 | H22: =SUM(H7:H21) -> 0 | I22: =SUM(I7:I21) -> 0 | J22: =SUM(J7:J21) -> 0 | ... P22: =SUM(P7:P21) -> 0
B25: ISKCON LAGOS
B26: Bhakta Arthur and Tribhuvanatha | O26: =SUM(F26:N26) -> 0 | P26: =(F26*$F$3)+(G26*$G$3)+(H26*$H$3)+(I26*$I$3)+(J26*$J$3)+(K26*$K$3)+(L26*$L$3)+(M26*$M$3)+(N26*$N$3) -> 0
B27: Beach Programme | O27: =SUM(F27:N27) -> 0 | P27: =(F27*$F$3)+(G27*$G$3)+(H27*$H$3)+(I27*$I$3)+(J27*$J$3)+(K27*$K$3)+(L27*$L$3)+(M27*$M$3)+(N27*$N$3) -> 0
B28: Balabhadra Dasa | O28: =SUM(F28:N28) -> 0 | P28: =(F28*$F$3)+(G28*$G$3)+(H28*$H$3)+(I28*$I$3)+(J28*$J$3)+(K28*$K$3)+(L28*$L$3)+(M28*$M$3)+(N28*$N$3) -> 0
B29: Beenu | O29: =SUM(F29:N29) -> 0 | P29: =(F29*$F$3)+(G29*$G$3)+(H29*$H$3)+(I29*$I$3)+(J29*$J$3)+(K29*$K$3)+(L29*$L$3)+(M29*$M$3)+(N29*$N$3) -> 0
B30: Benson | O30: =SUM(F30:N30) -> 0 | P30: =(F30*$F$3)+(G30*$G$3)+(H30*$H$3)+(I30*$I$3)+(J30*$J$3)+(K30*$K$3)+(L30*$L$3)+(M30*$M$3)+(N30*$N$3) -> 0
B31: Ganga Dasa | O31: =SUM(F31:N31) -> 0 | P31: =(F31*$F$3)+(G31*$G$3)+(H31*$H$3)+(I31*$I$3)+(J31*$J$3)+(K31*$K$3)+(L31*$L$3)+(M31*$M$3)+(N31*$N$3) -> 0
B32: Devarishi dasa | O32: =SUM(F32:N32) -> 0 | P32: =(F32*$F$3)+(G32*$G$3)+(H32*$H$3)+(I32*$I$3)+(J32*$J$3)+(K32*$K$3)+(L32*$L$3)+(M32*$M$3)+(N32*$N$3) -> 0
B33: Gaura Gopala Dasa | O33: =SUM(F33:N33) -> 0 | P33: =(F33*$F$3)+(G33*$G$3)+(H33*$H$3)+(I33*$I$3)+(J33*$J$3)+(K33*$K$3)+(L33*$L$3)+(M33*$M$3)+(N33*$N$3) -> 0
B34: Kavikarnapura dasa | O34: =SUM(F34:N34) -> 0 | P34: =(F34*$F$3)+(G34*$G$3)+(H34*$H$3)+(I34*$I$3)+(J34*$J$3)+(K34*$K$3)+(L34*$L$3)+(M34*$M$3)+(N34*$N$3) -> 0
B35: Kavikarnapura and Tribuvanatha dasa | O35: =SUM(F35:N35) -> 0 | P35: =(F35*$F$3)+(G35*$G$3)+(H35*$H$3)+(I35*$I$3)+(J35*$J$3)+(K35*$K$3)+(L35*$L$3)+(M35*$M$3)+(N35*$N$3) -> 0
B36: Kavikarnapura and Beenu | O36: =SUM(F36:N36) -> 0 | P36: =(F36*$F$3)+(G36*$G$3)+(H36*$H$3)+(I36*$I$3)+(J36*$J$3)+(K36*$K$3)+(L36*$L$3)+(M36*$M$3)+(N36*$N$3) -> 0
B37: Tribuvanatha dasa | O37: =SUM(F37:N37) -> 0 | P37: =(F37*$F$3)+(G37*$G$3)+(H37*$H$3)+(I37*$I$3)+(J37*$J$3)+(K37*$K$3)+(L37*$L$3)+(M37*$M$3)+(N37*$N$3) -> 0
... B43: Interfaith Programme | O43: =SUM(F43:N43) -> 0 | P43: =(F43*$F$3)+(G43*$G$3)+(H43*$H$3)+(I43*$I$3)+(J43*$J$3)+(K43*$K$3)+(L43*$L$3)+(M43*$M$3)+(N43*$N$3) -> 0
B44: TOTAL | C44: =SUM(C26:C43) -> 0 | D44: =SUM(D26:D43) -> 0 | E44: =SUM(E26:E43) -> 0 | F44: =SUM(F26:F43) -> 0 | G44: =SUM(G26:G43) -> 0 | H44: =SUM(H26:H43) -> 0 | I44: =SUM(I26:I43) -> 0 | J44: =SUM(J26:J43) -> 0 | ... P44: =SUM(P26:P43) -> 0
B47: ISKCON PORT HARCOURT
O48: =SUM(F48:N48) -> 0 | P48: =(F48*$F$3)+(G48*$G$3)+(H48*$H$3)+(I48*$I$3)+(J48*$J$3)+(K48*$K$3)+(L48*$L$3)+(M48*$M$3)+(N48*$N$3) -> 0
O49: =SUM(F49:N49) -> 0 | P49: =(F49*$F$3)+(G49*$G$3)+(H49*$H$3)+(I49*$I$3)+(J49*$J$3)+(K49*$K$3)+(L49*$L$3)+(M49*$M$3)+(N49*$N$3) -> 0
O50: =SUM(F50:N50) -> 0 | P50: =(F50*$F$3)+(G50*$G$3)+(H50*$H$3)+(I50*$I$3)+(J50*$J$3)+(K50*$K$3)+(L50*$L$3)+(M50*$M$3)+(N50*$N$3) -> 0
O51: =SUM(F51:N51) -> 0 | P51: =(F51*$F$3)+(G51*$G$3)+(H51*$H$3)+(I51*$I$3)+(J51*$J$3)+(K51*$K$3)+(L51*$L$3)+(M51*$M$3)+(N51*$N$3) -> 0
O52: =SUM(F52:N52) -> 0 | P52: =(F52*$F$3)+(G52*$G$3)+(H52*$H$3)+(I52*$I$3)+(J52*$J$3)+(K52*$K$3)+(L52*$L$3)+(M52*$M$3)+(N52*$N$3) -> 0
O53: =SUM(F53:N53) -> 0 | P53: =(F53*$F$3)+(G53*$G$3)+(H53*$H$3)+(I53*$I$3)+(J53*$J$3)+(K53*$K$3)+(L53*$L$3)+(M53*$M$3)+(N53*$N$3) -> 0
O54: =SUM(F54:N54) -> 0 | P54: =(F54*$F$3)+(G54*$G$3)+(H54*$H$3)+(I54*$I$3)+(J54*$J$3)+(K54*$K$3)+(L54*$L$3)+(M54*$M$3)+(N54*$N$3) -> 0
O55: =SUM(F55:N55) -> 0 | P55: =(F55*$F$3)+(G55*$G$3)+(H55*$H$3)+(I55*$I$3)+(J55*$J$3)+(K55*$K$3)+(L55*$L$3)+(M55*$M$3)+(N55*$N$3) -> 0
O56: =SUM(F56:N56) -> 0 | P56: =(F56*$F$3)+(G56*$G$3)+(H56*$H$3)+(I56*$I$3)+(J56*$J$3)+(K56*$K$3)+(L56*$L$3)+(M56*$M$3)+(N56*$N$3) -> 0
O57: =SUM(F57:N57) -> 0 | P57: =(F57*$F$3)+(G57*$G$3)+(H57*$H$3)+(I57*$I$3)+(J57*$J$3)+(K57*$K$3)+(L57*$L$3)+(M57*$M$3)+(N57*$N$3) -> 0
O58: =SUM(F58:N58) -> 0 | P58: =(F58*$F$3)+(G58*$G$3)+(H58*$H$3)+(I58*$I$3)+(J58*$J$3)+(K58*$K$3)+(L58*$L$3)+(M58*$M$3)+(N58*$N$3) -> 0
O59: =SUM(F59:N59) -> 0 | P59: =(F59*$F$3)+(G59*$G$3)+(H59*$H$3)+(I59*$I$3)+(J59*$J$3)+(K59*$K$3)+(L59*$L$3)+(M59*$M$3)+(N59*$N$3) -> 0
... O71: =SUM(F71:N71) -> 0 | P71: =(F71*$F$3)+(G71*$G$3)+(H71*$H$3)+(I71*$I$3)+(J71*$J$3)+(K71*$K$3)+(L71*$L$3)+(M71*$M$3)+(N71*$N$3) -> 0
B72: TOTAL | C72: =SUM(C69:C71) -> 0 | D72: =SUM(D48:D71) -> 0 | E72: =SUM(E48:E71) -> 0 | F72: =SUM(F69:F71) -> 0 | G72: =SUM(G48:G71) -> 0 | H72: =SUM(H48:H71) -> 0 | I72: =SUM(I48:I71) -> 0 | J72: =SUM(J48:J71) -> 0 | K72: =SUM(K48:K71) -> 0 | L72: =SUM(L48:L71) -> 0 | M72: =SUM(M48:M71) -> 0 | N72: =SUM(N48:N71) -> 0 | ... P72: =SUM(P48:P71) -> 0
M76: TOTAL | O76: =O72+O44+O22 -> 0 | P76: =P72+P44+P22 -> 0

Sheet South Africa
B1: MONTH : November 2017
C2: BTG Sub | D2: CC Set | E2: SB Set | F2: Mag. | G2: Small Books | I2: Medium Books | K2: Big Books | M2: Maha-Books
C3: 5 | D3: 18 | E3: 36 | F3: 0.1 | G3: 0.25 | H3: 0.25 | I3: 0.5 | J3: 0.5 | K3: 1 | L3: 1 | M3: 2 | N3: 2
B4: DEVOTEES | F4: M1 | G4: S1 | H4: H1 | I4: S2 | J4: H2 | K4: S3 | L4: H3 | M4: S4 | N4: H4 | O4: T/BKS | P4: Points
B6: BHAKTI LOUNGE JOHANNESBURG
B7: Bhaktin Itumeleng | G7: 3 | H7: 2 | I7: 2 | K7: 1 | O7: =SUM(C7:N7) -> 8 | P7: =(C7*$C$3)+(F7*$F$3)+(G7*$G$3)+(H7*$H$3)+(I7*$I$3)+(J7*$J$3)+(K7*$K$3)+(L7*$L$3)+(M7*$M$3)+(N7*$N$3) -> 3.25
B8: Mukundanghri dasa | I8: 1 | O8: =SUM(F8:N8) -> 1 | P8: =(F8*$F$3)+(G8*$G$3)+(H8*$H$3)+(I8*$I$3)+(J8*$J$3)+(K8*$K$3)+(L8*$L$3)+(M8*$M$3)+(N8*$N$3) -> 0.5
O9: =SUM(F9:N9) -> 0 | P9: =(F9*$F$3)+(G9*$G$3)+(H9*$H$3)+(I9*$I$3)+(J9*$J$3)+(K9*$K$3)+(L9*$L$3)+(M9*$M$3)+(N9*$N$3) -> 0
B10: TOTAL | C10: =SUM(C7:C9) -> 0 | D10: =SUM(D7:D9) -> 0 | E10: =SUM(E7:E9) -> 0 | F10: =SUM(F7:F9) -> 0 | G10: =SUM(G7:G9) -> 3 | H10: =SUM(H7:H9) -> 2 | I10: =SUM(I7:I9) -> 3 | J10: =SUM(J7:J9) -> 0 | ... P10: =SUM(P7:P9) -> 3.75
B13: ISKCON DURBAN
B14: Monthly Sankirtan Festival | G14: 226 | I14: 54 | K14: 31 | N14: 31 | O14: =SUM(F14:N14) -> 342 | P14: =(F14*$F$3)+(G14*$G$3)+(H14*$H$3)+(I14*$I$3)+(J14*$J$3)+(K14*$K$3)+(L14*$L$3)+(M14*$M$3)+(N14*$N$3) -> 176.5
B15: Cunerl Nepaul | G15: 16 | O15: =SUM(F15:N15) -> 16 | P15: =(F15*$F$3)+(G15*$G$3)+(H15*$H$3)+(I15*$I$3)+(J15*$J$3)+(K15*$K$3)+(L15*$L$3)+(M15*$M$3)+(N15*$N$3) -> 4
B16: Sad Goswami Das | N16: 1 | O16: =SUM(F16:N16) -> 1 | P16: =(F16*$F$3)+(G16*$G$3)+(H16*$H$3)+(I16*$I$3)+(J16*$J$3)+(K16*$K$3)+(L16*$L$3)+(M16*$M$3)+(N16*$N$3) -> 2
B17: Kirtan Naicker | G17: 29 | O17: =SUM(F17:N17) -> 29 | P17: =(F17*$F$3)+(G17*$G$3)+(H17*$H$3)+(I17*$I$3)+(J17*$J$3)+(K17*$K$3)+(L17*$L$3)+(M17*$M$3)+(N17*$N$3) -> 7.25
B18: Tamal Krsna Das | E18: 1 | N18: 18 | O18: =SUM(F18:N18) -> 18 | P18: =(F18*$F$3)+(G18*$G$3)+(H18*$H$3)+(I18*$I$3)+(J18*$J$3)+(K18*$K$3)+(L18*$L$3)+(M18*$M$3)+(N18*$N$3) -> 36
B19: Vibhu Caitanya Das | G19: 10 | K19: 14 | N19: 3 | O19: =SUM(F19:N19) -> 27 | P19: =(F19*$F$3)+(G19*$G$3)+(H19*$H$3)+(I19*$I$3)+(J19*$J$3)+(K19*$K$3)+(L19*$L$3)+(M19*$M$3)+(N19*$N$3) -> 22.5
B20: Sewpaul | G20: 10 | O20: =SUM(F20:N20) -> 10 | P20: =(F20*$F$3)+(G20*$G$3)+(H20*$H$3)+(I20*$I$3)+(J20*$J$3)+(K20*$K$3)+(L20*$L$3)+(M20*$M$3)+(N20*$N$3) -> 2.5
B21: Book Counter | G21: 53 | I21: 16 | N21: 1 | O21: =SUM(F21:N21) -> 70 | P21: =(F21*$F$3)+(G21*$G$3)+(H21*$H$3)+(I21*$I$3)+(J21*$J$3)+(K21*$K$3)+(L21*$L$3)+(M21*$M$3)+(N21*$N$3) -> 23.25
O22: =SUM(F22:N22) -> 0 | P22: =(F22*$F$3)+(G22*$G$3)+(H22*$H$3)+(I22*$I$3)+(J22*$J$3)+(K22*$K$3)+(L22*$L$3)+(M22*$M$3)+(N22*$N$3) -> 0
O23: =SUM(F23:N23) -> 0 | P23: =(F23*$F$3)+(G23*$G$3)+(H23*$H$3)+(I23*$I$3)+(J23*$J$3)+(K23*$K$3)+(L23*$L$3)+(M23*$M$3)+(N23*$N$3) -> 0
C24: =SUM(C14:C23) -> 0 | D24: =SUM(D14:D23) -> 0 | E24: =SUM(E14:E23) -> 1 | F24: =SUM(F14:F23) -> 0 | G24: =SUM(G14:G23) -> 344 | H24: =SUM(H14:H23) -> 0 | I24: =SUM(I14:I23) -> 70 | J24: =SUM(J14:J23) -> 0 | ... P24: =SUM(P14:P23) -> 274
B27: ISKCON EAST LONDON
B28: Vrajabasi das | G28: 7 | I28: 25 | K28: 3 | N28: 2 | O28: =SUM(F28:N28) -> 37 | P28: =(F28*$F$3)+(G28*$G$3)+(H28*$H$3)+(I28*$I$3)+(J28*$J$3)+(K28*$K$3)+(L28*$L$3)+(M28*$M$3)+(N28*$N$3) -> 21.25
B29: Bhakta Keshav | L29: 2 | O29: =SUM(F29:N29) -> 2 | P29: =(F29*$F$3)+(G29*$G$3)+(H29*$H$3)+(I29*$I$3)+(J29*$J$3)+(K29*$K$3)+(L29*$L$3)+(M29*$M$3)+(N29*$N$3) -> 2
B30: Bhaktin Sharita | G30: 14 | O30: =SUM(F30:N30) -> 14 | P30: =(F30*$F$3)+(G30*$G$3)+(H30*$H$3)+(I30*$I$3)+(J30*$J$3)+(K30*$K$3)+(L30*$L$3)+(M30*$M$3)+(N30*$N$3) -> 3.5
B31: Bhakta Sholto | I31: 2 | O31: =SUM(F31:N31) -> 2 | P31: =(F31*$F$3)+(G31*$G$3)+(H31*$H$3)+(I31*$I$3)+(J31*$J$3)+(K31*$K$3)+(L31*$L$3)+(M31*$M$3)+(N31*$N$3) -> 1
O32: =SUM(F32:N32) -> 0 | P32: =(F32*$F$3)+(G32*$G$3)+(H32*$H$3)+(I32*$I$3)+(J32*$J$3)+(K32*$K$3)+(L32*$L$3)+(M32*$M$3)+(N32*$N$3) -> 0
B33: TOTAL | C33: =SUM(C28:C32) -> 0 | D33: =SUM(D28:D32) -> 0 | E33: =SUM(E28:E32) -> 0 | F33: =SUM(F28:F32) -> 0 | G33: =SUM(G28:G32) -> 21 | H33: =SUM(H28:H32) -> 0 | I33: =SUM(I28:I32) -> 27 | J33: =SUM(J28:J32) -> 0 | ... P33: =SUM(P28:P32) -> 27.75
B36: ISKCON LENASIA
O37: =SUM(F37:N37) -> 0 | P37: =(F37*$F$3)+(G37*$G$3)+(H37*$H$3)+(I37*$I$3)+(J37*$J$3)+(K37*$K$3)+(L37*$L$3)+(M37*$M$3)+(N37*$N$3) -> 0
O38: =SUM(F38:N38) -> 0 | P38: =(F38*$F$3)+(G38*$G$3)+(H38*$H$3)+(I38*$I$3)+(J38*$J$3)+(K38*$K$3)+(L38*$L$3)+(M38*$M$3)+(N38*$N$3) -> 0
O39: =SUM(F39:N39) -> 0 | P39: =(F39*$F$3)+(G39*$G$3)+(H39*$H$3)+(I39*$I$3)+(J39*$J$3)+(K39*$K$3)+(L39*$L$3)+(M39*$M$3)+(N39*$N$3) -> 0
O40: =SUM(F40:N40) -> 0 | P40: =(F40*$F$3)+(G40*$G$3)+(H40*$H$3)+(I40*$I$3)+(J40*$J$3)+(K40*$K$3)+(L40*$L$3)+(M40*$M$3)+(N40*$N$3) -> 0
O41: =SUM(F41:N41) -> 0 | P41: =(F41*$F$3)+(G41*$G$3)+(H41*$H$3)+(I41*$I$3)+(J41*$J$3)+(K41*$K$3)+(L41*$L$3)+(M41*$M$3)+(N41*$N$3) -> 0
O42: =SUM(F42:N42) -> 0 | P42: =(F42*$F$3)+(G42*$G$3)+(H42*$H$3)+(I42*$I$3)+(J42*$J$3)+(K42*$K$3)+(L42*$L$3)+(M42*$M$3)+(N42*$N$3) -> 0
O43: =SUM(F43:N43) -> 0 | P43: =(F43*$F$3)+(G43*$G$3)+(H43*$H$3)+(I43*$I$3)+(J43*$J$3)+(K43*$K$3)+(L43*$L$3)+(M43*$M$3)+(N43*$N$3) -> 0
O44: =SUM(F44:N44) -> 0 | P44: =(F44*$F$3)+(G44*$G$3)+(H44*$H$3)+(I44*$I$3)+(J44*$J$3)+(K44*$K$3)+(L44*$L$3)+(M44*$M$3)+(N44*$N$3) -> 0
O45: =SUM(F45:N45) -> 0 | P45: =(F45*$F$3)+(G45*$G$3)+(H45*$H$3)+(I45*$I$3)+(J45*$J$3)+(K45*$K$3)+(L45*$L$3)+(M45*$M$3)+(N45*$N$3) -> 0
O46: =SUM(F46:N46) -> 0 | P46: =(F46*$F$3)+(G46*$G$3)+(H46*$H$3)+(I46*$I$3)+(J46*$J$3)+(K46*$K$3)+(L46*$L$3)+(M46*$M$3)+(N46*$N$3) -> 0
B47: TOTAL | C47: =SUM(C37:C46) -> 0 | D47: =SUM(D37:D46) -> 0 | E47: =SUM(E37:E46) -> 0 | F47: =SUM(F37:F46) -> 0 | G47: =SUM(G37:G46) -> 0 | H47: =SUM(H37:H46) -> 0 | I47: =SUM(I37:I46) -> 0 | J47: =SUM(J37:J46) -> 0 | ... P47: =SUM(P37:P46) -> 0
B50: ISKCON MAFIKENG
B51: TANKISO PRABHU | G51: 25 | I51: 45 | K51: 10 | O51: =SUM(F51:N51) -> 80 | P51: =(F51*$F$3)+(G51*$G$3)+(H51*$H$3)+(I51*$I$3)+(J51*$J$3)+(K51*$K$3)+(L51*$L$3)+(M51*$M$3)+(N51*$N$3) -> 38.75
O52: =SUM(F52:N52) -> 0 | P52: =(F52*$F$3)+(G52*$G$3)+(H52*$H$3)+(I52*$I$3)+(J52*$J$3)+(K52*$K$3)+(L52*$L$3)+(M52*$M$3)+(N52*$N$3) -> 0
B53: TOTAL | C53: =SUM(C52:C52) -> 0 | D53: =SUM(D52:D52) -> 0 | E53: =SUM(E51:E52) -> 0 | F53: =SUM(F51:F52) -> 0 | G53: =SUM(G51:G52) -> 25 | H53: =SUM(H51:H52) -> 0 | I53: =SUM(I51:I52) -> 45 | J53: =SUM(J51:J52) -> 0 | K53: =SUM(K51:K52) -> 10 | L53: =SUM(L51:L52) -> 0 | ... P53: =SUM(P51:P52) -> 38.75
B56: ISKCON MIDRAND
B57: Damodar das (BCAIS) | F57: 6 | O57: =SUM(F57:N57) -> 6 | P57: =(F57*$F$3)+(G57*$G$3)+(H57*$H$3)+(I57*$I$3)+(J57*$J$3)+(K57*$K$3)+(L57*$L$3)+(M57*$M$3)+(N57*$N$3) -> 0.6
B58: Damodar das (KKS) | G58: 11 | I58: 7 | K58: 2 | O58: =SUM(F58:N58) -> 20 | P58: =(F58*$F$3)+(G58*$G$3)+(H58*$H$3)+(I58*$I$3)+(J58*$J$3)+(K58*$K$3)+(L58*$L$3)+(M58*$M$3)+(N58*$N$3) -> 8.25
B59: Radhakund devi dasi | F59: 7 | I59: 52 | J59: 2 | N59: 2 | O59: =SUM(F59:N59) -> 63 | P59: =(F59*$F$3)+(G59*$G$3)+(H59*$H$3)+(I59*$I$3)+(J59*$J$3)+(K59*$K$3)+(L59*$L$3)+(M59*$M$3)+(N59*$N$3) -> 31.7
B60: Roshika Singh | G60: 5 | I60: 3 | J60: 1 | K60: 1 | N60: 1 | O60: =SUM(F60:N60) -> 11 | P60: =(F60*$F$3)+(G60*$G$3)+(H60*$H$3)+(I60*$I$3)+(J60*$J$3)+(K60*$K$3)+(L60*$L$3)+(M60*$M$3)+(N60*$N$3) -> 6.25
O61: =SUM(F61:N61) -> 0 | P61: =(F61*$F$3)+(G61*$G$3)+(H61*$H$3)+(I61*$I$3)+(J61*$J$3)+(K61*$K$3)+(L61*$L$3)+(M61*$M$3)+(N61*$N$3) -> 0
B62: TOTAL | C62: =SUM(C57:C61) -> 0 | D62: =SUM(D57:D61) -> 0 | E62: =SUM(E57:E61) -> 0 | F62: =SUM(F57:F61) -> 13 | G62: =SUM(G57:G61) -> 16 | H62: =SUM(H57:H61) -> 0 | I62: =SUM(I57:I61) -> 62 | J62: =SUM(J57:J61) -> 3 | ... P62: =SUM(P57:P61) -> 46.8
B65: ISKCON MPUMALANGA
B66: Cumulative Scores | G66: 104 | I66: 2 | J66: 1 | K66: 1 | L66: 3 | O66: =SUM(F66:N66) -> 111 | P66: =(F66*$F$3)+(G66*$G$3)+(H66*$H$3)+(I66*$I$3)+(J66*$J$3)+(K66*$K$3)+(L66*$L$3)+(M66*$M$3)+(N66*$N$3) -> 31.5
O67: =SUM(F67:N67) -> 0 | P67: =(F67*$F$3)+(G67*$G$3)+(H67*$H$3)+(I67*$I$3)+(J67*$J$3)+(K67*$K$3)+(L67*$L$3)+(M67*$M$3)+(N67*$N$3) -> 0
B68: TOTAL | C68: =SUM(C66:C67) -> 0 | D68: =SUM(D66:D67) -> 0 | E68: =SUM(E66:E67) -> 0 | F68: =SUM(F66:F67) -> 0 | G68: =SUM(G66:G67) -> 104 | H68: =SUM(H66:H67) -> 0 | I68: =SUM(I66:I67) -> 2 | J68: =SUM(J66:J67) -> 1 | ... P68: =SUM(P66:P67) -> 31.5
B71: ISKCON PHOENIX
B72: Vidhia Bissondayal | G72: 500 | O72: =SUM(F72:N72) -> 500 | P72: =(F72*$F$3)+(G72*$G$3)+(H72*$H$3)+(I72*$I$3)+(J72*$J$3)+(K72*$K$3)+(L72*$L$3)+(M72*$M$3)+(N72*$N$3) -> 125
B73: Gift shop | G73: 41 | I73: 2 | K73: 1 | N73: 3 | O73: =SUM(F73:N73) -> 47 | P73: =(F73*$F$3)+(G73*$G$3)+(H73*$H$3)+(I73*$I$3)+(J73*$J$3)+(K73*$K$3)+(L73*$L$3)+(M73*$M$3)+(N73*$N$3) -> 18.25
B74: Naveen Manilal | O74: =SUM(F74:N74) -> 0 | P74: =(F74*$F$3)+(G74*$G$3)+(H74*$H$3)+(I74*$I$3)+(J74*$J$3)+(K74*$K$3)+(L74*$L$3)+(M74*$M$3)+(N74*$N$3) -> 0
B75: Srinivasa Acarya das | H75: 20 | O75: =SUM(F75:N75) -> 20 | P75: =(F75*$F$3)+(G75*$G$3)+(H75*$H$3)+(I75*$I$3)+(J75*$J$3)+(K75*$K$3)+(L75*$L$3)+(M75*$M$3)+(N75*$N$3) -> 5
B76: Asha Phenkoo | G76: 1 | H76: 1 | K76: 1 | N76: 17 | O76: =SUM(F76:N76) -> 20 | P76: =(F76*$F$3)+(G76*$G$3)+(H76*$H$3)+(I76*$I$3)+(J76*$J$3)+(K76*$K$3)+(L76*$L$3)+(M76*$M$3)+(N76*$N$3) -> 35.5
B77: Raamvittal das | G77: 10 | N77: 100 | O77: =SUM(F77:N77) -> 110 | P77: =(F77*$F$3)+(G77*$G$3)+(H77*$H$3)+(I77*$I$3)+(J77*$J$3)+(K77*$K$3)+(L77*$L$3)+(M77*$M$3)+(N77*$N$3) -> 202.5
B78: Monthly Sankirtan Festival | G78: 90 | N78: 1 | O78: =SUM(F78:N78) -> 91 | P78: =(F78*$F$3)+(G78*$G$3)+(H78*$H$3)+(I78*$I$3)+(J78*$J$3)+(K78*$K$3)+(L78*$L$3)+(M78*$M$3)+(N78*$N$3) -> 24.5
B79: Shakun | G79: 1 | I79: 2 | J79: 1 | N79: 1 | O79: =SUM(F79:N79) -> 5 | P79: =(F79*$F$3)+(G79*$G$3)+(H79*$H$3)+(I79*$I$3)+(J79*$J$3)+(K79*$K$3)+(L79*$L$3)+(M79*$M$3)+(N79*$N$3) -> 3.75
B80: Sashen | I80: 1 | J80: 2 | K80: 4 | O80: =SUM(F80:N80) -> 7 | P80: =(F80*$F$3)+(G80*$G$3)+(H80*$H$3)+(I80*$I$3)+(J80*$J$3)+(K80*$K$3)+(L80*$L$3)+(M80*$M$3)+(N80*$N$3) -> 5.5
B81: Bhagwan Hari das | G81: 49 | O81: =SUM(F81:N81) -> 49 | P81: =(F81*$F$3)+(G81*$G$3)+(H81*$H$3)+(I81*$I$3)+(J81*$J$3)+(K81*$K$3)+(L81*$L$3)+(M81*$M$3)+(N81*$N$3) -> 12.25
B82: Prashanth Dasraj | G82: 8 | I82: 2 | O82: =SUM(F82:N82) -> 10 | P82: =(F82*$F$3)+(G82*$G$3)+(H82*$H$3)+(I82*$I$3)+(J82*$J$3)+(K82*$K$3)+(L82*$L$3)+(M82*$M$3)+(N82*$N$3) -> 3
B83: Revati | G83: 10 | O83: =SUM(F83:N83) -> 10 | P83: =(F83*$F$3)+(G83*$G$3)+(H83*$H$3)+(I83*$I$3)+(J83*$J$3)+(K83*$K$3)+(L83*$L$3)+(M83*$M$3)+(N83*$N$3) -> 2.5
B84: Vanmali das | G84: 18 | I84: 3 | K84: 2 | O84: =SUM(F84:N84) -> 23 | P84: =(F84*$F$3)+(G84*$G$3)+(H84*$H$3)+(I84*$I$3)+(J84*$J$3)+(K84*$K$3)+(L84*$L$3)+(M84*$M$3)+(N84*$N$3) -> 8
B85: Kasturi manjari kripa dd | G85: 7 | I85: 2 | K85: 1 | O85: =SUM(F85:N85) -> 10 | P85: =(F85*$F$3)+(G85*$G$3)+(H85*$H$3)+(I85*$I$3)+(J85*$J$3)+(K85*$K$3)+(L85*$L$3)+(M85*$M$3)+(N85*$N$3) -> 3.75
B86: S Pooran | G86: 8 | I86: 1 | O86: =SUM(F86:N86) -> 9 | P86: =(F86*$F$3)+(G86*$G$3)+(H86*$H$3)+(I86*$I$3)+(J86*$J$3)+(K86*$K$3)+(L86*$L$3)+(M86*$M$3)+(N86*$N$3) -> 2.5
B87: Kajal Ramsamaj | G87: 10 | O87: =SUM(F87:N87) -> 10 | P87: =(F87*$F$3)+(G87*$G$3)+(H87*$H$3)+(I87*$I$3)+(J87*$J$3)+(K87*$K$3)+(L87*$L$3)+(M87*$M$3)+(N87*$N$3) -> 2.5
B88: Pinkie | I88: 2 | K88: 1 | L88: 4 | O88: =SUM(F88:N88) -> 7 | P88: =(F88*$F$3)+(G88*$G$3)+(H88*$H$3)+(I88*$I$3)+(J88*$J$3)+(K88*$K$3)+(L88*$L$3)+(M88*$M$3)+(N88*$N$3) -> 6
B89: Danje Pooran | G89: 8 | I89: 1 | O89: =SUM(F89:N89) -> 9 | P89: =(F89*$F$3)+(G89*$G$3)+(H89*$H$3)+(I89*$I$3)+(J89*$J$3)+(K89*$K$3)+(L89*$L$3)+(M89*$M$3)+(N89*$N$3) -> 2.5
B90: Radhe Radhe | G90: 5 | I90: 7 | K90: 5 | O90: =SUM(F90:N90) -> 17 | P90: =(F90*$F$3)+(G90*$G$3)+(H90*$H$3)+(I90*$I$3)+(J90*$J$3)+(K90*$K$3)+(L90*$L$3)+(M90*$M$3)+(N90*$N$3) -> 9.75
B91: Ananda Candrika dd | G91: 50 | O91: =SUM(F91:N91) -> 50 | P91: =(F91*$F$3)+(G91*$G$3)+(H91*$H$3)+(I91*$I$3)+(J91*$J$3)+(K91*$K$3)+(L91*$L$3)+(M91*$M$3)+(N91*$N$3) -> 12.5
B92: P.Suckoo | K92: 2 | N92: 1 | O92: =SUM(F92:N92) -> 3 | P92: =(F92*$F$3)+(G92*$G$3)+(H92*$H$3)+(I92*$I$3)+(J92*$J$3)+(K92*$K$3)+(L92*$L$3)+(M92*$M$3)+(N92*$N$3) -> 4
B93: Gopal Das | G93: 20 | H93: 5 | N93: 6 | O93: =SUM(F93:N93) -> 31 | P93: =(F93*$F$3)+(G93*$G$3)+(H93*$H$3)+(I93*$I$3)+(J93*$J$3)+(K93*$K$3)+(L93*$L$3)+(M93*$M$3)+(N93*$N$3) -> 18.25
B94: Shashika Krishna | G94: 20 | H94: 50 | K94: 1 | O94: =SUM(F94:N94) -> 71 | P94: =(F94*$F$3)+(G94*$G$3)+(H94*$H$3)+(I94*$I$3)+(J94*$J$3)+(K94*$K$3)+(L94*$L$3)+(M94*$M$3)+(N94*$N$3) -> 18.5
B95: Japa mala das | G95: 52 | I95: 5 | N95: 7 | O95: =SUM(F95:N95) -> 64 | P95: =(F95*$F$3)+(G95*$G$3)+(H95*$H$3)+(I95*$I$3)+(J95*$J$3)+(K95*$K$3)+(L95*$L$3)+(M95*$M$3)+(N95*$N$3) -> 29.5
B96: Navin Manilall | K96: 20 | O96: =SUM(F96:N96) -> 20 | P96: =(F96*$F$3)+(G96*$G$3)+(H96*$H$3)+(I96*$I$3)+(J96*$J$3)+(K96*$K$3)+(L96*$L$3)+(M96*$M$3)+(N96*$N$3) -> 20
B97: Rishan Chandraboon | G97: 8 | I97: 1 | K97: 2 | O97: =SUM(F97:N97) -> 11 | P97: =(F97*$F$3)+(G97*$G$3)+(H97*$H$3)+(I97*$I$3)+(J97*$J$3)+(K97*$K$3)+(L97*$L$3)+(M97*$M$3)+(N97*$N$3) -> 4.5
B98: BTG | F98: 876 | O98: =SUM(F98:N98) -> 876 | P98: =(F98*$F$3)+(G98*$G$3)+(H98*$H$3)+(I98*$I$3)+(J98*$J$3)+(K98*$K$3)+(L98*$L$3)+(M98*$M$3)+(N98*$N$3) -> 87.6
O99: =SUM(F99:N99) -> 0 | P99: =(F99*$F$3)+(G99*$G$3)+(H99*$H$3)+(I99*$I$3)+(J99*$J$3)+(K99*$K$3)+(L99*$L$3)+(M99*$M$3)+(N99*$N$3) -> 0
B100: TOTAL | C100: =SUM(C93:C99) -> 0 | D100: =SUM(D72:D99) -> 0 | E100: =SUM(E72:E99) -> 0 | F100: =SUM(F93:F99) -> 876 | G100: =SUM(G72:G99) -> 916 | H100: =SUM(H72:H99) -> 76 | I100: =SUM(I72:I99) -> 29 | J100: =SUM(J72:J99) -> 3 | K100: =SUM(K72:K99) -> 40 | L100: =SUM(L72:L99) -> 4 | M100: =SUM(M72:M99) -> 0 | N100: =SUM(N72:N99) -> 136 | ... P100: =SUM(P72:P99) -> 667.6
B103: ISKCON PIETERMARITZBURG
B104: Cumulative Scores | G104: 2 | I104: 1 | N104: 2 | O104: =SUM(F104:N104) -> 5 | P104: =(F104*$F$3)+(G104*$G$3)+(H104*$H$3)+(I104*$I$3)+(J104*$J$3)+(K104*$K$3)+(L104*$L$3)+(M104*$M$3)+(N104*$N$3) -> 5
O105: =SUM(F105:N105) -> 0 | P105: =(F105*$F$3)+(G105*$G$3)+(H105*$H$3)+(I105*$I$3)+(J105*$J$3)+(K105*$K$3)+(L105*$L$3)+(M105*$M$3)+(N105*$N$3) -> 0
O106: =SUM(F106:N106) -> 0 | P106: =(F106*$F$3)+(G106*$G$3)+(H106*$H$3)+(I106*$I$3)+(J106*$J$3)+(K106*$K$3)+(L106*$L$3)+(M106*$M$3)+(N106*$N$3) -> 0
B107: TOTAL | C107: =SUM(C105:C106) -> 0 | D107: =SUM(D104:D106) -> 0 | E107: =SUM(E104:E106) -> 0 | F107: =SUM(F105:F106) -> 0 | G107: =SUM(G104:G106) -> 2 | H107: =SUM(H104:H106) -> 0 | I107: =SUM(I104:I106) -> 1 | J107: =SUM(J104:J106) -> 0 | K107: =SUM(K104:K106) -> 0 | L107: =SUM(L104:L106) -> 0 | M107: =SUM(M104:M106) -> 0 | N107: =SUM(N104:N106) -> 2 | ... P107: =SUM(P104:P106) -> 5
B110: ISKCON PRETORIA
B111: Yogi | G111: 1 | I111: 4 | N111: 1 | O111: =SUM(F111:N111) -> 6 | P111: =(F111*$F$3)+(G111*$G$3)+(H111*$H$3)+(I111*$I$3)+(J111*$J$3)+(K111*$K$3)+(L111*$L$3)+(M111*$M$3)+(N111*$N$3) -> 4.25
O112: =SUM(F112:N112) -> 0 | P112: =(F112*$F$3)+(G112*$G$3)+(H112*$H$3)+(I112*$I$3)+(J112*$J$3)+(K112*$K$3)+(L112*$L$3)+(M112*$M$3)+(N112*$N$3) -> 0
O113: =SUM(F113:N113) -> 0 | P113: =(F113*$F$3)+(G113*$G$3)+(H113*$H$3)+(I113*$I$3)+(J113*$J$3)+(K113*$K$3)+(L113*$L$3)+(M113*$M$3)+(N113*$N$3) -> 0
B114: TOTAL | C114: =SUM(C112:C113) -> 0 | D114: =SUM(D111:D113) -> 0 | E114: =SUM(E111:E113) -> 0 | F114: =SUM(F112:F113) -> 0 | G114: =SUM(G111:G113) -> 1 | H114: =SUM(H111:H113) -> 0 | I114: =SUM(I111:I113) -> 4 | J114: =SUM(J111:J113) -> 0 | K114: =SUM(K111:K113) -> 0 | L114: =SUM(L111:L113) -> 0 | M114: =SUM(M111:M113) -> 0 | N114: =SUM(N111:N113) -> 1 | ... P114: =SUM(P111:P113) -> 4.25
B117: ISKCON SANDTON
B118: Cumulative Scores | G118: 378 | I118: 8 | K118: 70 | M118: 2 | O118: =SUM(F118:N118) -> 458 | P118: =(F118*$F$3)+(G118*$G$3)+(H118*$H$3)+(I118*$I$3)+(J118*$J$3)+(K118*$K$3)+(L118*$L$3)+(M118*$M$3)+(N118*$N$3) -> 172.5
O119: =SUM(F119:N119) -> 0 | P119: =(F119*$F$3)+(G119*$G$3)+(H119*$H$3)+(I119*$I$3)+(J119*$J$3)+(K119*$K$3)+(L119*$L$3)+(M119*$M$3)+(N119*$N$3) -> 0
B120: TOTAL | C120: =SUM(C118:C119) -> 0 | D120: =SUM(D118:D119) -> 0 | E120: =SUM(E118:E119) -> 0 | F120: =SUM(F118:F119) -> 0 | G120: =SUM(G118:G119) -> 378 | H120: =SUM(H118:H119) -> 0 | I120: =SUM(I118:I119) -> 8 | J120: =SUM(J118:J119) -> 0 | ... P120: =SUM(P118:P119) -> 172.5
B123: ISKCON STELLENBOSCH
...

Sheet Togo
B2: TEMPLE: Togo
B3: MONTH : November 2017
C4: BTG Sub | D4: CC Set | E4: SB Set | F4: Mag. | G4: Small Books | I4: Medium Books | K4: Big Books | M4: Maha-Books
C5: 5 | F5: 0.1 | G5: 0.25 | H5: 0.25 | I5: 0.5 | J5: 0.5 | K5: 1 | L5: 1 | M5: 2 | N5: 2
B6: DEVOTEES | F6: M1 | G6: S1 | H6: H1 | I6: S2 | J6: H2 | K6: S3 | L6: H3 | M6: S4 | N6: H4 | O6: T/BKS | P6: Points
B9: Harinam Sankirtana Team | L9: 170 | O9: =SUM(F9:N9) -> 170 | P9: =(F9*$F$5)+(G9*$G$5)+(H9*$H$5)+(I9*$I$5)+(J9*$J$5)+(K9*$K$5)+(L9*$L$5)+(M9*$M$5)+(N9*$N$5) -> 170
O10: =SUM(F10:N10) -> 0 | P10: =(F10*$F$5)+(G10*$G$5)+(H10*$H$5)+(I10*$I$5)+(J10*$J$5)+(K10*$K$5)+(L10*$L$5)+(M10*$M$5)+(N10*$N$5) -> 0
O11: =SUM(F11:N11) -> 0 | P11: =(F11*$F$5)+(G11*$G$5)+(H11*$H$5)+(I11*$I$5)+(J11*$J$5)+(K11*$K$5)+(L11*$L$5)+(M11*$M$5)+(N11*$N$5) -> 0
B12: TOTAL | C12: =SUM(C9:C11) -> 0 | D12: =SUM(D9:D11) -> 0 | E12: =SUM(E9:E11) -> 0 | F12: =SUM(F9:F11) -> 0 | G12: =SUM(G9:G11) -> 0 | H12: =SUM(H9:H11) -> 0 | I12: =SUM(I9:I11) -> 0 | J12: =SUM(J9:J11) -> 0 | ... P12: =SUM(P9:P11) -> 170

Sheet Zambia
B2: TEMPLE: Zambia
B3: MONTH : November 2017
C4: BTG Sub | D4: CC Set | E4: SB Set | F4: Mag. | G4: Small Books | I4: Medium Books | K4: Big Books | M4: Maha-Books
C5: 5 | F5: 0.1 | G5: 0.25 | H5: 0.25 | I5: 0.5 | J5: 0.5 | K5: 1 | L5: 1 | M5: 2 | N5: 2
B6: DEVOTEES | F6: M1 | G6: S1 | H6: H1 | I6: S2 | J6: H2 | K6: S3 | L6: H3 | M6: S4 | N6: H4 | O6: T/BKS | P6: Points
B9: Cumulative Scores | G9: 20 | I9: 21 | J9: 1 | K9: 2 | L9: 6 | N9: 15 | O9: =SUM(F9:N9) -> 65 | P9: =(F9*$F$5)+(G9*$G$5)+(H9*$H$5)+(I9*$I$5)+(J9*$J$5)+(K9*$K$5)+(L9*$L$5)+(M9*$M$5)+(N9*$N$5) -> 54
O10: =SUM(F10:N10) -> 0 | P10: =(F10*$F$5)+(G10*$G$5)+(H10*$H$5)+(I10*$I$5)+(J10*$J$5)+(K10*$K$5)+(L10*$L$5)+(M10*$M$5)+(N10*$N$5) -> 0
O11: =SUM(F11:N11) -> 0 | P11: =(F11*$F$5)+(G11*$G$5)+(H11*$H$5)+(I11*$I$5)+(J11*$J$5)+(K11*$K$5)+(L11*$L$5)+(M11*$M$5)+(N11*$N$5) -> 0
B12: TOTAL | C12: =SUM(C9:C11) -> 0 | D12: =SUM(D9:D11) -> 0 | E12: =SUM(E9:E11) -> 0 | F12: =SUM(F9:F11) -> 0 | G12: =SUM(G9:G11) -> 20 | H12: =SUM(H9:H11) -> 0 | I12: =SUM(I9:I11) -> 21 | J12: =SUM(J9:J11) -> 1 | ... P12: =SUM(P9:P11) -> 54

Sheet Summary
A2: Country | B2: Books: | C2: Points:
A4: Burkina Faso | B4: =SUM('Burkina Faso'!O11) -> 0 | C4: =SUM('Burkina Faso'!P11) -> 0
A5: DRC | B5: =SUM('Democratic Republic of Congo'!O18) -> 0 | C5: =SUM('Democratic Republic of Congo'!P18) -> 0
A6: Ivory Coast | B6: =SUM('Ivory Coast'!O14) -> 15 | C6: =SUM('Ivory Coast'!P14) -> 13
A7: Kenya | B7: =SUM(Kenya!O38) -> 0 | C7: =SUM(Kenya!P38) -> 0
A8: Malawi | B8: =SUM(Malawi!O11) -> 0 | C8: =SUM(Malawi!P11) -> 0
A9: Mauritius | B9: =SUM(Mauritius!O49) -> 0 | C9: =SUM(Mauritius!P49) -> 0
A10: Nigeria | B10: =SUM(Nigeria!O76) -> 0 | C10: =SUM(Nigeria!P76) -> 0
A11: South Africa | B11: =SUM('South Africa'!O129) -> 3417 | C11: =SUM('South Africa'!P129) -> 1271.9
A12: Togo | B12: =SUM(Togo!O12) -> 170 | C12: =SUM(Togo!P12) -> 170
A13: Zambia | B13: =SUM(Zambia!O12) -> 65 | C13: =SUM(Zambia!P12) -> 54
A15: Total: | B15: =SUM(B4:B14) -> 3667 | C15: =SUM(C4:C14) -> 1508.9
