Workbook
Name Excel_BuiltIn_Print_Area_1: [1]Malawi!#REF!
Name Excel_BuiltIn_Print_Area_1: [1]Malawi!#REF!
Name Excel_BuiltIn_Print_Area_1: [1]Malawi!#REF!
Name Excel_BuiltIn_Print_Area_1: [1]Malawi!#REF!
Name Excel_BuiltIn_Print_Area_1: [1]Malawi!#REF!
Name Excel_BuiltIn_Print_Area_1: [2]Malawi!#REF!
Name Excel_BuiltIn_Print_Area_1: [1]Malawi!#REF!
Name Excel_BuiltIn_Print_Area_1: [1]Malawi!#REF!

Sheet Democratic Republic of Congo
B2: TEMPLE: Kinshasa
B3: MONTH : January 2017
C4: BTG Sub | D4: CC Set | E4: SB Set | F4: Mag. | G4: Small Books | I4: Medium Books | K4: Big Books | M4: Maha-Books
C5: 5 | F5: 0.1 | G5: 0.25 | H5: 0.25 | I5: 0.5 | J5: 0.5 | K5: 1 | L5: 1 | M5: 2 | N5: 2
B6: DEVOTEES | F6: M1 | G6: S1 | H6: H1 | I6: S2 | J6: H2 | K6: S3 | L6: H3 | M6: S4 | N6: H4 | O6: T/BKS | P6: Points
O9: =SUM(F9:N9) -> 0 | P9: =(F9*$F$5)+(G9*$G$5)+(H9*$H$5)+(I9*$I$5)+(J9*$J$5)+(K9*$K$5)+(L9*$L$5)+(M9*$M$5)+(N9*$N$5) -> 0
O10: =SUM(F10:N10) -> 0 | P10: =(F10*$F$5)+(G10*$G$5)+(H10*$H$5)+(I10*$I$5)+(J10*$J$5)+(K10*$K$5)+(L10*$L$5)+(M10*$M$5)+(N10*$N$5) -> 0
O11: =SUM(F11:N11) -> 0 | P11: =(F11*$F$5)+(G11*$G$5)+(H11*$H$5)+(I11*$I$5)+(J11*$J$5)+(K11*$K$5)+(L11*$L$5)+(M11*$M$5)+(N11*$N$5) -> 0
O12: =SUM(F12:N12) -> 0 | P12: =(F12*$F$5)+(G12*$G$5)+(H12*$H$5)+(I12*$I$5)+(J12*$J$5)+(K12*$K$5)+(L12*$L$5)+(M12*$M$5)+(N12*$N$5) -> 0
O13: =SUM(F13:N13) -> 0 | P13: =(F13*$F$5)+(G13*$G$5)+(H13*$H$5)+(I13*$I$5)+(J13*$J$5)+(K13*$K$5)+(L13*$L$5)+(M13*$M$5)+(N13*$N$5) -> 0
O14: =SUM(F14:N14) -> 0 | P14: =(F14*$F$5)+(G14*$G$5)+(H14*$H$5)+(I14*$I$5)+(J14*$J$5)+(K14*$K$5)+(L14*$L$5)+(M14*$M$5)+(N14*$N$5) -> 0
O15: =SUM(F15:N15) -> 0 | P15: =(F15*$F$5)+(G15*$G$5)+(H15*$H$5)+(I15*$I$5)+(J15*$J$5)+(K15*$K$5)+(L15*$L$5)+(M15*$M$5)+(N15*$N$5) -> 0
O16: =SUM(F16:N16) -> 0 | P16: =(F16*$F$5)+(G16*$G$5)+(H16*$H$5)+(I16*$I$5)+(J16*$J$5)+(K16*$K$5)+(L16*$L$5)+(M16*$M$5)+(N16*$N$5) -> 0
O17: =SUM(F17:N17) -> 0 | P17: =(F17*$F$5)+(G17*$G$5)+(H17*$H$5)+(I17*$I$5)+(J17*$J$5)+(K17*$K$5)+(L17*$L$5)+(M17*$M$5)+(N17*$N$5) -> 0
B18: TOTAL | C18: =SUM(C9:C17) -> 0 | D18: =SUM(D9:D17) -> 0 | E18: =SUM(E9:E17) -> 0 | F18: =SUM(F9:F17) -> 0 | G18: =SUM(G9:G17) -> 0 | H18: =SUM(H9:H17) -> 0 | I18: =SUM(I9:I17) -> 0 | J18: =SUM(J9:J17) -> 0 | ... P18: =SUM(P9:P17) -> 0

Sheet Ivory Coast
B2: TEMPLE: Ivory Coast
B3: MONTH : September 2017
C4: BTG Sub | D4: CC Set | E4: SB Set | F4: Mag. | G4: Small Books | I4: Medium Books | K4: Big Books | M4: Maha-Books
C5: 5 | F5: 0.1 | G5: 0.25 | H5: 0.25 | I5: 0.5 | J5: 0.5 | K5: 1 | L5: 1 | M5: 2 | N5: 2
B6: DEVOTEES | F6: M1 | G6: S1 | H6: H1 | I6: S2 | J6: H2 | K6: S3 | L6: H3 | M6: S4 | N6: H4 | O6: T/BKS | P6: Points
B9: Bhakta Daniel | G9: 16 | O9: =SUM(F9:N9) -> 16 | P9: =(F9*$F$5)+(G9*$G$5)+(H9*$H$5)+(I9*$I$5)+(J9*$J$5)+(K9*$K$5)+(L9*$L$5)+(M9*$M$5)+(N9*$N$5) -> 4
O10: =SUM(F10:N10) -> 0 | P10: =(F10*$F$5)+(G10*$G$5)+(H10*$H$5)+(I10*$I$5)+(J10*$J$5)+(K10*$K$5)+(L10*$L$5)+(M10*$M$5)+(N10*$N$5) -> 0
O11: =SUM(F11:N11) -> 0 | P11: =(F11*$F$5)+(G11*$G$5)+(H11*$H$5)+(I11*$I$5)+(J11*$J$5)+(K11*$K$5)+(L11*$L$5)+(M11*$M$5)+(N11*$N$5) -> 0
O12: =SUM(F12:N12) -> 0 | P12: =(F12*$F$5)+(G12*$G$5)+(H12*$H$5)+(I12*$I$5)+(J12*$J$5)+(K12*$K$5)+(L12*$L$5)+(M12*$M$5)+(N12*$N$5) -> 0
O13: =SUM(F13:N13) -> 0 | P13: =(F13*$F$5)+(G13*$G$5)+(H13*$H$5)+(I13*$I$5)+(J13*$J$5)+(K13*$K$5)+(L13*$L$5)+(M13*$M$5)+(N13*$N$5) -> 0
B14: TOTAL | C14: =SUM(C9:C13) -> 0 | D14: =SUM(D9:D13) -> 0 | E14: =SUM(E9:E13) -> 0 | F14: =SUM(F9:F13) -> 0 | G14: =SUM(G9:G13) -> 16 | H14: =SUM(H9:H13) -> 0 | I14: =SUM(I9:I13) -> 0 | J14: =SUM(J9:J13) -> 0 | ... P14: =SUM(P9:P13) -> 4

Sheet Kenya
B2: TEMPLE: Nairobi | C2: Sri Sri Radha Bankebihari
B3: MONTH : January 2017
C4: BTG Sub | D4: CC Set | E4: SB Set | F4: mag | G4: Small Books | I4: Medium Books | K4: Big Books | M4: Maha-Books
C5: 5 | F5: 0.1 | G5: 0.25 | H5: 0.25 | I5: 0.5 | J5: 0.5 | K5: 1 | L5: 1 | M5: 2 | N5: 2
B6: DEVOTEES | F6: M1 | G6: S1 | H6: H1 | I6: S2 | J6: H2 | K6: S3 | L6: H3 | M6: S4 | N6: H4 | O6: T/BKS | P6: Points
B8: Iskcon Nairobi
O9: =SUM(C9:N9) -> 0 | P9: =(C9*$C$5)+(F9*$F$5)+(G9*$G$5)+(H9*$H$5)+(I9*$I$5)+(J9*$J$5)+(K9*$K$5)+(L9*$L$5)+(M9*$M$5)+(N9*$N$5) -> 0
O10: =SUM(F10:N10) -> 0 | P10: =(F10*$F$5)+(G10*$G$5)+(H10*$H$5)+(I10*$I$5)+(J10*$J$5)+(K10*$K$5)+(L10*$L$5)+(M10*$M$5)+(N10*$N$5) -> 0
O11: =SUM(F11:N11) -> 0 | P11: =(F11*$F$5)+(G11*$G$5)+(H11*$H$5)+(I11*$I$5)+(J11*$J$5)+(K11*$K$5)+(L11*$L$5)+(M11*$M$5)+(N11*$N$5) -> 0
O12: =SUM(F12:N12) -> 0 | P12: =(F12*$F$5)+(G12*$G$5)+(H12*$H$5)+(I12*$I$5)+(J12*$J$5)+(K12*$K$5)+(L12*$L$5)+(M12*$M$5)+(N12*$N$5) -> 0
O13: =SUM(F13:N13) -> 0 | P13: =(F13*$F$5)+(G13*$G$5)+(H13*$H$5)+(I13*$I$5)+(J13*$J$5)+(K13*$K$5)+(L13*$L$5)+(M13*$M$5)+(N13*$N$5) -> 0
O14: =SUM(F14:N14) -> 0 | P14: =(F14*$F$5)+(G14*$G$5)+(H14*$H$5)+(I14*$I$5)+(J14*$J$5)+(K14*$K$5)+(L14*$L$5)+(M14*$M$5)+(N14*$N$5) -> 0
O15: =SUM(F15:N15) -> 0 | P15: =(F15*$F$5)+(G15*$G$5)+(H15*$H$5)+(I15*$I$5)+(J15*$J$5)+(K15*$K$5)+(L15*$L$5)+(M15*$M$5)+(N15*$N$5) -> 0
O16: =SUM(F16:N16) -> 0 | P16: =(F16*$F$5)+(G16*$G$5)+(H16*$H$5)+(I16*$I$5)+(J16*$J$5)+(K16*$K$5)+(L16*$L$5)+(M16*$M$5)+(N16*$N$5) -> 0
O17: =SUM(F17:N17) -> 0 | P17: =(F17*$F$5)+(G17*$G$5)+(H17*$H$5)+(I17*$I$5)+(J17*$J$5)+(K17*$K$5)+(L17*$L$5)+(M17*$M$5)+(N17*$N$5) -> 0
O18: =SUM(F18:N18) -> 0 | P18: =(F18*$F$5)+(G18*$G$5)+(H18*$H$5)+(I18*$I$5)+(J18*$J$5)+(K18*$K$5)+(L18*$L$5)+(M18*$M$5)+(N18*$N$5) -> 0
O19: =SUM(F19:N19) -> 0 | P19: =(F19*$F$5)+(G19*$G$5)+(H19*$H$5)+(I19*$I$5)+(J19*$J$5)+(K19*$K$5)+(L19*$L$5)+(M19*$M$5)+(N19*$N$5) -> 0
O20: =SUM(F20:N20) -> 0 | P20: =(F20*$F$5)+(G20*$G$5)+(H20*$H$5)+(I20*$I$5)+(J20*$J$5)+(K20*$K$5)+(L20*$L$5)+(M20*$M$5)+(N20*$N$5) -> 0
O21: =SUM(F21:N21) -> 0 | P21: =(F21*$F$5)+(G21*$G$5)+(H21*$H$5)+(I21*$I$5)+(J21*$J$5)+(K21*$K$5)+(L21*$L$5)+(M21*$M$5)+(N21*$N$5) -> 0
B22: TOTAL | C22: =SUM(C9:C21) -> 0 | D22: =SUM(D9:D21) -> 0 | E22: =SUM(E9:E21) -> 0 | F22: =SUM(F9:F21) -> 0 | G22: =SUM(G9:G21) -> 0 | H22: =SUM(H9:H21) -> 0 | I22: =SUM(I9:I21) -> 0 | J22: =SUM(J9:J21) -> 0 | ... P22: =SUM(P9:P21) -> 0
B25: Iskcon Kisumu
O26: =SUM(F26:N26) -> 0 | P26: =(F26*$F$5)+(G26*$G$5)+(H26*$H$5)+(I26*$I$5)+(J26*$J$5)+(K26*$K$5)+(L26*$L$5)+(M26*$M$5)+(N26*$N$5) -> 0
O27: =SUM(F27:N27) -> 0 | P27: =(F27*$F$5)+(G27*$G$5)+(H27*$H$5)+(I27*$I$5)+(J27*$J$5)+(K27*$K$5)+(L27*$L$5)+(M27*$M$5)+(N27*$N$5) -> 0
B28: TOTAL | C28: =SUM(C26:C27) -> 0 | D28: =SUM(D26:D27) -> 0 | E28: =SUM(E26:E27) -> 0 | F28: =SUM(F26:F27) -> 0 | G28: =SUM(G26:G27) -> 0 | H28: =SUM(H26:H27) -> 0 | I28: =SUM(I26:I27) -> 0 | J28: =SUM(J26:J27) -> 0 | ... P28: =SUM(P26:P27) -> 0
B31: Iskcon Mombassa
O32: =SUM(F32:N32) -> 0 | P32: =(F32*$F$5)+(G32*$G$5)+(H32*$H$5)+(I32*$I$5)+(J32*$J$5)+(K32*$K$5)+(L32*$L$5)+(M32*$M$5)+(N32*$N$5) -> 0
O33: =SUM(F33:N33) -> 0 | P33: =(F33*$F$5)+(G33*$G$5)+(H33*$H$5)+(I33*$I$5)+(J33*$J$5)+(K33*$K$5)+(L33*$L$5)+(M33*$M$5)+(N33*$N$5) -> 0
O34: =SUM(C34:N34) -> 0 | P34: =(C34*$C$5)+(G34*$G$5)+(H34*$H$5)+(I34*$I$5)+(J34*$J$5)+(K34*$K$5)+(L34*$L$5)+(M34*$M$5)+(N34*$N$5) -> 0
P35: =(F35*$F$5)+(G35*$G$5)+(H35*$H$5)+(I35*$I$5)+(J35*$J$5)+(K35*$K$5)+(L35*$L$5)+(M35*$M$5)+(N35*$N$5) -> 0
B36: TOTAL | C36: =SUM(C32:C33) -> 0 | D36: =SUM(D32:D33) -> 0 | E36: =SUM(E32:E33) -> 0 | F36: =SUM(F32:F35) -> 0 | G36: =SUM(G32:G35) -> 0 | H36: =SUM(H32:H35) -> 0 | I36: =SUM(I32:I35) -> 0 | J36: =SUM(J32:J35) -> 0 | K36: =SUM(K32:K35) -> 0 | L36: =SUM(L32:L35) -> 0 | M36: =SUM(M32:M35) -> 0 | ... P36: =SUM(P32:P35) -> 0
N38: Total: | O38: =SUM(O22+O28+O36) -> 0 | P38: =SUM(P22+P28+P36) -> 0

Sheet Malawi
B2: TEMPLE: Blantyre
B3: MONTH : January 2017
C4: BTG Sub | D4: CC Set | E4: SB Set | F4: Mag. | G4: Small Books | I4: Medium Books | K4: Big Books | M4: Maha-Books
C5: 5 | F5: 0.1 | G5: 0.25 | H5: 0.25 | I5: 0.5 | J5: 0.5 | K5: 1 | L5: 1 | M5: 2 | N5: 2
B6: DEVOTEES | F6: M1 | G6: S1 | H6: H1 | I6: S2 | J6: H2 | K6: S3 | L6: H3 | M6: S4 | N6: H4 | O6: T/BKS | P6: Points
O9: =SUM(F9:N9) -> 0 | P9: =(F9*$F$5)+(G9*$G$5)+(H9*$H$5)+(I9*$I$5)+(J9*$J$5)+(K9*$K$5)+(L9*$L$5)+(M9*$M$5)+(N9*$N$5) -> 0
B11: TOTAL | C11: =SUM(C9:C10) -> 0 | D11: =SUM(D9:D10) -> 0 | E11: =SUM(E9:E10) -> 0 | F11: =SUM(F9:F10) -> 0 | G11: =SUM(G9:G10) -> 0 | H11: =SUM(H9:H10) -> 0 | I11: =SUM(I9:I10) -> 0 | J11: =SUM(J9:J10) -> 0 | ... P11: =SUM(P9:P10) -> 0

Sheet Mauritius
B2: MONTH : January 2017 | C2: BTG Sub | D2: CC Set | E2: SB Set | F2: Mag. | G2: Small Books | I2: Medium Books | K2: Big Books | M2: Maha-Books
C3: 5 | D3: 18 | E3: 36 | F3: 0.1 | G3: 0.25 | H3: 0.25 | I3: 0.5 | J3: 0.5 | K3: 1 | L3: 1 | M3: 2 | N3: 2
B4: DEVOTEES | F4: M1 | G4: S1 | H4: H1 | I4: S2 | J4: H2 | K4: S3 | L4: H3 | M4: S4 | N4: H4 | O4: T/BKS | P4: Points
B6: ISKCON Phoenix Sri Sri Radha Gokulananda Mandir
O7: =SUM(F7:N7) -> 0 | P7: =(F7*$F$3)+(G7*$G$3)+(H7*$H$3)+(I7*$I$3)+(J7*$J$3)+(K7*$K$3)+(L7*$L$3)+(M7*$M$3)+(N7*$N$3) -> 0
O8: =SUM(F8:N8) -> 0 | P8: =(F8*$F$3)+(G8*$G$3)+(H8*$H$3)+(I8*$I$3)+(J8*$J$3)+(K8*$K$3)+(L8*$L$3)+(M8*$M$3)+(N8*$N$3) -> 0
O9: =SUM(F9:N9) -> 0 | P9: =(F9*$F$3)+(G9*$G$3)+(H9*$H$3)+(I9*$I$3)+(J9*$J$3)+(K9*$K$3)+(L9*$L$3)+(M9*$M$3)+(N9*$N$3) -> 0
O10: =SUM(F10:N10) -> 0 | P10: =(F10*$F$3)+(G10*$G$3)+(H10*$H$3)+(I10*$I$3)+(J10*$J$3)+(K10*$K$3)+(L10*$L$3)+(M10*$M$3)+(N10*$N$3) -> 0
O11: =SUM(F11:N11) -> 0 | P11: =(F11*$F$3)+(G11*$G$3)+(H11*$H$3)+(I11*$I$3)+(J11*$J$3)+(K11*$K$3)+(L11*$L$3)+(M11*$M$3)+(N11*$N$3) -> 0
O12: =SUM(F12:N12) -> 0 | P12: =(F12*$F$3)+(G12*$G$3)+(H12*$H$3)+(I12*$I$3)+(J12*$J$3)+(K12*$K$3)+(L12*$L$3)+(M12*$M$3)+(N12*$N$3) -> 0
O13: =SUM(F13:N13) -> 0 | P13: =(F13*$F$3)+(G13*$G$3)+(H13*$H$3)+(I13*$I$3)+(J13*$J$3)+(K13*$K$3)+(L13*$L$3)+(M13*$M$3)+(N13*$N$3) -> 0
O14: =SUM(F14:N14) -> 0 | P14: =(F14*$F$3)+(G14*$G$3)+(H14*$H$3)+(I14*$I$3)+(J14*$J$3)+(K14*$K$3)+(L14*$L$3)+(M14*$M$3)+(N14*$N$3) -> 0
O15: =SUM(F15:N15) -> 0 | P15: =(F15*$F$3)+(G15*$G$3)+(H15*$H$3)+(I15*$I$3)+(J15*$J$3)+(K15*$K$3)+(L15*$L$3)+(M15*$M$3)+(N15*$N$3) -> 0
O16: =SUM(F16:N16) -> 0 | P16: =(F16*$F$3)+(G16*$G$3)+(H16*$H$3)+(I16*$I$3)+(J16*$J$3)+(K16*$K$3)+(L16*$L$3)+(M16*$M$3)+(N16*$N$3) -> 0
O17: =SUM(F17:N17) -> 0 | P17: =(F17*$F$3)+(G17*$G$3)+(H17*$H$3)+(I17*$I$3)+(J17*$J$3)+(K17*$K$3)+(L17*$L$3)+(M17*$M$3)+(N17*$N$3) -> 0
O18: =SUM(F18:N18) -> 0 | P18: =(F18*$F$3)+(G18*$G$3)+(H18*$H$3)+(I18*$I$3)+(J18*$J$3)+(K18*$K$3)+(L18*$L$3)+(M18*$M$3)+(N18*$N$3) -> 0
... O38: =SUM(F38:N38) -> 0 | P38: =(F38*$F$3)+(G38*$G$3)+(H38*$H$3)+(I38*$I$3)+(J38*$J$3)+(K38*$K$3)+(L38*$L$3)+(M38*$M$3)+(N38*$N$3) -> 0
B39: TOTAL | C39: =SUM(C7:C38) -> 0 | D39: =SUM(D7:D38) -> 0 | E39: =SUM(E7:E38) -> 0 | F39: =SUM(F7:F38) -> 0 | G39: =SUM(G7:G38) -> 0 | H39: =SUM(H7:H38) -> 0 | I39: =SUM(I7:I38) -> 0 | J39: =SUM(J7:J38) -> 0 | ... P39: =SUM(P7:P38) -> 0
B42: ISKCON Bon Accueil Mauritius Sri Sri Krsna Balaram Mandir
O43: =SUM(F43:N43) -> 0 | P43: =(C43*$C$3)+(F43*$F$3)+(G43*$G$3)+(H43*$H$3)+(I43*$I$3)+(J43*$J$3)+(K43*$K$3)+(L43*$L$3)+(M43*$M$3)+(N43*$N$3) -> 0
O44: =SUM(F44:N44) -> 0 | P44: =(F44*$F$3)+(G44*$G$3)+(H44*$H$3)+(I44*$I$3)+(J44*$J$3)+(K44*$K$3)+(L44*$L$3)+(M44*$M$3)+(N44*$N$3) -> 0
O45: =SUM(F45:N45) -> 0 | P45: =(F45*$F$3)+(G45*$G$3)+(H45*$H$3)+(I45*$I$3)+(J45*$J$3)+(K45*$K$3)+(L45*$L$3)+(M45*$M$3)+(N45*$N$3) -> 0
B46: TOTAL | C46: =SUM(C43:C45) -> 0 | D46: =SUM(D43:D45) -> 0 | E46: =SUM(E43:E45) -> 0 | F46: =SUM(F43:F45) -> 0 | G46: =SUM(G43:G45) -> 0 | H46: =SUM(H43:H45) -> 0 | I46: =SUM(I43:I45) -> 0 | J46: =SUM(J43:J45) -> 0 | ... P46: =SUM(P43:P45) -> 0
M49: TOTAL | O49: =+O46+O39 -> 0 | P49: =+P46+P39 -> 0

Sheet Nigeria
B1: MONTH : September 2017
C2: BTG Sub | D2: CC Set | E2: SB Set | F2: Mag. | G2: Small Books | I2: Medium Books | K2: Big Books | M2: Maha-Books
C3: 5 | D3: 18 | E3: 36 | F3: 0.1 | G3: 0.25 | H3: 0.25 | I3: 0.5 | J3: 0.5 | K3: 1 | L3: 1 | M3: 2 | N3: 2
B4: DEVOTEES | F4: M1 | G4: S1 | H4: H1 | I4: S2 | J4: H2 | K4: S3 | L4: H3 | M4: S4 | N4: H4 | O4: T/BKS | P4: Points
B6: ISKCON BENIN CITY
B7: Temple Cumulative Scores | O7: =SUM(C7:N7) -> 0 | P7: =(C7*$C$3)+(F7*$F$3)+(G7*$G$3)+(H7*$H$3)+(I7*$I$3)+(J7*$J$3)+(K7*$K$3)+(L7*$L$3)+(M7*$M$3)+(N7*$N$3) -> 0
O8: =SUM(F8:N8) -> 0 | P8: =(F8*$F$3)+(G8*$G$3)+(H8*$H$3)+(I8*$I$3)+(J8*$J$3)+(K8*$K$3)+(L8*$L$3)+(M8*$M$3)+(N8*$N$3) -> 0
O9: =SUM(F9:N9) -> 0 | P9: =(F9*$F$3)+(G9*$G$3)+(H9*$H$3)+(I9*$I$3)+(J9*$J$3)+(K9*$K$3)+(L9*$L$3)+(M9*$M$3)+(N9*$N$3) -> 0
O10: =SUM(F10:N10) -> 0 | P10: =(F10*$F$3)+(G10*$G$3)+(H10*$H$3)+(I10*$I$3)+(J10*$J$3)+(K10*$K$3)+(L10*$L$3)+(M10*$M$3)+(N10*$N$3) -> 0
O11: =SUM(F11:N11) -> 0 | P11: =(F11*$F$3)+(G11*$G$3)+(H11*$H$3)+(I11*$I$3)+(J11*$J$3)+(K11*$K$3)+(L11*$L$3)+(M11*$M$3)+(N11*$N$3) -> 0
O12: =SUM(F12:N12) -> 0 | P12: =(F12*$F$3)+(G12*$G$3)+(H12*$H$3)+(I12*$I$3)+(J12*$J$3)+(K12*$K$3)+(L12*$L$3)+(M12*$M$3)+(N12*$N$3) -> 0
O13: =SUM(F13:N13) -> 0 | P13: =(F13*$F$3)+(G13*$G$3)+(H13*$H$3)+(I13*$I$3)+(J13*$J$3)+(K13*$K$3)+(L13*$L$3)+(M13*$M$3)+(N13*$N$3) -> 0
O14: =SUM(F14:N14) -> 0 | P14: =(F14*$F$3)+(G14*$G$3)+(H14*$H$3)+(I14*$I$3)+(J14*$J$3)+(K14*$K$3)+(L14*$L$3)+(M14*$M$3)+(N14*$N$3) -> 0
O15: =SUM(F15:N15) -> 0 | P15: =(F15*$F$3)+(G15*$G$3)+(H15*$H$3)+(I15*$I$3)+(J15*$J$3)+(K15*$K$3)+(L15*$L$3)+(M15*$M$3)+(N15*$N$3) -> 0
O16: =SUM(F16:N16) -> 0 | P16: =(F16*$F$3)+(G16*$G$3)+(H16*$H$3)+(I16*$I$3)+(J16*$J$3)+(K16*$K$3)+(L16*$L$3)+(M16*$M$3)+(N16*$N$3) -> 0
O17: =SUM(F17:N17) -> 0 | P17: =(F17*$F$3)+(G17*$G$3)+(H17*$H$3)+(I17*$I$3)+(J17*$J$3)+(K17*$K$3)+(L17*$L$3)+(M17*$M$3)+(N17*$N$3) -> 0
O18: =SUM(F18:N18) -> 0 | P18: =(F18*$F$3)+(G18*$G$3)+(H18*$H$3)+(I18*$I$3)+(J18*$J$3)+(K18*$K$3)+(L18*$L$3)+(M18*$M$3)+(N18*$N$3) -> 0
O19: =SUM(F19:N19) -> 0 | P19: =(F19*$F$3)+(G19*$G$3)+(H19*$H$3)+(I19*$I$3)+(J19*$J$3)+(K19*$K$3)+(L19*$L$3)+(M19*$M$3)+(N19*$N$3) -> 0
... O21: =SUM(F21:N21) -> 0 | P21: =(F21*$F$3)+(G21*$G$3)+(H21*$H$3)+(I21*$I$3)+(J21*$J$3)+(K21*$K$3)+(L21*$L$3)+(M21*$M$3)+(N21*$N$3) -> 0
B22: TOTAL | C22: =SUM(C7:C21) -> 0 | D22: =SUM(D7:D21) -> 0 | E22: =SUM(E7:E21) -> 0 | F22: =SUM(F7:F21) -> 0 | G22: =SUM(G7:G21) -> 0 | H22: =SUM(H7:H21) -> 0 | I22: =SUM(I7:I21) -> 0 | J22: =SUM(J7:J21) -> 0 | ... P22: =SUM(P7:P21) -> 0
B25: ISKCON LAGOS
B26: Cumulative Scores | F26: 2217 | G26: 78 | I26: 44 | L26: 17 | N26: 9 | O26: =SUM(F26:N26) -> 2365 | P26: =(F26*$F$3)+(G26*$G$3)+(H26*$H$3)+(I26*$I$3)+(J26*$J$3)+(K26*$K$3)+(L26*$L$3)+(M26*$M$3)+(N26*$N$3) -> 298.2
O27: =SUM(F27:N27) -> 0 | P27: =(F27*$F$3)+(G27*$G$3)+(H27*$H$3)+(I27*$I$3)+(J27*$J$3)+(K27*$K$3)+(L27*$L$3)+(M27*$M$3)+(N27*$N$3) -> 0
O28: =SUM(F28:N28) -> 0 | P28: =(F28*$F$3)+(G28*$G$3)+(H28*$H$3)+(I28*$I$3)+(J28*$J$3)+(K28*$K$3)+(L28*$L$3)+(M28*$M$3)+(N28*$N$3) -> 0
B29: TOTAL | C29: =SUM(C26:C28) -> 0 | D29: =SUM(D26:D28) -> 0 | E29: =SUM(E26:E28) -> 0 | F29: =SUM(F26:F28) -> 2217 | G29: =SUM(G26:G28) -> 78 | H29: =SUM(H26:H28) -> 0 | I29: =SUM(I26:I28) -> 44 | J29: =SUM(J26:J28) -> 0 | ... P29: =SUM(P26:P28) -> 298.2
B32: ISKCON PORT HARCOURT
O33: =SUM(F33:N33) -> 0 | P33: =(F33*$F$3)+(G33*$G$3)+(H33*$H$3)+(I33*$I$3)+(J33*$J$3)+(K33*$K$3)+(L33*$L$3)+(M33*$M$3)+(N33*$N$3) -> 0
O34: =SUM(F34:N34) -> 0 | P34: =(F34*$F$3)+(G34*$G$3)+(H34*$H$3)+(I34*$I$3)+(J34*$J$3)+(K34*$K$3)+(L34*$L$3)+(M34*$M$3)+(N34*$N$3) -> 0
O35: =SUM(F35:N35) -> 0 | P35: =(F35*$F$3)+(G35*$G$3)+(H35*$H$3)+(I35*$I$3)+(J35*$J$3)+(K35*$K$3)+(L35*$L$3)+(M35*$M$3)+(N35*$N$3) -> 0
O36: =SUM(F36:N36) -> 0 | P36: =(F36*$F$3)+(G36*$G$3)+(H36*$H$3)+(I36*$I$3)+(J36*$J$3)+(K36*$K$3)+(L36*$L$3)+(M36*$M$3)+(N36*$N$3) -> 0
O37: =SUM(F37:N37) -> 0 | P37: =(F37*$F$3)+(G37*$G$3)+(H37*$H$3)+(I37*$I$3)+(J37*$J$3)+(K37*$K$3)+(L37*$L$3)+(M37*$M$3)+(N37*$N$3) -> 0
O38: =SUM(F38:N38) -> 0 | P38: =(F38*$F$3)+(G38*$G$3)+(H38*$H$3)+(I38*$I$3)+(J38*$J$3)+(K38*$K$3)+(L38*$L$3)+(M38*$M$3)+(N38*$N$3) -> 0
O39: =SUM(F39:N39) -> 0 | P39: =(F39*$F$3)+(G39*$G$3)+(H39*$H$3)+(I39*$I$3)+(J39*$J$3)+(K39*$K$3)+(L39*$L$3)+(M39*$M$3)+(N39*$N$3) -> 0
O40: =SUM(F40:N40) -> 0 | P40: =(F40*$F$3)+(G40*$G$3)+(H40*$H$3)+(I40*$I$3)+(J40*$J$3)+(K40*$K$3)+(L40*$L$3)+(M40*$M$3)+(N40*$N$3) -> 0
O41: =SUM(F41:N41) -> 0 | P41: =(F41*$F$3)+(G41*$G$3)+(H41*$H$3)+(I41*$I$3)+(J41*$J$3)+(K41*$K$3)+(L41*$L$3)+(M41*$M$3)+(N41*$N$3) -> 0
O42: =SUM(F42:N42) -> 0 | P42: =(F42*$F$3)+(G42*$G$3)+(H42*$H$3)+(I42*$I$3)+(J42*$J$3)+(K42*$K$3)+(L42*$L$3)+(M42*$M$3)+(N42*$N$3) -> 0
O43: =SUM(F43:N43) -> 0 | P43: =(F43*$F$3)+(G43*$G$3)+(H43*$H$3)+(I43*$I$3)+(J43*$J$3)+(K43*$K$3)+(L43*$L$3)+(M43*$M$3)+(N43*$N$3) -> 0
O44: =SUM(F44:N44) -> 0 | P44: =(F44*$F$3)+(G44*$G$3)+(H44*$H$3)+(I44*$I$3)+(J44*$J$3)+(K44*$K$3)+(L44*$L$3)+(M44*$M$3)+(N44*$N$3) -> 0
... O56: =SUM(F56:N56) -> 0 | P56: =(F56*$F$3)+(G56*$G$3)+(H56*$H$3)+(I56*$I$3)+(J56*$J$3)+(K56*$K$3)+(L56*$L$3)+(M56*$M$3)+(N56*$N$3) -> 0
B57: TOTAL | C57: =SUM(C54:C56) -> 0 | D57: =SUM(D33:D56) -> 0 | E57: =SUM(E33:E56) -> 0 | F57: =SUM(F54:F56) -> 0 | G57: =SUM(G33:G56) -> 0 | H57: =SUM(H33:H56) -> 0 | I57: =SUM(I33:I56) -> 0 | J57: =SUM(J33:J56) -> 0 | K57: =SUM(K33:K56) -> 0 | L57: =SUM(L33:L56) -> 0 | M57: =SUM(M33:M56) -> 0 | N57: =SUM(N33:N56) -> 0 | ... P57: =SUM(P33:P56) -> 0
M61: TOTAL | O61: =O57+O29+O22 -> 2365 | P61: =P57+P29+P22 -> 298.2

Sheet South Africa
B1: MONTH : September 2017
C2: BTG Sub | D2: CC Set | E2: SB Set | F2: Mag. | G2: Small Books | I2: Medium Books | K2: Big Books | M2: Maha-Books
C3: 5 | D3: 18 | E3: 36 | F3: 0.1 | G3: 0.25 | H3: 0.25 | I3: 0.5 | J3: 0.5 | K3: 1 | L3: 1 | M3: 2 | N3: 2
B4: DEVOTEES | F4: M1 | G4: S1 | H4: H1 | I4: S2 | J4: H2 | K4: S3 | L4: H3 | M4: S4 | N4: H4 | O4: T/BKS | P4: Points
B6: Bhakti Lounge Johannesburg
B7: Bhaktin Itumeleng, Mukundanghri dasa, Bhakta Yogi, Aghari Krsna dasa, Bhaktin Nalayne (team) | G7: 22 | H7: 2 | I7: 6 | K7: 1 | N7: 6 | O7: =SUM(C7:N7) -> 37 | P7: =(C7*$C$3)+(F7*$F$3)+(G7*$G$3)+(H7*$H$3)+(I7*$I$3)+(J7*$J$3)+(K7*$K$3)+(L7*$L$3)+(M7*$M$3)+(N7*$N$3) -> 22
B8: Bhaktin Itumeleng | G8: 2 | I8: 2 | N8: 2 | O8: =SUM(F8:N8) -> 6 | P8: =(F8*$F$3)+(G8*$G$3)+(H8*$H$3)+(I8*$I$3)+(J8*$J$3)+(K8*$K$3)+(L8*$L$3)+(M8*$M$3)+(N8*$N$3) -> 5.5
B9: Mukundanghri dasa | G9: 2 | H9: 3 | O9: =SUM(F9:N9) -> 5 | P9: =(F9*$F$3)+(G9*$G$3)+(H9*$H$3)+(I9*$I$3)+(J9*$J$3)+(K9*$K$3)+(L9*$L$3)+(M9*$M$3)+(N9*$N$3) -> 1.25
O10: =SUM(F10:N10) -> 0 | P10: =(F10*$F$3)+(G10*$G$3)+(H10*$H$3)+(I10*$I$3)+(J10*$J$3)+(K10*$K$3)+(L10*$L$3)+(M10*$M$3)+(N10*$N$3) -> 0
B11: TOTAL | C11: =SUM(C7:C10) -> 0 | D11: =SUM(D7:D10) -> 0 | E11: =SUM(E7:E10) -> 0 | F11: =SUM(F7:F10) -> 0 | G11: =SUM(G7:G10) -> 26 | H11: =SUM(H7:H10) -> 5 | I11: =SUM(I7:I10) -> 8 | J11: =SUM(J7:J10) -> 0 | ... P11: =SUM(P7:P10) -> 28.75
B14: ISKCON BLOEMFONTEIN
B15: Cumulative Scores | G15: 15 | O15: =SUM(F15:N15) -> 15 | P15: =(F15*$F$3)+(G15*$G$3)+(H15*$H$3)+(I15*$I$3)+(J15*$J$3)+(K15*$K$3)+(L15*$L$3)+(M15*$M$3)+(N15*$N$3) -> 3.75
O16: =SUM(F16:N16) -> 0 | P16: =(F16*$F$3)+(G16*$G$3)+(H16*$H$3)+(I16*$I$3)+(J16*$J$3)+(K16*$K$3)+(L16*$L$3)+(M16*$M$3)+(N16*$N$3) -> 0
O17: =SUM(F17:N17) -> 0 | P17: =(F17*$F$3)+(G17*$G$3)+(H17*$H$3)+(I17*$I$3)+(J17*$J$3)+(K17*$K$3)+(L17*$L$3)+(M17*$M$3)+(N17*$N$3) -> 0
B18: TOTAL | C18: =SUM(C16:C17) -> 0 | D18: =SUM(D15:D17) -> 0 | E18: =SUM(E15:E17) -> 0 | F18: =SUM(F16:F17) -> 0 | G18: =SUM(G15:G17) -> 15 | H18: =SUM(H15:H17) -> 0 | I18: =SUM(I15:I17) -> 0 | J18: =SUM(J15:J17) -> 0 | K18: =SUM(K15:K17) -> 0 | L18: =SUM(L15:L17) -> 0 | M18: =SUM(M15:M17) -> 0 | N18: =SUM(N15:N17) -> 0 | ... P18: =SUM(P15:P17) -> 3.75
B21: ISKCON DURBAN
B22: Nikunja Sevi Dasi | G22: 322 | I22: 20 | K22: 40 | N22: 40 | O22: =SUM(F22:N22) -> 422 | P22: =(F22*$F$3)+(G22*$G$3)+(H22*$H$3)+(I22*$I$3)+(J22*$J$3)+(K22*$K$3)+(L22*$L$3)+(M22*$M$3)+(N22*$N$3) -> 210.5
B23: Monthly Sankirtan Festival | E23: 1 | G23: 175 | I23: 61 | K23: 14 | N23: 30 | O23: =SUM(F23:N23) -> 280 | P23: =(F23*$F$3)+(G23*$G$3)+(H23*$H$3)+(I23*$I$3)+(J23*$J$3)+(K23*$K$3)+(L23*$L$3)+(M23*$M$3)+(N23*$N$3) -> 148.25
B24: Radha Vinod Dasi | G24: 10 | I24: 11 | N24: 18 | O24: =SUM(F24:N24) -> 39 | P24: =(F24*$F$3)+(G24*$G$3)+(H24*$H$3)+(I24*$I$3)+(J24*$J$3)+(K24*$K$3)+(L24*$L$3)+(M24*$M$3)+(N24*$N$3) -> 44
B25: Sukumari Dd | G25: 30 | I25: 56 | O25: =SUM(F25:N25) -> 86 | P25: =(F25*$F$3)+(G25*$G$3)+(H25*$H$3)+(I25*$I$3)+(J25*$J$3)+(K25*$K$3)+(L25*$L$3)+(M25*$M$3)+(N25*$N$3) -> 35.5
B26: Vibhu Caitanya Das | K26: 10 | N26: 9 | O26: =SUM(F26:N26) -> 19 | P26: =(F26*$F$3)+(G26*$G$3)+(H26*$H$3)+(I26*$I$3)+(J26*$J$3)+(K26*$K$3)+(L26*$L$3)+(M26*$M$3)+(N26*$N$3) -> 28
B27: Book Counter | G27: 65 | K27: 5 | N27: 3 | O27: =SUM(F27:N27) -> 73 | P27: =(F27*$F$3)+(G27*$G$3)+(H27*$H$3)+(I27*$I$3)+(J27*$J$3)+(K27*$K$3)+(L27*$L$3)+(M27*$M$3)+(N27*$N$3) -> 27.25
B28: Padayatra S.A | G28: 50 | K28: 5 | O28: =SUM(F28:N28) -> 55 | P28: =(F28*$F$3)+(G28*$G$3)+(H28*$H$3)+(I28*$I$3)+(J28*$J$3)+(K28*$K$3)+(L28*$L$3)+(M28*$M$3)+(N28*$N$3) -> 17.5
B29: Radha Kund Seva Dd | G29: 21 | K29: 5 | N29: 3 | O29: =SUM(F29:N29) -> 29 | P29: =(F29*$F$3)+(G29*$G$3)+(H29*$H$3)+(I29*$I$3)+(J29*$J$3)+(K29*$K$3)+(L29*$L$3)+(M29*$M$3)+(N29*$N$3) -> 16.25
B30: Chandrakanta Das | G30: 10 | K30: 11 | O30: =SUM(F30:N30) -> 21 | P30: =(F30*$F$3)+(G30*$G$3)+(H30*$H$3)+(I30*$I$3)+(J30*$J$3)+(K30*$K$3)+(L30*$L$3)+(M30*$M$3)+(N30*$N$3) -> 13.5
B31: Anand Govinden | G31: 5 | K31: 11 | O31: =SUM(F31:N31) -> 16 | P31: =(F31*$F$3)+(G31*$G$3)+(H31*$H$3)+(I31*$I$3)+(J31*$J$3)+(K31*$K$3)+(L31*$L$3)+(M31*$M$3)+(N31*$N$3) -> 12.25
B32: Vrajanath Das | G32: 26 | I32: 2 | N32: 2 | O32: =SUM(F32:N32) -> 30 | P32: =(F32*$F$3)+(G32*$G$3)+(H32*$H$3)+(I32*$I$3)+(J32*$J$3)+(K32*$K$3)+(L32*$L$3)+(M32*$M$3)+(N32*$N$3) -> 11.5
B33: Maturasvara Das | G33: 14 | I33: 7 | K33: 2 | N33: 1 | O33: =SUM(F33:N33) -> 24 | P33: =(F33*$F$3)+(G33*$G$3)+(H33*$H$3)+(I33*$I$3)+(J33*$J$3)+(K33*$K$3)+(L33*$L$3)+(M33*$M$3)+(N33*$N$3) -> 11
B34: Gandharvika Dd | G34: 23 | N34: 2 | O34: =SUM(F34:N34) -> 25 | P34: =(F34*$F$3)+(G34*$G$3)+(H34*$H$3)+(I34*$I$3)+(J34*$J$3)+(K34*$K$3)+(L34*$L$3)+(M34*$M$3)+(N34*$N$3) -> 9.75
B35: Srila Prabhupada Prema Nh | G35: 6 | I35: 4 | K35: 2 | N35: 1 | O35: =SUM(F35:N35) -> 13 | P35: =(F35*$F$3)+(G35*$G$3)+(H35*$H$3)+(I35*$I$3)+(J35*$J$3)+(K35*$K$3)+(L35*$L$3)+(M35*$M$3)+(N35*$N$3) -> 7.5
B36: Hari Vilas & Radha Vilas | G36: 30 | O36: =SUM(F36:N36) -> 30 | P36: =(F36*$F$3)+(G36*$G$3)+(H36*$H$3)+(I36*$I$3)+(J36*$J$3)+(K36*$K$3)+(L36*$L$3)+(M36*$M$3)+(N36*$N$3) -> 7.5
B37: Indrani Sunker | G37: 30 | O37: =SUM(F37:N37) -> 30 | P37: =(F37*$F$3)+(G37*$G$3)+(H37*$H$3)+(I37*$I$3)+(J37*$J$3)+(K37*$K$3)+(L37*$L$3)+(M37*$M$3)+(N37*$N$3) -> 7.5
B38: Narahari Das | G38: 25 | K38: 1 | O38: =SUM(F38:N38) -> 26 | P38: =(F38*$F$3)+(G38*$G$3)+(H38*$H$3)+(I38*$I$3)+(J38*$J$3)+(K38*$K$3)+(L38*$L$3)+(M38*$M$3)+(N38*$N$3) -> 7.25
B39: Radha Bhav Dd | G39: 25 | K39: 1 | O39: =SUM(F39:N39) -> 26 | P39: =(F39*$F$3)+(G39*$G$3)+(H39*$H$3)+(I39*$I$3)+(J39*$J$3)+(K39*$K$3)+(L39*$L$3)+(M39*$M$3)+(N39*$N$3) -> 7.25
B40: Prabha Moodley | G40: 25 | I40: 2 | O40: =SUM(F40:N40) -> 27 | P40: =(F40*$F$3)+(G40*$G$3)+(H40*$H$3)+(I40*$I$3)+(J40*$J$3)+(K40*$K$3)+(L40*$L$3)+(M40*$M$3)+(N40*$N$3) -> 7.25
B41: Astamanjari Dasi | G41: 25 | O41: =SUM(F41:N41) -> 25 | P41: =(F41*$F$3)+(G41*$G$3)+(H41*$H$3)+(I41*$I$3)+(J41*$J$3)+(K41*$K$3)+(L41*$L$3)+(M41*$M$3)+(N41*$N$3) -> 6.25
B42: Malthie Sooknandan | G42: 25 | O42: =SUM(F42:N42) -> 25 | P42: =(F42*$F$3)+(G42*$G$3)+(H42*$H$3)+(I42*$I$3)+(J42*$J$3)+(K42*$K$3)+(L42*$L$3)+(M42*$M$3)+(N42*$N$3) -> 6.25
B43: Vrajaraj Das | G43: 25 | O43: =SUM(F43:N43) -> 25 | P43: =(F43*$F$3)+(G43*$G$3)+(H43*$H$3)+(I43*$I$3)+(J43*$J$3)+(K43*$K$3)+(L43*$L$3)+(M43*$M$3)+(N43*$N$3) -> 6.25
B44: Vraja Rani Dd | G44: 25 | O44: =SUM(F44:N44) -> 25 | P44: =(F44*$F$3)+(G44*$G$3)+(H44*$H$3)+(I44*$I$3)+(J44*$J$3)+(K44*$K$3)+(L44*$L$3)+(M44*$M$3)+(N44*$N$3) -> 6.25
B45: Rasalika Dd | G45: 25 | O45: =SUM(F45:N45) -> 25 | P45: =(F45*$F$3)+(G45*$G$3)+(H45*$H$3)+(I45*$I$3)+(J45*$J$3)+(K45*$K$3)+(L45*$L$3)+(M45*$M$3)+(N45*$N$3) -> 6.25
B46: Sucharya Das & Sudda Sattva Dasi | G46: 25 | O46: =SUM(F46:N46) -> 25 | P46: =(F46*$F$3)+(G46*$G$3)+(H46*$H$3)+(I46*$I$3)+(J46*$J$3)+(K46*$K$3)+(L46*$L$3)+(M46*$M$3)+(N46*$N$3) -> 6.25
B47: Varuni Dasi | G47: 25 | O47: =SUM(F47:N47) -> 25 | P47: =(F47*$F$3)+(G47*$G$3)+(H47*$H$3)+(I47*$I$3)+(J47*$J$3)+(K47*$K$3)+(L47*$L$3)+(M47*$M$3)+(N47*$N$3) -> 6.25
B48: Mukara Dd | G48: 25 | O48: =SUM(F48:N48) -> 25 | P48: =(F48*$F$3)+(G48*$G$3)+(H48*$H$3)+(I48*$I$3)+(J48*$J$3)+(K48*$K$3)+(L48*$L$3)+(M48*$M$3)+(N48*$N$3) -> 6.25
B49: Prema Madhurya Dd | G49: 25 | O49: =SUM(F49:N49) -> 25 | P49: =(F49*$F$3)+(G49*$G$3)+(H49*$H$3)+(I49*$I$3)+(J49*$J$3)+(K49*$K$3)+(L49*$L$3)+(M49*$M$3)+(N49*$N$3) -> 6.25
B50: Sita Laksmi Dd | G50: 25 | O50: =SUM(F50:N50) -> 25 | P50: =(F50*$F$3)+(G50*$G$3)+(H50*$H$3)+(I50*$I$3)+(J50*$J$3)+(K50*$K$3)+(L50*$L$3)+(M50*$M$3)+(N50*$N$3) -> 6.25
B51: Krsnacandra Das | G51: 25 | O51: =SUM(F51:N51) -> 25 | P51: =(F51*$F$3)+(G51*$G$3)+(H51*$H$3)+(I51*$I$3)+(J51*$J$3)+(K51*$K$3)+(L51*$L$3)+(M51*$M$3)+(N51*$N$3) -> 6.25
B52: Alanath Das | G52: 25 | O52: =SUM(F52:N52) -> 25 | P52: =(F52*$F$3)+(G52*$G$3)+(H52*$H$3)+(I52*$I$3)+(J52*$J$3)+(K52*$K$3)+(L52*$L$3)+(M52*$M$3)+(N52*$N$3) -> 6.25
... B69: Prema Alap Dd | G69: 8 | O69: =SUM(F69:N69) -> 8 | P69: =(F69*$F$3)+(G69*$G$3)+(H69*$H$3)+(I69*$I$3)+(J69*$J$3)+(K69*$K$3)+(L69*$L$3)+(M69*$M$3)+(N69*$N$3) -> 2
B70: Krsna Prema Nama Hatta | K70: 1 | O70: =SUM(F70:N70) -> 1 | P70: =(F70*$F$3)+(G70*$G$3)+(H70*$H$3)+(I70*$I$3)+(J70*$J$3)+(K70*$K$3)+(L70*$L$3)+(M70*$M$3)+(N70*$N$3) -> 1
B71: Risha Singh | G71: 1 | I71: 1 | O71: =SUM(F71:N71) -> 2 | P71: =(F71*$F$3)+(G71*$G$3)+(H71*$H$3)+(I71*$I$3)+(J71*$J$3)+(K71*$K$3)+(L71*$L$3)+(M71*$M$3)+(N71*$N$3) -> 0.75
O72: =SUM(F72:N72) -> 0 | P72: =(F72*$F$3)+(G72*$G$3)+(H72*$H$3)+(I72*$I$3)+(J72*$J$3)+(K72*$K$3)+(L72*$L$3)+(M72*$M$3)+(N72*$N$3) -> 0
C73: =SUM(C22:C72) -> 0 | D73: =SUM(D22:D72) -> 0 | E73: =SUM(E22:E72) -> 1 | F73: =SUM(F22:F72) -> 0 | G73: =SUM(G22:G72) -> 1558 | H73: =SUM(H22:H72) -> 0 | I73: =SUM(I22:I72) -> 164 | J73: =SUM(J22:J72) -> 0 | ... P73: =SUM(P22:P72) -> 797.5
B76: ISKCON EAST LONDON
O77: =SUM(F77:N77) -> 0 | P77: =(F77*$F$3)+(G77*$G$3)+(H77*$H$3)+(I77*$I$3)+(J77*$J$3)+(K77*$K$3)+(L77*$L$3)+(M77*$M$3)+(N77*$N$3) -> 0
O78: =SUM(F78:N78) -> 0 | P78: =(F78*$F$3)+(G78*$G$3)+(H78*$H$3)+(I78*$I$3)+(J78*$J$3)+(K78*$K$3)+(L78*$L$3)+(M78*$M$3)+(N78*$N$3) -> 0
O79: =SUM(F79:N79) -> 0 | P79: =(F79*$F$3)+(G79*$G$3)+(H79*$H$3)+(I79*$I$3)+(J79*$J$3)+(K79*$K$3)+(L79*$L$3)+(M79*$M$3)+(N79*$N$3) -> 0
O80: =SUM(F80:N80) -> 0 | P80: =(F80*$F$3)+(G80*$G$3)+(H80*$H$3)+(I80*$I$3)+(J80*$J$3)+(K80*$K$3)+(L80*$L$3)+(M80*$M$3)+(N80*$N$3) -> 0
O81: =SUM(F81:N81) -> 0 | P81: =(F81*$F$3)+(G81*$G$3)+(H81*$H$3)+(I81*$I$3)+(J81*$J$3)+(K81*$K$3)+(L81*$L$3)+(M81*$M$3)+(N81*$N$3) -> 0
O82: =SUM(F82:N82) -> 0 | P82: =(F82*$F$3)+(G82*$G$3)+(H82*$H$3)+(I82*$I$3)+(J82*$J$3)+(K82*$K$3)+(L82*$L$3)+(M82*$M$3)+(N82*$N$3) -> 0
O83: =SUM(F83:N83) -> 0 | P83: =(F83*$F$3)+(G83*$G$3)+(H83*$H$3)+(I83*$I$3)+(J83*$J$3)+(K83*$K$3)+(L83*$L$3)+(M83*$M$3)+(N83*$N$3) -> 0
B84: TOTAL | C84: =SUM(C77:C83) -> 0 | D84: =SUM(D77:D83) -> 0 | E84: =SUM(E77:E83) -> 0 | F84: =SUM(F77:F83) -> 0 | G84: =SUM(G77:G83) -> 0 | H84: =SUM(H77:H83) -> 0 | I84: =SUM(I77:I83) -> 0 | J84: =SUM(J77:J83) -> 0 | ... P84: =SUM(P77:P83) -> 0
B87: ISKCON LENASIA
B88: Sasolburg Namahatta | G88: 176 | H88: 16 | I88: 10 | L88: 2 | N88: 2 | O88: =SUM(F88:N88) -> 206 | P88: =(F88*$F$3)+(G88*$G$3)+(H88*$H$3)+(I88*$I$3)+(J88*$J$3)+(K88*$K$3)+(L88*$L$3)+(M88*$M$3)+(N88*$N$3) -> 59
B89: BTG Office | F89: 536 | O89: =SUM(F89:N89) -> 536 | P89: =(F89*$F$3)+(G89*$G$3)+(H89*$H$3)+(I89*$I$3)+(J89*$J$3)+(K89*$K$3)+(L89*$L$3)+(M89*$M$3)+(N89*$N$3) -> 53.6
B90: Rasa Krida d | G90: 30 | I90: 5 | J90: 5 | N90: 5 | O90: =SUM(F90:N90) -> 45 | P90: =(F90*$F$3)+(G90*$G$3)+(H90*$H$3)+(I90*$I$3)+(J90*$J$3)+(K90*$K$3)+(L90*$L$3)+(M90*$M$3)+(N90*$N$3) -> 22.5
B91: Lenasia Weekend Warriors-Luxmi's | F91: 2 | G91: 46 | H91: 8 | I91: 13 | N91: 1 | O91: =SUM(F91:N91) -> 70 | P91: =(F91*$F$3)+(G91*$G$3)+(H91*$H$3)+(I91*$I$3)+(J91*$J$3)+(K91*$K$3)+(L91*$L$3)+(M91*$M$3)+(N91*$N$3) -> 22.2
B92: Shyama Rupa | G92: 42 | H92: 8 | I92: 5 | L92: 1 | N92: 1 | O92: =SUM(F92:N92) -> 57 | P92: =(F92*$F$3)+(G92*$G$3)+(H92*$H$3)+(I92*$I$3)+(J92*$J$3)+(K92*$K$3)+(L92*$L$3)+(M92*$M$3)+(N92*$N$3) -> 18
B93: Nadiya dasi | G93: 42 | H93: 8 | I93: 5 | L93: 1 | N93: 1 | O93: =SUM(F93:N93) -> 57 | P93: =(F93*$F$3)+(G93*$G$3)+(H93*$H$3)+(I93*$I$3)+(J93*$J$3)+(K93*$K$3)+(L93*$L$3)+(M93*$M$3)+(N93*$N$3) -> 18
B94: Amrita Radhika dd | G94: 37 | H94: 6 | I94: 11 | O94: =SUM(F94:N94) -> 54 | P94: =(F94*$F$3)+(G94*$G$3)+(H94*$H$3)+(I94*$I$3)+(J94*$J$3)+(K94*$K$3)+(L94*$L$3)+(M94*$M$3)+(N94*$N$3) -> 16.25
B95: Vasu Gosh dasa | G95: 23 | I95: 2 | O95: =SUM(F95:N95) -> 25 | P95: =(F95*$F$3)+(G95*$G$3)+(H95*$H$3)+(I95*$I$3)+(J95*$J$3)+(K95*$K$3)+(L95*$L$3)+(M95*$M$3)+(N95*$N$3) -> 6.75
B96: Kasi Misra dasa, Gambhira devi dasi & Sudharshana dasa | G96: 25 | O96: =SUM(F96:N96) -> 25 | P96: =(F96*$F$3)+(G96*$G$3)+(H96*$H$3)+(I96*$I$3)+(J96*$J$3)+(K96*$K$3)+(L96*$L$3)+(M96*$M$3)+(N96*$N$3) -> 6.25
B97: Kishor Gopal dasa | G97: 6 | O97: =SUM(F97:N97) -> 6 | P97: =(F97*$F$3)+(G97*$G$3)+(H97*$H$3)+(I97*$I$3)+(J97*$J$3)+(K97*$K$3)+(L97*$L$3)+(M97*$M$3)+(N97*$N$3) -> 1.5
O98: =SUM(F98:N98) -> 0 | P98: =(F98*$F$3)+(G98*$G$3)+(H98*$H$3)+(I98*$I$3)+(J98*$J$3)+(K98*$K$3)+(L98*$L$3)+(M98*$M$3)+(N98*$N$3) -> 0
B99: TOTAL | C99: =SUM(C88:C98) -> 0 | D99: =SUM(D88:D98) -> 0 | E99: =SUM(E88:E98) -> 0 | F99: =SUM(F88:F98) -> 538 | G99: =SUM(G88:G98) -> 427 | H99: =SUM(H88:H98) -> 46 | I99: =SUM(I88:I98) -> 51 | J99: =SUM(J88:J98) -> 5 | ... P99: =SUM(P88:P98) -> 224.05
B102: ISKCON MAFIKENG
O103: =SUM(F103:N103) -> 0 | P103: =(F103*$F$3)+(G103*$G$3)+(H103*$H$3)+(I103*$I$3)+(J103*$J$3)+(K103*$K$3)+(L103*$L$3)+(M103*$M$3)+(N103*$N$3) -> 0
O104: =SUM(F104:N104) -> 0 | P104: =(F104*$F$3)+(G104*$G$3)+(H104*$H$3)+(I104*$I$3)+(J104*$J$3)+(K104*$K$3)+(L104*$L$3)+(M104*$M$3)+(N104*$N$3) -> 0
B105: TOTAL | C105: =SUM(C104:C104) -> 0 | D105: =SUM(D104:D104) -> 0 | E105: =SUM(E103:E104) -> 0 | F105: =SUM(F103:F104) -> 0 | G105: =SUM(G103:G104) -> 0 | H105: =SUM(H103:H104) -> 0 | I105: =SUM(I103:I104) -> 0 | J105: =SUM(J103:J104) -> 0 | K105: =SUM(K103:K104) -> 0 | L105: =SUM(L103:L104) -> 0 | ... P105: =SUM(P103:P104) -> 0
B108: ISKCON MIDRAND
B109: Ashveer Singh | G109: 4 | I109: 1 | O109: =SUM(F109:N109) -> 5 | P109: =(F109*$F$3)+(G109*$G$3)+(H109*$H$3)+(I109*$I$3)+(J109*$J$3)+(K109*$K$3)+(L109*$L$3)+(M109*$M$3)+(N109*$N$3) -> 1.5
B110: Damodar das (BCAIS) | F110: 9 | G110: 3 | K110: 1 | O110: =SUM(F110:N110) -> 13 | P110: =(F110*$F$3)+(G110*$G$3)+(H110*$H$3)+(I110*$I$3)+(J110*$J$3)+(K110*$K$3)+(L110*$L$3)+(M110*$M$3)+(N110*$N$3) -> 2.65
B111: Kanu Priya devi dasi | G111: 6 | I111: 7 | K111: 3 | N111: 1 | O111: =SUM(F111:N111) -> 17 | P111: =(F111*$F$3)+(G111*$G$3)+(H111*$H$3)+(I111*$I$3)+(J111*$J$3)+(K111*$K$3)+(L111*$L$3)+(M111*$M$3)+(N111*$N$3) -> 10
B112: Kanu Rama das | G112: 6 | I112: 7 | K112: 3 | N112: 1 | O112: =SUM(F112:N112) -> 17 | P112: =(F112*$F$3)+(G112*$G$3)+(H112*$H$3)+(I112*$I$3)+(J112*$J$3)+(K112*$K$3)+(L112*$L$3)+(M112*$M$3)+(N112*$N$3) -> 10
B113: Loka-drsti dasi | G113: 9 | I113: 13 | K113: 2 | L113: 1 | N113: 1 | O113: =SUM(F113:N113) -> 26 | P113: =(F113*$F$3)+(G113*$G$3)+(H113*$H$3)+(I113*$I$3)+(J113*$J$3)+(K113*$K$3)+(L113*$L$3)+(M113*$M$3)+(N113*$N$3) -> 13.75
B114: Madhavi Manjari dasi | G114: 17 | I114: 1 | K114: 7 | O114: =SUM(F114:N114) -> 25 | P114: =(F114*$F$3)+(G114*$G$3)+(H114*$H$3)+(I114*$I$3)+(J114*$J$3)+(K114*$K$3)+(L114*$L$3)+(M114*$M$3)+(N114*$N$3) -> 11.75
B115: Madhava das | G115: 2 | O115: =SUM(F115:N115) -> 2 | P115: =(F115*$F$3)+(G115*$G$3)+(H115*$H$3)+(I115*$I$3)+(J115*$J$3)+(K115*$K$3)+(L115*$L$3)+(M115*$M$3)+(N115*$N$3) -> 0.5
B116: Manjari dasi | G116: 25 | O116: =SUM(F116:N116) -> 25 | P116: =(F116*$F$3)+(G116*$G$3)+(H116*$H$3)+(I116*$I$3)+(J116*$J$3)+(K116*$K$3)+(L116*$L$3)+(M116*$M$3)+(N116*$N$3) -> 6.25
B117: Navie Naidoo | G117: 2 | O117: =SUM(F117:N117) -> 2 | P117: =(F117*$F$3)+(G117*$G$3)+(H117*$H$3)+(I117*$I$3)+(J117*$J$3)+(K117*$K$3)+(L117*$L$3)+(M117*$M$3)+(N117*$N$3) -> 0.5
B118: Priya Malini dasi | G118: 6 | I118: 5 | O118: =SUM(F118:N118) -> 11 | P118: =(F118*$F$3)+(G118*$G$3)+(H118*$H$3)+(I118*$I$3)+(J118*$J$3)+(K118*$K$3)+(L118*$L$3)+(M118*$M$3)+(N118*$N$3) -> 4
B119: Radhakund devi dasi | F119: 11 | G119: 24 | I119: 84 | J119: 1 | K119: 9 | N119: 16 | O119: =SUM(F119:N119) -> 145 | P119: =(F119*$F$3)+(G119*$G$3)+(H119*$H$3)+(I119*$I$3)+(J119*$J$3)+(K119*$K$3)+(L119*$L$3)+(M119*$M$3)+(N119*$N$3) -> 90.6
B120: Radhe Shyam das | F120: 1 | G120: 28 | I120: 17 | O120: =SUM(F120:N120) -> 46 | P120: =(F120*$F$3)+(G120*$G$3)+(H120*$H$3)+(I120*$I$3)+(J120*$J$3)+(K120*$K$3)+(L120*$L$3)+(M120*$M$3)+(N120*$N$3) -> 15.6
B121: Radhika Kripa devi dasi | G121: 2 | N121: 1 | O121: =SUM(F121:N121) -> 3 | P121: =(F121*$F$3)+(G121*$G$3)+(H121*$H$3)+(I121*$I$3)+(J121*$J$3)+(K121*$K$3)+(L121*$L$3)+(M121*$M$3)+(N121*$N$3) -> 2.5
B122: Rishal and Nelene | G122: 5 | I122: 1 | K122: 1 | N122: 2 | O122: =SUM(F122:N122) -> 9 | P122: =(F122*$F$3)+(G122*$G$3)+(H122*$H$3)+(I122*$I$3)+(J122*$J$3)+(K122*$K$3)+(L122*$L$3)+(M122*$M$3)+(N122*$N$3) -> 6.75
B123: Ruchira dasi | G123: 22 | I123: 5 | K123: 4 | N123: 5 | O123: =SUM(F123:N123) -> 36 | P123: =(F123*$F$3)+(G123*$G$3)+(H123*$H$3)+(I123*$I$3)+(J123*$J$3)+(K123*$K$3)+(L123*$L$3)+(M123*$M$3)+(N123*$N$3) -> 22
B124: Sholto Kanni | G124: 8 | I124: 3 | O124: =SUM(F124:N124) -> 11 | P124: =(F124*$F$3)+(G124*$G$3)+(H124*$H$3)+(I124*$I$3)+(J124*$J$3)+(K124*$K$3)+(L124*$L$3)+(M124*$M$3)+(N124*$N$3) -> 3.5
B125: Sonali Singh | I125: 1 | N125: 1 | O125: =SUM(F125:N125) -> 2 | P125: =(F125*$F$3)+(G125*$G$3)+(H125*$H$3)+(I125*$I$3)+(J125*$J$3)+(K125*$K$3)+(L125*$L$3)+(M125*$M$3)+(N125*$N$3) -> 2.5
B126: Svasti dasi | G126: 6 | I126: 4 | N126: 1 | O126: =SUM(F126:N126) -> 11 | P126: =(F126*$F$3)+(G126*$G$3)+(H126*$H$3)+(I126*$I$3)+(J126*$J$3)+(K126*$K$3)+(L126*$L$3)+(M126*$M$3)+(N126*$N$3) -> 5.5
O127: =SUM(F127:N127) -> 0 | P127: =(F127*$F$3)+(G127*$G$3)+(H127*$H$3)+(I127*$I$3)+(J127*$J$3)+(K127*$K$3)+(L127*$L$3)+(M127*$M$3)+(N127*$N$3) -> 0
O128: =SUM(F128:N128) -> 0 | P128: =(F128*$F$3)+(G128*$G$3)+(H128*$H$3)+(I128*$I$3)+(J128*$J$3)+(K128*$K$3)+(L128*$L$3)+(M128*$M$3)+(N128*$N$3) -> 0
B129: TOTAL | C129: =SUM(C109:C128) -> 0 | D129: =SUM(D109:D128) -> 0 | E129: =SUM(E109:E128) -> 0 | F129: =SUM(F109:F128) -> 21 | G129: =SUM(G109:G128) -> 175 | H129: =SUM(H109:H128) -> 0 | I129: =SUM(I109:I128) -> 149 | J129: =SUM(J109:J128) -> 1 | ... P129: =SUM(P109:P128) -> 209.85
...

Sheet Togo
B2: TEMPLE: Togo
B3: MONTH : September 2017
C4: BTG Sub | D4: CC Set | E4: SB Set | F4: Mag. | G4: Small Books | I4: Medium Books | K4: Big Books | M4: Maha-Books
C5: 5 | F5: 0.1 | G5: 0.25 | H5: 0.25 | I5: 0.5 | J5: 0.5 | K5: 1 | L5: 1 | M5: 2 | N5: 2
B6: DEVOTEES | F6: M1 | G6: S1 | H6: H1 | I6: S2 | J6: H2 | K6: S3 | L6: H3 | M6: S4 | N6: H4 | O6: T/BKS | P6: Points
B9: Cumulative Scores | G9: 5 | I9: 16 | L9: 89 | O9: =SUM(F9:N9) -> 110 | P9: =(F9*$F$5)+(G9*$G$5)+(H9*$H$5)+(I9*$I$5)+(J9*$J$5)+(K9*$K$5)+(L9*$L$5)+(M9*$M$5)+(N9*$N$5) -> 98.25
O10: =SUM(F10:N10) -> 0 | P10: =(F10*$F$5)+(G10*$G$5)+(H10*$H$5)+(I10*$I$5)+(J10*$J$5)+(K10*$K$5)+(L10*$L$5)+(M10*$M$5)+(N10*$N$5) -> 0
O11: =SUM(F11:N11) -> 0 | P11: =(F11*$F$5)+(G11*$G$5)+(H11*$H$5)+(I11*$I$5)+(J11*$J$5)+(K11*$K$5)+(L11*$L$5)+(M11*$M$5)+(N11*$N$5) -> 0
O12: =SUM(F12:N12) -> 0 | P12: =(F12*$F$5)+(G12*$G$5)+(H12*$H$5)+(I12*$I$5)+(J12*$J$5)+(K12*$K$5)+(L12*$L$5)+(M12*$M$5)+(N12*$N$5) -> 0
O13: =SUM(F13:N13) -> 0 | P13: =(F13*$F$5)+(G13*$G$5)+(H13*$H$5)+(I13*$I$5)+(J13*$J$5)+(K13*$K$5)+(L13*$L$5)+(M13*$M$5)+(N13*$N$5) -> 0
O14: =SUM(F14:N14) -> 0 | P14: =(F14*$F$5)+(G14*$G$5)+(H14*$H$5)+(I14*$I$5)+(J14*$J$5)+(K14*$K$5)+(L14*$L$5)+(M14*$M$5)+(N14*$N$5) -> 0
B15: TOTAL | C15: =SUM(C9:C14) -> 0 | D15: =SUM(D9:D14) -> 0 | E15: =SUM(E9:E14) -> 0 | F15: =SUM(F9:F14) -> 0 | G15: =SUM(G9:G14) -> 5 | H15: =SUM(H9:H14) -> 0 | I15: =SUM(I9:I14) -> 16 | J15: =SUM(J9:J14) -> 0 | ... P15: =SUM(P9:P14) -> 98.25

Sheet Zambia
B2: TEMPLE: Zambia
B3: MONTH : September 2017
C4: BTG Sub | D4: CC Set | E4: SB Set | F4: Mag. | G4: Small Books | I4: Medium Books | K4: Big Books | M4: Maha-Books
C5: 5 | F5: 0.1 | G5: 0.25 | H5: 0.25 | I5: 0.5 | J5: 0.5 | K5: 1 | L5: 1 | M5: 2 | N5: 2
B6: DEVOTEES | F6: M1 | G6: S1 | H6: H1 | I6: S2 | J6: H2 | K6: S3 | L6: H3 | M6: S4 | N6: H4 | O6: T/BKS | P6: Points
B9: Cumulative Scores | F9: 1 | G9: 34 | I9: 2 | J9: 1 | K9: 4 | N9: 38 | O9: =SUM(F9:N9) -> 80 | P9: =(F9*$F$5)+(G9*$G$5)+(H9*$H$5)+(I9*$I$5)+(J9*$J$5)+(K9*$K$5)+(L9*$L$5)+(M9*$M$5)+(N9*$N$5) -> 90.1
O10: =SUM(F10:N10) -> 0 | P10: =(F10*$F$5)+(G10*$G$5)+(H10*$H$5)+(I10*$I$5)+(J10*$J$5)+(K10*$K$5)+(L10*$L$5)+(M10*$M$5)+(N10*$N$5) -> 0
O11: =SUM(F11:N11) -> 0 | P11: =(F11*$F$5)+(G11*$G$5)+(H11*$H$5)+(I11*$I$5)+(J11*$J$5)+(K11*$K$5)+(L11*$L$5)+(M11*$M$5)+(N11*$N$5) -> 0
B12: TOTAL | C12: =SUM(C9:C11) -> 0 | D12: =SUM(D9:D11) -> 0 | E12: =SUM(E9:E11) -> 0 | F12: =SUM(F9:F11) -> 1 | G12: =SUM(G9:G11) -> 34 | H12: =SUM(H9:H11) -> 0 | I12: =SUM(I9:I11) -> 2 | J12: =SUM(J9:J11) -> 1 | ... P12: =SUM(P9:P11) -> 90.1

Sheet Summary
A2: Country | B2: Books: | C2: Points:
A4: DRC | B4: =SUM('Democratic Republic of Congo'!O18) -> 0 | C4: =SUM('Democratic Republic of Congo'!P18) -> 0
A5: Ivory Coast | B5: =SUM('Ivory Coast'!O14) -> 16 | C5: =SUM('Ivory Coast'!P14) -> 4
A6: Kenya | B6: =SUM(Kenya!O38) -> 0 | C6: =SUM(Kenya!P38) -> 0
A7: Malawi | B7: =SUM(Malawi!O11) -> 0 | C7: =SUM(Malawi!P11) -> 0
A8: Mauritius | B8: =SUM(Mauritius!O49) -> 0 | C8: =SUM(Mauritius!P49) -> 0
A9: Nigeria | B9: =SUM(Nigeria!O61) -> 2365 | C9: =SUM(Nigeria!P61) -> 298.2
A10: South Africa | B10: =SUM('South Africa'!O183) -> 4092 | C10: =SUM('South Africa'!P183) -> 1440.45
A11: Togo | B11: =SUM(Togo!O15) -> 110 | C11: =SUM(Togo!P15) -> 98.25
A12: Zambia | B12: =SUM(Zambia!O12) -> 80 | C12: =SUM(Zambia!P12) -> 90.1
A14: Total: | B14: =SUM(B4:B13) -> 6663 | C14: =SUM(C4:C13) -> 1931
