Workbook
Name Excel_BuiltIn_Print_Area_1: [1]Malawi!#REF!
Name Excel_BuiltIn_Print_Area_1: [1]Malawi!#REF!
Name Excel_BuiltIn_Print_Area_1: [1]Malawi!#REF!
Name Excel_BuiltIn_Print_Area_1: [1]Malawi!#REF!
Name Excel_BuiltIn_Print_Area_1: [1]Malawi!#REF!
Name Excel_BuiltIn_Print_Area_1: [2]Malawi!#REF!
Name Excel_BuiltIn_Print_Area_1: [1]Malawi!#REF!
Name Excel_BuiltIn_Print_Area_1: [1]Malawi!#REF!

Sheet Democratic Republic of Congo
B2: TEMPLE: Kinshasa
B3: MONTH : February 2016
C4: BTG Sub | D4: CC Set | E4: SB Set | F4: Mag. | G4: Small Books | I4: Medium Books | K4: Big Books | M4: Maha-Books
C5: 5 | F5: 0.1 | G5: 0.25 | H5: 0.25 | I5: 0.5 | J5: 0.5 | K5: 1 | L5: 1 | M5: 2 | N5: 2
B6: DEVOTEES | F6: M1 | G6: S1 | H6: H1 | I6: S2 | J6: H2 | K6: S3 | L6: H3 | M6: S4 | N6: H4 | O6: T/BKS | P6: Points
B9: Cumulative scores | F9: 1200 | G9: 460 | N9: 157 | O9: =SUM(F9:N9) -> 1817 | P9: =(F9*$F$5)+(G9*$G$5)+(H9*$H$5)+(I9*$I$5)+(J9*$J$5)+(K9*$K$5)+(L9*$L$5)+(M9*$M$5)+(N9*$N$5) -> 549
O10: =SUM(F10:N10) -> 0 | P10: =(F10*$F$5)+(G10*$G$5)+(H10*$H$5)+(I10*$I$5)+(J10*$J$5)+(K10*$K$5)+(L10*$L$5)+(M10*$M$5)+(N10*$N$5) -> 0
O11: =SUM(F11:N11) -> 0 | P11: =(F11*$F$5)+(G11*$G$5)+(H11*$H$5)+(I11*$I$5)+(J11*$J$5)+(K11*$K$5)+(L11*$L$5)+(M11*$M$5)+(N11*$N$5) -> 0
O12: =SUM(F12:N12) -> 0 | P12: =(F12*$F$5)+(G12*$G$5)+(H12*$H$5)+(I12*$I$5)+(J12*$J$5)+(K12*$K$5)+(L12*$L$5)+(M12*$M$5)+(N12*$N$5) -> 0
O13: =SUM(F13:N13) -> 0 | P13: =(F13*$F$5)+(G13*$G$5)+(H13*$H$5)+(I13*$I$5)+(J13*$J$5)+(K13*$K$5)+(L13*$L$5)+(M13*$M$5)+(N13*$N$5) -> 0
O14: =SUM(F14:N14) -> 0 | P14: =(F14*$F$5)+(G14*$G$5)+(H14*$H$5)+(I14*$I$5)+(J14*$J$5)+(K14*$K$5)+(L14*$L$5)+(M14*$M$5)+(N14*$N$5) -> 0
O15: =SUM(F15:N15) -> 0 | P15: =(F15*$F$5)+(G15*$G$5)+(H15*$H$5)+(I15*$I$5)+(J15*$J$5)+(K15*$K$5)+(L15*$L$5)+(M15*$M$5)+(N15*$N$5) -> 0
O16: =SUM(F16:N16) -> 0 | P16: =(F16*$F$5)+(G16*$G$5)+(H16*$H$5)+(I16*$I$5)+(J16*$J$5)+(K16*$K$5)+(L16*$L$5)+(M16*$M$5)+(N16*$N$5) -> 0
O17: =SUM(F17:N17) -> 0 | P17: =(F17*$F$5)+(G17*$G$5)+(H17*$H$5)+(I17*$I$5)+(J17*$J$5)+(K17*$K$5)+(L17*$L$5)+(M17*$M$5)+(N17*$N$5) -> 0
B18: TOTAL | C18: =SUM(C9:C17) -> 0 | D18: =SUM(D9:D17) -> 0 | E18: =SUM(E9:E17) -> 0 | F18: =SUM(F9:F17) -> 1200 | G18: =SUM(G9:G17) -> 460 | H18: =SUM(H9:H17) -> 0 | I18: =SUM(I9:I17) -> 0 | J18: =SUM(J9:J17) -> 0 | ... P18: =SUM(P9:P17) -> 549

Sheet DRC
B2: TEMPLE: Democratic Republic of Congo
B3: MONTH : December 2013
C4: BTG Sub | D4: CC Set | E4: SB Set | F4: Mag. | G4: Small Books | I4: Medium Books | K4: Big Books | M4: Maha-Books
C5: 5 | F5: 0.1 | G5: 0.25 | H5: 0.25 | I5: 0.5 | J5: 0.5 | K5: 1 | L5: 1 | M5: 2 | N5: 2
B6: DEVOTEES | F6: M1 | G6: S1 | H6: H1 | I6: S2 | J6: H2 | K6: S3 | L6: H3 | M6: S4 | N6: H4 | O6: T/BKS | P6: Points
B8: Cumulative scores by area:
O9: =SUM(F9:N9) -> 0 | P9: =(F9*$F$5)+(G9*$G$5)+(H9*$H$5)+(I9*$I$5)+(J9*$J$5)+(K9*$K$5)+(L9*$L$5)+(M9*$M$5)+(N9*$N$5) -> 0
O10: =SUM(F10:N10) -> 0 | P10: =(F10*$F$5)+(G10*$G$5)+(H10*$H$5)+(I10*$I$5)+(J10*$J$5)+(K10*$K$5)+(L10*$L$5)+(M10*$M$5)+(N10*$N$5) -> 0
O11: =SUM(F11:N11) -> 0 | P11: =(F11*$F$5)+(G11*$G$5)+(H11*$H$5)+(I11*$I$5)+(J11*$J$5)+(K11*$K$5)+(L11*$L$5)+(M11*$M$5)+(N11*$N$5) -> 0
O12: =SUM(F12:N12) -> 0 | P12: =(F12*$F$5)+(G12*$G$5)+(H12*$H$5)+(I12*$I$5)+(J12*$J$5)+(K12*$K$5)+(L12*$L$5)+(M12*$M$5)+(N12*$N$5) -> 0
O13: =SUM(F13:N13) -> 0 | P13: =(F13*$F$5)+(G13*$G$5)+(H13*$H$5)+(I13*$I$5)+(J13*$J$5)+(K13*$K$5)+(L13*$L$5)+(M13*$M$5)+(N13*$N$5) -> 0
O14: =SUM(F14:N14) -> 0 | P14: =(F14*$F$5)+(G14*$G$5)+(H14*$H$5)+(I14*$I$5)+(J14*$J$5)+(K14*$K$5)+(L14*$L$5)+(M14*$M$5)+(N14*$N$5) -> 0
O15: =SUM(F15:N15) -> 0 | P15: =(F15*$F$5)+(G15*$G$5)+(H15*$H$5)+(I15*$I$5)+(J15*$J$5)+(K15*$K$5)+(L15*$L$5)+(M15*$M$5)+(N15*$N$5) -> 0
O16: =SUM(F16:N16) -> 0 | P16: =(F16*$F$5)+(G16*$G$5)+(H16*$H$5)+(I16*$I$5)+(J16*$J$5)+(K16*$K$5)+(L16*$L$5)+(M16*$M$5)+(N16*$N$5) -> 0
O17: =SUM(F17:N17) -> 0 | P17: =(F17*$F$5)+(G17*$G$5)+(H17*$H$5)+(I17*$I$5)+(J17*$J$5)+(K17*$K$5)+(L17*$L$5)+(M17*$M$5)+(N17*$N$5) -> 0
O18: =SUM(F18:N18) -> 0 | P18: =(F18*$F$5)+(G18*$G$5)+(H18*$H$5)+(I18*$I$5)+(J18*$J$5)+(K18*$K$5)+(L18*$L$5)+(M18*$M$5)+(N18*$N$5) -> 0
B19: TOTAL | C19: =SUM(C9:C18) -> 0 | D19: =SUM(D9:D18) -> 0 | E19: =SUM(E9:E18) -> 0 | F19: =SUM(F9:F18) -> 0 | G19: =SUM(G9:G18) -> 0 | H19: =SUM(H9:H18) -> 0 | I19: =SUM(I9:I18) -> 0 | J19: =SUM(J9:J18) -> 0 | ... P19: =SUM(P9:P18) -> 0

Sheet Ivory Coast
B2: TEMPLE: Ivory Coast
B3: MONTH : February 2016
C4: BTG Sub | D4: CC Set | E4: SB Set | F4: Mag. | G4: Small Books | I4: Medium Books | K4: Big Books | M4: Maha-Books
C5: 5 | F5: 0.1 | G5: 0.25 | H5: 0.25 | I5: 0.5 | J5: 0.5 | K5: 1 | L5: 1 | M5: 2 | N5: 2
B6: DEVOTEES | F6: M1 | G6: S1 | H6: H1 | I6: S2 | J6: H2 | K6: S3 | L6: H3 | M6: S4 | N6: H4 | O6: T/BKS | P6: Points
B8: Ivory Coast
B9: Adhoksaja dasa | N9: 2 | O9: =SUM(F9:N9) -> 2 | P9: =(F9*$F$5)+(G9*$G$5)+(H9*$H$5)+(I9*$I$5)+(J9*$J$5)+(K9*$K$5)+(L9*$L$5)+(M9*$M$5)+(N9*$N$5) -> 4
B10: Kardhaha dasa | I10: 3 | L10: 1 | O10: =SUM(F10:N10) -> 4 | P10: =(F10*$F$5)+(G10*$G$5)+(H10*$H$5)+(I10*$I$5)+(J10*$J$5)+(K10*$K$5)+(L10*$L$5)+(M10*$M$5)+(N10*$N$5) -> 2.5
B11: Raga Bhakti dasa | I11: 3 | N11: 1 | O11: =SUM(F11:N11) -> 4 | P11: =(F11*$F$5)+(G11*$G$5)+(H11*$H$5)+(I11*$I$5)+(J11*$J$5)+(K11*$K$5)+(L11*$L$5)+(M11*$M$5)+(N11*$N$5) -> 3.5
B12: Bhakta Daniel | I12: 7 | N12: 1 | O12: =SUM(F12:N12) -> 8 | P12: =(F12*$F$5)+(G12*$G$5)+(H12*$H$5)+(I12*$I$5)+(J12*$J$5)+(K12*$K$5)+(L12*$L$5)+(M12*$M$5)+(N12*$N$5) -> 5.5
B13: Bhaktin Huguete | I13: 2 | O13: =SUM(F13:N13) -> 2 | P13: =(F13*$F$5)+(G13*$G$5)+(H13*$H$5)+(I13*$I$5)+(J13*$J$5)+(K13*$K$5)+(L13*$L$5)+(M13*$M$5)+(N13*$N$5) -> 1
O14: =SUM(F14:N14) -> 0 | P14: =(F14*$F$5)+(G14*$G$5)+(H14*$H$5)+(I14*$I$5)+(J14*$J$5)+(K14*$K$5)+(L14*$L$5)+(M14*$M$5)+(N14*$N$5) -> 0
B15: TOTAL | C15: =SUM(C9:C14) -> 0 | D15: =SUM(D9:D14) -> 0 | E15: =SUM(E9:E14) -> 0 | F15: =SUM(F9:F14) -> 0 | G15: =SUM(G9:G14) -> 0 | H15: =SUM(H9:H14) -> 0 | I15: =SUM(I9:I14) -> 15 | J15: =SUM(J9:J14) -> 0 | ... P15: =SUM(P9:P14) -> 16.5

Sheet Kenya
B2: TEMPLE: Nairobi | C2: Sri Sri Radha Bankebihari
B3: MONTH : February 2016
C4: BTG Sub | D4: CC Set | E4: SB Set | F4: mag | G4: Small Books | I4: Medium Books | K4: Big Books | M4: Maha-Books
C5: 5 | F5: 0.1 | G5: 0.25 | H5: 0.25 | I5: 0.5 | J5: 0.5 | K5: 1 | L5: 1 | M5: 2 | N5: 2
B6: DEVOTEES | F6: M1 | G6: S1 | H6: H1 | I6: S2 | J6: H2 | K6: S3 | L6: H3 | M6: S4 | N6: H4 | O6: T/BKS | P6: Points
B8: Iskcon Nairobi
B9: SRILA PRABHUPADA WARRIORS | G9: 44 | I9: 20 | K9: 10 | N9: 3 | O9: =SUM(C9:N9) -> 77 | P9: =(C9*$C$5)+(F9*$F$5)+(G9*$G$5)+(H9*$H$5)+(I9*$I$5)+(J9*$J$5)+(K9*$K$5)+(L9*$L$5)+(M9*$M$5)+(N9*$N$5) -> 37
B10: SMART STANDS | G10: 100 | O10: =SUM(F10:N10) -> 100 | P10: =(F10*$F$5)+(G10*$G$5)+(H10*$H$5)+(I10*$I$5)+(J10*$J$5)+(K10*$K$5)+(L10*$L$5)+(M10*$M$5)+(N10*$N$5) -> 25
B11: WEEKEND WARRIORS | G11: 560 | I11: 100 | K11: 64 | O11: =SUM(F11:N11) -> 724 | P11: =(F11*$F$5)+(G11*$G$5)+(H11*$H$5)+(I11*$I$5)+(J11*$J$5)+(K11*$K$5)+(L11*$L$5)+(M11*$M$5)+(N11*$N$5) -> 254
O12: =SUM(F12:N12) -> 0 | P12: =(F12*$F$5)+(G12*$G$5)+(H12*$H$5)+(I12*$I$5)+(J12*$J$5)+(K12*$K$5)+(L12*$L$5)+(M12*$M$5)+(N12*$N$5) -> 0
B13: TOTAL | C13: =SUM(C9:C12) -> 0 | D13: =SUM(D9:D12) -> 0 | E13: =SUM(E9:E12) -> 0 | F13: =SUM(F9:F12) -> 0 | G13: =SUM(G9:G12) -> 704 | H13: =SUM(H9:H12) -> 0 | I13: =SUM(I9:I12) -> 120 | J13: =SUM(J9:J12) -> 0 | ... P13: =SUM(P9:P12) -> 316
B16: Iskcon Kisumu
O17: =SUM(F17:N17) -> 0 | P17: =(F17*$F$5)+(G17*$G$5)+(H17*$H$5)+(I17*$I$5)+(J17*$J$5)+(K17*$K$5)+(L17*$L$5)+(M17*$M$5)+(N17*$N$5) -> 0
O18: =SUM(F18:N18) -> 0 | P18: =(F18*$F$5)+(G18*$G$5)+(H18*$H$5)+(I18*$I$5)+(J18*$J$5)+(K18*$K$5)+(L18*$L$5)+(M18*$M$5)+(N18*$N$5) -> 0
B19: TOTAL | C19: =SUM(C17:C18) -> 0 | D19: =SUM(D17:D18) -> 0 | E19: =SUM(E17:E18) -> 0 | F19: =SUM(F17:F18) -> 0 | G19: =SUM(G17:G18) -> 0 | H19: =SUM(H17:H18) -> 0 | I19: =SUM(I17:I18) -> 0 | J19: =SUM(J17:J18) -> 0 | ... P19: =SUM(P17:P18) -> 0
B22: Iskcon Mombassa
O23: =SUM(F23:N23) -> 0 | P23: =(F23*$F$5)+(G23*$G$5)+(H23*$H$5)+(I23*$I$5)+(J23*$J$5)+(K23*$K$5)+(L23*$L$5)+(M23*$M$5)+(N23*$N$5) -> 0
O24: =SUM(F24:N24) -> 0 | P24: =(F24*$F$5)+(G24*$G$5)+(H24*$H$5)+(I24*$I$5)+(J24*$J$5)+(K24*$K$5)+(L24*$L$5)+(M24*$M$5)+(N24*$N$5) -> 0
O25: =SUM(C25:N25) -> 0 | P25: =(C25*$C$5)+(G25*$G$5)+(H25*$H$5)+(I25*$I$5)+(J25*$J$5)+(K25*$K$5)+(L25*$L$5)+(M25*$M$5)+(N25*$N$5) -> 0
P26: =(F26*$F$5)+(G26*$G$5)+(H26*$H$5)+(I26*$I$5)+(J26*$J$5)+(K26*$K$5)+(L26*$L$5)+(M26*$M$5)+(N26*$N$5) -> 0
B27: TOTAL | C27: =SUM(C23:C24) -> 0 | D27: =SUM(D23:D24) -> 0 | E27: =SUM(E23:E24) -> 0 | F27: =SUM(F23:F26) -> 0 | G27: =SUM(G23:G26) -> 0 | H27: =SUM(H23:H26) -> 0 | I27: =SUM(I23:I26) -> 0 | J27: =SUM(J23:J26) -> 0 | K27: =SUM(K23:K26) -> 0 | L27: =SUM(L23:L26) -> 0 | M27: =SUM(M23:M26) -> 0 | ... P27: =SUM(P23:P26) -> 0
N29: Total: | O29: =SUM(O13+O19+O27) -> 901 | P29: =SUM(P13+P19+P27) -> 316

Sheet Malawi
B2: TEMPLE: Blantyre
B3: MONTH : January
C4: BTG Sub | D4: CC Set | E4: SB Set | F4: Mag. | G4: Small Books | I4: Medium Books | K4: Big Books | M4: Maha-Books
C5: 5 | F5: 0.1 | G5: 0.25 | H5: 0.25 | I5: 0.5 | J5: 0.5 | K5: 1 | L5: 1 | M5: 2 | N5: 2
B6: DEVOTEES | F6: M1 | G6: S1 | H6: H1 | I6: S2 | J6: H2 | K6: S3 | L6: H3 | M6: S4 | N6: H4 | O6: T/BKS | P6: Points
O9: =SUM(F9:N9) -> 0 | P9: =(F9*$F$5)+(G9*$G$5)+(H9*$H$5)+(I9*$I$5)+(J9*$J$5)+(K9*$K$5)+(L9*$L$5)+(M9*$M$5)+(N9*$N$5) -> 0
O10: =SUM(F10:N10) -> 0 | P10: =(F10*$F$5)+(G10*$G$5)+(H10*$H$5)+(I10*$I$5)+(J10*$J$5)+(K10*$K$5)+(L10*$L$5)+(M10*$M$5)+(N10*$N$5) -> 0
O11: =SUM(F11:N11) -> 0 | P11: =(F11*$F$5)+(G11*$G$5)+(H11*$H$5)+(I11*$I$5)+(J11*$J$5)+(K11*$K$5)+(L11*$L$5)+(M11*$M$5)+(N11*$N$5) -> 0
B12: TOTAL | C12: =SUM(C9:C11) -> 0 | D12: =SUM(D9:D11) -> 0 | E12: =SUM(E9:E11) -> 0 | F12: =SUM(F9:F11) -> 0 | G12: =SUM(G9:G11) -> 0 | H12: =SUM(H9:H11) -> 0 | I12: =SUM(I9:I11) -> 0 | J12: =SUM(J9:J11) -> 0 | ... P12: =SUM(P9:P11) -> 0

Sheet Mauritius
B1: MONTH: February 2016
C2: BTG Sub | D2: CC Set | E2: SB Set | F2: Mag. | G2: Small Books | I2: Medium Books | K2: Big Books | M2: Maha-Books
C3: 5 | D3: 18 | E3: 36 | F3: 0.1 | G3: 0.25 | H3: 0.25 | I3: 0.5 | J3: 0.5 | K3: 1 | L3: 1 | M3: 2 | N3: 2
B4: DEVOTEES | F4: M1 | G4: S1 | H4: H1 | I4: S2 | J4: H2 | K4: S3 | L4: H3 | M4: S4 | N4: H4 | O4: T/BKS | P4: Points
B6: ISKCON Phoenix Sri Sri Radha Gokulananda Mandir
B7: Mt Gaurangi DD | N7: 50 | O7: =SUM(F7:N7) -> 50 | P7: =(F7*$F$3)+(G7*$G$3)+(H7*$H$3)+(I7*$I$3)+(J7*$J$3)+(K7*$K$3)+(L7*$L$3)+(M7*$M$3)+(N7*$N$3) -> 100
B8: Pr Ganessen | G8: 200 | O8: =SUM(F8:N8) -> 200 | P8: =(F8*$F$3)+(G8*$G$3)+(H8*$H$3)+(I8*$I$3)+(J8*$J$3)+(K8*$K$3)+(L8*$L$3)+(M8*$M$3)+(N8*$N$3) -> 50
B9: Pr Mahen | G9: 155 | O9: =SUM(F9:N9) -> 155 | P9: =(F9*$F$3)+(G9*$G$3)+(H9*$H$3)+(I9*$I$3)+(J9*$J$3)+(K9*$K$3)+(L9*$L$3)+(M9*$M$3)+(N9*$N$3) -> 38.75
B10: Mt Sarvakanti DD | F10: 6 | G10: 32 | I10: 9 | K10: 6 | N10: 6 | O10: =SUM(F10:N10) -> 59 | P10: =(F10*$F$3)+(G10*$G$3)+(H10*$H$3)+(I10*$I$3)+(J10*$J$3)+(K10*$K$3)+(L10*$L$3)+(M10*$M$3)+(N10*$N$3) -> 31.1
B11: Pr Asutosa/Mt Caitanya | G11: 30 | O11: =SUM(F11:N11) -> 30 | P11: =(F11*$F$3)+(G11*$G$3)+(H11*$H$3)+(I11*$I$3)+(J11*$J$3)+(K11*$K$3)+(L11*$L$3)+(M11*$M$3)+(N11*$N$3) -> 7.5
B12: Pr Vinod | F12: 1 | G12: 3 | I12: 1 | N12: 3 | O12: =SUM(F12:N12) -> 8 | P12: =(F12*$F$3)+(G12*$G$3)+(H12*$H$3)+(I12*$I$3)+(J12*$J$3)+(K12*$K$3)+(L12*$L$3)+(M12*$M$3)+(N12*$N$3) -> 7.35
B13: Mt Sandy | G13: 24 | O13: =SUM(F13:N13) -> 24 | P13: =(F13*$F$3)+(G13*$G$3)+(H13*$H$3)+(I13*$I$3)+(J13*$J$3)+(K13*$K$3)+(L13*$L$3)+(M13*$M$3)+(N13*$N$3) -> 6
B14: Mt Jesina | G14: 20 | O14: =SUM(F14:N14) -> 20 | P14: =(F14*$F$3)+(G14*$G$3)+(H14*$H$3)+(I14*$I$3)+(J14*$J$3)+(K14*$K$3)+(L14*$L$3)+(M14*$M$3)+(N14*$N$3) -> 5
B15: Mt Ojasvi DD | G15: 2 | I15: 1 | K15: 1 | N15: 1 | O15: =SUM(F15:N15) -> 5 | P15: =(F15*$F$3)+(G15*$G$3)+(H15*$H$3)+(I15*$I$3)+(J15*$J$3)+(K15*$K$3)+(L15*$L$3)+(M15*$M$3)+(N15*$N$3) -> 4
B16: Pr Ajay Caitanya das | G16: 10 | O16: =SUM(F16:N16) -> 10 | P16: =(F16*$F$3)+(G16*$G$3)+(H16*$H$3)+(I16*$I$3)+(J16*$J$3)+(K16*$K$3)+(L16*$L$3)+(M16*$M$3)+(N16*$N$3) -> 2.5
B17: Mt Subhadra Boodhoo | G17: 10 | O17: =SUM(F17:N17) -> 10 | P17: =(F17*$F$3)+(G17*$G$3)+(H17*$H$3)+(I17*$I$3)+(J17*$J$3)+(K17*$K$3)+(L17*$L$3)+(M17*$M$3)+(N17*$N$3) -> 2.5
B18: Mt Vidya | G18: 7 | O18: =SUM(F18:N18) -> 7 | P18: =(F18*$F$3)+(G18*$G$3)+(H18*$H$3)+(I18*$I$3)+(J18*$J$3)+(K18*$K$3)+(L18*$L$3)+(M18*$M$3)+(N18*$N$3) -> 1.75
B19: Pr Sunil | G19: 4 | O19: =SUM(F19:N19) -> 4 | P19: =(F19*$F$3)+(G19*$G$3)+(H19*$H$3)+(I19*$I$3)+(J19*$J$3)+(K19*$K$3)+(L19*$L$3)+(M19*$M$3)+(N19*$N$3) -> 1
B20: Mt Arti | G20: 2 | O20: =SUM(F20:N20) -> 2 | P20: =(F20*$F$3)+(G20*$G$3)+(H20*$H$3)+(I20*$I$3)+(J20*$J$3)+(K20*$K$3)+(L20*$L$3)+(M20*$M$3)+(N20*$N$3) -> 0.5
O21: =SUM(F21:N21) -> 0 | P21: =(F21*$F$3)+(G21*$G$3)+(H21*$H$3)+(I21*$I$3)+(J21*$J$3)+(K21*$K$3)+(L21*$L$3)+(M21*$M$3)+(N21*$N$3) -> 0
B22: TOTAL | C22: =SUM(C7:C21) -> 0 | D22: =SUM(D7:D21) -> 0 | E22: =SUM(E7:E21) -> 0 | F22: =SUM(F7:F21) -> 7 | G22: =SUM(G7:G21) -> 499 | H22: =SUM(H7:H21) -> 0 | I22: =SUM(I7:I21) -> 11 | J22: =SUM(J7:J21) -> 0 | ... P22: =SUM(P7:P21) -> 257.95
B25: ISKCON Bon Accueil Mauritius Sri Sri Krsna Balaram Mandir
B26: Cumulative Scores | G26: 1786 | I26: 26 | L26: 53 | O26: =SUM(F26:N26) -> 1865 | P26: =(C26*$C$3)+(F26*$F$3)+(G26*$G$3)+(H26*$H$3)+(I26*$I$3)+(J26*$J$3)+(K26*$K$3)+(L26*$L$3)+(M26*$M$3)+(N26*$N$3) -> 512.5
O27: =SUM(F27:N27) -> 0 | P27: =(F27*$F$3)+(G27*$G$3)+(H27*$H$3)+(I27*$I$3)+(J27*$J$3)+(K27*$K$3)+(L27*$L$3)+(M27*$M$3)+(N27*$N$3) -> 0
O28: =SUM(F28:N28) -> 0 | P28: =(F28*$F$3)+(G28*$G$3)+(H28*$H$3)+(I28*$I$3)+(J28*$J$3)+(K28*$K$3)+(L28*$L$3)+(M28*$M$3)+(N28*$N$3) -> 0
B29: TOTAL | C29: =SUM(C26:C28) -> 0 | D29: =SUM(D26:D28) -> 0 | E29: =SUM(E26:E28) -> 0 | F29: =SUM(F26:F28) -> 0 | G29: =SUM(G26:G28) -> 1786 | H29: =SUM(H26:H28) -> 0 | I29: =SUM(I26:I28) -> 26 | J29: =SUM(J26:J28) -> 0 | ... P29: =SUM(P26:P28) -> 512.5
M32: TOTAL | O32: =+O29+O22 -> 2449 | P32: =+P29+P22 -> 770.45

Sheet Nigeria
B1: MONTH: January 2015
C2: BTG Sub | D2: CC Set | E2: SB Set | F2: Mag. | G2: Small Books | I2: Medium Books | K2: Big Books | M2: Maha-Books
C3: 5 | D3: 18 | E3: 36 | F3: 0.1 | G3: 0.25 | H3: 0.25 | I3: 0.5 | J3: 0.5 | K3: 1 | L3: 1 | M3: 2 | N3: 2
B4: DEVOTEES | F4: M1 | G4: S1 | H4: H1 | I4: S2 | J4: H2 | K4: S3 | L4: H3 | M4: S4 | N4: H4 | O4: T/BKS | P4: Points
B6: ISKCON BENIN CITY
B7: Temple Cumulative Scores | O7: =SUM(C7:N7) -> 0 | P7: =(C7*$C$3)+(F7*$F$3)+(G7*$G$3)+(H7*$H$3)+(I7*$I$3)+(J7*$J$3)+(K7*$K$3)+(L7*$L$3)+(M7*$M$3)+(N7*$N$3) -> 0
O8: =SUM(F8:N8) -> 0 | P8: =(F8*$F$3)+(G8*$G$3)+(H8*$H$3)+(I8*$I$3)+(J8*$J$3)+(K8*$K$3)+(L8*$L$3)+(M8*$M$3)+(N8*$N$3) -> 0
O9: =SUM(F9:N9) -> 0 | P9: =(F9*$F$3)+(G9*$G$3)+(H9*$H$3)+(I9*$I$3)+(J9*$J$3)+(K9*$K$3)+(L9*$L$3)+(M9*$M$3)+(N9*$N$3) -> 0
O10: =SUM(F10:N10) -> 0 | P10: =(F10*$F$3)+(G10*$G$3)+(H10*$H$3)+(I10*$I$3)+(J10*$J$3)+(K10*$K$3)+(L10*$L$3)+(M10*$M$3)+(N10*$N$3) -> 0
O11: =SUM(F11:N11) -> 0 | P11: =(F11*$F$3)+(G11*$G$3)+(H11*$H$3)+(I11*$I$3)+(J11*$J$3)+(K11*$K$3)+(L11*$L$3)+(M11*$M$3)+(N11*$N$3) -> 0
O12: =SUM(F12:N12) -> 0 | P12: =(F12*$F$3)+(G12*$G$3)+(H12*$H$3)+(I12*$I$3)+(J12*$J$3)+(K12*$K$3)+(L12*$L$3)+(M12*$M$3)+(N12*$N$3) -> 0
O13: =SUM(F13:N13) -> 0 | P13: =(F13*$F$3)+(G13*$G$3)+(H13*$H$3)+(I13*$I$3)+(J13*$J$3)+(K13*$K$3)+(L13*$L$3)+(M13*$M$3)+(N13*$N$3) -> 0
O14: =SUM(F14:N14) -> 0 | P14: =(F14*$F$3)+(G14*$G$3)+(H14*$H$3)+(I14*$I$3)+(J14*$J$3)+(K14*$K$3)+(L14*$L$3)+(M14*$M$3)+(N14*$N$3) -> 0
O15: =SUM(F15:N15) -> 0 | P15: =(F15*$F$3)+(G15*$G$3)+(H15*$H$3)+(I15*$I$3)+(J15*$J$3)+(K15*$K$3)+(L15*$L$3)+(M15*$M$3)+(N15*$N$3) -> 0
O16: =SUM(F16:N16) -> 0 | P16: =(F16*$F$3)+(G16*$G$3)+(H16*$H$3)+(I16*$I$3)+(J16*$J$3)+(K16*$K$3)+(L16*$L$3)+(M16*$M$3)+(N16*$N$3) -> 0
O17: =SUM(F17:N17) -> 0 | P17: =(F17*$F$3)+(G17*$G$3)+(H17*$H$3)+(I17*$I$3)+(J17*$J$3)+(K17*$K$3)+(L17*$L$3)+(M17*$M$3)+(N17*$N$3) -> 0
O18: =SUM(F18:N18) -> 0 | P18: =(F18*$F$3)+(G18*$G$3)+(H18*$H$3)+(I18*$I$3)+(J18*$J$3)+(K18*$K$3)+(L18*$L$3)+(M18*$M$3)+(N18*$N$3) -> 0
O19: =SUM(F19:N19) -> 0 | P19: =(F19*$F$3)+(G19*$G$3)+(H19*$H$3)+(I19*$I$3)+(J19*$J$3)+(K19*$K$3)+(L19*$L$3)+(M19*$M$3)+(N19*$N$3) -> 0
... O21: =SUM(F21:N21) -> 0 | P21: =(F21*$F$3)+(G21*$G$3)+(H21*$H$3)+(I21*$I$3)+(J21*$J$3)+(K21*$K$3)+(L21*$L$3)+(M21*$M$3)+(N21*$N$3) -> 0
B22: TOTAL | C22: =SUM(C7:C21) -> 0 | D22: =SUM(D7:D21) -> 0 | E22: =SUM(E7:E21) -> 0 | F22: =SUM(F7:F21) -> 0 | G22: =SUM(G7:G21) -> 0 | H22: =SUM(H7:H21) -> 0 | I22: =SUM(I7:I21) -> 0 | J22: =SUM(J7:J21) -> 0 | ... P22: =SUM(P7:P21) -> 0
B25: ISKCON LAGOS
B26: Bhakta Arthur and Tribhuvanatha | O26: =SUM(F26:N26) -> 0 | P26: =(F26*$F$3)+(G26*$G$3)+(H26*$H$3)+(I26*$I$3)+(J26*$J$3)+(K26*$K$3)+(L26*$L$3)+(M26*$M$3)+(N26*$N$3) -> 0
B27: Beach Programme | O27: =SUM(F27:N27) -> 0 | P27: =(F27*$F$3)+(G27*$G$3)+(H27*$H$3)+(I27*$I$3)+(J27*$J$3)+(K27*$K$3)+(L27*$L$3)+(M27*$M$3)+(N27*$N$3) -> 0
B28: Balabhadra Dasa | O28: =SUM(F28:N28) -> 0 | P28: =(F28*$F$3)+(G28*$G$3)+(H28*$H$3)+(I28*$I$3)+(J28*$J$3)+(K28*$K$3)+(L28*$L$3)+(M28*$M$3)+(N28*$N$3) -> 0
B29: Beenu | O29: =SUM(F29:N29) -> 0 | P29: =(F29*$F$3)+(G29*$G$3)+(H29*$H$3)+(I29*$I$3)+(J29*$J$3)+(K29*$K$3)+(L29*$L$3)+(M29*$M$3)+(N29*$N$3) -> 0
B30: Benson | O30: =SUM(F30:N30) -> 0 | P30: =(F30*$F$3)+(G30*$G$3)+(H30*$H$3)+(I30*$I$3)+(J30*$J$3)+(K30*$K$3)+(L30*$L$3)+(M30*$M$3)+(N30*$N$3) -> 0
B31: Ganga Dasa | O31: =SUM(F31:N31) -> 0 | P31: =(F31*$F$3)+(G31*$G$3)+(H31*$H$3)+(I31*$I$3)+(J31*$J$3)+(K31*$K$3)+(L31*$L$3)+(M31*$M$3)+(N31*$N$3) -> 0
B32: Devarishi dasa | O32: =SUM(F32:N32) -> 0 | P32: =(F32*$F$3)+(G32*$G$3)+(H32*$H$3)+(I32*$I$3)+(J32*$J$3)+(K32*$K$3)+(L32*$L$3)+(M32*$M$3)+(N32*$N$3) -> 0
B33: Gaura Gopala Dasa | O33: =SUM(F33:N33) -> 0 | P33: =(F33*$F$3)+(G33*$G$3)+(H33*$H$3)+(I33*$I$3)+(J33*$J$3)+(K33*$K$3)+(L33*$L$3)+(M33*$M$3)+(N33*$N$3) -> 0
B34: Kavikarnapura dasa | O34: =SUM(F34:N34) -> 0 | P34: =(F34*$F$3)+(G34*$G$3)+(H34*$H$3)+(I34*$I$3)+(J34*$J$3)+(K34*$K$3)+(L34*$L$3)+(M34*$M$3)+(N34*$N$3) -> 0
B35: Kavikarnapura and Tribuvanatha dasa | O35: =SUM(F35:N35) -> 0 | P35: =(F35*$F$3)+(G35*$G$3)+(H35*$H$3)+(I35*$I$3)+(J35*$J$3)+(K35*$K$3)+(L35*$L$3)+(M35*$M$3)+(N35*$N$3) -> 0
B36: Kavikarnapura and Beenu | O36: =SUM(F36:N36) -> 0 | P36: =(F36*$F$3)+(G36*$G$3)+(H36*$H$3)+(I36*$I$3)+(J36*$J$3)+(K36*$K$3)+(L36*$L$3)+(M36*$M$3)+(N36*$N$3) -> 0
B37: Tribuvanatha dasa | O37: =SUM(F37:N37) -> 0 | P37: =(F37*$F$3)+(G37*$G$3)+(H37*$H$3)+(I37*$I$3)+(J37*$J$3)+(K37*$K$3)+(L37*$L$3)+(M37*$M$3)+(N37*$N$3) -> 0
... B43: Interfaith Programme | O43: =SUM(F43:N43) -> 0 | P43: =(F43*$F$3)+(G43*$G$3)+(H43*$H$3)+(I43*$I$3)+(J43*$J$3)+(K43*$K$3)+(L43*$L$3)+(M43*$M$3)+(N43*$N$3) -> 0
B44: TOTAL | C44: =SUM(C26:C43) -> 0 | D44: =SUM(D26:D43) -> 0 | E44: =SUM(E26:E43) -> 0 | F44: =SUM(F26:F43) -> 0 | G44: =SUM(G26:G43) -> 0 | H44: =SUM(H26:H43) -> 0 | I44: =SUM(I26:I43) -> 0 | J44: =SUM(J26:J43) -> 0 | ... P44: =SUM(P26:P43) -> 0
B47: ISKCON PORT HARCOURT
O48: =SUM(F48:N48) -> 0 | P48: =(F48*$F$3)+(G48*$G$3)+(H48*$H$3)+(I48*$I$3)+(J48*$J$3)+(K48*$K$3)+(L48*$L$3)+(M48*$M$3)+(N48*$N$3) -> 0
O49: =SUM(F49:N49) -> 0 | P49: =(F49*$F$3)+(G49*$G$3)+(H49*$H$3)+(I49*$I$3)+(J49*$J$3)+(K49*$K$3)+(L49*$L$3)+(M49*$M$3)+(N49*$N$3) -> 0
O50: =SUM(F50:N50) -> 0 | P50: =(F50*$F$3)+(G50*$G$3)+(H50*$H$3)+(I50*$I$3)+(J50*$J$3)+(K50*$K$3)+(L50*$L$3)+(M50*$M$3)+(N50*$N$3) -> 0
O51: =SUM(F51:N51) -> 0 | P51: =(F51*$F$3)+(G51*$G$3)+(H51*$H$3)+(I51*$I$3)+(J51*$J$3)+(K51*$K$3)+(L51*$L$3)+(M51*$M$3)+(N51*$N$3) -> 0
O52: =SUM(F52:N52) -> 0 | P52: =(F52*$F$3)+(G52*$G$3)+(H52*$H$3)+(I52*$I$3)+(J52*$J$3)+(K52*$K$3)+(L52*$L$3)+(M52*$M$3)+(N52*$N$3) -> 0
O53: =SUM(F53:N53) -> 0 | P53: =(F53*$F$3)+(G53*$G$3)+(H53*$H$3)+(I53*$I$3)+(J53*$J$3)+(K53*$K$3)+(L53*$L$3)+(M53*$M$3)+(N53*$N$3) -> 0
O54: =SUM(F54:N54) -> 0 | P54: =(F54*$F$3)+(G54*$G$3)+(H54*$H$3)+(I54*$I$3)+(J54*$J$3)+(K54*$K$3)+(L54*$L$3)+(M54*$M$3)+(N54*$N$3) -> 0
O55: =SUM(F55:N55) -> 0 | P55: =(F55*$F$3)+(G55*$G$3)+(H55*$H$3)+(I55*$I$3)+(J55*$J$3)+(K55*$K$3)+(L55*$L$3)+(M55*$M$3)+(N55*$N$3) -> 0
O56: =SUM(F56:N56) -> 0 | P56: =(F56*$F$3)+(G56*$G$3)+(H56*$H$3)+(I56*$I$3)+(J56*$J$3)+(K56*$K$3)+(L56*$L$3)+(M56*$M$3)+(N56*$N$3) -> 0
O57: =SUM(F57:N57) -> 0 | P57: =(F57*$F$3)+(G57*$G$3)+(H57*$H$3)+(I57*$I$3)+(J57*$J$3)+(K57*$K$3)+(L57*$L$3)+(M57*$M$3)+(N57*$N$3) -> 0
O58: =SUM(F58:N58) -> 0 | P58: =(F58*$F$3)+(G58*$G$3)+(H58*$H$3)+(I58*$I$3)+(J58*$J$3)+(K58*$K$3)+(L58*$L$3)+(M58*$M$3)+(N58*$N$3) -> 0
O59: =SUM(F59:N59) -> 0 | P59: =(F59*$F$3)+(G59*$G$3)+(H59*$H$3)+(I59*$I$3)+(J59*$J$3)+(K59*$K$3)+(L59*$L$3)+(M59*$M$3)+(N59*$N$3) -> 0
... O71: =SUM(F71:N71) -> 0 | P71: =(F71*$F$3)+(G71*$G$3)+(H71*$H$3)+(I71*$I$3)+(J71*$J$3)+(K71*$K$3)+(L71*$L$3)+(M71*$M$3)+(N71*$N$3) -> 0
B72: TOTAL | C72: =SUM(C69:C71) -> 0 | D72: =SUM(D48:D71) -> 0 | E72: =SUM(E48:E71) -> 0 | F72: =SUM(F69:F71) -> 0 | G72: =SUM(G48:G71) -> 0 | H72: =SUM(H48:H71) -> 0 | I72: =SUM(I48:I71) -> 0 | J72: =SUM(J48:J71) -> 0 | K72: =SUM(K48:K71) -> 0 | L72: =SUM(L48:L71) -> 0 | M72: =SUM(M48:M71) -> 0 | N72: =SUM(N48:N71) -> 0 | ... P72: =SUM(P48:P71) -> 0
M76: TOTAL | O76: =O72+O44+O22 -> 0 | P76: =P72+P44+P22 -> 0

Sheet South Africa
B1: MONTH: February 2016
C2: BTG Sub | D2: CC Set | E2: SB Set | F2: Mag. | G2: Small Books | I2: Medium Books | K2: Big Books | M2: Maha-Books
C3: 5 | D3: 18 | E3: 36 | F3: 0.1 | G3: 0.25 | H3: 0.25 | I3: 0.5 | J3: 0.5 | K3: 1 | L3: 1 | M3: 2 | N3: 2
B4: DEVOTEES | F4: M1 | G4: S1 | H4: H1 | I4: S2 | J4: H2 | K4: S3 | L4: H3 | M4: S4 | N4: H4 | O4: T/BKS | P4: Points
B6: ISKCON CAPE TOWN
O7: =SUM(C7:N7) -> 0 | P7: =(C7*$C$3)+(F7*$F$3)+(G7*$G$3)+(H7*$H$3)+(I7*$I$3)+(J7*$J$3)+(K7*$K$3)+(L7*$L$3)+(M7*$M$3)+(N7*$N$3) -> 0
O8: =SUM(F8:N8) -> 0 | P8: =(F8*$F$3)+(G8*$G$3)+(H8*$H$3)+(I8*$I$3)+(J8*$J$3)+(K8*$K$3)+(L8*$L$3)+(M8*$M$3)+(N8*$N$3) -> 0
O9: =SUM(F9:N9) -> 0 | P9: =(F9*$F$3)+(G9*$G$3)+(H9*$H$3)+(I9*$I$3)+(J9*$J$3)+(K9*$K$3)+(L9*$L$3)+(M9*$M$3)+(N9*$N$3) -> 0
O10: =SUM(F10:N10) -> 0 | P10: =(F10*$F$3)+(G10*$G$3)+(H10*$H$3)+(I10*$I$3)+(J10*$J$3)+(K10*$K$3)+(L10*$L$3)+(M10*$M$3)+(N10*$N$3) -> 0
O11: =SUM(F11:N11) -> 0 | P11: =(F11*$F$3)+(G11*$G$3)+(H11*$H$3)+(I11*$I$3)+(J11*$J$3)+(K11*$K$3)+(L11*$L$3)+(M11*$M$3)+(N11*$N$3) -> 0
O12: =SUM(F12:N12) -> 0 | P12: =(F12*$F$3)+(G12*$G$3)+(H12*$H$3)+(I12*$I$3)+(J12*$J$3)+(K12*$K$3)+(L12*$L$3)+(M12*$M$3)+(N12*$N$3) -> 0
O13: =SUM(F13:N13) -> 0 | P13: =(F13*$F$3)+(G13*$G$3)+(H13*$H$3)+(I13*$I$3)+(J13*$J$3)+(K13*$K$3)+(L13*$L$3)+(M13*$M$3)+(N13*$N$3) -> 0
O14: =SUM(F14:N14) -> 0 | P14: =(F14*$F$3)+(G14*$G$3)+(H14*$H$3)+(I14*$I$3)+(J14*$J$3)+(K14*$K$3)+(L14*$L$3)+(M14*$M$3)+(N14*$N$3) -> 0
O15: =SUM(F15:N15) -> 0 | P15: =(F15*$F$3)+(G15*$G$3)+(H15*$H$3)+(I15*$I$3)+(J15*$J$3)+(K15*$K$3)+(L15*$L$3)+(M15*$M$3)+(N15*$N$3) -> 0
O16: =SUM(F16:N16) -> 0 | P16: =(F16*$F$3)+(G16*$G$3)+(H16*$H$3)+(I16*$I$3)+(J16*$J$3)+(K16*$K$3)+(L16*$L$3)+(M16*$M$3)+(N16*$N$3) -> 0
O17: =SUM(F17:N17) -> 0 | P17: =(F17*$F$3)+(G17*$G$3)+(H17*$H$3)+(I17*$I$3)+(J17*$J$3)+(K17*$K$3)+(L17*$L$3)+(M17*$M$3)+(N17*$N$3) -> 0
O18: =SUM(F18:N18) -> 0 | P18: =(F18*$F$3)+(G18*$G$3)+(H18*$H$3)+(I18*$I$3)+(J18*$J$3)+(K18*$K$3)+(L18*$L$3)+(M18*$M$3)+(N18*$N$3) -> 0
O19: =SUM(F19:N19) -> 0 | P19: =(F19*$F$3)+(G19*$G$3)+(H19*$H$3)+(I19*$I$3)+(J19*$J$3)+(K19*$K$3)+(L19*$L$3)+(M19*$M$3)+(N19*$N$3) -> 0
... O29: =SUM(F29:N29) -> 0 | P29: =(F29*$F$3)+(G29*$G$3)+(H29*$H$3)+(I29*$I$3)+(J29*$J$3)+(K29*$K$3)+(L29*$L$3)+(M29*$M$3)+(N29*$N$3) -> 0
B30: TOTAL | C30: =SUM(C7:C29) -> 0 | D30: =SUM(D7:D29) -> 0 | E30: =SUM(E7:E29) -> 0 | F30: =SUM(F7:F29) -> 0 | G30: =SUM(G7:G29) -> 0 | H30: =SUM(H7:H29) -> 0 | I30: =SUM(I7:I29) -> 0 | J30: =SUM(J7:J29) -> 0 | ... P30: =SUM(P7:P29) -> 0
B33: ISKCON DURBAN
B34: Vibhu Caitanya Das | K34: 100 | O34: =SUM(F34:N34) -> 100 | P34: =(F34*$F$3)+(G34*$G$3)+(H34*$H$3)+(I34*$I$3)+(J34*$J$3)+(K34*$K$3)+(L34*$L$3)+(M34*$M$3)+(N34*$N$3) -> 100
B35: Book Counter | G35: 75 | I35: 29 | K35: 20 | N35: 8 | O35: =SUM(F35:N35) -> 132 | P35: =(F35*$F$3)+(G35*$G$3)+(H35*$H$3)+(I35*$I$3)+(J35*$J$3)+(K35*$K$3)+(L35*$L$3)+(M35*$M$3)+(N35*$N$3) -> 69.25
B36: Krishna Kirtan Das | G36: 14 | K36: 50 | O36: =SUM(F36:N36) -> 64 | P36: =(F36*$F$3)+(G36*$G$3)+(H36*$H$3)+(I36*$I$3)+(J36*$J$3)+(K36*$K$3)+(L36*$L$3)+(M36*$M$3)+(N36*$N$3) -> 53.5
B37: Nashvin Gangaram | N37: 20 | O37: =SUM(F37:N37) -> 20 | P37: =(F37*$F$3)+(G37*$G$3)+(H37*$H$3)+(I37*$I$3)+(J37*$J$3)+(K37*$K$3)+(L37*$L$3)+(M37*$M$3)+(N37*$N$3) -> 40
B38: Maithili Devi Dasi | K38: 20 | O38: =SUM(F38:N38) -> 20 | P38: =(F38*$F$3)+(G38*$G$3)+(H38*$H$3)+(I38*$I$3)+(J38*$J$3)+(K38*$K$3)+(L38*$L$3)+(M38*$M$3)+(N38*$N$3) -> 20
B39: Radha Vinod Dasi | G39: 30 | O39: =SUM(F39:N39) -> 30 | P39: =(F39*$F$3)+(G39*$G$3)+(H39*$H$3)+(I39*$I$3)+(J39*$J$3)+(K39*$K$3)+(L39*$L$3)+(M39*$M$3)+(N39*$N$3) -> 7.5
B40: Alanath Das | G40: 5 | K40: 5 | O40: =SUM(F40:N40) -> 10 | P40: =(F40*$F$3)+(G40*$G$3)+(H40*$H$3)+(I40*$I$3)+(J40*$J$3)+(K40*$K$3)+(L40*$L$3)+(M40*$M$3)+(N40*$N$3) -> 6.25
B41: Sad Goswami Das | K41: 5 | O41: =SUM(F41:N41) -> 5 | P41: =(F41*$F$3)+(G41*$G$3)+(H41*$H$3)+(I41*$I$3)+(J41*$J$3)+(K41*$K$3)+(L41*$L$3)+(M41*$M$3)+(N41*$N$3) -> 5
B42: Jahnava Dasis | G42: 12 | O42: =SUM(F42:N42) -> 12 | P42: =(F42*$F$3)+(G42*$G$3)+(H42*$H$3)+(I42*$I$3)+(J42*$J$3)+(K42*$K$3)+(L42*$L$3)+(M42*$M$3)+(N42*$N$3) -> 3
B43: Btg Office | F43: 3 | O43: =SUM(F43:N43) -> 3 | P43: =(F43*$F$3)+(G43*$G$3)+(H43*$H$3)+(I43*$I$3)+(J43*$J$3)+(K43*$K$3)+(L43*$L$3)+(M43*$M$3)+(N43*$N$3) -> 0.3
O44: =SUM(F44:N44) -> 0 | P44: =(F44*$F$3)+(G44*$G$3)+(H44*$H$3)+(I44*$I$3)+(J44*$J$3)+(K44*$K$3)+(L44*$L$3)+(M44*$M$3)+(N44*$N$3) -> 0
O45: =SUM(F45:N45) -> 0 | P45: =(F45*$F$3)+(G45*$G$3)+(H45*$H$3)+(I45*$I$3)+(J45*$J$3)+(K45*$K$3)+(L45*$L$3)+(M45*$M$3)+(N45*$N$3) -> 0
O46: =SUM(F46:N46) -> 0 | P46: =(F46*$F$3)+(G46*$G$3)+(H46*$H$3)+(I46*$I$3)+(J46*$J$3)+(K46*$K$3)+(L46*$L$3)+(M46*$M$3)+(N46*$N$3) -> 0
O47: =SUM(F47:N47) -> 0 | P47: =(F47*$F$3)+(G47*$G$3)+(H47*$H$3)+(I47*$I$3)+(J47*$J$3)+(K47*$K$3)+(L47*$L$3)+(M47*$M$3)+(N47*$N$3) -> 0
O48: =SUM(F48:N48) -> 0 | P48: =(F48*$F$3)+(G48*$G$3)+(H48*$H$3)+(I48*$I$3)+(J48*$J$3)+(K48*$K$3)+(L48*$L$3)+(M48*$M$3)+(N48*$N$3) -> 0
O49: =SUM(F49:N49) -> 0 | P49: =(F49*$F$3)+(G49*$G$3)+(H49*$H$3)+(I49*$I$3)+(J49*$J$3)+(K49*$K$3)+(L49*$L$3)+(M49*$M$3)+(N49*$N$3) -> 0
O50: =SUM(F50:N50) -> 0 | P50: =(F50*$F$3)+(G50*$G$3)+(H50*$H$3)+(I50*$I$3)+(J50*$J$3)+(K50*$K$3)+(L50*$L$3)+(M50*$M$3)+(N50*$N$3) -> 0
O51: =SUM(F51:N51) -> 0 | P51: =(F51*$F$3)+(G51*$G$3)+(H51*$H$3)+(I51*$I$3)+(J51*$J$3)+(K51*$K$3)+(L51*$L$3)+(M51*$M$3)+(N51*$N$3) -> 0
O52: =SUM(F52:N52) -> 0 | P52: =(F52*$F$3)+(G52*$G$3)+(H52*$H$3)+(I52*$I$3)+(J52*$J$3)+(K52*$K$3)+(L52*$L$3)+(M52*$M$3)+(N52*$N$3) -> 0
O53: =SUM(F53:N53) -> 0 | P53: =(F53*$F$3)+(G53*$G$3)+(H53*$H$3)+(I53*$I$3)+(J53*$J$3)+(K53*$K$3)+(L53*$L$3)+(M53*$M$3)+(N53*$N$3) -> 0
O54: =SUM(F54:N54) -> 0 | P54: =(F54*$F$3)+(G54*$G$3)+(H54*$H$3)+(I54*$I$3)+(J54*$J$3)+(K54*$K$3)+(L54*$L$3)+(M54*$M$3)+(N54*$N$3) -> 0
O55: =SUM(F55:N55) -> 0 | P55: =(F55*$F$3)+(G55*$G$3)+(H55*$H$3)+(I55*$I$3)+(J55*$J$3)+(K55*$K$3)+(L55*$L$3)+(M55*$M$3)+(N55*$N$3) -> 0
... O153: =SUM(F153:N153) -> 0 | P153: =(F153*$F$3)+(G153*$G$3)+(H153*$H$3)+(I153*$I$3)+(J153*$J$3)+(K153*$K$3)+(L153*$L$3)+(M153*$M$3)+(N153*$N$3) -> 0
H154: =SUM(H34:H153) -> 0 | I154: =SUM(I34:I153) -> 29 | J154: =SUM(J34:J153) -> 0 | K154: =SUM(K34:K153) -> 200 | L154: =SUM(L34:L153) -> 0 | M154: =SUM(M34:M153) -> 0 | N154: =SUM(N34:N153) -> 28 | O154: =SUM(O34:O153) -> 396 | P154: =SUM(P34:P153) -> 304.8
B157: ISKCON LENASIA
B158: Amrita Radhika dd | G158: 27 | I158: 7 | L158: 1 | O158: =SUM(F158:N158) -> 35 | P158: =(F158*$F$3)+(G158*$G$3)+(H158*$H$3)+(I158*$I$3)+(J158*$J$3)+(K158*$K$3)+(L158*$L$3)+(M158*$M$3)+(N158*$N$3) -> 11.25
B159: Dhesan Chetty & devotees | G159: 50 | O159: =SUM(F159:N159) -> 50 | P159: =(F159*$F$3)+(G159*$G$3)+(H159*$H$3)+(I159*$I$3)+(J159*$J$3)+(K159*$K$3)+(L159*$L$3)+(M159*$M$3)+(N159*$N$3) -> 12.5
B160: Sasolburg Namahatta | G160: 200 | L160: 4 | O160: =SUM(F160:N160) -> 204 | P160: =(F160*$F$3)+(G160*$G$3)+(H160*$H$3)+(I160*$I$3)+(J160*$J$3)+(K160*$K$3)+(L160*$L$3)+(M160*$M$3)+(N160*$N$3) -> 54
B161: Shyama Rupa | G161: 84 | O161: =SUM(F161:N161) -> 84 | P161: =(F161*$F$3)+(G161*$G$3)+(H161*$H$3)+(I161*$I$3)+(J161*$J$3)+(K161*$K$3)+(L161*$L$3)+(M161*$M$3)+(N161*$N$3) -> 21
B162: Tirumala devi dasi | G162: 15 | I162: 15 | O162: =SUM(F162:N162) -> 30 | P162: =(F162*$F$3)+(G162*$G$3)+(H162*$H$3)+(I162*$I$3)+(J162*$J$3)+(K162*$K$3)+(L162*$L$3)+(M162*$M$3)+(N162*$N$3) -> 11.25
B163: Yavat das | G163: 40 | I163: 1 | O163: =SUM(F163:N163) -> 41 | P163: =(F163*$F$3)+(G163*$G$3)+(H163*$H$3)+(I163*$I$3)+(J163*$J$3)+(K163*$K$3)+(L163*$L$3)+(M163*$M$3)+(N163*$N$3) -> 10.5
B164: BTG Magazines | F164: 536 | O164: =SUM(F164:N164) -> 536 | P164: =(F164*$F$3)+(G164*$G$3)+(H164*$H$3)+(I164*$I$3)+(J164*$J$3)+(K164*$K$3)+(L164*$L$3)+(M164*$M$3)+(N164*$N$3) -> 53.6
O165: =SUM(F165:N165) -> 0 | P165: =(F165*$F$3)+(G165*$G$3)+(H165*$H$3)+(I165*$I$3)+(J165*$J$3)+(K165*$K$3)+(L165*$L$3)+(M165*$M$3)+(N165*$N$3) -> 0
O166: =SUM(F166:N166) -> 0 | P166: =(F166*$F$3)+(G166*$G$3)+(H166*$H$3)+(I166*$I$3)+(J166*$J$3)+(K166*$K$3)+(L166*$L$3)+(M166*$M$3)+(N166*$N$3) -> 0
O167: =SUM(F167:N167) -> 0 | P167: =(F167*$F$3)+(G167*$G$3)+(H167*$H$3)+(I167*$I$3)+(J167*$J$3)+(K167*$K$3)+(L167*$L$3)+(M167*$M$3)+(N167*$N$3) -> 0
O168: =SUM(F168:N168) -> 0 | P168: =(F168*$F$3)+(G168*$G$3)+(H168*$H$3)+(I168*$I$3)+(J168*$J$3)+(K168*$K$3)+(L168*$L$3)+(M168*$M$3)+(N168*$N$3) -> 0
O169: =SUM(F169:N169) -> 0 | P169: =(F169*$F$3)+(G169*$G$3)+(H169*$H$3)+(I169*$I$3)+(J169*$J$3)+(K169*$K$3)+(L169*$L$3)+(M169*$M$3)+(N169*$N$3) -> 0
O170: =SUM(F170:N170) -> 0 | P170: =(F170*$F$3)+(G170*$G$3)+(H170*$H$3)+(I170*$I$3)+(J170*$J$3)+(K170*$K$3)+(L170*$L$3)+(M170*$M$3)+(N170*$N$3) -> 0
O171: =SUM(F171:N171) -> 0 | P171: =(F171*$F$3)+(G171*$G$3)+(H171*$H$3)+(I171*$I$3)+(J171*$J$3)+(K171*$K$3)+(L171*$L$3)+(M171*$M$3)+(N171*$N$3) -> 0
O172: =SUM(F172:N172) -> 0 | P172: =(F172*$F$3)+(G172*$G$3)+(H172*$H$3)+(I172*$I$3)+(J172*$J$3)+(K172*$K$3)+(L172*$L$3)+(M172*$M$3)+(N172*$N$3) -> 0
O173: =SUM(F173:N173) -> 0 | P173: =(F173*$F$3)+(G173*$G$3)+(H173*$H$3)+(I173*$I$3)+(J173*$J$3)+(K173*$K$3)+(L173*$L$3)+(M173*$M$3)+(N173*$N$3) -> 0
O174: =SUM(F174:N174) -> 0 | P174: =(F174*$F$3)+(G174*$G$3)+(H174*$H$3)+(I174*$I$3)+(J174*$J$3)+(K174*$K$3)+(L174*$L$3)+(M174*$M$3)+(N174*$N$3) -> 0
O175: =SUM(F175:N175) -> 0 | P175: =(F175*$F$3)+(G175*$G$3)+(H175*$H$3)+(I175*$I$3)+(J175*$J$3)+(K175*$K$3)+(L175*$L$3)+(M175*$M$3)+(N175*$N$3) -> 0
O176: =SUM(F176:N176) -> 0 | P176: =(F176*$F$3)+(G176*$G$3)+(H176*$H$3)+(I176*$I$3)+(J176*$J$3)+(K176*$K$3)+(L176*$L$3)+(M176*$M$3)+(N176*$N$3) -> 0
... O186: =SUM(F186:N186) -> 0 | P186: =(F186*$F$3)+(G186*$G$3)+(H186*$H$3)+(I186*$I$3)+(J186*$J$3)+(K186*$K$3)+(L186*$L$3)+(M186*$M$3)+(N186*$N$3) -> 0
B187: TOTAL | C187: =SUM(C158:C186) -> 0 | D187: =SUM(D158:D186) -> 0 | E187: =SUM(E158:E186) -> 0 | F187: =SUM(F158:F186) -> 536 | G187: =SUM(G158:G186) -> 416 | H187: =SUM(H158:H186) -> 0 | I187: =SUM(I158:I186) -> 23 | J187: =SUM(J158:J186) -> 0 | ... P187: =SUM(P158:P186) -> 174.1
B190: ISKCON MAFIKENG
B191: Jayadeva Dasa | G191: 58 | I191: 44 | K191: 1 | O191: =SUM(F191:N191) -> 103 | P191: =(F191*$F$3)+(G191*$G$3)+(H191*$H$3)+(I191*$I$3)+(J191*$J$3)+(K191*$K$3)+(L191*$L$3)+(M191*$M$3)+(N191*$N$3) -> 37.5
B192: Bhakta Tankiso | G192: 55 | I192: 18 | K192: 3 | O192: =SUM(F192:N192) -> 76 | P192: =(F192*$F$3)+(G192*$G$3)+(H192*$H$3)+(I192*$I$3)+(J192*$J$3)+(K192*$K$3)+(L192*$L$3)+(M192*$M$3)+(N192*$N$3) -> 25.75
B193: TOTAL | C193: =SUM(C192:C192) -> 0 | D193: =SUM(D192:D192) -> 0 | E193: =SUM(E192:E192) -> 0 | F193: =SUM(F192:F192) -> 0 | G193: =SUM(G191:G192) -> 113 | H193: =SUM(H191:H192) -> 0 | I193: =SUM(I191:I192) -> 62 | J193: =SUM(J191:J192) -> 0 | K193: =SUM(K191:K192) -> 4 | L193: =SUM(L191:L192) -> 0 | M193: =SUM(M191:M192) -> 0 | N193: =SUM(N191:N192) -> 0 | ... P193: =SUM(P191:P192) -> 63.25
B196: ISKCON MIDRAND
B197: Cumulative Team scores | O197: =SUM(F197:N197) -> 0 | P197: =(F197*$F$3)+(G197*$G$3)+(H197*$H$3)+(I197*$I$3)+(J197*$J$3)+(K197*$K$3)+(L197*$L$3)+(M197*$M$3)+(N197*$N$3) -> 0
O198: =SUM(F198:N198) -> 0 | P198: =(F198*$F$3)+(G198*$G$3)+(H198*$H$3)+(I198*$I$3)+(J198*$J$3)+(K198*$K$3)+(L198*$L$3)+(M198*$M$3)+(N198*$N$3) -> 0
B199: TOTAL | C199: =SUM(C197:C198) -> 0 | D199: =SUM(D197:D198) -> 0 | E199: =SUM(E197:E198) -> 0 | F199: =SUM(F197:F198) -> 0 | G199: =SUM(G197:G198) -> 0 | H199: =SUM(H197:H198) -> 0 | I199: =SUM(I197:I198) -> 0 | J199: =SUM(J197:J198) -> 0 | ... P199: =SUM(P197:P198) -> 0
B202: ISKCON MPUMALANGA
O203: =SUM(F203:N203) -> 0 | P203: =(F203*$F$3)+(G203*$G$3)+(H203*$H$3)+(I203*$I$3)+(J203*$J$3)+(K203*$K$3)+(L203*$L$3)+(M203*$M$3)+(N203*$N$3) -> 0
O204: =SUM(F204:N204) -> 0 | P204: =(F204*$F$3)+(G204*$G$3)+(H204*$H$3)+(I204*$I$3)+(J204*$J$3)+(K204*$K$3)+(L204*$L$3)+(M204*$M$3)+(N204*$N$3) -> 0
B205: TOTAL | C205: =SUM(C203:C204) -> 0 | D205: =SUM(D203:D204) -> 0 | E205: =SUM(E203:E204) -> 0 | F205: =SUM(F203:F204) -> 0 | G205: =SUM(G203:G204) -> 0 | H205: =SUM(H203:H204) -> 0 | I205: =SUM(I203:I204) -> 0 | J205: =SUM(J203:J204) -> 0 | ... P205: =SUM(P203:P204) -> 0
B208: ISKCON PIETERMARITZBURG
O209: =SUM(F209:N209) -> 0 | P209: =(F209*$F$3)+(G209*$G$3)+(H209*$H$3)+(I209*$I$3)+(J209*$J$3)+(K209*$K$3)+(L209*$L$3)+(M209*$M$3)+(N209*$N$3) -> 0
O210: =SUM(F210:N210) -> 0 | P210: =(F210*$F$3)+(G210*$G$3)+(H210*$H$3)+(I210*$I$3)+(J210*$J$3)+(K210*$K$3)+(L210*$L$3)+(M210*$M$3)+(N210*$N$3) -> 0
O211: =SUM(F211:N211) -> 0 | P211: =(F211*$F$3)+(G211*$G$3)+(H211*$H$3)+(I211*$I$3)+(J211*$J$3)+(K211*$K$3)+(L211*$L$3)+(M211*$M$3)+(N211*$N$3) -> 0
O212: =SUM(F212:N212) -> 0 | P212: =(F212*$F$3)+(G212*$G$3)+(H212*$H$3)+(I212*$I$3)+(J212*$J$3)+(K212*$K$3)+(L212*$L$3)+(M212*$M$3)+(N212*$N$3) -> 0
O213: =SUM(F213:N213) -> 0 | P213: =(F213*$F$3)+(G213*$G$3)+(H213*$H$3)+(I213*$I$3)+(J213*$J$3)+(K213*$K$3)+(L213*$L$3)+(M213*$M$3)+(N213*$N$3) -> 0
O214: =SUM(F214:N214) -> 0 | P214: =(F214*$F$3)+(G214*$G$3)+(H214*$H$3)+(I214*$I$3)+(J214*$J$3)+(K214*$K$3)+(L214*$L$3)+(M214*$M$3)+(N214*$N$3) -> 0
O215: =SUM(F215:N215) -> 0 | P215: =(F215*$F$3)+(G215*$G$3)+(H215*$H$3)+(I215*$I$3)+(J215*$J$3)+(K215*$K$3)+(L215*$L$3)+(M215*$M$3)+(N215*$N$3) -> 0
O216: =SUM(F216:N216) -> 0 | P216: =(F216*$F$3)+(G216*$G$3)+(H216*$H$3)+(I216*$I$3)+(J216*$J$3)+(K216*$K$3)+(L216*$L$3)+(M216*$M$3)+(N216*$N$3) -> 0
O217: =SUM(F217:N217) -> 0 | P217: =(F217*$F$3)+(G217*$G$3)+(H217*$H$3)+(I217*$I$3)+(J217*$J$3)+(K217*$K$3)+(L217*$L$3)+(M217*$M$3)+(N217*$N$3) -> 0
O218: =SUM(F218:N218) -> 0 | P218: =(F218*$F$3)+(G218*$G$3)+(H218*$H$3)+(I218*$I$3)+(J218*$J$3)+(K218*$K$3)+(L218*$L$3)+(M218*$M$3)+(N218*$N$3) -> 0
O219: =SUM(F219:N219) -> 0 | P219: =(F219*$F$3)+(G219*$G$3)+(H219*$H$3)+(I219*$I$3)+(J219*$J$3)+(K219*$K$3)+(L219*$L$3)+(M219*$M$3)+(N219*$N$3) -> 0
O220: =SUM(F220:N220) -> 0 | P220: =(F220*$F$3)+(G220*$G$3)+(H220*$H$3)+(I220*$I$3)+(J220*$J$3)+(K220*$K$3)+(L220*$L$3)+(M220*$M$3)+(N220*$N$3) -> 0
... O232: =SUM(F232:N232) -> 0 | P232: =(F232*$F$3)+(G232*$G$3)+(H232*$H$3)+(I232*$I$3)+(J232*$J$3)+(K232*$K$3)+(L232*$L$3)+(M232*$M$3)+(N232*$N$3) -> 0
B233: TOTAL | C233: =SUM(C230:C232) -> 0 | D233: =SUM(D209:D232) -> 0 | E233: =SUM(E209:E232) -> 0 | F233: =SUM(F230:F232) -> 0 | G233: =SUM(G209:G232) -> 0 | H233: =SUM(H209:H232) -> 0 | I233: =SUM(I209:I232) -> 0 | J233: =SUM(J209:J232) -> 0 | K233: =SUM(K209:K232) -> 0 | L233: =SUM(L209:L232) -> 0 | M233: =SUM(M209:M232) -> 0 | N233: =SUM(N209:N232) -> 0 | ... P233: =SUM(P209:P232) -> 0
B236: ISKCON SANDTON
O237: =SUM(F237:N237) -> 0 | P237: =(F237*$F$3)+(G237*$G$3)+(H237*$H$3)+(I237*$I$3)+(J237*$J$3)+(K237*$K$3)+(L237*$L$3)+(M237*$M$3)+(N237*$N$3) -> 0
O238: =SUM(F238:N238) -> 0 | P238: =(F238*$F$3)+(G238*$G$3)+(H238*$H$3)+(I238*$I$3)+(J238*$J$3)+(K238*$K$3)+(L238*$L$3)+(M238*$M$3)+(N238*$N$3) -> 0
O239: =SUM(F239:N239) -> 0 | P239: =(F239*$F$3)+(G239*$G$3)+(H239*$H$3)+(I239*$I$3)+(J239*$J$3)+(K239*$K$3)+(L239*$L$3)+(M239*$M$3)+(N239*$N$3) -> 0
B240: TOTAL | C240: =SUM(C237:C239) -> 0 | D240: =SUM(D237:D239) -> 0 | E240: =SUM(E237:E239) -> 0 | F240: =SUM(F237:F239) -> 0 | G240: =SUM(G237:G239) -> 0 | H240: =SUM(H237:H239) -> 0 | I240: =SUM(I237:I239) -> 0 | J240: =SUM(J237:J239) -> 0 | ... P240: =SUM(P237:P239) -> 0
M242: TOTAL | O242: =O240+O233+O205+O199+O193+O187+O154+O30 -> 1555 | P242: =P240+P233+P205+P199+P193+P187+P154+P30 -> 542.15

Sheet Togo
B2: TEMPLE: Togo
B3: MONTH : January 2015
C4: BTG Sub | D4: CC Set | E4: SB Set | F4: Mag. | G4: Small Books | I4: Medium Books | K4: Big Books | M4: Maha-Books
C5: 5 | F5: 0.1 | G5: 0.25 | H5: 0.25 | I5: 0.5 | J5: 0.5 | K5: 1 | L5: 1 | M5: 2 | N5: 2
B6: DEVOTEES | F6: M1 | G6: S1 | H6: H1 | I6: S2 | J6: H2 | K6: S3 | L6: H3 | M6: S4 | N6: H4 | O6: T/BKS | P6: Points
O9: =SUM(F9:N9) -> 0 | P9: =(F9*$F$5)+(G9*$G$5)+(H9*$H$5)+(I9*$I$5)+(J9*$J$5)+(K9*$K$5)+(L9*$L$5)+(M9*$M$5)+(N9*$N$5) -> 0
O10: =SUM(F10:N10) -> 0 | P10: =(F10*$F$5)+(G10*$G$5)+(H10*$H$5)+(I10*$I$5)+(J10*$J$5)+(K10*$K$5)+(L10*$L$5)+(M10*$M$5)+(N10*$N$5) -> 0
O11: =SUM(F11:N11) -> 0 | P11: =(F11*$F$5)+(G11*$G$5)+(H11*$H$5)+(I11*$I$5)+(J11*$J$5)+(K11*$K$5)+(L11*$L$5)+(M11*$M$5)+(N11*$N$5) -> 0
O12: =SUM(F12:N12) -> 0 | P12: =(F12*$F$5)+(G12*$G$5)+(H12*$H$5)+(I12*$I$5)+(J12*$J$5)+(K12*$K$5)+(L12*$L$5)+(M12*$M$5)+(N12*$N$5) -> 0
O13: =SUM(F13:N13) -> 0 | P13: =(F13*$F$5)+(G13*$G$5)+(H13*$H$5)+(I13*$I$5)+(J13*$J$5)+(K13*$K$5)+(L13*$L$5)+(M13*$M$5)+(N13*$N$5) -> 0
O14: =SUM(F14:N14) -> 0 | P14: =(F14*$F$5)+(G14*$G$5)+(H14*$H$5)+(I14*$I$5)+(J14*$J$5)+(K14*$K$5)+(L14*$L$5)+(M14*$M$5)+(N14*$N$5) -> 0
B15: TOTAL | C15: =SUM(C9:C14) -> 0 | D15: =SUM(D9:D14) -> 0 | E15: =SUM(E9:E14) -> 0 | F15: =SUM(F9:F14) -> 0 | G15: =SUM(G9:G14) -> 0 | H15: =SUM(H9:H14) -> 0 | I15: =SUM(I9:I14) -> 0 | J15: =SUM(J9:J14) -> 0 | ... P15: =SUM(P9:P14) -> 0

Sheet Zambia
B2: TEMPLE: Lusaka - Zambia
B3: MONTH : February 2016
C4: BTG Sub | D4: CC Set | E4: SB Set | F4: Mag. | G4: Small Books | I4: Medium Books | K4: Big Books | M4: Maha-Books
C5: 5 | F5: 0.1 | G5: 0.25 | H5: 0.25 | I5: 0.5 | J5: 0.5 | K5: 1 | L5: 1 | M5: 2 | N5: 2
B6: DEVOTEES | F6: M1 | G6: S1 | H6: H1 | I6: S2 | J6: H2 | K6: S3 | L6: H3 | M6: S4 | N6: H4 | O6: T/BKS | P6: Points
B9: Cumulative scores | F9: 30 | G9: 10 | I9: 1 | L9: 1 | N9: 2 | O9: =SUM(F9:N9) -> 44 | P9: =(F9*$F$5)+(G9*$G$5)+(H9*$H$5)+(I9*$I$5)+(J9*$J$5)+(K9*$K$5)+(L9*$L$5)+(M9*$M$5)+(N9*$N$5) -> 11
O10: =SUM(F10:N10) -> 0 | P10: =(F10*$F$5)+(G10*$G$5)+(H10*$H$5)+(I10*$I$5)+(J10*$J$5)+(K10*$K$5)+(L10*$L$5)+(M10*$M$5)+(N10*$N$5) -> 0
B11: TOTAL | C11: =SUM(C9:C10) -> 0 | D11: =SUM(D9:D10) -> 0 | E11: =SUM(E9:E10) -> 0 | F11: =SUM(F9:F10) -> 30 | G11: =SUM(G9:G10) -> 10 | H11: =SUM(H9:H10) -> 0 | I11: =SUM(I9:I10) -> 1 | J11: =SUM(J9:J10) -> 0 | ... P11: =SUM(P9:P10) -> 11

Sheet Summary
A2: Country | B2: Books: | C2: Points:
A4: DRC | B4: =SUM('Democratic Republic of Congo'!O18) -> 1817 | C4: =SUM('Democratic Republic of Congo'!P18) -> 549
A5: Ivory Coast | B5: =SUM('Ivory Coast'!O15) -> 20 | C5: =SUM('Ivory Coast'!P15) -> 16.5
A6: Kenya | B6: =SUM(Kenya!O29) -> 901 | C6: =SUM(Kenya!P29) -> 316
A7: Malawi | B7: =SUM(Malawi!O12) -> 0 | C7: =SUM(Malawi!P12) -> 0
A8: Mauritius | B8: =SUM(Mauritius!O32) -> 2449 | C8: =SUM(Mauritius!P32) -> 770.45
A9: Nigeria | B9: =SUM(Nigeria!O76) -> 0 | C9: =SUM(Nigeria!P76) -> 0
A10: South Africa | B10: =SUM('South Africa'!O242) -> 1555 | C10: =SUM('South Africa'!P242) -> 542.15
A11: Togo | B11: =SUM(Togo!O15) -> 0 | C11: =SUM(Togo!P15) -> 0
A12: Zambia | B12: =SUM(Zambia!O11) -> 44 | C12: =SUM(Zambia!P11) -> 11
A14: Total: | B14: =SUM(B4:B13) -> 6786 | C14: =SUM(C4:C13) -> 2205.1
