Workbook
Name Excel_BuiltIn_Print_Area_1: [1]Malawi!#REF!
Name Excel_BuiltIn_Print_Area_1: [1]Malawi!#REF!
Name Excel_BuiltIn_Print_Area_1: [1]Malawi!#REF!
Name Excel_BuiltIn_Print_Area_1: [1]Malawi!#REF!
Name Excel_BuiltIn_Print_Area_1: [2]Malawi!#REF!
Name Excel_BuiltIn_Print_Area_1: [1]Malawi!#REF!
Name Excel_BuiltIn_Print_Area_1: [1]Malawi!#REF!

Sheet DRC
B2: TEMPLE: Kinshasa
B3: MONTH : June 2015
C4: BTG Sub | D4: CC Set | E4: SB Set | F4: Mag. | G4: Small Books | I4: Medium Books | K4: Big Books | M4: Maha-Books
C5: 5 | F5: 0.1 | G5: 0.25 | H5: 0.25 | I5: 0.5 | J5: 0.5 | K5: 1 | L5: 1 | M5: 2 | N5: 2
B6: DEVOTEES | F6: M1 | G6: S1 | H6: H1 | I6: S2 | J6: H2 | K6: S3 | L6: H3 | M6: S4 | N6: H4 | O6: T/BKS | P6: Points
B9: Cumulative scores | G9: 157 | L9: 15 | N9: 87 | O9: =SUM(F9:N9) -> 259 | P9: =(F9*$F$5)+(G9*$G$5)+(H9*$H$5)+(I9*$I$5)+(J9*$J$5)+(K9*$K$5)+(L9*$L$5)+(M9*$M$5)+(N9*$N$5) -> 228.25
O10: =SUM(F10:N10) -> 0 | P10: =(F10*$F$5)+(G10*$G$5)+(H10*$H$5)+(I10*$I$5)+(J10*$J$5)+(K10*$K$5)+(L10*$L$5)+(M10*$M$5)+(N10*$N$5) -> 0
O11: =SUM(F11:N11) -> 0 | P11: =(F11*$F$5)+(G11*$G$5)+(H11*$H$5)+(I11*$I$5)+(J11*$J$5)+(K11*$K$5)+(L11*$L$5)+(M11*$M$5)+(N11*$N$5) -> 0
O12: =SUM(F12:N12) -> 0 | P12: =(F12*$F$5)+(G12*$G$5)+(H12*$H$5)+(I12*$I$5)+(J12*$J$5)+(K12*$K$5)+(L12*$L$5)+(M12*$M$5)+(N12*$N$5) -> 0
O13: =SUM(F13:N13) -> 0 | P13: =(F13*$F$5)+(G13*$G$5)+(H13*$H$5)+(I13*$I$5)+(J13*$J$5)+(K13*$K$5)+(L13*$L$5)+(M13*$M$5)+(N13*$N$5) -> 0
O14: =SUM(F14:N14) -> 0 | P14: =(F14*$F$5)+(G14*$G$5)+(H14*$H$5)+(I14*$I$5)+(J14*$J$5)+(K14*$K$5)+(L14*$L$5)+(M14*$M$5)+(N14*$N$5) -> 0
O15: =SUM(F15:N15) -> 0 | P15: =(F15*$F$5)+(G15*$G$5)+(H15*$H$5)+(I15*$I$5)+(J15*$J$5)+(K15*$K$5)+(L15*$L$5)+(M15*$M$5)+(N15*$N$5) -> 0
O16: =SUM(F16:N16) -> 0 | P16: =(F16*$F$5)+(G16*$G$5)+(H16*$H$5)+(I16*$I$5)+(J16*$J$5)+(K16*$K$5)+(L16*$L$5)+(M16*$M$5)+(N16*$N$5) -> 0
O17: =SUM(F17:N17) -> 0 | P17: =(F17*$F$5)+(G17*$G$5)+(H17*$H$5)+(I17*$I$5)+(J17*$J$5)+(K17*$K$5)+(L17*$L$5)+(M17*$M$5)+(N17*$N$5) -> 0
O18: =SUM(F18:N18) -> 0 | P18: =(F18*$F$5)+(G18*$G$5)+(H18*$H$5)+(I18*$I$5)+(J18*$J$5)+(K18*$K$5)+(L18*$L$5)+(M18*$M$5)+(N18*$N$5) -> 0
B19: TOTAL | C19: =SUM(C9:C18) -> 0 | D19: =SUM(D9:D18) -> 0 | E19: =SUM(E9:E18) -> 0 | F19: =SUM(F9:F18) -> 0 | G19: =SUM(G9:G18) -> 157 | H19: =SUM(H9:H18) -> 0 | I19: =SUM(I9:I18) -> 0 | J19: =SUM(J9:J18) -> 0 | ... P19: =SUM(P9:P18) -> 228.25

Sheet Ghana
B2: TEMPLE: Ghana
B3: MONTH : June 2015
C4: BTG Sub | D4: CC Set | E4: SB Set | F4: Mag. | G4: Small Books | I4: Medium Books | K4: Big Books | M4: Maha-Books
C5: 5 | F5: 0.1 | G5: 0.25 | H5: 0.25 | I5: 0.5 | J5: 0.5 | K5: 1 | L5: 1 | M5: 2 | N5: 2
B6: DEVOTEES | F6: M1 | G6: S1 | H6: H1 | I6: S2 | J6: H2 | K6: S3 | L6: H3 | M6: S4 | N6: H4 | O6: T/BKS | P6: Points
B8: ACCRA
O9: =SUM(F9:N9) -> 0 | P9: =(F9*$F$5)+(G9*$G$5)+(H9*$H$5)+(I9*$I$5)+(J9*$J$5)+(K9*$K$5)+(L9*$L$5)+(M9*$M$5)+(N9*$N$5) -> 0
O10: =SUM(F10:N10) -> 0 | P10: =(F10*$F$5)+(G10*$G$5)+(H10*$H$5)+(I10*$I$5)+(J10*$J$5)+(K10*$K$5)+(L10*$L$5)+(M10*$M$5)+(N10*$N$5) -> 0
O11: =SUM(F11:N11) -> 0 | P11: =(F11*$F$5)+(G11*$G$5)+(H11*$H$5)+(I11*$I$5)+(J11*$J$5)+(K11*$K$5)+(L11*$L$5)+(M11*$M$5)+(N11*$N$5) -> 0
O12: =SUM(F12:N12) -> 0 | P12: =(F12*$F$5)+(G12*$G$5)+(H12*$H$5)+(I12*$I$5)+(J12*$J$5)+(K12*$K$5)+(L12*$L$5)+(M12*$M$5)+(N12*$N$5) -> 0
O13: =SUM(F13:N13) -> 0 | P13: =(F13*$F$5)+(G13*$G$5)+(H13*$H$5)+(I13*$I$5)+(J13*$J$5)+(K13*$K$5)+(L13*$L$5)+(M13*$M$5)+(N13*$N$5) -> 0
O14: =SUM(F14:N14) -> 0 | P14: =(F14*$F$5)+(G14*$G$5)+(H14*$H$5)+(I14*$I$5)+(J14*$J$5)+(K14*$K$5)+(L14*$L$5)+(M14*$M$5)+(N14*$N$5) -> 0
O15: =SUM(F15:N15) -> 0 | P15: =(F15*$F$5)+(G15*$G$5)+(H15*$H$5)+(I15*$I$5)+(J15*$J$5)+(K15*$K$5)+(L15*$L$5)+(M15*$M$5)+(N15*$N$5) -> 0
O16: =SUM(F16:N16) -> 0 | P16: =(F16*$F$5)+(G16*$G$5)+(H16*$H$5)+(I16*$I$5)+(J16*$J$5)+(K16*$K$5)+(L16*$L$5)+(M16*$M$5)+(N16*$N$5) -> 0
O17: =SUM(F17:N17) -> 0 | P17: =(F17*$F$5)+(G17*$G$5)+(H17*$H$5)+(I17*$I$5)+(J17*$J$5)+(K17*$K$5)+(L17*$L$5)+(M17*$M$5)+(N17*$N$5) -> 0
O18: =SUM(F18:N18) -> 0 | P18: =(F18*$F$5)+(G18*$G$5)+(H18*$H$5)+(I18*$I$5)+(J18*$J$5)+(K18*$K$5)+(L18*$L$5)+(M18*$M$5)+(N18*$N$5) -> 0
O19: =SUM(F19:N19) -> 0 | P19: =(F19*$F$5)+(G19*$G$5)+(H19*$H$5)+(I19*$I$5)+(J19*$J$5)+(K19*$K$5)+(L19*$L$5)+(M19*$M$5)+(N19*$N$5) -> 0
O20: =SUM(F20:N20) -> 0 | P20: =(F20*$F$5)+(G20*$G$5)+(H20*$H$5)+(I20*$I$5)+(J20*$J$5)+(K20*$K$5)+(L20*$L$5)+(M20*$M$5)+(N20*$N$5) -> 0
... O26: =SUM(F26:N26) -> 0 | P26: =(F26*$F$5)+(G26*$G$5)+(H26*$H$5)+(I26*$I$5)+(J26*$J$5)+(K26*$K$5)+(L26*$L$5)+(M26*$M$5)+(N26*$N$5) -> 0
B27: TOTAL | C27: =SUM(C9:C26) -> 0 | D27: =SUM(D9:D26) -> 0 | E27: =SUM(E9:E26) -> 0 | F27: =SUM(F9:F26) -> 0 | G27: =SUM(G9:G26) -> 0 | H27: =SUM(H9:H26) -> 0 | I27: =SUM(I9:I26) -> 0 | J27: =SUM(J9:J26) -> 0 | ... P27: =SUM(P9:P26) -> 0
B30: Iskcon Kumasi
B31: Cumulative Scores | G31: 16 | I31: 32 | O31: =SUM(F31:N31) -> 48 | P31: =(F31*$F$5)+(G31*$G$5)+(H31*$H$5)+(I31*$I$5)+(J31*$J$5)+(K31*$K$5)+(L31*$L$5)+(M31*$M$5)+(N31*$N$5) -> 20
O32: =SUM(F32:N32) -> 0 | P32: =(F32*$F$5)+(G32*$G$5)+(H32*$H$5)+(I32*$I$5)+(J32*$J$5)+(K32*$K$5)+(L32*$L$5)+(M32*$M$5)+(N32*$N$5) -> 0
B33: TOTAL | C33: =SUM(C31:C32) -> 0 | D33: =SUM(D31:D32) -> 0 | E33: =SUM(E31:E32) -> 0 | F33: =SUM(F31:F32) -> 0 | G33: =SUM(G31:G32) -> 16 | H33: =SUM(H31:H32) -> 0 | I33: =SUM(I31:I32) -> 32 | J33: =SUM(J31:J32) -> 0 | ... P33: =SUM(P31:P32) -> 20
N36: Total: | O36: =SUM(O33,O27) -> 48 | P36: =SUM(P33,P27) -> 20

Sheet Ivory Coast
B2: TEMPLE: Abidjan
B3: MONTH : June 2015
C4: BTG Sub | D4: CC Set | E4: SB Set | F4: Mag. | G4: Small Books | I4: Medium Books | K4: Big Books | M4: Maha-Books
C5: 5 | F5: 0.1 | G5: 0.25 | H5: 0.25 | I5: 0.5 | J5: 0.5 | K5: 1 | L5: 1 | M5: 2 | N5: 2
B6: DEVOTEES | F6: M1 | G6: S1 | H6: H1 | I6: S2 | J6: H2 | K6: S3 | L6: H3 | M6: S4 | N6: H4 | O6: T/BKS | P6: Points
B9: Ragha Bhakti Dasa | I9: 4 | L9: 1 | N9: 2 | O9: =SUM(F9:N9) -> 7 | P9: =(F9*$F$5)+(G9*$G$5)+(H9*$H$5)+(I9*$I$5)+(J9*$J$5)+(K9*$K$5)+(L9*$L$5)+(M9*$M$5)+(N9*$N$5) -> 7
O10: =SUM(F10:N10) -> 0 | P10: =(F10*$F$5)+(G10*$G$5)+(H10*$H$5)+(I10*$I$5)+(J10*$J$5)+(K10*$K$5)+(L10*$L$5)+(M10*$M$5)+(N10*$N$5) -> 0
O11: =SUM(F11:N11) -> 0 | P11: =(F11*$F$5)+(G11*$G$5)+(H11*$H$5)+(I11*$I$5)+(J11*$J$5)+(K11*$K$5)+(L11*$L$5)+(M11*$M$5)+(N11*$N$5) -> 0
O12: =SUM(F12:N12) -> 0 | P12: =(F12*$F$5)+(G12*$G$5)+(H12*$H$5)+(I12*$I$5)+(J12*$J$5)+(K12*$K$5)+(L12*$L$5)+(M12*$M$5)+(N12*$N$5) -> 0
O13: =SUM(F13:N13) -> 0 | P13: =(F13*$F$5)+(G13*$G$5)+(H13*$H$5)+(I13*$I$5)+(J13*$J$5)+(K13*$K$5)+(L13*$L$5)+(M13*$M$5)+(N13*$N$5) -> 0
O14: =SUM(F14:N14) -> 0 | P14: =(F14*$F$5)+(G14*$G$5)+(H14*$H$5)+(I14*$I$5)+(J14*$J$5)+(K14*$K$5)+(L14*$L$5)+(M14*$M$5)+(N14*$N$5) -> 0
O15: =SUM(F15:N15) -> 0 | P15: =(F15*$F$5)+(G15*$G$5)+(H15*$H$5)+(I15*$I$5)+(J15*$J$5)+(K15*$K$5)+(L15*$L$5)+(M15*$M$5)+(N15*$N$5) -> 0
O16: =SUM(F16:N16) -> 0 | P16: =(F16*$F$5)+(G16*$G$5)+(H16*$H$5)+(I16*$I$5)+(J16*$J$5)+(K16*$K$5)+(L16*$L$5)+(M16*$M$5)+(N16*$N$5) -> 0
O17: =SUM(F17:N17) -> 0 | P17: =(F17*$F$5)+(G17*$G$5)+(H17*$H$5)+(I17*$I$5)+(J17*$J$5)+(K17*$K$5)+(L17*$L$5)+(M17*$M$5)+(N17*$N$5) -> 0
O18: =SUM(F18:N18) -> 0 | P18: =(F18*$F$5)+(G18*$G$5)+(H18*$H$5)+(I18*$I$5)+(J18*$J$5)+(K18*$K$5)+(L18*$L$5)+(M18*$M$5)+(N18*$N$5) -> 0
B19: TOTAL | C19: =SUM(C9:C18) -> 0 | D19: =SUM(D9:D18) -> 0 | E19: =SUM(E9:E18) -> 0 | F19: =SUM(F9:F18) -> 0 | G19: =SUM(G9:G18) -> 0 | H19: =SUM(H9:H18) -> 0 | I19: =SUM(I9:I18) -> 4 | J19: =SUM(J9:J18) -> 0 | ... P19: =SUM(P9:P18) -> 7

Sheet Kenya
B2: TEMPLE: Nairobi | C2: Sri Sri Radha Bankebihari
B3: MONTH : June
C4: BTG Sub | D4: CC Set | E4: SB Set | F4: mag | G4: Small Books | I4: Medium Books | K4: Big Books | M4: Maha-Books
C5: 5 | F5: 0.1 | G5: 0.25 | H5: 0.25 | I5: 0.5 | J5: 0.5 | K5: 1 | L5: 1 | M5: 2 | N5: 2
B6: DEVOTEES | F6: M1 | G6: S1 | H6: H1 | I6: S2 | J6: H2 | K6: S3 | L6: H3 | M6: S4 | N6: H4 | O6: T/BKS | P6: Points
B8: Iskcon Nairobi
B9: VAISHNAVI SANGA | G9: 690 | I9: 11 | K9: 12 | N9: 19 | O9: =SUM(F9:N9) -> 732 | P9: =(C9*$C$5)+(F9*$F$5)+(G9*$G$5)+(H9*$H$5)+(I9*$I$5)+(J9*$J$5)+(K9*$K$5)+(L9*$L$5)+(M9*$M$5)+(N9*$N$5) -> 228
B10: PADMASAKHI DASI | K10: 60 | O10: =SUM(F10:N10) -> 60 | P10: =(F10*$F$5)+(G10*$G$5)+(H10*$H$5)+(I10*$I$5)+(J10*$J$5)+(K10*$K$5)+(L10*$L$5)+(M10*$M$5)+(N10*$N$5) -> 60
B11: GOVINDA PREMA DASA | K11: 100 | O11: =SUM(F11:N11) -> 100 | P11: =(F11*$F$5)+(G11*$G$5)+(H11*$H$5)+(I11*$I$5)+(J11*$J$5)+(K11*$K$5)+(L11*$L$5)+(M11*$M$5)+(N11*$N$5) -> 100
B12: MAYUR PATTNI | N12: 606 | O12: =SUM(F12:N12) -> 606 | P12: =(F12*$F$5)+(G12*$G$5)+(H12*$H$5)+(I12*$I$5)+(J12*$J$5)+(K12*$K$5)+(L12*$L$5)+(M12*$M$5)+(N12*$N$5) -> 1212
B13: TRAVELLING SANKIRTANA PARTY | G13: 200 | N13: 20 | O13: =SUM(F13:N13) -> 220 | P13: =(F13*$F$5)+(G13*$G$5)+(H13*$H$5)+(I13*$I$5)+(J13*$J$5)+(K13*$K$5)+(L13*$L$5)+(M13*$M$5)+(N13*$N$5) -> 90
B14: SMART STANDS | G14: 200 | O14: =SUM(F14:N14) -> 200 | P14: =(F14*$F$5)+(G14*$G$5)+(H14*$H$5)+(I14*$I$5)+(J14*$J$5)+(K14*$K$5)+(L14*$L$5)+(M14*$M$5)+(N14*$N$5) -> 50
B15: GIFT SHOP | D15: 1 | E15: 1 | F15: 27 | G15: 6 | I15: 11 | K15: 13 | N15: 35 | O15: =SUM(F15:N15) -> 92 | P15: =(F15*$F$5)+(G15*$G$5)+(H15*$H$5)+(I15*$I$5)+(J15*$J$5)+(K15*$K$5)+(L15*$L$5)+(M15*$M$5)+(N15*$N$5) -> 92.7
O16: =SUM(F16:N16) -> 0 | P16: =(F16*$F$5)+(G16*$G$5)+(H16*$H$5)+(I16*$I$5)+(J16*$J$5)+(K16*$K$5)+(L16*$L$5)+(M16*$M$5)+(N16*$N$5) -> 0
O17: =SUM(F17:N17) -> 0 | P17: =(F17*$F$5)+(G17*$G$5)+(H17*$H$5)+(I17*$I$5)+(J17*$J$5)+(K17*$K$5)+(L17*$L$5)+(M17*$M$5)+(N17*$N$5) -> 0
B18: TOTAL | C18: =SUM(C9:C17) -> 0 | D18: =SUM(D9:D17) -> 1 | E18: =SUM(E9:E17) -> 1 | F18: =SUM(F9:F17) -> 27 | G18: =SUM(G9:G17) -> 1096 | H18: =SUM(H9:H17) -> 0 | I18: =SUM(I9:I17) -> 22 | J18: =SUM(J9:J17) -> 0 | ... P18: =SUM(P9:P17) -> 1832.7
B21: Iskcon Kisumu
B22: BHAKTA PARTH AND BHAKTA PRITESH | G22: 13 | I22: 17 | K22: 2 | N22: 2 | O22: =SUM(F22:N22) -> 34 | P22: =(F22*$F$5)+(G22*$G$5)+(H22*$H$5)+(I22*$I$5)+(J22*$J$5)+(K22*$K$5)+(L22*$L$5)+(M22*$M$5)+(N22*$N$5) -> 17.75
O23: =SUM(F23:N23) -> 0 | P23: =(F23*$F$5)+(G23*$G$5)+(H23*$H$5)+(I23*$I$5)+(J23*$J$5)+(K23*$K$5)+(L23*$L$5)+(M23*$M$5)+(N23*$N$5) -> 0
B24: TOTAL | C24: =SUM(C22:C23) -> 0 | D24: =SUM(D22:D23) -> 0 | E24: =SUM(E22:E23) -> 0 | F24: =SUM(F22:F23) -> 0 | G24: =SUM(G22:G23) -> 13 | H24: =SUM(H22:H23) -> 0 | I24: =SUM(I22:I23) -> 17 | J24: =SUM(J22:J23) -> 0 | ... P24: =SUM(P22:P23) -> 17.75
B27: Iskcon Mombassa
O28: =SUM(F28:N28) -> 0 | P28: =(F28*$F$5)+(G28*$G$5)+(H28*$H$5)+(I28*$I$5)+(J28*$J$5)+(K28*$K$5)+(L28*$L$5)+(M28*$M$5)+(N28*$N$5) -> 0
O29: =SUM(F29:N29) -> 0 | P29: =(F29*$F$5)+(G29*$G$5)+(H29*$H$5)+(I29*$I$5)+(J29*$J$5)+(K29*$K$5)+(L29*$L$5)+(M29*$M$5)+(N29*$N$5) -> 0
O30: =SUM(C30:N30) -> 0 | P30: =(C30*$C$5)+(G30*$G$5)+(H30*$H$5)+(I30*$I$5)+(J30*$J$5)+(K30*$K$5)+(L30*$L$5)+(M30*$M$5)+(N30*$N$5) -> 0
P31: =(F31*$F$5)+(G31*$G$5)+(H31*$H$5)+(I31*$I$5)+(J31*$J$5)+(K31*$K$5)+(L31*$L$5)+(M31*$M$5)+(N31*$N$5) -> 0
B32: TOTAL | C32: =SUM(C28:C29) -> 0 | D32: =SUM(D28:D29) -> 0 | E32: =SUM(E28:E29) -> 0 | F32: =SUM(F28:F31) -> 0 | G32: =SUM(G28:G31) -> 0 | H32: =SUM(H28:H31) -> 0 | I32: =SUM(I28:I31) -> 0 | J32: =SUM(J28:J31) -> 0 | K32: =SUM(K28:K31) -> 0 | L32: =SUM(L28:L31) -> 0 | M32: =SUM(M28:M31) -> 0 | ... P32: =SUM(P28:P31) -> 0
N34: Total: | O34: =SUM(O18+O24+O32) -> 2044 | P34: =SUM(P18+P24+P32) -> 1850.45

Sheet Malawi
B2: TEMPLE: Blantyre
B3: MONTH : June 2015
C4: BTG Sub | D4: CC Set | E4: SB Set | F4: Mag. | G4: Small Books | I4: Medium Books | K4: Big Books | M4: Maha-Books
C5: 5 | F5: 0.1 | G5: 0.25 | H5: 0.25 | I5: 0.5 | J5: 0.5 | K5: 1 | L5: 1 | M5: 2 | N5: 2
B6: DEVOTEES | F6: M1 | G6: S1 | H6: H1 | I6: S2 | J6: H2 | K6: S3 | L6: H3 | M6: S4 | N6: H4 | O6: T/BKS | P6: Points
B9: Cumulative Scores | G9: 248 | L9: 25 | N9: 24 | O9: =SUM(F9:N9) -> 297 | P9: =(F9*$F$5)+(G9*$G$5)+(H9*$H$5)+(I9*$I$5)+(J9*$J$5)+(K9*$K$5)+(L9*$L$5)+(M9*$M$5)+(N9*$N$5) -> 135
O10: =SUM(F10:N10) -> 0 | P10: =(F10*$F$5)+(G10*$G$5)+(H10*$H$5)+(I10*$I$5)+(J10*$J$5)+(K10*$K$5)+(L10*$L$5)+(M10*$M$5)+(N10*$N$5) -> 0
O11: =SUM(F11:N11) -> 0 | P11: =(F11*$F$5)+(G11*$G$5)+(H11*$H$5)+(I11*$I$5)+(J11*$J$5)+(K11*$K$5)+(L11*$L$5)+(M11*$M$5)+(N11*$N$5) -> 0
B12: TOTAL | C12: =SUM(C9:C11) -> 0 | D12: =SUM(D9:D11) -> 0 | E12: =SUM(E9:E11) -> 0 | F12: =SUM(F9:F11) -> 0 | G12: =SUM(G9:G11) -> 248 | H12: =SUM(H9:H11) -> 0 | I12: =SUM(I9:I11) -> 0 | J12: =SUM(J9:J11) -> 0 | ... P12: =SUM(P9:P11) -> 135

Sheet Mauritius
B1: MONTH: June 2015
C2: BTG Sub | D2: CC Set | E2: SB Set | F2: Mag. | G2: Small Books | I2: Medium Books | K2: Big Books | M2: Maha-Books
C3: 5 | D3: 18 | E3: 36 | F3: 0.1 | G3: 0.25 | H3: 0.25 | I3: 0.5 | J3: 0.5 | K3: 1 | L3: 1 | M3: 2 | N3: 2
B4: DEVOTEES | F4: M1 | G4: S1 | H4: H1 | I4: S2 | J4: H2 | K4: S3 | L4: H3 | M4: S4 | N4: H4 | O4: T/BKS | P4: Points
B6: ISKCON Phoenix Sri Sri Radha Gokulananda Mandir
B7: Mt Satyabhama/Vinata/Akuti/Pran | G7: 1866 | J7: 1 | K7: 1 | O7: =SUM(F7:N7) -> 1868 | P7: =(F7*$F$3)+(G7*$G$3)+(H7*$H$3)+(I7*$I$3)+(J7*$J$3)+(K7*$K$3)+(L7*$L$3)+(M7*$M$3)+(N7*$N$3) -> 468
B8: Pr Ajay Caitanya Das | F8: 120 | G8: 225 | I8: 291 | K8: 36 | N8: 20 | O8: =SUM(F8:N8) -> 692 | P8: =(F8*$F$3)+(G8*$G$3)+(H8*$H$3)+(I8*$I$3)+(J8*$J$3)+(K8*$K$3)+(L8*$L$3)+(M8*$M$3)+(N8*$N$3) -> 289.75
B9: Mt Sarvakanti dd | F9: 12 | G9: 78 | I9: 3 | J9: 7 | K9: 6 | N9: 19 | O9: =SUM(F9:N9) -> 125 | P9: =(F9*$F$3)+(G9*$G$3)+(H9*$H$3)+(I9*$I$3)+(J9*$J$3)+(K9*$K$3)+(L9*$L$3)+(M9*$M$3)+(N9*$N$3) -> 69.7
B10: Pr Shyama Gopal/Mt Vrajesvari | G10: 80 | N10: 3 | O10: =SUM(F10:N10) -> 83 | P10: =(F10*$F$3)+(G10*$G$3)+(H10*$H$3)+(I10*$I$3)+(J10*$J$3)+(K10*$K$3)+(L10*$L$3)+(M10*$M$3)+(N10*$N$3) -> 26
B11: Mt Varsha | G11: 98 | O11: =SUM(F11:N11) -> 98 | P11: =(F11*$F$3)+(G11*$G$3)+(H11*$H$3)+(I11*$I$3)+(J11*$J$3)+(K11*$K$3)+(L11*$L$3)+(M11*$M$3)+(N11*$N$3) -> 24.5
B12: Pr Ashiv | F12: 4 | G12: 26 | I12: 1 | N12: 6 | O12: =SUM(F12:N12) -> 37 | P12: =(F12*$F$3)+(G12*$G$3)+(H12*$H$3)+(I12*$I$3)+(J12*$J$3)+(K12*$K$3)+(L12*$L$3)+(M12*$M$3)+(N12*$N$3) -> 19.4
B13: Mt Madhu/Preetila/Hasini | G13: 51 | N13: 3 | O13: =SUM(F13:N13) -> 54 | P13: =(F13*$F$3)+(G13*$G$3)+(H13*$H$3)+(I13*$I$3)+(J13*$J$3)+(K13*$K$3)+(L13*$L$3)+(M13*$M$3)+(N13*$N$3) -> 18.75
B14: Pr Mahajana Das | G14: 59 | I14: 4 | O14: =SUM(F14:N14) -> 63 | P14: =(F14*$F$3)+(G14*$G$3)+(H14*$H$3)+(I14*$I$3)+(J14*$J$3)+(K14*$K$3)+(L14*$L$3)+(M14*$M$3)+(N14*$N$3) -> 16.75
B15: Pr Ganessen | G15: 66 | O15: =SUM(F15:N15) -> 66 | P15: =(F15*$F$3)+(G15*$G$3)+(H15*$H$3)+(I15*$I$3)+(J15*$J$3)+(K15*$K$3)+(L15*$L$3)+(M15*$M$3)+(N15*$N$3) -> 16.5
B16: Pr Kris Govind | G16: 45 | N16: 2 | O16: =SUM(F16:N16) -> 47 | P16: =(F16*$F$3)+(G16*$G$3)+(H16*$H$3)+(I16*$I$3)+(J16*$J$3)+(K16*$K$3)+(L16*$L$3)+(M16*$M$3)+(N16*$N$3) -> 15.25
B17: Mt Vidya | F17: 6 | G17: 17 | I17: 5 | N17: 3 | O17: =SUM(F17:N17) -> 31 | P17: =(F17*$F$3)+(G17*$G$3)+(H17*$H$3)+(I17*$I$3)+(J17*$J$3)+(K17*$K$3)+(L17*$L$3)+(M17*$M$3)+(N17*$N$3) -> 13.35
B18: Mt Sandy | G18: 48 | O18: =SUM(F18:N18) -> 48 | P18: =(F18*$F$3)+(G18*$G$3)+(H18*$H$3)+(I18*$I$3)+(J18*$J$3)+(K18*$K$3)+(L18*$L$3)+(M18*$M$3)+(N18*$N$3) -> 12
B19: Mt Naimisaranya dd | N19: 5 | O19: =SUM(F19:N19) -> 5 | P19: =(F19*$F$3)+(G19*$G$3)+(H19*$H$3)+(I19*$I$3)+(J19*$J$3)+(K19*$K$3)+(L19*$L$3)+(M19*$M$3)+(N19*$N$3) -> 10
B20: Pr Sanju | G20: 25 | N20: 1 | O20: =SUM(F20:N20) -> 26 | P20: =(F20*$F$3)+(G20*$G$3)+(H20*$H$3)+(I20*$I$3)+(J20*$J$3)+(K20*$K$3)+(L20*$L$3)+(M20*$M$3)+(N20*$N$3) -> 8.25
B21: Pr Maitreya Rishi Das | N21: 4 | O21: =SUM(F21:N21) -> 4 | P21: =(F21*$F$3)+(G21*$G$3)+(H21*$H$3)+(I21*$I$3)+(J21*$J$3)+(K21*$K$3)+(L21*$L$3)+(M21*$M$3)+(N21*$N$3) -> 8
B22: Mt Jesina | G22: 15 | N22: 2 | O22: =SUM(F22:N22) -> 17 | P22: =(F22*$F$3)+(G22*$G$3)+(H22*$H$3)+(I22*$I$3)+(J22*$J$3)+(K22*$K$3)+(L22*$L$3)+(M22*$M$3)+(N22*$N$3) -> 7.75
B23: Pr Devaki Suta Das | G23: 30 | O23: =SUM(F23:N23) -> 30 | P23: =(F23*$F$3)+(G23*$G$3)+(H23*$H$3)+(I23*$I$3)+(J23*$J$3)+(K23*$K$3)+(L23*$L$3)+(M23*$M$3)+(N23*$N$3) -> 7.5
B24: Mt Jenishta/Deepa | G24: 28 | O24: =SUM(F24:N24) -> 28 | P24: =(F24*$F$3)+(G24*$G$3)+(H24*$H$3)+(I24*$I$3)+(J24*$J$3)+(K24*$K$3)+(L24*$L$3)+(M24*$M$3)+(N24*$N$3) -> 7
B25: Mt Jesina | G25: 12 | N25: 1 | O25: =SUM(F25:N25) -> 13 | P25: =(F25*$F$3)+(G25*$G$3)+(H25*$H$3)+(I25*$I$3)+(J25*$J$3)+(K25*$K$3)+(L25*$L$3)+(M25*$M$3)+(N25*$N$3) -> 5
B26: Pr Shyama Kunda Das | I26: 10 | O26: =SUM(F26:N26) -> 10 | P26: =(F26*$F$3)+(G26*$G$3)+(H26*$H$3)+(I26*$I$3)+(J26*$J$3)+(K26*$K$3)+(L26*$L$3)+(M26*$M$3)+(N26*$N$3) -> 5
B27: Pr Suresadhari Das | G27: 12 | O27: =SUM(F27:N27) -> 12 | P27: =(F27*$F$3)+(G27*$G$3)+(H27*$H$3)+(I27*$I$3)+(J27*$J$3)+(K27*$K$3)+(L27*$L$3)+(M27*$M$3)+(N27*$N$3) -> 3
B28: Pr Satrughna Das | G28: 10 | O28: =SUM(F28:N28) -> 10 | P28: =(F28*$F$3)+(G28*$G$3)+(H28*$H$3)+(I28*$I$3)+(J28*$J$3)+(K28*$K$3)+(L28*$L$3)+(M28*$M$3)+(N28*$N$3) -> 2.5
B29: Mt Surangi dd | G29: 8 | O29: =SUM(F29:N29) -> 8 | P29: =(F29*$F$3)+(G29*$G$3)+(H29*$H$3)+(I29*$I$3)+(J29*$J$3)+(K29*$K$3)+(L29*$L$3)+(M29*$M$3)+(N29*$N$3) -> 2
B30: Pr Vidura Das | I30: 2 | O30: =SUM(F30:N30) -> 2 | P30: =(F30*$F$3)+(G30*$G$3)+(H30*$H$3)+(I30*$I$3)+(J30*$J$3)+(K30*$K$3)+(L30*$L$3)+(M30*$M$3)+(N30*$N$3) -> 1
B31: Mt Arti Naina | G31: 1 | I31: 1 | O31: =SUM(F31:N31) -> 2 | P31: =(F31*$F$3)+(G31*$G$3)+(H31*$H$3)+(I31*$I$3)+(J31*$J$3)+(K31*$K$3)+(L31*$L$3)+(M31*$M$3)+(N31*$N$3) -> 0.75
O32: =SUM(F32:N32) -> 0 | P32: =(F32*$F$3)+(G32*$G$3)+(H32*$H$3)+(I32*$I$3)+(J32*$J$3)+(K32*$K$3)+(L32*$L$3)+(M32*$M$3)+(N32*$N$3) -> 0
O33: =SUM(F33:N33) -> 0 | P33: =(F33*$F$3)+(G33*$G$3)+(H33*$H$3)+(I33*$I$3)+(J33*$J$3)+(K33*$K$3)+(L33*$L$3)+(M33*$M$3)+(N33*$N$3) -> 0
O34: =SUM(F34:N34) -> 0 | P34: =(F34*$F$3)+(G34*$G$3)+(H34*$H$3)+(I34*$I$3)+(J34*$J$3)+(K34*$K$3)+(L34*$L$3)+(M34*$M$3)+(N34*$N$3) -> 0
B35: TOTAL | C35: =SUM(C7:C34) -> 0 | D35: =SUM(D7:D34) -> 0 | E35: =SUM(E7:E34) -> 0 | F35: =SUM(F7:F34) -> 142 | G35: =SUM(G7:G34) -> 2800 | H35: =SUM(H7:H34) -> 0 | I35: =SUM(I7:I34) -> 317 | J35: =SUM(J7:J34) -> 8 | ... P35: =SUM(P7:P34) -> 1057.7
B38: ISKCON Bon Accueil Mauritius Sri Sri Krsna Balaram Mandir
B39: Team Cumumalative scores | G39: 836 | I39: 20 | L39: 45 | O39: =SUM(F39:N39) -> 901 | P39: =(C39*$C$3)+(F39*$F$3)+(G39*$G$3)+(H39*$H$3)+(I39*$I$3)+(J39*$J$3)+(K39*$K$3)+(L39*$L$3)+(M39*$M$3)+(N39*$N$3) -> 264
O40: =SUM(F40:N40) -> 0 | P40: =(F40*$F$3)+(G40*$G$3)+(H40*$H$3)+(I40*$I$3)+(J40*$J$3)+(K40*$K$3)+(L40*$L$3)+(M40*$M$3)+(N40*$N$3) -> 0
O41: =SUM(F41:N41) -> 0 | P41: =(F41*$F$3)+(G41*$G$3)+(H41*$H$3)+(I41*$I$3)+(J41*$J$3)+(K41*$K$3)+(L41*$L$3)+(M41*$M$3)+(N41*$N$3) -> 0
B42: TOTAL | C42: =SUM(C39:C41) -> 0 | D42: =SUM(D39:D41) -> 0 | E42: =SUM(E39:E41) -> 0 | F42: =SUM(F39:F41) -> 0 | G42: =SUM(G39:G41) -> 836 | H42: =SUM(H39:H41) -> 0 | I42: =SUM(I39:I41) -> 20 | J42: =SUM(J39:J41) -> 0 | ... P42: =SUM(P39:P41) -> 264
M45: TOTAL | O45: =+O42+O35 -> 4280 | P45: =+P42+P35 -> 1321.7

Sheet Nigeria
B1: MONTH: June 2015
C2: BTG Sub | D2: CC Set | E2: SB Set | F2: Mag. | G2: Small Books | I2: Medium Books | K2: Big Books | M2: Maha-Books
C3: 5 | D3: 18 | E3: 36 | F3: 0.1 | G3: 0.25 | H3: 0.25 | I3: 0.5 | J3: 0.5 | K3: 1 | L3: 1 | M3: 2 | N3: 2
B4: DEVOTEES | F4: M1 | G4: S1 | H4: H1 | I4: S2 | J4: H2 | K4: S3 | L4: H3 | M4: S4 | N4: H4 | O4: T/BKS | P4: Points
B6: ISKCON BENIN CITY
B7: Temple Cumulative Scores | O7: =SUM(C7:N7) -> 0 | P7: =(C7*$C$3)+(F7*$F$3)+(G7*$G$3)+(H7*$H$3)+(I7*$I$3)+(J7*$J$3)+(K7*$K$3)+(L7*$L$3)+(M7*$M$3)+(N7*$N$3) -> 0
O8: =SUM(F8:N8) -> 0 | P8: =(F8*$F$3)+(G8*$G$3)+(H8*$H$3)+(I8*$I$3)+(J8*$J$3)+(K8*$K$3)+(L8*$L$3)+(M8*$M$3)+(N8*$N$3) -> 0
O9: =SUM(F9:N9) -> 0 | P9: =(F9*$F$3)+(G9*$G$3)+(H9*$H$3)+(I9*$I$3)+(J9*$J$3)+(K9*$K$3)+(L9*$L$3)+(M9*$M$3)+(N9*$N$3) -> 0
O10: =SUM(F10:N10) -> 0 | P10: =(F10*$F$3)+(G10*$G$3)+(H10*$H$3)+(I10*$I$3)+(J10*$J$3)+(K10*$K$3)+(L10*$L$3)+(M10*$M$3)+(N10*$N$3) -> 0
O11: =SUM(F11:N11) -> 0 | P11: =(F11*$F$3)+(G11*$G$3)+(H11*$H$3)+(I11*$I$3)+(J11*$J$3)+(K11*$K$3)+(L11*$L$3)+(M11*$M$3)+(N11*$N$3) -> 0
O12: =SUM(F12:N12) -> 0 | P12: =(F12*$F$3)+(G12*$G$3)+(H12*$H$3)+(I12*$I$3)+(J12*$J$3)+(K12*$K$3)+(L12*$L$3)+(M12*$M$3)+(N12*$N$3) -> 0
O13: =SUM(F13:N13) -> 0 | P13: =(F13*$F$3)+(G13*$G$3)+(H13*$H$3)+(I13*$I$3)+(J13*$J$3)+(K13*$K$3)+(L13*$L$3)+(M13*$M$3)+(N13*$N$3) -> 0
O14: =SUM(F14:N14) -> 0 | P14: =(F14*$F$3)+(G14*$G$3)+(H14*$H$3)+(I14*$I$3)+(J14*$J$3)+(K14*$K$3)+(L14*$L$3)+(M14*$M$3)+(N14*$N$3) -> 0
O15: =SUM(F15:N15) -> 0 | P15: =(F15*$F$3)+(G15*$G$3)+(H15*$H$3)+(I15*$I$3)+(J15*$J$3)+(K15*$K$3)+(L15*$L$3)+(M15*$M$3)+(N15*$N$3) -> 0
O16: =SUM(F16:N16) -> 0 | P16: =(F16*$F$3)+(G16*$G$3)+(H16*$H$3)+(I16*$I$3)+(J16*$J$3)+(K16*$K$3)+(L16*$L$3)+(M16*$M$3)+(N16*$N$3) -> 0
O17: =SUM(F17:N17) -> 0 | P17: =(F17*$F$3)+(G17*$G$3)+(H17*$H$3)+(I17*$I$3)+(J17*$J$3)+(K17*$K$3)+(L17*$L$3)+(M17*$M$3)+(N17*$N$3) -> 0
O18: =SUM(F18:N18) -> 0 | P18: =(F18*$F$3)+(G18*$G$3)+(H18*$H$3)+(I18*$I$3)+(J18*$J$3)+(K18*$K$3)+(L18*$L$3)+(M18*$M$3)+(N18*$N$3) -> 0
O19: =SUM(F19:N19) -> 0 | P19: =(F19*$F$3)+(G19*$G$3)+(H19*$H$3)+(I19*$I$3)+(J19*$J$3)+(K19*$K$3)+(L19*$L$3)+(M19*$M$3)+(N19*$N$3) -> 0
... O21: =SUM(F21:N21) -> 0 | P21: =(F21*$F$3)+(G21*$G$3)+(H21*$H$3)+(I21*$I$3)+(J21*$J$3)+(K21*$K$3)+(L21*$L$3)+(M21*$M$3)+(N21*$N$3) -> 0
B22: TOTAL | C22: =SUM(C7:C21) -> 0 | D22: =SUM(D7:D21) -> 0 | E22: =SUM(E7:E21) -> 0 | F22: =SUM(F7:F21) -> 0 | G22: =SUM(G7:G21) -> 0 | H22: =SUM(H7:H21) -> 0 | I22: =SUM(I7:I21) -> 0 | J22: =SUM(J7:J21) -> 0 | ... P22: =SUM(P7:P21) -> 0
B25: ISKCON LAGOS
O26: =SUM(F26:N26) -> 0 | P26: =(F26*$F$3)+(G26*$G$3)+(H26*$H$3)+(I26*$I$3)+(J26*$J$3)+(K26*$K$3)+(L26*$L$3)+(M26*$M$3)+(N26*$N$3) -> 0
O27: =SUM(F27:N27) -> 0 | P27: =(F27*$F$3)+(G27*$G$3)+(H27*$H$3)+(I27*$I$3)+(J27*$J$3)+(K27*$K$3)+(L27*$L$3)+(M27*$M$3)+(N27*$N$3) -> 0
O28: =SUM(F28:N28) -> 0 | P28: =(F28*$F$3)+(G28*$G$3)+(H28*$H$3)+(I28*$I$3)+(J28*$J$3)+(K28*$K$3)+(L28*$L$3)+(M28*$M$3)+(N28*$N$3) -> 0
O29: =SUM(F29:N29) -> 0 | P29: =(F29*$F$3)+(G29*$G$3)+(H29*$H$3)+(I29*$I$3)+(J29*$J$3)+(K29*$K$3)+(L29*$L$3)+(M29*$M$3)+(N29*$N$3) -> 0
O30: =SUM(F30:N30) -> 0 | P30: =(F30*$F$3)+(G30*$G$3)+(H30*$H$3)+(I30*$I$3)+(J30*$J$3)+(K30*$K$3)+(L30*$L$3)+(M30*$M$3)+(N30*$N$3) -> 0
O31: =SUM(F31:N31) -> 0 | P31: =(F31*$F$3)+(G31*$G$3)+(H31*$H$3)+(I31*$I$3)+(J31*$J$3)+(K31*$K$3)+(L31*$L$3)+(M31*$M$3)+(N31*$N$3) -> 0
O32: =SUM(F32:N32) -> 0 | P32: =(F32*$F$3)+(G32*$G$3)+(H32*$H$3)+(I32*$I$3)+(J32*$J$3)+(K32*$K$3)+(L32*$L$3)+(M32*$M$3)+(N32*$N$3) -> 0
O33: =SUM(F33:N33) -> 0 | P33: =(F33*$F$3)+(G33*$G$3)+(H33*$H$3)+(I33*$I$3)+(J33*$J$3)+(K33*$K$3)+(L33*$L$3)+(M33*$M$3)+(N33*$N$3) -> 0
O34: =SUM(F34:N34) -> 0 | P34: =(F34*$F$3)+(G34*$G$3)+(H34*$H$3)+(I34*$I$3)+(J34*$J$3)+(K34*$K$3)+(L34*$L$3)+(M34*$M$3)+(N34*$N$3) -> 0
O35: =SUM(F35:N35) -> 0 | P35: =(F35*$F$3)+(G35*$G$3)+(H35*$H$3)+(I35*$I$3)+(J35*$J$3)+(K35*$K$3)+(L35*$L$3)+(M35*$M$3)+(N35*$N$3) -> 0
O36: =SUM(F36:N36) -> 0 | P36: =(F36*$F$3)+(G36*$G$3)+(H36*$H$3)+(I36*$I$3)+(J36*$J$3)+(K36*$K$3)+(L36*$L$3)+(M36*$M$3)+(N36*$N$3) -> 0
O37: =SUM(F37:N37) -> 0 | P37: =(F37*$F$3)+(G37*$G$3)+(H37*$H$3)+(I37*$I$3)+(J37*$J$3)+(K37*$K$3)+(L37*$L$3)+(M37*$M$3)+(N37*$N$3) -> 0
B38: TOTAL | C38: =SUM(C26:C37) -> 0 | D38: =SUM(D26:D37) -> 0 | E38: =SUM(E26:E37) -> 0 | F38: =SUM(F26:F37) -> 0 | G38: =SUM(G26:G37) -> 0 | H38: =SUM(H26:H37) -> 0 | I38: =SUM(I26:I37) -> 0 | J38: =SUM(J26:J37) -> 0 | ... P38: =SUM(P26:P37) -> 0
B41: ISKCON PORT HARCOURT
B42: Cumulative Scores | G42: 13 | L42: 6 | O42: =SUM(F42:N42) -> 19 | P42: =(F42*$F$3)+(G42*$G$3)+(H42*$H$3)+(I42*$I$3)+(J42*$J$3)+(K42*$K$3)+(L42*$L$3)+(M42*$M$3)+(N42*$N$3) -> 9.25
O43: =SUM(F43:N43) -> 0 | P43: =(F43*$F$3)+(G43*$G$3)+(H43*$H$3)+(I43*$I$3)+(J43*$J$3)+(K43*$K$3)+(L43*$L$3)+(M43*$M$3)+(N43*$N$3) -> 0
B44: TOTAL | C44: =SUM(C43:C43) -> 0 | D44: =SUM(D42:D43) -> 0 | E44: =SUM(E42:E43) -> 0 | F44: =SUM(F43:F43) -> 0 | G44: =SUM(G42:G43) -> 13 | H44: =SUM(H42:H43) -> 0 | I44: =SUM(I42:I43) -> 0 | J44: =SUM(J42:J43) -> 0 | K44: =SUM(K42:K43) -> 0 | L44: =SUM(L42:L43) -> 6 | M44: =SUM(M42:M43) -> 0 | N44: =SUM(N42:N43) -> 0 | ... P44: =SUM(P42:P43) -> 9.25
M48: TOTAL | O48: =O44+O38+O22 -> 19 | P48: =P44+P38+P22 -> 9.25

Sheet South Africa
B1: MONTH: June 2015
C2: BTG Sub | D2: CC Set | E2: SB Set | F2: Mag. | G2: Small Books | I2: Medium Books | K2: Big Books | M2: Maha-Books
C3: 5 | D3: 18 | E3: 36 | F3: 0.1 | G3: 0.25 | H3: 0.25 | I3: 0.5 | J3: 0.5 | K3: 1 | L3: 1 | M3: 2 | N3: 2
B4: DEVOTEES | F4: M1 | G4: S1 | H4: H1 | I4: S2 | J4: H2 | K4: S3 | L4: H3 | M4: S4 | N4: H4 | O4: T/BKS | P4: Points
B6: ISKCON BLOEMFONTEIN
B7: Tattva Darshan Prabhu | G7: 49 | K7: 3 | M7: 2 | O7: =SUM(F7:N7) -> 54 | P7: =(F7*$F$3)+(G7*$G$3)+(H7*$H$3)+(I7*$I$3)+(J7*$J$3)+(K7*$K$3)+(L7*$L$3)+(M7*$M$3)+(N7*$N$3) -> 19.25
B8: Bhakta Sipho | G8: 81 | I8: 5 | J8: 5 | K8: 9 | M8: 1 | O8: =SUM(F8:N8) -> 101 | P8: =(F8*$F$3)+(G8*$G$3)+(H8*$H$3)+(I8*$I$3)+(J8*$J$3)+(K8*$K$3)+(L8*$L$3)+(M8*$M$3)+(N8*$N$3) -> 36.25
O9: =SUM(F9:N9) -> 0 | P9: =(F9*$F$3)+(G9*$G$3)+(H9*$H$3)+(I9*$I$3)+(J9*$J$3)+(K9*$K$3)+(L9*$L$3)+(M9*$M$3)+(N9*$N$3) -> 0
B10: TOTAL | C10: =SUM(C7:C9) -> 0 | D10: =SUM(D7:D9) -> 0 | E10: =SUM(E7:E9) -> 0 | F10: =SUM(F7:F9) -> 0 | G10: =SUM(G7:G9) -> 130 | H10: =SUM(H7:H9) -> 0 | I10: =SUM(I7:I9) -> 5 | J10: =SUM(J7:J9) -> 5 | ... P10: =SUM(P7:P9) -> 55.5
B13: ISKCON CAPE TOWN
B14: Gift shop | F14: 30 | G14: 24 | K14: 6 | M14: 6 | O14: =SUM(C14:N14) -> 66 | P14: =(C14*$C$3)+(F14*$F$3)+(G14*$G$3)+(H14*$H$3)+(I14*$I$3)+(J14*$J$3)+(K14*$K$3)+(L14*$L$3)+(M14*$M$3)+(N14*$N$3) -> 27
B15: Bakta Ryna | G15: 1 | O15: =SUM(F15:N15) -> 1 | P15: =(F15*$F$3)+(G15*$G$3)+(H15*$H$3)+(I15*$I$3)+(J15*$J$3)+(K15*$K$3)+(L15*$L$3)+(M15*$M$3)+(N15*$N$3) -> 0.25
B16: Gopa Kumara Dasa | G16: 455 | K16: 2 | M16: 1 | O16: =SUM(F16:N16) -> 458 | P16: =(F16*$F$3)+(G16*$G$3)+(H16*$H$3)+(I16*$I$3)+(J16*$J$3)+(K16*$K$3)+(L16*$L$3)+(M16*$M$3)+(N16*$N$3) -> 117.75
O17: =SUM(F17:N17) -> 0 | P17: =(F17*$F$3)+(G17*$G$3)+(H17*$H$3)+(I17*$I$3)+(J17*$J$3)+(K17*$K$3)+(L17*$L$3)+(M17*$M$3)+(N17*$N$3) -> 0
O18: =SUM(F18:N18) -> 0 | P18: =(F18*$F$3)+(G18*$G$3)+(H18*$H$3)+(I18*$I$3)+(J18*$J$3)+(K18*$K$3)+(L18*$L$3)+(M18*$M$3)+(N18*$N$3) -> 0
O19: =SUM(F19:N19) -> 0 | P19: =(F19*$F$3)+(G19*$G$3)+(H19*$H$3)+(I19*$I$3)+(J19*$J$3)+(K19*$K$3)+(L19*$L$3)+(M19*$M$3)+(N19*$N$3) -> 0
B20: TOTAL | C20: =SUM(C14:C19) -> 0 | D20: =SUM(D14:D19) -> 0 | E20: =SUM(E14:E19) -> 0 | F20: =SUM(F14:F19) -> 30 | G20: =SUM(G14:G19) -> 480 | H20: =SUM(H14:H19) -> 0 | I20: =SUM(I14:I19) -> 0 | J20: =SUM(J14:J19) -> 0 | ... P20: =SUM(P14:P19) -> 145
B23: ISKCON DURBAN
B24: Bramacari Ashram | G24: 330 | O24: =SUM(F24:N24) -> 330 | P24: =(C24*$C$3)+(F24*$F$3)+(G24*$G$3)+(H24*$H$3)+(I24*$I$3)+(J24*$J$3)+(K24*$K$3)+(L24*$L$3)+(M24*$M$3)+(N24*$N$3) -> 82.5
B25: Radha Giridhari Das | N25: 40 | O25: =SUM(F25:N25) -> 40 | P25: =(F25*$F$3)+(G25*$G$3)+(H25*$H$3)+(I25*$I$3)+(J25*$J$3)+(K25*$K$3)+(L25*$L$3)+(M25*$M$3)+(N25*$N$3) -> 80
B26: Vibhu Caitanya Dasa | G26: 285 | O26: =SUM(F26:N26) -> 285 | P26: =(F26*$F$3)+(G26*$G$3)+(H26*$H$3)+(I26*$I$3)+(J26*$J$3)+(K26*$K$3)+(L26*$L$3)+(M26*$M$3)+(N26*$N$3) -> 71.25
B27: Thulsi Maharani Devi Dasi | N27: 16 | O27: =SUM(F27:N27) -> 16 | P27: =(F27*$F$3)+(G27*$G$3)+(H27*$H$3)+(I27*$I$3)+(J27*$J$3)+(K27*$K$3)+(L27*$L$3)+(M27*$M$3)+(N27*$N$3) -> 32
B28: Book Counter | F28: 5 | G28: 18 | I28: 8 | K28: 2 | L28: 1 | N28: 5 | O28: =SUM(F28:N28) -> 39 | P28: =(F28*$F$3)+(G28*$G$3)+(H28*$H$3)+(I28*$I$3)+(J28*$J$3)+(K28*$K$3)+(L28*$L$3)+(M28*$M$3)+(N28*$N$3) -> 22
B29: Andrisha Behari | I29: 40 | O29: =SUM(F29:N29) -> 40 | P29: =(F29*$F$3)+(G29*$G$3)+(H29*$H$3)+(I29*$I$3)+(J29*$J$3)+(K29*$K$3)+(L29*$L$3)+(M29*$M$3)+(N29*$N$3) -> 20
B30: Mother Yashoda | K30: 2 | N30: 4 | O30: =SUM(F30:N30) -> 6 | P30: =(F30*$F$3)+(G30*$G$3)+(H30*$H$3)+(I30*$I$3)+(J30*$J$3)+(K30*$K$3)+(L30*$L$3)+(M30*$M$3)+(N30*$N$3) -> 10
B31: Bhaktin Kajol | G31: 9 | H31: 2 | N31: 3 | O31: =SUM(F31:N31) -> 14 | P31: =(F31*$F$3)+(G31*$G$3)+(H31*$H$3)+(I31*$I$3)+(J31*$J$3)+(K31*$K$3)+(L31*$L$3)+(M31*$M$3)+(N31*$N$3) -> 8.75
B32: Sad Goswani Das | N32: 4 | O32: =SUM(F32:N32) -> 4 | P32: =(F32*$F$3)+(G32*$G$3)+(H32*$H$3)+(I32*$I$3)+(J32*$J$3)+(K32*$K$3)+(L32*$L$3)+(M32*$M$3)+(N32*$N$3) -> 8
O33: =SUM(F33:N33) -> 0 | P33: =(F33*$F$3)+(G33*$G$3)+(H33*$H$3)+(I33*$I$3)+(J33*$J$3)+(K33*$K$3)+(L33*$L$3)+(M33*$M$3)+(N33*$N$3) -> 0
B34: TOTAL | C34: =SUM(C24:C33) -> 0 | D34: =SUM(D24:D33) -> 0 | E34: =SUM(E24:E33) -> 0 | F34: =SUM(F24:F33) -> 5 | G34: =SUM(G24:G33) -> 642 | H34: =SUM(H24:H33) -> 2 | I34: =SUM(I24:I33) -> 48 | J34: =SUM(J24:J33) -> 0 | ... P34: =SUM(P24:P33) -> 334.5
B36: ISKCON LENASIA
B37: Dhesan Chetty & devotees | G37: 120 | I37: 15 | L37: 2 | N37: 15 | O37: =SUM(F37:N37) -> 152 | P37: =(F37*$F$3)+(G37*$G$3)+(H37*$H$3)+(I37*$I$3)+(J37*$J$3)+(K37*$K$3)+(L37*$L$3)+(M37*$M$3)+(N37*$N$3) -> 69.5
B38: Amrita Radhika dd | G38: 36 | I38: 11 | L38: 3 | N38: 1 | O38: =SUM(F38:N38) -> 51 | P38: =(F38*$F$3)+(G38*$G$3)+(H38*$H$3)+(I38*$I$3)+(J38*$J$3)+(K38*$K$3)+(L38*$L$3)+(M38*$M$3)+(N38*$N$3) -> 19.5
B39: Brahmani | G39: 7 | O39: =SUM(F39:N39) -> 7 | P39: =(F39*$F$3)+(G39*$G$3)+(H39*$H$3)+(I39*$I$3)+(J39*$J$3)+(K39*$K$3)+(L39*$L$3)+(M39*$M$3)+(N39*$N$3) -> 1.75
B40: Gauranga dasa | G40: 7 | O40: =SUM(F40:N40) -> 7 | P40: =(F40*$F$3)+(G40*$G$3)+(H40*$H$3)+(I40*$I$3)+(J40*$J$3)+(K40*$K$3)+(L40*$L$3)+(M40*$M$3)+(N40*$N$3) -> 1.75
B41: Jennifer | G41: 7 | O41: =SUM(F41:N41) -> 7 | P41: =(F41*$F$3)+(G41*$G$3)+(H41*$H$3)+(I41*$I$3)+(J41*$J$3)+(K41*$K$3)+(L41*$L$3)+(M41*$M$3)+(N41*$N$3) -> 1.75
B42: Minesh Vallabh | G42: 40 | O42: =SUM(F42:N42) -> 40 | P42: =(F42*$F$3)+(G42*$G$3)+(H42*$H$3)+(I42*$I$3)+(J42*$J$3)+(K42*$K$3)+(L42*$L$3)+(M42*$M$3)+(N42*$N$3) -> 10
B43: Sadhu Seva dasa | G43: 18 | K43: 1 | O43: =SUM(F43:N43) -> 19 | P43: =(F43*$F$3)+(G43*$G$3)+(H43*$H$3)+(I43*$I$3)+(J43*$J$3)+(K43*$K$3)+(L43*$L$3)+(M43*$M$3)+(N43*$N$3) -> 5.5
B44: Sasolburg Namahatta | I44: 1 | O44: =SUM(F44:N44) -> 1 | P44: =(F44*$F$3)+(G44*$G$3)+(H44*$H$3)+(I44*$I$3)+(J44*$J$3)+(K44*$K$3)+(L44*$L$3)+(M44*$M$3)+(N44*$N$3) -> 0.5
B45: Seelan | G45: 6 | I45: 1 | O45: =SUM(F45:N45) -> 7 | P45: =(F45*$F$3)+(G45*$G$3)+(H45*$H$3)+(I45*$I$3)+(J45*$J$3)+(K45*$K$3)+(L45*$L$3)+(M45*$M$3)+(N45*$N$3) -> 2
B46: Shamila | G46: 7 | O46: =SUM(F46:N46) -> 7 | P46: =(F46*$F$3)+(G46*$G$3)+(H46*$H$3)+(I46*$I$3)+(J46*$J$3)+(K46*$K$3)+(L46*$L$3)+(M46*$M$3)+(N46*$N$3) -> 1.75
B47: Visaka dd | G47: 3 | I47: 2 | J47: 2 | N47: 1 | O47: =SUM(F47:N47) -> 8 | P47: =(F47*$F$3)+(G47*$G$3)+(H47*$H$3)+(I47*$I$3)+(J47*$J$3)+(K47*$K$3)+(L47*$L$3)+(M47*$M$3)+(N47*$N$3) -> 4.75
B48: BTG Magazines | F48: 536 | O48: =SUM(F48:N48) -> 536 | P48: =(F48*$F$3)+(G48*$G$3)+(H48*$H$3)+(I48*$I$3)+(J48*$J$3)+(K48*$K$3)+(L48*$L$3)+(M48*$M$3)+(N48*$N$3) -> 53.6
O49: =SUM(F49:N49) -> 0 | P49: =(F49*$F$3)+(G49*$G$3)+(H49*$H$3)+(I49*$I$3)+(J49*$J$3)+(K49*$K$3)+(L49*$L$3)+(M49*$M$3)+(N49*$N$3) -> 0
B50: TOTAL | C50: =SUM(C37:C49) -> 0 | D50: =SUM(D37:D49) -> 0 | E50: =SUM(E37:E49) -> 0 | F50: =SUM(F37:F49) -> 536 | G50: =SUM(G37:G49) -> 251 | H50: =SUM(H37:H49) -> 0 | I50: =SUM(I37:I49) -> 30 | J50: =SUM(J37:J49) -> 2 | ... P50: =SUM(P37:P49) -> 172.35
B53: ISKCON MAFIKENG
O54: =SUM(F54:N54) -> 0 | P54: =(F54*$F$3)+(G54*$G$3)+(H54*$H$3)+(I54*$I$3)+(J54*$J$3)+(K54*$K$3)+(L54*$L$3)+(M54*$M$3)+(N54*$N$3) -> 0
O55: =SUM(F55:N55) -> 0 | P55: =(F55*$F$3)+(G55*$G$3)+(H55*$H$3)+(I55*$I$3)+(J55*$J$3)+(K55*$K$3)+(L55*$L$3)+(M55*$M$3)+(N55*$N$3) -> 0
B56: TOTAL | C56: =SUM(C54:C55) -> 0 | D56: =SUM(D54:D55) -> 0 | E56: =SUM(E54:E55) -> 0 | F56: =SUM(F54:F55) -> 0 | G56: =SUM(G54:G55) -> 0 | H56: =SUM(H54:H55) -> 0 | I56: =SUM(I54:I55) -> 0 | J56: =SUM(J54:J55) -> 0 | ... P56: =SUM(P54:P55) -> 0
B59: ISKCON MPUMALANGA
B60: Cumulative Team scores | G60: 186 | I60: 3 | J60: 2 | L60: 2 | O60: =SUM(F60:N60) -> 193 | P60: =(F60*$F$3)+(G60*$G$3)+(H60*$H$3)+(I60*$I$3)+(J60*$J$3)+(K60*$K$3)+(L60*$L$3)+(M60*$M$3)+(N60*$N$3) -> 51
O61: =SUM(F61:N61) -> 0 | P61: =(F61*$F$3)+(G61*$G$3)+(H61*$H$3)+(I61*$I$3)+(J61*$J$3)+(K61*$K$3)+(L61*$L$3)+(M61*$M$3)+(N61*$N$3) -> 0
B62: TOTAL | C62: =SUM(C60:C61) -> 0 | D62: =SUM(D60:D61) -> 0 | E62: =SUM(E60:E61) -> 0 | F62: =SUM(F60:F61) -> 0 | G62: =SUM(G60:G61) -> 186 | H62: =SUM(H60:H61) -> 0 | I62: =SUM(I60:I61) -> 3 | J62: =SUM(J60:J61) -> 2 | ... P62: =SUM(P60:P61) -> 51
B65: ISKCON PIETERMARITZBURG
B66: Yamuna | G66: 103 | L66: 5 | O66: =SUM(F66:N66) -> 108 | P66: =(F66*$F$3)+(G66*$G$3)+(H66*$H$3)+(I66*$I$3)+(J66*$J$3)+(K66*$K$3)+(L66*$L$3)+(M66*$M$3)+(N66*$N$3) -> 30.75
B67: Kash | M67: 25 | O67: =SUM(F67:N67) -> 25 | P67: =(F67*$F$3)+(G67*$G$3)+(H67*$H$3)+(I67*$I$3)+(J67*$J$3)+(K67*$K$3)+(L67*$L$3)+(M67*$M$3)+(N67*$N$3) -> 50
O68: =SUM(F68:N68) -> 0 | P68: =(F68*$F$3)+(G68*$G$3)+(H68*$H$3)+(I68*$I$3)+(J68*$J$3)+(K68*$K$3)+(L68*$L$3)+(M68*$M$3)+(N68*$N$3) -> 0
O69: =SUM(F69:N69) -> 0 | P69: =(F69*$F$3)+(G69*$G$3)+(H69*$H$3)+(I69*$I$3)+(J69*$J$3)+(K69*$K$3)+(L69*$L$3)+(M69*$M$3)+(N69*$N$3) -> 0
B70: TOTAL | C70: =SUM(C69:C69) -> 0 | D70: =SUM(D66:D69) -> 0 | E70: =SUM(E66:E69) -> 0 | F70: =SUM(F69:F69) -> 0 | G70: =SUM(G66:G69) -> 103 | H70: =SUM(H66:H69) -> 0 | I70: =SUM(I66:I69) -> 0 | J70: =SUM(J66:J69) -> 0 | K70: =SUM(K66:K69) -> 0 | L70: =SUM(L66:L69) -> 5 | M70: =SUM(M66:M69) -> 25 | N70: =SUM(N66:N69) -> 0 | ... P70: =SUM(P66:P69) -> 80.75
B73: ISKCON SANDTON
B74: Cumulative Scores | E74: 1 | G74: 53 | N74: 71 | O74: =SUM(F74:N74) -> 124 | P74: =(F74*$F$3)+(G74*$G$3)+(H74*$H$3)+(I74*$I$3)+(J74*$J$3)+(K74*$K$3)+(L74*$L$3)+(M74*$M$3)+(N74*$N$3) -> 155.25
O75: =SUM(F75:N75) -> 0 | P75: =(F75*$F$3)+(G75*$G$3)+(H75*$H$3)+(I75*$I$3)+(J75*$J$3)+(K75*$K$3)+(L75*$L$3)+(M75*$M$3)+(N75*$N$3) -> 0
O76: =SUM(F76:N76) -> 0 | P76: =(F76*$F$3)+(G76*$G$3)+(H76*$H$3)+(I76*$I$3)+(J76*$J$3)+(K76*$K$3)+(L76*$L$3)+(M76*$M$3)+(N76*$N$3) -> 0
B77: TOTAL | C77: =SUM(C74:C76) -> 0 | D77: =SUM(D74:D76) -> 0 | E77: =SUM(E74:E76) -> 1 | F77: =SUM(F74:F76) -> 0 | G77: =SUM(G74:G76) -> 53 | H77: =SUM(H74:H76) -> 0 | I77: =SUM(I74:I76) -> 0 | J77: =SUM(J74:J76) -> 0 | ... P77: =SUM(P74:P76) -> 155.25
M79: TOTAL | O79: =O77+O70+O62+O56+O50+O34+O20+O10 -> 2746 | P79: =P77+P70+P62+P56+P50+P34+P20+P10 -> 994.35

Sheet Tanzania
B2: TEMPLE: ARUSHA
B3: MONTH :
C4: BTG Sub | D4: CC Set | E4: SB Set | F4: Mag. | G4: Small Books | I4: Medium Books | K4: Big Books | M4: Maha-Books
C5: 5 | F5: 0.1 | G5: 0.25 | H5: 0.25 | I5: 0.5 | J5: 0.5 | K5: 1 | L5: 1 | M5: 2 | N5: 2
B6: DEVOTEES | F6: M1 | G6: S1 | H6: H1 | I6: S2 | J6: H2 | K6: S3 | L6: H3 | M6: S4 | N6: H4 | O6: T/BKS | P6: Points
B9: GAUR NITAI SANKIRTAN GROUP | O9: =SUM(F9:N9) -> 0 | P9: =(F9*$F$5)+(G9*$G$5)+(H9*$H$5)+(I9*$I$5)+(J9*$J$5)+(K9*$K$5)+(L9*$L$5)+(M9*$M$5)+(N9*$N$5) -> 0
O10: =SUM(F10:N10) -> 0 | P10: =(F10*$F$5)+(G10*$G$5)+(H10*$H$5)+(I10*$I$5)+(J10*$J$5)+(K10*$K$5)+(L10*$L$5)+(M10*$M$5)+(N10*$N$5) -> 0
O11: =SUM(F11:N11) -> 0 | P11: =(F11*$F$5)+(G11*$G$5)+(H11*$H$5)+(I11*$I$5)+(J11*$J$5)+(K11*$K$5)+(L11*$L$5)+(M11*$M$5)+(N11*$N$5) -> 0
B12: TOTAL | C12: =SUM(C9:C11) -> 0 | D12: =SUM(D9:D11) -> 0 | E12: =SUM(E9:E11) -> 0 | F12: =SUM(F9:F11) -> 0 | G12: =SUM(G9:G11) -> 0 | H12: =SUM(H9:H11) -> 0 | I12: =SUM(I9:I11) -> 0 | J12: =SUM(J9:J11) -> 0 | ... P12: =SUM(P9:P11) -> 0
B16: TEMPLE: DAR es SALAAM
B17: MONTH :
C18: BTG Sub | D18: CC Set | E18: SB Set | F18: Mag. | G18: Small Books | I18: Medium Books | K18: Big Books | M18: Maha-Books
C19: 5 | F19: 0.1 | G19: 0.25 | H19: 0.25 | I19: 0.5 | J19: 0.5 | K19: 1 | L19: 1 | M19: 2 | N19: 2
B20: DEVOTEES | F20: M1 | G20: S1 | H20: H1 | I20: S2 | J20: H2 | K20: S3 | L20: H3 | M20: S4 | N20: H4 | O20: T/BKS | P20: Points
B23: SANKIRTAN GROUP | O23: =SUM(F23:N23) -> 0 | P23: =(F23*$F$5)+(G23*$G$5)+(H23*$H$5)+(I23*$I$5)+(J23*$J$5)+(K23*$K$5)+(L23*$L$5)+(M23*$M$5)+(N23*$N$5) -> 0
O24: =SUM(F24:N24) -> 0 | P24: =(F24*$F$5)+(G24*$G$5)+(H24*$H$5)+(I24*$I$5)+(J24*$J$5)+(K24*$K$5)+(L24*$L$5)+(M24*$M$5)+(N24*$N$5) -> 0
O25: =SUM(F25:N25) -> 0 | P25: =(F25*$F$5)+(G25*$G$5)+(H25*$H$5)+(I25*$I$5)+(J25*$J$5)+(K25*$K$5)+(L25*$L$5)+(M25*$M$5)+(N25*$N$5) -> 0
B26: TOTAL | C26: =SUM(C23:C25) -> 0 | D26: =SUM(D23:D25) -> 0 | E26: =SUM(E23:E25) -> 0 | F26: =SUM(F23:F25) -> 0 | G26: =SUM(G23:G25) -> 0 | H26: =SUM(H23:H25) -> 0 | I26: =SUM(I23:I25) -> 0 | J26: =SUM(J23:J25) -> 0 | ... P26: =SUM(P23:P25) -> 0
M29: TOTAL | O29: =SUM(O12,O26) -> 0 | P29: =SUM(P12,P26) -> 0

Sheet Togo
B2: TEMPLE: Lomé
B3: MONTH : April 2015
C4: BTG Sub | D4: CC Set | E4: SB Set | F4: Mag. | G4: Small Books | I4: Medium Books | K4: Big Books | M4: Maha-Books
C5: 5 | F5: 0.1 | G5: 0.25 | H5: 0.25 | I5: 0.5 | J5: 0.5 | K5: 1 | L5: 1 | M5: 2 | N5: 2
B6: DEVOTEES | F6: M1 | G6: S1 | H6: H1 | I6: S2 | J6: H2 | K6: S3 | L6: H3 | M6: S4 | N6: H4 | O6: T/BKS | P6: Points
O9: =SUM(F9:N9) -> 0 | P9: =(F9*$F$5)+(G9*$G$5)+(H9*$H$5)+(I9*$I$5)+(J9*$J$5)+(K9*$K$5)+(L9*$L$5)+(M9*$M$5)+(N9*$N$5) -> 0
O10: =SUM(F10:N10) -> 0 | P10: =(F10*$F$5)+(G10*$G$5)+(H10*$H$5)+(I10*$I$5)+(J10*$J$5)+(K10*$K$5)+(L10*$L$5)+(M10*$M$5)+(N10*$N$5) -> 0
O11: =SUM(F11:N11) -> 0 | P11: =(F11*$F$5)+(G11*$G$5)+(H11*$H$5)+(I11*$I$5)+(J11*$J$5)+(K11*$K$5)+(L11*$L$5)+(M11*$M$5)+(N11*$N$5) -> 0
O12: =SUM(F12:N12) -> 0 | P12: =(F12*$F$5)+(G12*$G$5)+(H12*$H$5)+(I12*$I$5)+(J12*$J$5)+(K12*$K$5)+(L12*$L$5)+(M12*$M$5)+(N12*$N$5) -> 0
O13: =SUM(F13:N13) -> 0 | P13: =(F13*$F$5)+(G13*$G$5)+(H13*$H$5)+(I13*$I$5)+(J13*$J$5)+(K13*$K$5)+(L13*$L$5)+(M13*$M$5)+(N13*$N$5) -> 0
O14: =SUM(F14:N14) -> 0 | P14: =(F14*$F$5)+(G14*$G$5)+(H14*$H$5)+(I14*$I$5)+(J14*$J$5)+(K14*$K$5)+(L14*$L$5)+(M14*$M$5)+(N14*$N$5) -> 0
O15: =SUM(F15:N15) -> 0 | P15: =(F15*$F$5)+(G15*$G$5)+(H15*$H$5)+(I15*$I$5)+(J15*$J$5)+(K15*$K$5)+(L15*$L$5)+(M15*$M$5)+(N15*$N$5) -> 0
O16: =SUM(F16:N16) -> 0 | P16: =(F16*$F$5)+(G16*$G$5)+(H16*$H$5)+(I16*$I$5)+(J16*$J$5)+(K16*$K$5)+(L16*$L$5)+(M16*$M$5)+(N16*$N$5) -> 0
O17: =SUM(F17:N17) -> 0 | P17: =(F17*$F$5)+(G17*$G$5)+(H17*$H$5)+(I17*$I$5)+(J17*$J$5)+(K17*$K$5)+(L17*$L$5)+(M17*$M$5)+(N17*$N$5) -> 0
O18: =SUM(F18:N18) -> 0 | P18: =(F18*$F$5)+(G18*$G$5)+(H18*$H$5)+(I18*$I$5)+(J18*$J$5)+(K18*$K$5)+(L18*$L$5)+(M18*$M$5)+(N18*$N$5) -> 0
O19: =SUM(F19:N19) -> 0 | P19: =(F19*$F$5)+(G19*$G$5)+(H19*$H$5)+(I19*$I$5)+(J19*$J$5)+(K19*$K$5)+(L19*$L$5)+(M19*$M$5)+(N19*$N$5) -> 0
O20: =SUM(F20:N20) -> 0 | P20: =(F20*$F$5)+(G20*$G$5)+(H20*$H$5)+(I20*$I$5)+(J20*$J$5)+(K20*$K$5)+(L20*$L$5)+(M20*$M$5)+(N20*$N$5) -> 0
... O27: =SUM(F27:N27) -> 0 | P27: =(F27*$F$5)+(G27*$G$5)+(H27*$H$5)+(I27*$I$5)+(J27*$J$5)+(K27*$K$5)+(L27*$L$5)+(M27*$M$5)+(N27*$N$5) -> 0
B28: TOTAL | C28: =SUM(C9:C27) -> 0 | D28: =SUM(D9:D27) -> 0 | E28: =SUM(E9:E27) -> 0 | F28: =SUM(F9:F27) -> 0 | G28: =SUM(G9:G27) -> 0 | H28: =SUM(H9:H27) -> 0 | I28: =SUM(I9:I27) -> 0 | J28: =SUM(J9:J27) -> 0 | ... P28: =SUM(P9:P27) -> 0

Sheet Zambia
B2: TEMPLE: ZAMBIA
B3: MONTH : June 2015
C4: BTG Sub | D4: CC Set | E4: SB Set | F4: Mag. | G4: Small Books | I4: Medium Books | K4: Big Books | M4: Maha-Books
C5: 5 | F5: 0.1 | G5: 0.25 | H5: 0.25 | I5: 0.5 | J5: 0.5 | K5: 1 | L5: 1 | M5: 2 | N5: 2
B6: DEVOTEES | F6: M1 | G6: S1 | H6: H1 | I6: S2 | J6: H2 | K6: S3 | L6: H3 | M6: S4 | N6: H4 | O6: T/BKS | P6: Points
B9: Cumulative scores | F9: 20 | G9: 4 | H9: 21 | J9: 7 | N9: 11 | O9: =SUM(F9:N9) -> 63 | P9: =(F9*$F$5)+(G9*$G$5)+(H9*$H$5)+(I9*$I$5)+(J9*$J$5)+(K9*$K$5)+(L9*$L$5)+(M9*$M$5)+(N9*$N$5) -> 33.75
O10: =SUM(F10:N10) -> 0 | P10: =(F10*$F$5)+(G10*$G$5)+(H10*$H$5)+(I10*$I$5)+(J10*$J$5)+(K10*$K$5)+(L10*$L$5)+(M10*$M$5)+(N10*$N$5) -> 0
O11: =SUM(F11:N11) -> 0 | P11: =(F11*$F$5)+(G11*$G$5)+(H11*$H$5)+(I11*$I$5)+(J11*$J$5)+(K11*$K$5)+(L11*$L$5)+(M11*$M$5)+(N11*$N$5) -> 0
B12: TOTAL | C12: =SUM(C9:C11) -> 0 | D12: =SUM(D9:D11) -> 0 | E12: =SUM(E9:E11) -> 0 | F12: =SUM(F9:F11) -> 20 | G12: =SUM(G9:G11) -> 4 | H12: =SUM(H9:H11) -> 21 | I12: =SUM(I9:I11) -> 0 | J12: =SUM(J9:J11) -> 7 | ... P12: =SUM(P9:P11) -> 33.75

Sheet Summary
A2: Country | B2: Books: | C2: Points:
A4: DRC | B4: =SUM(DRC!O19) -> 259 | C4: =SUM(DRC!P19) -> 228.25
A5: Ghana | B5: =SUM(Ghana!O36) -> 48 | C5: =SUM(Ghana!P36) -> 20
A6: Ivory Coast | B6: =SUM('Ivory Coast'!O19) -> 7 | C6: =SUM('Ivory Coast'!P19) -> 7
A7: Kenya | B7: =SUM(Kenya!O34) -> 2044 | C7: =SUM(Kenya!P34) -> 1850.45
A8: Malawi | B8: =SUM(Malawi!O12) -> 297 | C8: =SUM(Malawi!P12) -> 135
A9: Mauritius | B9: =SUM(Mauritius!O45) -> 4280 | C9: =SUM(Mauritius!P45) -> 1321.7
A10: Nigeria | B10: =SUM(Nigeria!O48) -> 19 | C10: =SUM(Nigeria!P48) -> 9.25
A11: South Africa | B11: =SUM('South Africa'!O79) -> 2746 | C11: =SUM('South Africa'!P79) -> 994.35
A12: Tanzania | B12: =SUM(Tanzania!O29) -> 0 | C12: =SUM(Tanzania!P29) -> 0
A13: Zambia | B13: =SUM(Zambia!O12) -> 63 | C13: =SUM(Zambia!P12) -> 33.75
A15: Total: | B15: =SUM(B4:B14) -> 9763 | C15: =SUM(C4:C14) -> 4599.75
