Workbook
Name Excel_BuiltIn_Print_Area_1: [2]Malawi!#REF!
Name Excel_BuiltIn_Print_Area_1: [2]Malawi!#REF!
Name Excel_BuiltIn_Print_Area_1: [2]Malawi!#REF!
Name Excel_BuiltIn_Print_Area_1: [2]Malawi!#REF!
Name Excel_BuiltIn_Print_Area_1: [2]Malawi!#REF!
Name Excel_BuiltIn_Print_Area_1: [1]Malawi!#REF!
Name Excel_BuiltIn_Print_Area_1: [2]Malawi!#REF!
Name Excel_BuiltIn_Print_Area_1: [2]Malawi!#REF!

Sheet Democratic Republic of Congo
B2: TEMPLE: Kinshasa
B3: MONTH : January 2015
C4: BTG Sub | D4: CC Set | E4: SB Set | F4: Mag. | G4: Small Books | I4: Medium Books | K4: Big Books | M4: Maha-Books
C5: 5 | F5: 0.1 | G5: 0.25 | H5: 0.25 | I5: 0.5 | J5: 0.5 | K5: 1 | L5: 1 | M5: 2 | N5: 2
B6: DEVOTEES | F6: M1 | G6: S1 | H6: H1 | I6: S2 | J6: H2 | K6: S3 | L6: H3 | M6: S4 | N6: H4 | O6: T/BKS | P6: Points
B9: Temple Cumulative Scores | G9: 1000 | N9: 335 | O9: =SUM(F9:N9) -> 1335 | P9: =(F9*$F$5)+(G9*$G$5)+(H9*$H$5)+(I9*$I$5)+(J9*$J$5)+(K9*$K$5)+(L9*$L$5)+(M9*$M$5)+(N9*$N$5) -> 920
O10: =SUM(F10:N10) -> 0 | P10: =(F10*$F$5)+(G10*$G$5)+(H10*$H$5)+(I10*$I$5)+(J10*$J$5)+(K10*$K$5)+(L10*$L$5)+(M10*$M$5)+(N10*$N$5) -> 0
O11: =SUM(F11:N11) -> 0 | P11: =(F11*$F$5)+(G11*$G$5)+(H11*$H$5)+(I11*$I$5)+(J11*$J$5)+(K11*$K$5)+(L11*$L$5)+(M11*$M$5)+(N11*$N$5) -> 0
O12: =SUM(F12:N12) -> 0 | P12: =(F12*$F$5)+(G12*$G$5)+(H12*$H$5)+(I12*$I$5)+(J12*$J$5)+(K12*$K$5)+(L12*$L$5)+(M12*$M$5)+(N12*$N$5) -> 0
O13: =SUM(F13:N13) -> 0 | P13: =(F13*$F$5)+(G13*$G$5)+(H13*$H$5)+(I13*$I$5)+(J13*$J$5)+(K13*$K$5)+(L13*$L$5)+(M13*$M$5)+(N13*$N$5) -> 0
O14: =SUM(F14:N14) -> 0 | P14: =(F14*$F$5)+(G14*$G$5)+(H14*$H$5)+(I14*$I$5)+(J14*$J$5)+(K14*$K$5)+(L14*$L$5)+(M14*$M$5)+(N14*$N$5) -> 0
O15: =SUM(F15:N15) -> 0 | P15: =(F15*$F$5)+(G15*$G$5)+(H15*$H$5)+(I15*$I$5)+(J15*$J$5)+(K15*$K$5)+(L15*$L$5)+(M15*$M$5)+(N15*$N$5) -> 0
O16: =SUM(F16:N16) -> 0 | P16: =(F16*$F$5)+(G16*$G$5)+(H16*$H$5)+(I16*$I$5)+(J16*$J$5)+(K16*$K$5)+(L16*$L$5)+(M16*$M$5)+(N16*$N$5) -> 0
O17: =SUM(F17:N17) -> 0 | P17: =(F17*$F$5)+(G17*$G$5)+(H17*$H$5)+(I17*$I$5)+(J17*$J$5)+(K17*$K$5)+(L17*$L$5)+(M17*$M$5)+(N17*$N$5) -> 0
B18: TOTAL | C18: =SUM(C9:C17) -> 0 | D18: =SUM(D9:D17) -> 0 | E18: =SUM(E9:E17) -> 0 | F18: =SUM(F9:F17) -> 0 | G18: =SUM(G9:G17) -> 1000 | H18: =SUM(H9:H17) -> 0 | I18: =SUM(I9:I17) -> 0 | J18: =SUM(J9:J17) -> 0 | ... P18: =SUM(P9:P17) -> 920

Sheet DRC
B2: TEMPLE: Democratic Republic of Congo
B3: MONTH : December 2013
C4: BTG Sub | D4: CC Set | E4: SB Set | F4: Mag. | G4: Small Books | I4: Medium Books | K4: Big Books | M4: Maha-Books
C5: 5 | F5: 0.1 | G5: 0.25 | H5: 0.25 | I5: 0.5 | J5: 0.5 | K5: 1 | L5: 1 | M5: 2 | N5: 2
B6: DEVOTEES | F6: M1 | G6: S1 | H6: H1 | I6: S2 | J6: H2 | K6: S3 | L6: H3 | M6: S4 | N6: H4 | O6: T/BKS | P6: Points
B8: Cumulative scores by area:
O9: =SUM(F9:N9) -> 0 | P9: =(F9*$F$5)+(G9*$G$5)+(H9*$H$5)+(I9*$I$5)+(J9*$J$5)+(K9*$K$5)+(L9*$L$5)+(M9*$M$5)+(N9*$N$5) -> 0
O10: =SUM(F10:N10) -> 0 | P10: =(F10*$F$5)+(G10*$G$5)+(H10*$H$5)+(I10*$I$5)+(J10*$J$5)+(K10*$K$5)+(L10*$L$5)+(M10*$M$5)+(N10*$N$5) -> 0
O11: =SUM(F11:N11) -> 0 | P11: =(F11*$F$5)+(G11*$G$5)+(H11*$H$5)+(I11*$I$5)+(J11*$J$5)+(K11*$K$5)+(L11*$L$5)+(M11*$M$5)+(N11*$N$5) -> 0
O12: =SUM(F12:N12) -> 0 | P12: =(F12*$F$5)+(G12*$G$5)+(H12*$H$5)+(I12*$I$5)+(J12*$J$5)+(K12*$K$5)+(L12*$L$5)+(M12*$M$5)+(N12*$N$5) -> 0
O13: =SUM(F13:N13) -> 0 | P13: =(F13*$F$5)+(G13*$G$5)+(H13*$H$5)+(I13*$I$5)+(J13*$J$5)+(K13*$K$5)+(L13*$L$5)+(M13*$M$5)+(N13*$N$5) -> 0
O14: =SUM(F14:N14) -> 0 | P14: =(F14*$F$5)+(G14*$G$5)+(H14*$H$5)+(I14*$I$5)+(J14*$J$5)+(K14*$K$5)+(L14*$L$5)+(M14*$M$5)+(N14*$N$5) -> 0
O15: =SUM(F15:N15) -> 0 | P15: =(F15*$F$5)+(G15*$G$5)+(H15*$H$5)+(I15*$I$5)+(J15*$J$5)+(K15*$K$5)+(L15*$L$5)+(M15*$M$5)+(N15*$N$5) -> 0
O16: =SUM(F16:N16) -> 0 | P16: =(F16*$F$5)+(G16*$G$5)+(H16*$H$5)+(I16*$I$5)+(J16*$J$5)+(K16*$K$5)+(L16*$L$5)+(M16*$M$5)+(N16*$N$5) -> 0
O17: =SUM(F17:N17) -> 0 | P17: =(F17*$F$5)+(G17*$G$5)+(H17*$H$5)+(I17*$I$5)+(J17*$J$5)+(K17*$K$5)+(L17*$L$5)+(M17*$M$5)+(N17*$N$5) -> 0
O18: =SUM(F18:N18) -> 0 | P18: =(F18*$F$5)+(G18*$G$5)+(H18*$H$5)+(I18*$I$5)+(J18*$J$5)+(K18*$K$5)+(L18*$L$5)+(M18*$M$5)+(N18*$N$5) -> 0
B19: TOTAL | C19: =SUM(C9:C18) -> 0 | D19: =SUM(D9:D18) -> 0 | E19: =SUM(E9:E18) -> 0 | F19: =SUM(F9:F18) -> 0 | G19: =SUM(G9:G18) -> 0 | H19: =SUM(H9:H18) -> 0 | I19: =SUM(I9:I18) -> 0 | J19: =SUM(J9:J18) -> 0 | ... P19: =SUM(P9:P18) -> 0

Sheet Ghana
B2: TEMPLE: Ghana
B3: MONTH : January 2015
C4: BTG Sub | D4: CC Set | E4: SB Set | F4: Mag. | G4: Small Books | I4: Medium Books | K4: Big Books | M4: Maha-Books
C5: 5 | F5: 0.1 | G5: 0.25 | H5: 0.25 | I5: 0.5 | J5: 0.5 | K5: 1 | L5: 1 | M5: 2 | N5: 2
B6: DEVOTEES | F6: M1 | G6: S1 | H6: H1 | I6: S2 | J6: H2 | K6: S3 | L6: H3 | M6: S4 | N6: H4 | O6: T/BKS | P6: Points
B8: Ghana
B9: Bhakta Jake | F9: 20 | G9: 5 | I9: 3 | L9: 3 | N9: 1 | O9: =SUM(F9:N9) -> 32 | P9: =(F9*$F$5)+(G9*$G$5)+(H9*$H$5)+(I9*$I$5)+(J9*$J$5)+(K9*$K$5)+(L9*$L$5)+(M9*$M$5)+(N9*$N$5) -> 9.75
O10: =SUM(F10:N10) -> 0 | P10: =(F10*$F$5)+(G10*$G$5)+(H10*$H$5)+(I10*$I$5)+(J10*$J$5)+(K10*$K$5)+(L10*$L$5)+(M10*$M$5)+(N10*$N$5) -> 0
O11: =SUM(F11:N11) -> 0 | P11: =(F11*$F$5)+(G11*$G$5)+(H11*$H$5)+(I11*$I$5)+(J11*$J$5)+(K11*$K$5)+(L11*$L$5)+(M11*$M$5)+(N11*$N$5) -> 0
O12: =SUM(F12:N12) -> 0 | P12: =(F12*$F$5)+(G12*$G$5)+(H12*$H$5)+(I12*$I$5)+(J12*$J$5)+(K12*$K$5)+(L12*$L$5)+(M12*$M$5)+(N12*$N$5) -> 0
O13: =SUM(F13:N13) -> 0 | P13: =(F13*$F$5)+(G13*$G$5)+(H13*$H$5)+(I13*$I$5)+(J13*$J$5)+(K13*$K$5)+(L13*$L$5)+(M13*$M$5)+(N13*$N$5) -> 0
O14: =SUM(F14:N14) -> 0 | P14: =(F14*$F$5)+(G14*$G$5)+(H14*$H$5)+(I14*$I$5)+(J14*$J$5)+(K14*$K$5)+(L14*$L$5)+(M14*$M$5)+(N14*$N$5) -> 0
O15: =SUM(F15:N15) -> 0 | P15: =(F15*$F$5)+(G15*$G$5)+(H15*$H$5)+(I15*$I$5)+(J15*$J$5)+(K15*$K$5)+(L15*$L$5)+(M15*$M$5)+(N15*$N$5) -> 0
O16: =SUM(F16:N16) -> 0 | P16: =(F16*$F$5)+(G16*$G$5)+(H16*$H$5)+(I16*$I$5)+(J16*$J$5)+(K16*$K$5)+(L16*$L$5)+(M16*$M$5)+(N16*$N$5) -> 0
O17: =SUM(F17:N17) -> 0 | P17: =(F17*$F$5)+(G17*$G$5)+(H17*$H$5)+(I17*$I$5)+(J17*$J$5)+(K17*$K$5)+(L17*$L$5)+(M17*$M$5)+(N17*$N$5) -> 0
O18: =SUM(F18:N18) -> 0 | P18: =(F18*$F$5)+(G18*$G$5)+(H18*$H$5)+(I18*$I$5)+(J18*$J$5)+(K18*$K$5)+(L18*$L$5)+(M18*$M$5)+(N18*$N$5) -> 0
O19: =SUM(F19:N19) -> 0 | P19: =(F19*$F$5)+(G19*$G$5)+(H19*$H$5)+(I19*$I$5)+(J19*$J$5)+(K19*$K$5)+(L19*$L$5)+(M19*$M$5)+(N19*$N$5) -> 0
O20: =SUM(F20:N20) -> 0 | P20: =(F20*$F$5)+(G20*$G$5)+(H20*$H$5)+(I20*$I$5)+(J20*$J$5)+(K20*$K$5)+(L20*$L$5)+(M20*$M$5)+(N20*$N$5) -> 0
O21: =SUM(F21:N21) -> 0 | P21: =(F21*$F$5)+(G21*$G$5)+(H21*$H$5)+(I21*$I$5)+(J21*$J$5)+(K21*$K$5)+(L21*$L$5)+(M21*$M$5)+(N21*$N$5) -> 0
... O23: =SUM(F23:N23) -> 0 | P23: =(F23*$F$5)+(G23*$G$5)+(H23*$H$5)+(I23*$I$5)+(J23*$J$5)+(K23*$K$5)+(L23*$L$5)+(M23*$M$5)+(N23*$N$5) -> 0
B24: TOTAL | C24: =SUM(C9:C23) -> 0 | D24: =SUM(D9:D23) -> 0 | E24: =SUM(E9:E23) -> 0 | F24: =SUM(F9:F23) -> 20 | G24: =SUM(G9:G23) -> 5 | H24: =SUM(H9:H23) -> 0 | I24: =SUM(I9:I23) -> 3 | J24: =SUM(J9:J23) -> 0 | ... P24: =SUM(P9:P23) -> 9.75

Sheet Kenya
B2: TEMPLE: Nairobi | C2: Sri Sri Radha Bankebihari
B3: MONTH : January 2015
C4: BTG Sub | D4: CC Set | E4: SB Set | F4: mag | G4: Small Books | I4: Medium Books | K4: Big Books | M4: Maha-Books
C5: 5 | F5: 0.1 | G5: 0.25 | H5: 0.25 | I5: 0.5 | J5: 0.5 | K5: 1 | L5: 1 | M5: 2 | N5: 2
B6: DEVOTEES | F6: M1 | G6: S1 | H6: H1 | I6: S2 | J6: H2 | K6: S3 | L6: H3 | M6: S4 | N6: H4 | O6: T/BKS | P6: Points
B8: Iskcon Nairobi
B9: UMAPATI DASA | G9: 100 | N9: 20 | O9: =SUM(C9:N9) -> 120 | P9: =(C9*$C$5)+(F9*$F$5)+(G9*$G$5)+(H9*$H$5)+(I9*$I$5)+(J9*$J$5)+(K9*$K$5)+(L9*$L$5)+(M9*$M$5)+(N9*$N$5) -> 65
B10: KARUNARAS DASA | G10: 6 | I10: 2 | K10: 2 | O10: =SUM(F10:N10) -> 10 | P10: =(F10*$F$5)+(G10*$G$5)+(H10*$H$5)+(I10*$I$5)+(J10*$J$5)+(K10*$K$5)+(L10*$L$5)+(M10*$M$5)+(N10*$N$5) -> 4.5
B11: GIFT SHOP | F11: 1 | G11: 3 | I11: 9 | K11: 1 | N11: 5 | O11: =SUM(F11:N11) -> 19 | P11: =(F11*$F$5)+(G11*$G$5)+(H11*$H$5)+(I11*$I$5)+(J11*$J$5)+(K11*$K$5)+(L11*$L$5)+(M11*$M$5)+(N11*$N$5) -> 16.35
B12: RUKMA DASA | G12: 14 | K12: 1 | N12: 2 | O12: =SUM(F12:N12) -> 17 | P12: =(F12*$F$5)+(G12*$G$5)+(H12*$H$5)+(I12*$I$5)+(J12*$J$5)+(K12*$K$5)+(L12*$L$5)+(M12*$M$5)+(N12*$N$5) -> 8.5
B13: VAISHNAVI SANGA GROUP | F13: 80 | G13: 931 | I13: 7 | K13: 9 | N13: 13 | O13: =SUM(F13:N13) -> 1040 | P13: =(F13*$F$5)+(G13*$G$5)+(H13*$H$5)+(I13*$I$5)+(J13*$J$5)+(K13*$K$5)+(L13*$L$5)+(M13*$M$5)+(N13*$N$5) -> 279.25
O14: =SUM(F14:N14) -> 0 | P14: =(F14*$F$5)+(G14*$G$5)+(H14*$H$5)+(I14*$I$5)+(J14*$J$5)+(K14*$K$5)+(L14*$L$5)+(M14*$M$5)+(N14*$N$5) -> 0
O15: =SUM(F15:N15) -> 0 | P15: =(F15*$F$5)+(G15*$G$5)+(H15*$H$5)+(I15*$I$5)+(J15*$J$5)+(K15*$K$5)+(L15*$L$5)+(M15*$M$5)+(N15*$N$5) -> 0
O16: =SUM(F16:N16) -> 0 | P16: =(F16*$F$5)+(G16*$G$5)+(H16*$H$5)+(I16*$I$5)+(J16*$J$5)+(K16*$K$5)+(L16*$L$5)+(M16*$M$5)+(N16*$N$5) -> 0
O17: =SUM(F17:N17) -> 0 | P17: =(F17*$F$5)+(G17*$G$5)+(H17*$H$5)+(I17*$I$5)+(J17*$J$5)+(K17*$K$5)+(L17*$L$5)+(M17*$M$5)+(N17*$N$5) -> 0
O18: =SUM(F18:N18) -> 0 | P18: =(F18*$F$5)+(G18*$G$5)+(H18*$H$5)+(I18*$I$5)+(J18*$J$5)+(K18*$K$5)+(L18*$L$5)+(M18*$M$5)+(N18*$N$5) -> 0
O19: =SUM(F19:N19) -> 0 | P19: =(F19*$F$5)+(G19*$G$5)+(H19*$H$5)+(I19*$I$5)+(J19*$J$5)+(K19*$K$5)+(L19*$L$5)+(M19*$M$5)+(N19*$N$5) -> 0
O20: =SUM(F20:N20) -> 0 | P20: =(F20*$F$5)+(G20*$G$5)+(H20*$H$5)+(I20*$I$5)+(J20*$J$5)+(K20*$K$5)+(L20*$L$5)+(M20*$M$5)+(N20*$N$5) -> 0
O21: =SUM(F21:N21) -> 0 | P21: =(F21*$F$5)+(G21*$G$5)+(H21*$H$5)+(I21*$I$5)+(J21*$J$5)+(K21*$K$5)+(L21*$L$5)+(M21*$M$5)+(N21*$N$5) -> 0
O22: =SUM(F22:N22) -> 0 | P22: =(F22*$F$5)+(G22*$G$5)+(H22*$H$5)+(I22*$I$5)+(J22*$J$5)+(K22*$K$5)+(L22*$L$5)+(M22*$M$5)+(N22*$N$5) -> 0
O23: =SUM(F23:N23) -> 0 | P23: =(F23*$F$5)+(G23*$G$5)+(H23*$H$5)+(I23*$I$5)+(J23*$J$5)+(K23*$K$5)+(L23*$L$5)+(M23*$M$5)+(N23*$N$5) -> 0
O24: =SUM(F24:N24) -> 0 | P24: =(F24*$F$5)+(G24*$G$5)+(H24*$H$5)+(I24*$I$5)+(J24*$J$5)+(K24*$K$5)+(L24*$L$5)+(M24*$M$5)+(N24*$N$5) -> 0
O25: =SUM(F25:N25) -> 0 | P25: =(F25*$F$5)+(G25*$G$5)+(H25*$H$5)+(I25*$I$5)+(J25*$J$5)+(K25*$K$5)+(L25*$L$5)+(M25*$M$5)+(N25*$N$5) -> 0
... O34: =SUM(F34:N34) -> 0 | P34: =(F34*$F$5)+(G34*$G$5)+(H34*$H$5)+(I34*$I$5)+(J34*$J$5)+(K34*$K$5)+(L34*$L$5)+(M34*$M$5)+(N34*$N$5) -> 0
B35: TOTAL | C35: =SUM(C9:C34) -> 0 | D35: =SUM(D9:D34) -> 0 | E35: =SUM(E9:E34) -> 0 | F35: =SUM(F9:F34) -> 81 | G35: =SUM(G9:G34) -> 1054 | H35: =SUM(H9:H34) -> 0 | I35: =SUM(I9:I34) -> 18 | J35: =SUM(J9:J34) -> 0 | ... P35: =SUM(P9:P34) -> 373.6
B38: Iskcon Kisumu
B39: DASARATH DASA& BHAKTA PRITESH | G39: 429 | I39: 159 | K39: 58 | N39: 29 | O39: =SUM(F39:N39) -> 675 | P39: =(F39*$F$5)+(G39*$G$5)+(H39*$H$5)+(I39*$I$5)+(J39*$J$5)+(K39*$K$5)+(L39*$L$5)+(M39*$M$5)+(N39*$N$5) -> 302.75
O40: =SUM(F40:N40) -> 0 | P40: =(F40*$F$5)+(G40*$G$5)+(H40*$H$5)+(I40*$I$5)+(J40*$J$5)+(K40*$K$5)+(L40*$L$5)+(M40*$M$5)+(N40*$N$5) -> 0
B41: TOTAL | C41: =SUM(C39:C40) -> 0 | D41: =SUM(D39:D40) -> 0 | E41: =SUM(E39:E40) -> 0 | F41: =SUM(F39:F40) -> 0 | G41: =SUM(G39:G40) -> 429 | H41: =SUM(H39:H40) -> 0 | I41: =SUM(I39:I40) -> 159 | J41: =SUM(J39:J40) -> 0 | ... P41: =SUM(P39:P40) -> 302.75
B44: Iskcon Mombassa
O45: =SUM(F45:N45) -> 0 | P45: =(F45*$F$5)+(G45*$G$5)+(H45*$H$5)+(I45*$I$5)+(J45*$J$5)+(K45*$K$5)+(L45*$L$5)+(M45*$M$5)+(N45*$N$5) -> 0
O46: =SUM(F46:N46) -> 0 | P46: =(F46*$F$5)+(G46*$G$5)+(H46*$H$5)+(I46*$I$5)+(J46*$J$5)+(K46*$K$5)+(L46*$L$5)+(M46*$M$5)+(N46*$N$5) -> 0
O47: =SUM(C47:N47) -> 0 | P47: =(C47*$C$5)+(G47*$G$5)+(H47*$H$5)+(I47*$I$5)+(J47*$J$5)+(K47*$K$5)+(L47*$L$5)+(M47*$M$5)+(N47*$N$5) -> 0
P48: =(F48*$F$5)+(G48*$G$5)+(H48*$H$5)+(I48*$I$5)+(J48*$J$5)+(K48*$K$5)+(L48*$L$5)+(M48*$M$5)+(N48*$N$5) -> 0
B49: TOTAL | C49: =SUM(C45:C46) -> 0 | D49: =SUM(D45:D46) -> 0 | E49: =SUM(E45:E46) -> 0 | F49: =SUM(F45:F48) -> 0 | G49: =SUM(G45:G48) -> 0 | H49: =SUM(H45:H48) -> 0 | I49: =SUM(I45:I48) -> 0 | J49: =SUM(J45:J48) -> 0 | K49: =SUM(K45:K48) -> 0 | L49: =SUM(L45:L48) -> 0 | M49: =SUM(M45:M48) -> 0 | ... P49: =SUM(P45:P48) -> 0
N51: Total: | O51: =SUM(O35+O41+O49) -> 1881 | P51: =SUM(P35+P41+P49) -> 676.35

Sheet Malawi
B2: TEMPLE: Blantyre
B3: MONTH :
C4: BTG Sub | D4: CC Set | E4: SB Set | F4: Mag. | G4: Small Books | I4: Medium Books | K4: Big Books | M4: Maha-Books
C5: 5 | F5: 0.1 | G5: 0.25 | H5: 0.25 | I5: 0.5 | J5: 0.5 | K5: 1 | L5: 1 | M5: 2 | N5: 2
B6: DEVOTEES | F6: M1 | G6: S1 | H6: H1 | I6: S2 | J6: H2 | K6: S3 | L6: H3 | M6: S4 | N6: H4 | O6: T/BKS | P6: Points
B9: Temple cumulative Scores | O9: =SUM(F9:N9) -> 0 | P9: =(F9*$F$5)+(G9*$G$5)+(H9*$H$5)+(I9*$I$5)+(J9*$J$5)+(K9*$K$5)+(L9*$L$5)+(M9*$M$5)+(N9*$N$5) -> 0
O10: =SUM(F10:N10) -> 0 | P10: =(F10*$F$5)+(G10*$G$5)+(H10*$H$5)+(I10*$I$5)+(J10*$J$5)+(K10*$K$5)+(L10*$L$5)+(M10*$M$5)+(N10*$N$5) -> 0
O11: =SUM(F11:N11) -> 0 | P11: =(F11*$F$5)+(G11*$G$5)+(H11*$H$5)+(I11*$I$5)+(J11*$J$5)+(K11*$K$5)+(L11*$L$5)+(M11*$M$5)+(N11*$N$5) -> 0
B12: TOTAL | C12: =SUM(C9:C11) -> 0 | D12: =SUM(D9:D11) -> 0 | E12: =SUM(E9:E11) -> 0 | F12: =SUM(F9:F11) -> 0 | G12: =SUM(G9:G11) -> 0 | H12: =SUM(H9:H11) -> 0 | I12: =SUM(I9:I11) -> 0 | J12: =SUM(J9:J11) -> 0 | ... P12: =SUM(P9:P11) -> 0

Sheet Mauritius
B1: MONTH: January 2015
C2: BTG Sub | D2: CC Set | E2: SB Set | F2: Mag. | G2: Small Books | I2: Medium Books | K2: Big Books | M2: Maha-Books
C3: 5 | D3: 18 | E3: 36 | F3: 0.1 | G3: 0.25 | H3: 0.25 | I3: 0.5 | J3: 0.5 | K3: 1 | L3: 1 | M3: 2 | N3: 2
B4: DEVOTEES | F4: M1 | G4: S1 | H4: H1 | I4: S2 | J4: H2 | K4: S3 | L4: H3 | M4: S4 | N4: H4 | O4: T/BKS | P4: Points
B6: ISKCON Phoenix Sri Sri Radha Gokulananda Mandir
B7: Mt Satyabhama/Vinat/Akuti dd | G7: 333 | O7: =SUM(F7:N7) -> 333 | P7: =(F7*$F$3)+(G7*$G$3)+(H7*$H$3)+(I7*$I$3)+(J7*$J$3)+(K7*$K$3)+(L7*$L$3)+(M7*$M$3)+(N7*$N$3) -> 83.25
B8: Mt Sarvakanti dd | F8: 9 | G8: 135 | I8: 11 | K8: 5 | N8: 14 | O8: =SUM(F8:N8) -> 174 | P8: =(F8*$F$3)+(G8*$G$3)+(H8*$H$3)+(I8*$I$3)+(J8*$J$3)+(K8*$K$3)+(L8*$L$3)+(M8*$M$3)+(N8*$N$3) -> 73.15
B9: Mt Sadhna | I9: 1 | N9: 5 | O9: =SUM(F9:N9) -> 6 | P9: =(F9*$F$3)+(G9*$G$3)+(H9*$H$3)+(I9*$I$3)+(J9*$J$3)+(K9*$K$3)+(L9*$L$3)+(M9*$M$3)+(N9*$N$3) -> 10.5
B10: Pr Ashiv | F10: 2 | G10: 8 | I10: 2 | N10: 1 | O10: =SUM(F10:N10) -> 13 | P10: =(F10*$F$3)+(G10*$G$3)+(H10*$H$3)+(I10*$I$3)+(J10*$J$3)+(K10*$K$3)+(L10*$L$3)+(M10*$M$3)+(N10*$N$3) -> 5.2
B11: Mt Vidya | G11: 1 | N11: 2 | O11: =SUM(F11:N11) -> 3 | P11: =(F11*$F$3)+(G11*$G$3)+(H11*$H$3)+(I11*$I$3)+(J11*$J$3)+(K11*$K$3)+(L11*$L$3)+(M11*$M$3)+(N11*$N$3) -> 4.25
B12: Mt Bhudevi dd | I12: 5 | O12: =SUM(F12:N12) -> 5 | P12: =(F12*$F$3)+(G12*$G$3)+(H12*$H$3)+(I12*$I$3)+(J12*$J$3)+(K12*$K$3)+(L12*$L$3)+(M12*$M$3)+(N12*$N$3) -> 2.5
B13: Mt Kamala | G13: 10 | O13: =SUM(F13:N13) -> 10 | P13: =(F13*$F$3)+(G13*$G$3)+(H13*$H$3)+(I13*$I$3)+(J13*$J$3)+(K13*$K$3)+(L13*$L$3)+(M13*$M$3)+(N13*$N$3) -> 2.5
B14: Mt Ramparsad Bhanumati | G14: 10 | O14: =SUM(F14:N14) -> 10 | P14: =(F14*$F$3)+(G14*$G$3)+(H14*$H$3)+(I14*$I$3)+(J14*$J$3)+(K14*$K$3)+(L14*$L$3)+(M14*$M$3)+(N14*$N$3) -> 2.5
B15: Pr Sundarachal das | G15: 10 | O15: =SUM(F15:N15) -> 10 | P15: =(F15*$F$3)+(G15*$G$3)+(H15*$H$3)+(I15*$I$3)+(J15*$J$3)+(K15*$K$3)+(L15*$L$3)+(M15*$M$3)+(N15*$N$3) -> 2.5
B16: Mt Tamanna/Vaidehi | G16: 10 | O16: =SUM(F16:N16) -> 10 | P16: =(F16*$F$3)+(G16*$G$3)+(H16*$H$3)+(I16*$I$3)+(J16*$J$3)+(K16*$K$3)+(L16*$L$3)+(M16*$M$3)+(N16*$N$3) -> 2.5
B17: Mt Kavita Rana | G17: 10 | O17: =SUM(F17:N17) -> 10 | P17: =(F17*$F$3)+(G17*$G$3)+(H17*$H$3)+(I17*$I$3)+(J17*$J$3)+(K17*$K$3)+(L17*$L$3)+(M17*$M$3)+(N17*$N$3) -> 2.5
B18: Mt Vishwanee Dussoye | G18: 10 | O18: =SUM(F18:N18) -> 10 | P18: =(F18*$F$3)+(G18*$G$3)+(H18*$H$3)+(I18*$I$3)+(J18*$J$3)+(K18*$K$3)+(L18*$L$3)+(M18*$M$3)+(N18*$N$3) -> 2.5
B19: Mt Sheetal | G19: 10 | O19: =SUM(F19:N19) -> 10 | P19: =(F19*$F$3)+(G19*$G$3)+(H19*$H$3)+(I19*$I$3)+(J19*$J$3)+(K19*$K$3)+(L19*$L$3)+(M19*$M$3)+(N19*$N$3) -> 2.5
B20: Pr Shavin Gopee | G20: 10 | O20: =SUM(F20:N20) -> 10 | P20: =(F20*$F$3)+(G20*$G$3)+(H20*$H$3)+(I20*$I$3)+(J20*$J$3)+(K20*$K$3)+(L20*$L$3)+(M20*$M$3)+(N20*$N$3) -> 2.5
B21: Pr Vijay | G21: 10 | O21: =SUM(F21:N21) -> 10 | P21: =(F21*$F$3)+(G21*$G$3)+(H21*$H$3)+(I21*$I$3)+(J21*$J$3)+(K21*$K$3)+(L21*$L$3)+(M21*$M$3)+(N21*$N$3) -> 2.5
B22: Pr Sandeep Dossiah | G22: 10 | O22: =SUM(F22:N22) -> 10 | P22: =(F22*$F$3)+(G22*$G$3)+(H22*$H$3)+(I22*$I$3)+(J22*$J$3)+(K22*$K$3)+(L22*$L$3)+(M22*$M$3)+(N22*$N$3) -> 2.5
B23: Pr Ravi Foolchand | G23: 10 | O23: =SUM(F23:N23) -> 10 | P23: =(F23*$F$3)+(G23*$G$3)+(H23*$H$3)+(I23*$I$3)+(J23*$J$3)+(K23*$K$3)+(L23*$L$3)+(M23*$M$3)+(N23*$N$3) -> 2.5
O24: =SUM(F24:N24) -> 0 | P24: =(F24*$F$3)+(G24*$G$3)+(H24*$H$3)+(I24*$I$3)+(J24*$J$3)+(K24*$K$3)+(L24*$L$3)+(M24*$M$3)+(N24*$N$3) -> 0
O25: =SUM(F25:N25) -> 0 | P25: =(F25*$F$3)+(G25*$G$3)+(H25*$H$3)+(I25*$I$3)+(J25*$J$3)+(K25*$K$3)+(L25*$L$3)+(M25*$M$3)+(N25*$N$3) -> 0
B26: TOTAL | C26: =SUM(C7:C25) -> 0 | D26: =SUM(D7:D25) -> 0 | E26: =SUM(E7:E25) -> 0 | F26: =SUM(F7:F25) -> 11 | G26: =SUM(G7:G25) -> 587 | H26: =SUM(H7:H25) -> 0 | I26: =SUM(I7:I25) -> 19 | J26: =SUM(J7:J25) -> 0 | ... P26: =SUM(P7:P25) -> 206.35
B29: ISKCON Bon Accueil Mauritius Sri Sri Krsna Balaram Mandir
B30: Team Cumumalative scores | G30: 1769 | M30: 59 | O30: =SUM(F30:N30) -> 1828 | P30: =(C30*$C$3)+(F30*$F$3)+(G30*$G$3)+(H30*$H$3)+(I30*$I$3)+(J30*$J$3)+(K30*$K$3)+(L30*$L$3)+(M30*$M$3)+(N30*$N$3) -> 560.25
O31: =SUM(F31:N31) -> 0 | P31: =(F31*$F$3)+(G31*$G$3)+(H31*$H$3)+(I31*$I$3)+(J31*$J$3)+(K31*$K$3)+(L31*$L$3)+(M31*$M$3)+(N31*$N$3) -> 0
O32: =SUM(F32:N32) -> 0 | P32: =(F32*$F$3)+(G32*$G$3)+(H32*$H$3)+(I32*$I$3)+(J32*$J$3)+(K32*$K$3)+(L32*$L$3)+(M32*$M$3)+(N32*$N$3) -> 0
B33: TOTAL | C33: =SUM(C30:C32) -> 0 | D33: =SUM(D30:D32) -> 0 | E33: =SUM(E30:E32) -> 0 | F33: =SUM(F30:F32) -> 0 | G33: =SUM(G30:G32) -> 1769 | H33: =SUM(H30:H32) -> 0 | I33: =SUM(I30:I32) -> 0 | J33: =SUM(J30:J32) -> 0 | ... P33: =SUM(P30:P32) -> 560.25
M36: TOTAL | O36: =+O33+O26 -> 2472 | P36: =+P33+P26 -> 766.6

Sheet Nigeria
B1: MONTH: January 2015
C2: BTG Sub | D2: CC Set | E2: SB Set | F2: Mag. | G2: Small Books | I2: Medium Books | K2: Big Books | M2: Maha-Books
C3: 5 | D3: 18 | E3: 36 | F3: 0.1 | G3: 0.25 | H3: 0.25 | I3: 0.5 | J3: 0.5 | K3: 1 | L3: 1 | M3: 2 | N3: 2
B4: DEVOTEES | F4: M1 | G4: S1 | H4: H1 | I4: S2 | J4: H2 | K4: S3 | L4: H3 | M4: S4 | N4: H4 | O4: T/BKS | P4: Points
B6: ISKCON BENIN CITY
B7: Temple Cumulative Scores | O7: =SUM(C7:N7) -> 0 | P7: =(C7*$C$3)+(F7*$F$3)+(G7*$G$3)+(H7*$H$3)+(I7*$I$3)+(J7*$J$3)+(K7*$K$3)+(L7*$L$3)+(M7*$M$3)+(N7*$N$3) -> 0
O8: =SUM(F8:N8) -> 0 | P8: =(F8*$F$3)+(G8*$G$3)+(H8*$H$3)+(I8*$I$3)+(J8*$J$3)+(K8*$K$3)+(L8*$L$3)+(M8*$M$3)+(N8*$N$3) -> 0
O9: =SUM(F9:N9) -> 0 | P9: =(F9*$F$3)+(G9*$G$3)+(H9*$H$3)+(I9*$I$3)+(J9*$J$3)+(K9*$K$3)+(L9*$L$3)+(M9*$M$3)+(N9*$N$3) -> 0
O10: =SUM(F10:N10) -> 0 | P10: =(F10*$F$3)+(G10*$G$3)+(H10*$H$3)+(I10*$I$3)+(J10*$J$3)+(K10*$K$3)+(L10*$L$3)+(M10*$M$3)+(N10*$N$3) -> 0
O11: =SUM(F11:N11) -> 0 | P11: =(F11*$F$3)+(G11*$G$3)+(H11*$H$3)+(I11*$I$3)+(J11*$J$3)+(K11*$K$3)+(L11*$L$3)+(M11*$M$3)+(N11*$N$3) -> 0
O12: =SUM(F12:N12) -> 0 | P12: =(F12*$F$3)+(G12*$G$3)+(H12*$H$3)+(I12*$I$3)+(J12*$J$3)+(K12*$K$3)+(L12*$L$3)+(M12*$M$3)+(N12*$N$3) -> 0
O13: =SUM(F13:N13) -> 0 | P13: =(F13*$F$3)+(G13*$G$3)+(H13*$H$3)+(I13*$I$3)+(J13*$J$3)+(K13*$K$3)+(L13*$L$3)+(M13*$M$3)+(N13*$N$3) -> 0
O14: =SUM(F14:N14) -> 0 | P14: =(F14*$F$3)+(G14*$G$3)+(H14*$H$3)+(I14*$I$3)+(J14*$J$3)+(K14*$K$3)+(L14*$L$3)+(M14*$M$3)+(N14*$N$3) -> 0
O15: =SUM(F15:N15) -> 0 | P15: =(F15*$F$3)+(G15*$G$3)+(H15*$H$3)+(I15*$I$3)+(J15*$J$3)+(K15*$K$3)+(L15*$L$3)+(M15*$M$3)+(N15*$N$3) -> 0
O16: =SUM(F16:N16) -> 0 | P16: =(F16*$F$3)+(G16*$G$3)+(H16*$H$3)+(I16*$I$3)+(J16*$J$3)+(K16*$K$3)+(L16*$L$3)+(M16*$M$3)+(N16*$N$3) -> 0
O17: =SUM(F17:N17) -> 0 | P17: =(F17*$F$3)+(G17*$G$3)+(H17*$H$3)+(I17*$I$3)+(J17*$J$3)+(K17*$K$3)+(L17*$L$3)+(M17*$M$3)+(N17*$N$3) -> 0
O18: =SUM(F18:N18) -> 0 | P18: =(F18*$F$3)+(G18*$G$3)+(H18*$H$3)+(I18*$I$3)+(J18*$J$3)+(K18*$K$3)+(L18*$L$3)+(M18*$M$3)+(N18*$N$3) -> 0
O19: =SUM(F19:N19) -> 0 | P19: =(F19*$F$3)+(G19*$G$3)+(H19*$H$3)+(I19*$I$3)+(J19*$J$3)+(K19*$K$3)+(L19*$L$3)+(M19*$M$3)+(N19*$N$3) -> 0
... O21: =SUM(F21:N21) -> 0 | P21: =(F21*$F$3)+(G21*$G$3)+(H21*$H$3)+(I21*$I$3)+(J21*$J$3)+(K21*$K$3)+(L21*$L$3)+(M21*$M$3)+(N21*$N$3) -> 0
B22: TOTAL | C22: =SUM(C7:C21) -> 0 | D22: =SUM(D7:D21) -> 0 | E22: =SUM(E7:E21) -> 0 | F22: =SUM(F7:F21) -> 0 | G22: =SUM(G7:G21) -> 0 | H22: =SUM(H7:H21) -> 0 | I22: =SUM(I7:I21) -> 0 | J22: =SUM(J7:J21) -> 0 | ... P22: =SUM(P7:P21) -> 0
B25: ISKCON LAGOS
B26: Bhakta Arthur and Tribhuvanatha | O26: =SUM(F26:N26) -> 0 | P26: =(F26*$F$3)+(G26*$G$3)+(H26*$H$3)+(I26*$I$3)+(J26*$J$3)+(K26*$K$3)+(L26*$L$3)+(M26*$M$3)+(N26*$N$3) -> 0
B27: Beach Programme | O27: =SUM(F27:N27) -> 0 | P27: =(F27*$F$3)+(G27*$G$3)+(H27*$H$3)+(I27*$I$3)+(J27*$J$3)+(K27*$K$3)+(L27*$L$3)+(M27*$M$3)+(N27*$N$3) -> 0
B28: Balabhadra Dasa | O28: =SUM(F28:N28) -> 0 | P28: =(F28*$F$3)+(G28*$G$3)+(H28*$H$3)+(I28*$I$3)+(J28*$J$3)+(K28*$K$3)+(L28*$L$3)+(M28*$M$3)+(N28*$N$3) -> 0
B29: Beenu | O29: =SUM(F29:N29) -> 0 | P29: =(F29*$F$3)+(G29*$G$3)+(H29*$H$3)+(I29*$I$3)+(J29*$J$3)+(K29*$K$3)+(L29*$L$3)+(M29*$M$3)+(N29*$N$3) -> 0
B30: Benson | O30: =SUM(F30:N30) -> 0 | P30: =(F30*$F$3)+(G30*$G$3)+(H30*$H$3)+(I30*$I$3)+(J30*$J$3)+(K30*$K$3)+(L30*$L$3)+(M30*$M$3)+(N30*$N$3) -> 0
B31: Ganga Dasa | O31: =SUM(F31:N31) -> 0 | P31: =(F31*$F$3)+(G31*$G$3)+(H31*$H$3)+(I31*$I$3)+(J31*$J$3)+(K31*$K$3)+(L31*$L$3)+(M31*$M$3)+(N31*$N$3) -> 0
B32: Devarishi dasa | O32: =SUM(F32:N32) -> 0 | P32: =(F32*$F$3)+(G32*$G$3)+(H32*$H$3)+(I32*$I$3)+(J32*$J$3)+(K32*$K$3)+(L32*$L$3)+(M32*$M$3)+(N32*$N$3) -> 0
B33: Gaura Gopala Dasa | O33: =SUM(F33:N33) -> 0 | P33: =(F33*$F$3)+(G33*$G$3)+(H33*$H$3)+(I33*$I$3)+(J33*$J$3)+(K33*$K$3)+(L33*$L$3)+(M33*$M$3)+(N33*$N$3) -> 0
B34: Kavikarnapura dasa | O34: =SUM(F34:N34) -> 0 | P34: =(F34*$F$3)+(G34*$G$3)+(H34*$H$3)+(I34*$I$3)+(J34*$J$3)+(K34*$K$3)+(L34*$L$3)+(M34*$M$3)+(N34*$N$3) -> 0
B35: Kavikarnapura and Tribuvanatha dasa | O35: =SUM(F35:N35) -> 0 | P35: =(F35*$F$3)+(G35*$G$3)+(H35*$H$3)+(I35*$I$3)+(J35*$J$3)+(K35*$K$3)+(L35*$L$3)+(M35*$M$3)+(N35*$N$3) -> 0
B36: Kavikarnapura and Beenu | O36: =SUM(F36:N36) -> 0 | P36: =(F36*$F$3)+(G36*$G$3)+(H36*$H$3)+(I36*$I$3)+(J36*$J$3)+(K36*$K$3)+(L36*$L$3)+(M36*$M$3)+(N36*$N$3) -> 0
B37: Tribuvanatha dasa | O37: =SUM(F37:N37) -> 0 | P37: =(F37*$F$3)+(G37*$G$3)+(H37*$H$3)+(I37*$I$3)+(J37*$J$3)+(K37*$K$3)+(L37*$L$3)+(M37*$M$3)+(N37*$N$3) -> 0
... B43: Interfaith Programme | O43: =SUM(F43:N43) -> 0 | P43: =(F43*$F$3)+(G43*$G$3)+(H43*$H$3)+(I43*$I$3)+(J43*$J$3)+(K43*$K$3)+(L43*$L$3)+(M43*$M$3)+(N43*$N$3) -> 0
B44: TOTAL | C44: =SUM(C26:C43) -> 0 | D44: =SUM(D26:D43) -> 0 | E44: =SUM(E26:E43) -> 0 | F44: =SUM(F26:F43) -> 0 | G44: =SUM(G26:G43) -> 0 | H44: =SUM(H26:H43) -> 0 | I44: =SUM(I26:I43) -> 0 | J44: =SUM(J26:J43) -> 0 | ... P44: =SUM(P26:P43) -> 0
B47: ISKCON PORT HARCOURT
B48: Temple Cumulative Scores | G48: 23 | I48: 3 | L48: 5 | O48: =SUM(F48:N48) -> 31 | P48: =(F48*$F$3)+(G48*$G$3)+(H48*$H$3)+(I48*$I$3)+(J48*$J$3)+(K48*$K$3)+(L48*$L$3)+(M48*$M$3)+(N48*$N$3) -> 12.25
O49: =SUM(F49:N49) -> 0 | P49: =(F49*$F$3)+(G49*$G$3)+(H49*$H$3)+(I49*$I$3)+(J49*$J$3)+(K49*$K$3)+(L49*$L$3)+(M49*$M$3)+(N49*$N$3) -> 0
O50: =SUM(F50:N50) -> 0 | P50: =(F50*$F$3)+(G50*$G$3)+(H50*$H$3)+(I50*$I$3)+(J50*$J$3)+(K50*$K$3)+(L50*$L$3)+(M50*$M$3)+(N50*$N$3) -> 0
O51: =SUM(F51:N51) -> 0 | P51: =(F51*$F$3)+(G51*$G$3)+(H51*$H$3)+(I51*$I$3)+(J51*$J$3)+(K51*$K$3)+(L51*$L$3)+(M51*$M$3)+(N51*$N$3) -> 0
O52: =SUM(F52:N52) -> 0 | P52: =(F52*$F$3)+(G52*$G$3)+(H52*$H$3)+(I52*$I$3)+(J52*$J$3)+(K52*$K$3)+(L52*$L$3)+(M52*$M$3)+(N52*$N$3) -> 0
O53: =SUM(F53:N53) -> 0 | P53: =(F53*$F$3)+(G53*$G$3)+(H53*$H$3)+(I53*$I$3)+(J53*$J$3)+(K53*$K$3)+(L53*$L$3)+(M53*$M$3)+(N53*$N$3) -> 0
O54: =SUM(F54:N54) -> 0 | P54: =(F54*$F$3)+(G54*$G$3)+(H54*$H$3)+(I54*$I$3)+(J54*$J$3)+(K54*$K$3)+(L54*$L$3)+(M54*$M$3)+(N54*$N$3) -> 0
O55: =SUM(F55:N55) -> 0 | P55: =(F55*$F$3)+(G55*$G$3)+(H55*$H$3)+(I55*$I$3)+(J55*$J$3)+(K55*$K$3)+(L55*$L$3)+(M55*$M$3)+(N55*$N$3) -> 0
O56: =SUM(F56:N56) -> 0 | P56: =(F56*$F$3)+(G56*$G$3)+(H56*$H$3)+(I56*$I$3)+(J56*$J$3)+(K56*$K$3)+(L56*$L$3)+(M56*$M$3)+(N56*$N$3) -> 0
O57: =SUM(F57:N57) -> 0 | P57: =(F57*$F$3)+(G57*$G$3)+(H57*$H$3)+(I57*$I$3)+(J57*$J$3)+(K57*$K$3)+(L57*$L$3)+(M57*$M$3)+(N57*$N$3) -> 0
O58: =SUM(F58:N58) -> 0 | P58: =(F58*$F$3)+(G58*$G$3)+(H58*$H$3)+(I58*$I$3)+(J58*$J$3)+(K58*$K$3)+(L58*$L$3)+(M58*$M$3)+(N58*$N$3) -> 0
O59: =SUM(F59:N59) -> 0 | P59: =(F59*$F$3)+(G59*$G$3)+(H59*$H$3)+(I59*$I$3)+(J59*$J$3)+(K59*$K$3)+(L59*$L$3)+(M59*$M$3)+(N59*$N$3) -> 0
O60: =SUM(F60:N60) -> 0 | P60: =(F60*$F$3)+(G60*$G$3)+(H60*$H$3)+(I60*$I$3)+(J60*$J$3)+(K60*$K$3)+(L60*$L$3)+(M60*$M$3)+(N60*$N$3) -> 0
... O71: =SUM(F71:N71) -> 0 | P71: =(F71*$F$3)+(G71*$G$3)+(H71*$H$3)+(I71*$I$3)+(J71*$J$3)+(K71*$K$3)+(L71*$L$3)+(M71*$M$3)+(N71*$N$3) -> 0
B72: TOTAL | C72: =SUM(C69:C71) -> 0 | D72: =SUM(D48:D71) -> 0 | E72: =SUM(E48:E71) -> 0 | F72: =SUM(F69:F71) -> 0 | G72: =SUM(G48:G71) -> 23 | H72: =SUM(H48:H71) -> 0 | I72: =SUM(I48:I71) -> 3 | J72: =SUM(J48:J71) -> 0 | K72: =SUM(K48:K71) -> 0 | L72: =SUM(L48:L71) -> 5 | M72: =SUM(M48:M71) -> 0 | N72: =SUM(N48:N71) -> 0 | ... P72: =SUM(P48:P71) -> 12.25
M76: TOTAL | O76: =O72+O44+O22 -> 31 | P76: =P72+P44+P22 -> 12.25

Sheet South Africa
B1: MONTH: January 2015
C2: BTG Sub | D2: CC Set | E2: SB Set | F2: Mag. | G2: Small Books | I2: Medium Books | K2: Big Books | M2: Maha-Books
C3: 5 | D3: 18 | E3: 36 | F3: 0.1 | G3: 0.25 | H3: 0.25 | I3: 0.5 | J3: 0.5 | K3: 1 | L3: 1 | M3: 2 | N3: 2
B4: DEVOTEES | F4: M1 | G4: S1 | H4: H1 | I4: S2 | J4: H2 | K4: S3 | L4: H3 | M4: S4 | N4: H4 | O4: T/BKS | P4: Points
B6: ISKCON CAPE TOWN
B7: Gift shop | F7: 30 | G7: 16 | I7: 1 | N7: 2 | O7: =SUM(C7:N7) -> 49 | P7: =(C7*$C$3)+(F7*$F$3)+(G7*$G$3)+(H7*$H$3)+(I7*$I$3)+(J7*$J$3)+(K7*$K$3)+(L7*$L$3)+(M7*$M$3)+(N7*$N$3) -> 11.5
B8: Dharmasetu Das | G8: 94 | O8: =SUM(F8:N8) -> 94 | P8: =(F8*$F$3)+(G8*$G$3)+(H8*$H$3)+(I8*$I$3)+(J8*$J$3)+(K8*$K$3)+(L8*$L$3)+(M8*$M$3)+(N8*$N$3) -> 23.5
B9: Bhakta Gilly | G9: 63 | N9: 5 | O9: =SUM(F9:N9) -> 68 | P9: =(F9*$F$3)+(G9*$G$3)+(H9*$H$3)+(I9*$I$3)+(J9*$J$3)+(K9*$K$3)+(L9*$L$3)+(M9*$M$3)+(N9*$N$3) -> 25.75
O10: =SUM(F10:N10) -> 0 | P10: =(F10*$F$3)+(G10*$G$3)+(H10*$H$3)+(I10*$I$3)+(J10*$J$3)+(K10*$K$3)+(L10*$L$3)+(M10*$M$3)+(N10*$N$3) -> 0
O11: =SUM(F11:N11) -> 0 | P11: =(F11*$F$3)+(G11*$G$3)+(H11*$H$3)+(I11*$I$3)+(J11*$J$3)+(K11*$K$3)+(L11*$L$3)+(M11*$M$3)+(N11*$N$3) -> 0
O12: =SUM(F12:N12) -> 0 | P12: =(F12*$F$3)+(G12*$G$3)+(H12*$H$3)+(I12*$I$3)+(J12*$J$3)+(K12*$K$3)+(L12*$L$3)+(M12*$M$3)+(N12*$N$3) -> 0
O13: =SUM(F13:N13) -> 0 | P13: =(F13*$F$3)+(G13*$G$3)+(H13*$H$3)+(I13*$I$3)+(J13*$J$3)+(K13*$K$3)+(L13*$L$3)+(M13*$M$3)+(N13*$N$3) -> 0
O14: =SUM(F14:N14) -> 0 | P14: =(F14*$F$3)+(G14*$G$3)+(H14*$H$3)+(I14*$I$3)+(J14*$J$3)+(K14*$K$3)+(L14*$L$3)+(M14*$M$3)+(N14*$N$3) -> 0
O15: =SUM(F15:N15) -> 0 | P15: =(F15*$F$3)+(G15*$G$3)+(H15*$H$3)+(I15*$I$3)+(J15*$J$3)+(K15*$K$3)+(L15*$L$3)+(M15*$M$3)+(N15*$N$3) -> 0
O16: =SUM(F16:N16) -> 0 | P16: =(F16*$F$3)+(G16*$G$3)+(H16*$H$3)+(I16*$I$3)+(J16*$J$3)+(K16*$K$3)+(L16*$L$3)+(M16*$M$3)+(N16*$N$3) -> 0
O17: =SUM(F17:N17) -> 0 | P17: =(F17*$F$3)+(G17*$G$3)+(H17*$H$3)+(I17*$I$3)+(J17*$J$3)+(K17*$K$3)+(L17*$L$3)+(M17*$M$3)+(N17*$N$3) -> 0
O18: =SUM(F18:N18) -> 0 | P18: =(F18*$F$3)+(G18*$G$3)+(H18*$H$3)+(I18*$I$3)+(J18*$J$3)+(K18*$K$3)+(L18*$L$3)+(M18*$M$3)+(N18*$N$3) -> 0
O19: =SUM(F19:N19) -> 0 | P19: =(F19*$F$3)+(G19*$G$3)+(H19*$H$3)+(I19*$I$3)+(J19*$J$3)+(K19*$K$3)+(L19*$L$3)+(M19*$M$3)+(N19*$N$3) -> 0
O20: =SUM(F20:N20) -> 0 | P20: =(F20*$F$3)+(G20*$G$3)+(H20*$H$3)+(I20*$I$3)+(J20*$J$3)+(K20*$K$3)+(L20*$L$3)+(M20*$M$3)+(N20*$N$3) -> 0
O21: =SUM(F21:N21) -> 0 | P21: =(F21*$F$3)+(G21*$G$3)+(H21*$H$3)+(I21*$I$3)+(J21*$J$3)+(K21*$K$3)+(L21*$L$3)+(M21*$M$3)+(N21*$N$3) -> 0
... O29: =SUM(F29:N29) -> 0 | P29: =(F29*$F$3)+(G29*$G$3)+(H29*$H$3)+(I29*$I$3)+(J29*$J$3)+(K29*$K$3)+(L29*$L$3)+(M29*$M$3)+(N29*$N$3) -> 0
B30: TOTAL | C30: =SUM(C7:C29) -> 0 | D30: =SUM(D7:D29) -> 0 | E30: =SUM(E7:E29) -> 0 | F30: =SUM(F7:F29) -> 30 | G30: =SUM(G7:G29) -> 173 | H30: =SUM(H7:H29) -> 0 | I30: =SUM(I7:I29) -> 1 | J30: =SUM(J7:J29) -> 0 | ... P30: =SUM(P7:P29) -> 60.75
B33: ISKCON DURBAN
B34: BTG | F34: 2860 | H34: 1 | K34: 1 | N34: 1 | O34: =SUM(F34:N34) -> 2863 | P34: =(F34*$F$3)+(G34*$G$3)+(H34*$H$3)+(I34*$I$3)+(J34*$J$3)+(K34*$K$3)+(L34*$L$3)+(M34*$M$3)+(N34*$N$3) -> 289.25
B35: Ajeeth Pramlal | G35: 82 | I35: 8 | K35: 5 | M35: 3 | O35: =SUM(F35:N35) -> 98 | P35: =(F35*$F$3)+(G35*$G$3)+(H35*$H$3)+(I35*$I$3)+(J35*$J$3)+(K35*$K$3)+(L35*$L$3)+(M35*$M$3)+(N35*$N$3) -> 35.5
B36: Book Counter | F36: 23 | G36: 25 | I36: 11 | K36: 2 | M36: 2 | N36: 6 | O36: =SUM(F36:N36) -> 69 | P36: =(F36*$F$3)+(G36*$G$3)+(H36*$H$3)+(I36*$I$3)+(J36*$J$3)+(K36*$K$3)+(L36*$L$3)+(M36*$M$3)+(N36*$N$3) -> 32.05
B37: Vibhu Caitanya Dasa | G37: 45 | O37: =SUM(F37:N37) -> 45 | P37: =(F37*$F$3)+(G37*$G$3)+(H37*$H$3)+(I37*$I$3)+(J37*$J$3)+(K37*$K$3)+(L37*$L$3)+(M37*$M$3)+(N37*$N$3) -> 11.25
B38: Radhastami das | G38: 12 | I38: 4 | M38: 2 | O38: =SUM(F38:N38) -> 18 | P38: =(F38*$F$3)+(G38*$G$3)+(H38*$H$3)+(I38*$I$3)+(J38*$J$3)+(K38*$K$3)+(L38*$L$3)+(M38*$M$3)+(N38*$N$3) -> 9
B39: Bhaktin Kajol | F39: 7 | G39: 5 | I39: 1 | M39: 1 | N39: 2 | O39: =SUM(F39:N39) -> 16 | P39: =(F39*$F$3)+(G39*$G$3)+(H39*$H$3)+(I39*$I$3)+(J39*$J$3)+(K39*$K$3)+(L39*$L$3)+(M39*$M$3)+(N39*$N$3) -> 8.45
B40: Raghava Caitanya Das | G40: 9 | K40: 2 | O40: =SUM(F40:N40) -> 11 | P40: =(F40*$F$3)+(G40*$G$3)+(H40*$H$3)+(I40*$I$3)+(J40*$J$3)+(K40*$K$3)+(L40*$L$3)+(M40*$M$3)+(N40*$N$3) -> 4.25
O41: =SUM(F41:N41) -> 0 | P41: =(F41*$F$3)+(G41*$G$3)+(H41*$H$3)+(I41*$I$3)+(J41*$J$3)+(K41*$K$3)+(L41*$L$3)+(M41*$M$3)+(N41*$N$3) -> 0
O42: =SUM(F42:N42) -> 0 | P42: =(F42*$F$3)+(G42*$G$3)+(H42*$H$3)+(I42*$I$3)+(J42*$J$3)+(K42*$K$3)+(L42*$L$3)+(M42*$M$3)+(N42*$N$3) -> 0
O43: =SUM(F43:N43) -> 0 | P43: =(F43*$F$3)+(G43*$G$3)+(H43*$H$3)+(I43*$I$3)+(J43*$J$3)+(K43*$K$3)+(L43*$L$3)+(M43*$M$3)+(N43*$N$3) -> 0
O44: =SUM(F44:N44) -> 0 | P44: =(F44*$F$3)+(G44*$G$3)+(H44*$H$3)+(I44*$I$3)+(J44*$J$3)+(K44*$K$3)+(L44*$L$3)+(M44*$M$3)+(N44*$N$3) -> 0
O45: =SUM(F45:N45) -> 0 | P45: =(F45*$F$3)+(G45*$G$3)+(H45*$H$3)+(I45*$I$3)+(J45*$J$3)+(K45*$K$3)+(L45*$L$3)+(M45*$M$3)+(N45*$N$3) -> 0
O46: =SUM(F46:N46) -> 0 | P46: =(F46*$F$3)+(G46*$G$3)+(H46*$H$3)+(I46*$I$3)+(J46*$J$3)+(K46*$K$3)+(L46*$L$3)+(M46*$M$3)+(N46*$N$3) -> 0
O47: =SUM(F47:N47) -> 0 | P47: =(F47*$F$3)+(G47*$G$3)+(H47*$H$3)+(I47*$I$3)+(J47*$J$3)+(K47*$K$3)+(L47*$L$3)+(M47*$M$3)+(N47*$N$3) -> 0
O48: =SUM(F48:N48) -> 0 | P48: =(F48*$F$3)+(G48*$G$3)+(H48*$H$3)+(I48*$I$3)+(J48*$J$3)+(K48*$K$3)+(L48*$L$3)+(M48*$M$3)+(N48*$N$3) -> 0
O49: =SUM(F49:N49) -> 0 | P49: =(F49*$F$3)+(G49*$G$3)+(H49*$H$3)+(I49*$I$3)+(J49*$J$3)+(K49*$K$3)+(L49*$L$3)+(M49*$M$3)+(N49*$N$3) -> 0
O50: =SUM(F50:N50) -> 0 | P50: =(F50*$F$3)+(G50*$G$3)+(H50*$H$3)+(I50*$I$3)+(J50*$J$3)+(K50*$K$3)+(L50*$L$3)+(M50*$M$3)+(N50*$N$3) -> 0
O51: =SUM(F51:N51) -> 0 | P51: =(F51*$F$3)+(G51*$G$3)+(H51*$H$3)+(I51*$I$3)+(J51*$J$3)+(K51*$K$3)+(L51*$L$3)+(M51*$M$3)+(N51*$N$3) -> 0
O52: =SUM(F52:N52) -> 0 | P52: =(F52*$F$3)+(G52*$G$3)+(H52*$H$3)+(I52*$I$3)+(J52*$J$3)+(K52*$K$3)+(L52*$L$3)+(M52*$M$3)+(N52*$N$3) -> 0
... O153: =SUM(F153:N153) -> 0 | P153: =(F153*$F$3)+(G153*$G$3)+(H153*$H$3)+(I153*$I$3)+(J153*$J$3)+(K153*$K$3)+(L153*$L$3)+(M153*$M$3)+(N153*$N$3) -> 0
H154: =SUM(H34:H153) -> 1 | I154: =SUM(I34:I153) -> 24 | J154: =SUM(J34:J153) -> 0 | K154: =SUM(K34:K153) -> 10 | L154: =SUM(L34:L153) -> 0 | M154: =SUM(M34:M153) -> 8 | N154: =SUM(N34:N153) -> 9 | O154: =SUM(O34:O153) -> 3120 | P154: =SUM(P34:P153) -> 389.75
B157: ISKCON LENASIA
B158: Sasolburg Namahatta | G158: 200 | O158: =SUM(F158:N158) -> 200 | P158: =(F158*$F$3)+(G158*$G$3)+(H158*$H$3)+(I158*$I$3)+(J158*$J$3)+(K158*$K$3)+(L158*$L$3)+(M158*$M$3)+(N158*$N$3) -> 50
B159: Visaka dd | G159: 17 | I159: 4 | L159: 2 | M159: 1 | N159: 1 | O159: =SUM(F159:N159) -> 25 | P159: =(F159*$F$3)+(G159*$G$3)+(H159*$H$3)+(I159*$I$3)+(J159*$J$3)+(K159*$K$3)+(L159*$L$3)+(M159*$M$3)+(N159*$N$3) -> 12.25
B160: Amrita Radhika dd | G160: 27 | I160: 9 | L160: 3 | N160: 2 | O160: =SUM(F160:N160) -> 41 | P160: =(F160*$F$3)+(G160*$G$3)+(H160*$H$3)+(I160*$I$3)+(J160*$J$3)+(K160*$K$3)+(L160*$L$3)+(M160*$M$3)+(N160*$N$3) -> 18.25
B161: Leanne Pillay | F161: 6 | G161: 1 | K161: 2 | O161: =SUM(F161:N161) -> 9 | P161: =(F161*$F$3)+(G161*$G$3)+(H161*$H$3)+(I161*$I$3)+(J161*$J$3)+(K161*$K$3)+(L161*$L$3)+(M161*$M$3)+(N161*$N$3) -> 2.85
B162: BTG Magazines | F162: 536 | O162: =SUM(F162:N162) -> 536 | P162: =(F162*$F$3)+(G162*$G$3)+(H162*$H$3)+(I162*$I$3)+(J162*$J$3)+(K162*$K$3)+(L162*$L$3)+(M162*$M$3)+(N162*$N$3) -> 53.6
O163: =SUM(F163:N163) -> 0 | P163: =(F163*$F$3)+(G163*$G$3)+(H163*$H$3)+(I163*$I$3)+(J163*$J$3)+(K163*$K$3)+(L163*$L$3)+(M163*$M$3)+(N163*$N$3) -> 0
O164: =SUM(F164:N164) -> 0 | P164: =(F164*$F$3)+(G164*$G$3)+(H164*$H$3)+(I164*$I$3)+(J164*$J$3)+(K164*$K$3)+(L164*$L$3)+(M164*$M$3)+(N164*$N$3) -> 0
O165: =SUM(F165:N165) -> 0 | P165: =(F165*$F$3)+(G165*$G$3)+(H165*$H$3)+(I165*$I$3)+(J165*$J$3)+(K165*$K$3)+(L165*$L$3)+(M165*$M$3)+(N165*$N$3) -> 0
O166: =SUM(F166:N166) -> 0 | P166: =(F166*$F$3)+(G166*$G$3)+(H166*$H$3)+(I166*$I$3)+(J166*$J$3)+(K166*$K$3)+(L166*$L$3)+(M166*$M$3)+(N166*$N$3) -> 0
O167: =SUM(F167:N167) -> 0 | P167: =(F167*$F$3)+(G167*$G$3)+(H167*$H$3)+(I167*$I$3)+(J167*$J$3)+(K167*$K$3)+(L167*$L$3)+(M167*$M$3)+(N167*$N$3) -> 0
O168: =SUM(F168:N168) -> 0 | P168: =(F168*$F$3)+(G168*$G$3)+(H168*$H$3)+(I168*$I$3)+(J168*$J$3)+(K168*$K$3)+(L168*$L$3)+(M168*$M$3)+(N168*$N$3) -> 0
O169: =SUM(F169:N169) -> 0 | P169: =(F169*$F$3)+(G169*$G$3)+(H169*$H$3)+(I169*$I$3)+(J169*$J$3)+(K169*$K$3)+(L169*$L$3)+(M169*$M$3)+(N169*$N$3) -> 0
O170: =SUM(F170:N170) -> 0 | P170: =(F170*$F$3)+(G170*$G$3)+(H170*$H$3)+(I170*$I$3)+(J170*$J$3)+(K170*$K$3)+(L170*$L$3)+(M170*$M$3)+(N170*$N$3) -> 0
O171: =SUM(F171:N171) -> 0 | P171: =(F171*$F$3)+(G171*$G$3)+(H171*$H$3)+(I171*$I$3)+(J171*$J$3)+(K171*$K$3)+(L171*$L$3)+(M171*$M$3)+(N171*$N$3) -> 0
O172: =SUM(F172:N172) -> 0 | P172: =(F172*$F$3)+(G172*$G$3)+(H172*$H$3)+(I172*$I$3)+(J172*$J$3)+(K172*$K$3)+(L172*$L$3)+(M172*$M$3)+(N172*$N$3) -> 0
O173: =SUM(F173:N173) -> 0 | P173: =(F173*$F$3)+(G173*$G$3)+(H173*$H$3)+(I173*$I$3)+(J173*$J$3)+(K173*$K$3)+(L173*$L$3)+(M173*$M$3)+(N173*$N$3) -> 0
O174: =SUM(F174:N174) -> 0 | P174: =(F174*$F$3)+(G174*$G$3)+(H174*$H$3)+(I174*$I$3)+(J174*$J$3)+(K174*$K$3)+(L174*$L$3)+(M174*$M$3)+(N174*$N$3) -> 0
... O185: =SUM(F185:N185) -> 0 | P185: =(F185*$F$3)+(G185*$G$3)+(H185*$H$3)+(I185*$I$3)+(J185*$J$3)+(K185*$K$3)+(L185*$L$3)+(M185*$M$3)+(N185*$N$3) -> 0
B186: TOTAL | C186: =SUM(C158:C185) -> 0 | D186: =SUM(D158:D185) -> 0 | E186: =SUM(E158:E185) -> 0 | F186: =SUM(F158:F185) -> 542 | G186: =SUM(G158:G185) -> 245 | H186: =SUM(H158:H185) -> 0 | I186: =SUM(I158:I185) -> 13 | J186: =SUM(J158:J185) -> 0 | ... P186: =SUM(P158:P185) -> 136.95
B189: ISKCON MAFIKENG
B190: Jaya Gopala Dasa | G190: 1 | I190: 1 | O190: =SUM(F190:N190) -> 2 | P190: =(F190*$F$3)+(G190*$G$3)+(H190*$H$3)+(I190*$I$3)+(J190*$J$3)+(K190*$K$3)+(L190*$L$3)+(M190*$M$3)+(N190*$N$3) -> 0.75
B191: TOTAL | C191: =SUM(C190:C190) -> 0 | D191: =SUM(D190:D190) -> 0 | E191: =SUM(E190:E190) -> 0 | F191: =SUM(F190:F190) -> 0 | G191: =SUM(G190:G190) -> 1 | H191: =SUM(H190:H190) -> 0 | I191: =SUM(I190:I190) -> 1 | J191: =SUM(J190:J190) -> 0 | ... P191: =SUM(P190:P190) -> 0.75
B194: ISKCON MIDRAND
B195: Cumulative Team scores | O195: =SUM(F195:N195) -> 0 | P195: =(F195*$F$3)+(G195*$G$3)+(H195*$H$3)+(I195*$I$3)+(J195*$J$3)+(K195*$K$3)+(L195*$L$3)+(M195*$M$3)+(N195*$N$3) -> 0
O196: =SUM(F196:N196) -> 0 | P196: =(F196*$F$3)+(G196*$G$3)+(H196*$H$3)+(I196*$I$3)+(J196*$J$3)+(K196*$K$3)+(L196*$L$3)+(M196*$M$3)+(N196*$N$3) -> 0
B197: TOTAL | C197: =SUM(C195:C196) -> 0 | D197: =SUM(D195:D196) -> 0 | E197: =SUM(E195:E196) -> 0 | F197: =SUM(F195:F196) -> 0 | G197: =SUM(G195:G196) -> 0 | H197: =SUM(H195:H196) -> 0 | I197: =SUM(I195:I196) -> 0 | J197: =SUM(J195:J196) -> 0 | ... P197: =SUM(P195:P196) -> 0
B200: ISKCON MPUMALANGA
B201: Cumulative Team scores | G201: 143 | I201: 2 | J201: 5 | L201: 2 | O201: =SUM(F201:N201) -> 152 | P201: =(F201*$F$3)+(G201*$G$3)+(H201*$H$3)+(I201*$I$3)+(J201*$J$3)+(K201*$K$3)+(L201*$L$3)+(M201*$M$3)+(N201*$N$3) -> 41.25
O202: =SUM(F202:N202) -> 0 | P202: =(F202*$F$3)+(G202*$G$3)+(H202*$H$3)+(I202*$I$3)+(J202*$J$3)+(K202*$K$3)+(L202*$L$3)+(M202*$M$3)+(N202*$N$3) -> 0
B203: TOTAL | C203: =SUM(C201:C202) -> 0 | D203: =SUM(D201:D202) -> 0 | E203: =SUM(E201:E202) -> 0 | F203: =SUM(F201:F202) -> 0 | G203: =SUM(G201:G202) -> 143 | H203: =SUM(H201:H202) -> 0 | I203: =SUM(I201:I202) -> 2 | J203: =SUM(J201:J202) -> 5 | ... P203: =SUM(P201:P202) -> 41.25
B206: ISKCON PIETERMARITZBURG
B207: Harinama and Temple Book Table | F207: 1 | G207: 119 | I207: 2 | K207: 2 | M207: 14 | O207: =SUM(F207:N207) -> 138 | P207: =(F207*$F$3)+(G207*$G$3)+(H207*$H$3)+(I207*$I$3)+(J207*$J$3)+(K207*$K$3)+(L207*$L$3)+(M207*$M$3)+(N207*$N$3) -> 60.85
O208: =SUM(F208:N208) -> 0 | P208: =(F208*$F$3)+(G208*$G$3)+(H208*$H$3)+(I208*$I$3)+(J208*$J$3)+(K208*$K$3)+(L208*$L$3)+(M208*$M$3)+(N208*$N$3) -> 0
O209: =SUM(F209:N209) -> 0 | P209: =(F209*$F$3)+(G209*$G$3)+(H209*$H$3)+(I209*$I$3)+(J209*$J$3)+(K209*$K$3)+(L209*$L$3)+(M209*$M$3)+(N209*$N$3) -> 0
O210: =SUM(F210:N210) -> 0 | P210: =(F210*$F$3)+(G210*$G$3)+(H210*$H$3)+(I210*$I$3)+(J210*$J$3)+(K210*$K$3)+(L210*$L$3)+(M210*$M$3)+(N210*$N$3) -> 0
O211: =SUM(F211:N211) -> 0 | P211: =(F211*$F$3)+(G211*$G$3)+(H211*$H$3)+(I211*$I$3)+(J211*$J$3)+(K211*$K$3)+(L211*$L$3)+(M211*$M$3)+(N211*$N$3) -> 0
O212: =SUM(F212:N212) -> 0 | P212: =(F212*$F$3)+(G212*$G$3)+(H212*$H$3)+(I212*$I$3)+(J212*$J$3)+(K212*$K$3)+(L212*$L$3)+(M212*$M$3)+(N212*$N$3) -> 0
O213: =SUM(F213:N213) -> 0 | P213: =(F213*$F$3)+(G213*$G$3)+(H213*$H$3)+(I213*$I$3)+(J213*$J$3)+(K213*$K$3)+(L213*$L$3)+(M213*$M$3)+(N213*$N$3) -> 0
O214: =SUM(F214:N214) -> 0 | P214: =(F214*$F$3)+(G214*$G$3)+(H214*$H$3)+(I214*$I$3)+(J214*$J$3)+(K214*$K$3)+(L214*$L$3)+(M214*$M$3)+(N214*$N$3) -> 0
O215: =SUM(F215:N215) -> 0 | P215: =(F215*$F$3)+(G215*$G$3)+(H215*$H$3)+(I215*$I$3)+(J215*$J$3)+(K215*$K$3)+(L215*$L$3)+(M215*$M$3)+(N215*$N$3) -> 0
O216: =SUM(F216:N216) -> 0 | P216: =(F216*$F$3)+(G216*$G$3)+(H216*$H$3)+(I216*$I$3)+(J216*$J$3)+(K216*$K$3)+(L216*$L$3)+(M216*$M$3)+(N216*$N$3) -> 0
O217: =SUM(F217:N217) -> 0 | P217: =(F217*$F$3)+(G217*$G$3)+(H217*$H$3)+(I217*$I$3)+(J217*$J$3)+(K217*$K$3)+(L217*$L$3)+(M217*$M$3)+(N217*$N$3) -> 0
O218: =SUM(F218:N218) -> 0 | P218: =(F218*$F$3)+(G218*$G$3)+(H218*$H$3)+(I218*$I$3)+(J218*$J$3)+(K218*$K$3)+(L218*$L$3)+(M218*$M$3)+(N218*$N$3) -> 0
O219: =SUM(F219:N219) -> 0 | P219: =(F219*$F$3)+(G219*$G$3)+(H219*$H$3)+(I219*$I$3)+(J219*$J$3)+(K219*$K$3)+(L219*$L$3)+(M219*$M$3)+(N219*$N$3) -> 0
... O230: =SUM(F230:N230) -> 0 | P230: =(F230*$F$3)+(G230*$G$3)+(H230*$H$3)+(I230*$I$3)+(J230*$J$3)+(K230*$K$3)+(L230*$L$3)+(M230*$M$3)+(N230*$N$3) -> 0
B231: TOTAL | C231: =SUM(C228:C230) -> 0 | D231: =SUM(D207:D230) -> 0 | E231: =SUM(E207:E230) -> 0 | F231: =SUM(F228:F230) -> 0 | G231: =SUM(G207:G230) -> 119 | H231: =SUM(H207:H230) -> 0 | I231: =SUM(I207:I230) -> 2 | J231: =SUM(J207:J230) -> 0 | K231: =SUM(K207:K230) -> 2 | L231: =SUM(L207:L230) -> 0 | M231: =SUM(M207:M230) -> 14 | N231: =SUM(N207:N230) -> 0 | ... P231: =SUM(P207:P230) -> 60.85
B234: ISKCON SANDTON
B235: Sankirtana Team | F235: 10 | G235: 400 | I235: 200 | O235: =SUM(F235:N235) -> 610 | P235: =(F235*$F$3)+(G235*$G$3)+(H235*$H$3)+(I235*$I$3)+(J235*$J$3)+(K235*$K$3)+(L235*$L$3)+(M235*$M$3)+(N235*$N$3) -> 201
O236: =SUM(F236:N236) -> 0 | P236: =(F236*$F$3)+(G236*$G$3)+(H236*$H$3)+(I236*$I$3)+(J236*$J$3)+(K236*$K$3)+(L236*$L$3)+(M236*$M$3)+(N236*$N$3) -> 0
O237: =SUM(F237:N237) -> 0 | P237: =(F237*$F$3)+(G237*$G$3)+(H237*$H$3)+(I237*$I$3)+(J237*$J$3)+(K237*$K$3)+(L237*$L$3)+(M237*$M$3)+(N237*$N$3) -> 0
B238: TOTAL | C238: =SUM(C235:C237) -> 0 | D238: =SUM(D235:D237) -> 0 | E238: =SUM(E235:E237) -> 0 | F238: =SUM(F235:F237) -> 10 | G238: =SUM(G235:G237) -> 400 | H238: =SUM(H235:H237) -> 0 | I238: =SUM(I235:I237) -> 200 | J238: =SUM(J235:J237) -> 0 | ... P238: =SUM(P235:P237) -> 201
M240: TOTAL | O240: =O238+O231+O203+O197+O191+O186+O154+O30 -> 5044 | P240: =P238+P231+P203+P197+P191+P186+P154+P30 -> 891.3

Sheet Togo
B2: TEMPLE: Togo
B3: MONTH : January 2015
C4: BTG Sub | D4: CC Set | E4: SB Set | F4: Mag. | G4: Small Books | I4: Medium Books | K4: Big Books | M4: Maha-Books
C5: 5 | F5: 0.1 | G5: 0.25 | H5: 0.25 | I5: 0.5 | J5: 0.5 | K5: 1 | L5: 1 | M5: 2 | N5: 2
B6: DEVOTEES | F6: M1 | G6: S1 | H6: H1 | I6: S2 | J6: H2 | K6: S3 | L6: H3 | M6: S4 | N6: H4 | O6: T/BKS | P6: Points
B9: Satchidananda Dasa | I9: 10 | L9: 40 | N9: 10 | O9: =SUM(F9:N9) -> 60 | P9: =(F9*$F$5)+(G9*$G$5)+(H9*$H$5)+(I9*$I$5)+(J9*$J$5)+(K9*$K$5)+(L9*$L$5)+(M9*$M$5)+(N9*$N$5) -> 65
B10: Bhakta Aminou | I10: 40 | L10: 40 | O10: =SUM(F10:N10) -> 80 | P10: =(F10*$F$5)+(G10*$G$5)+(H10*$H$5)+(I10*$I$5)+(J10*$J$5)+(K10*$K$5)+(L10*$L$5)+(M10*$M$5)+(N10*$N$5) -> 60
B11: Bhakta Tonton | I11: 10 | L11: 3 | O11: =SUM(F11:N11) -> 13 | P11: =(F11*$F$5)+(G11*$G$5)+(H11*$H$5)+(I11*$I$5)+(J11*$J$5)+(K11*$K$5)+(L11*$L$5)+(M11*$M$5)+(N11*$N$5) -> 8
B12: Bhakta Koffi | I12: 10 | L12: 4 | O12: =SUM(F12:N12) -> 14 | P12: =(F12*$F$5)+(G12*$G$5)+(H12*$H$5)+(I12*$I$5)+(J12*$J$5)+(K12*$K$5)+(L12*$L$5)+(M12*$M$5)+(N12*$N$5) -> 9
B13: Bhakta Sally | I13: 3 | L13: 3 | O13: =SUM(F13:N13) -> 6 | P13: =(F13*$F$5)+(G13*$G$5)+(H13*$H$5)+(I13*$I$5)+(J13*$J$5)+(K13*$K$5)+(L13*$L$5)+(M13*$M$5)+(N13*$N$5) -> 4.5
O14: =SUM(F14:N14) -> 0 | P14: =(F14*$F$5)+(G14*$G$5)+(H14*$H$5)+(I14*$I$5)+(J14*$J$5)+(K14*$K$5)+(L14*$L$5)+(M14*$M$5)+(N14*$N$5) -> 0
B15: TOTAL | C15: =SUM(C9:C14) -> 0 | D15: =SUM(D9:D14) -> 0 | E15: =SUM(E9:E14) -> 0 | F15: =SUM(F9:F14) -> 0 | G15: =SUM(G9:G14) -> 0 | H15: =SUM(H9:H14) -> 0 | I15: =SUM(I9:I14) -> 73 | J15: =SUM(J9:J14) -> 0 | ... P15: =SUM(P9:P14) -> 146.5

Sheet Zambia
B2: TEMPLE: Zambia
B3: MONTH : January 2015
C4: BTG Sub | D4: CC Set | E4: SB Set | F4: Mag. | G4: Small Books | I4: Medium Books | K4: Big Books | M4: Maha-Books
C5: 5 | F5: 0.1 | G5: 0.25 | H5: 0.25 | I5: 0.5 | J5: 0.5 | K5: 1 | L5: 1 | M5: 2 | N5: 2
B6: DEVOTEES | F6: M1 | G6: S1 | H6: H1 | I6: S2 | J6: H2 | K6: S3 | L6: H3 | M6: S4 | N6: H4 | O6: T/BKS | P6: Points
B9: ANU PANTH | F9: 1 | O9: =SUM(F9:N9) -> 1 | P9: =(F9*$F$5)+(G9*$G$5)+(H9*$H$5)+(I9*$I$5)+(J9*$J$5)+(K9*$K$5)+(L9*$L$5)+(M9*$M$5)+(N9*$N$5) -> 0.1
B10: RAVI | F10: 1 | O10: =SUM(F10:N10) -> 1 | P10: =(F10*$F$5)+(G10*$G$5)+(H10*$H$5)+(I10*$I$5)+(J10*$J$5)+(K10*$K$5)+(L10*$L$5)+(M10*$M$5)+(N10*$N$5) -> 0.1
B11: MUKESH | F11: 1 | O11: =SUM(F11:N11) -> 1 | P11: =(F11*$F$5)+(G11*$G$5)+(H11*$H$5)+(I11*$I$5)+(J11*$J$5)+(K11*$K$5)+(L11*$L$5)+(M11*$M$5)+(N11*$N$5) -> 0.1
B12: ASHOK SOODH | F12: 1 | O12: =SUM(F12:N12) -> 1 | P12: =(F12*$F$5)+(G12*$G$5)+(H12*$H$5)+(I12*$I$5)+(J12*$J$5)+(K12*$K$5)+(L12*$L$5)+(M12*$M$5)+(N12*$N$5) -> 0.1
B13: JOSHI | F13: 1 | O13: =SUM(F13:N13) -> 1 | P13: =(F13*$F$5)+(G13*$G$5)+(H13*$H$5)+(I13*$I$5)+(J13*$J$5)+(K13*$K$5)+(L13*$L$5)+(M13*$M$5)+(N13*$N$5) -> 0.1
B14: SUDHEER | F14: 1 | O14: =SUM(F14:N14) -> 1 | P14: =(F14*$F$5)+(G14*$G$5)+(H14*$H$5)+(I14*$I$5)+(J14*$J$5)+(K14*$K$5)+(L14*$L$5)+(M14*$M$5)+(N14*$N$5) -> 0.1
B15: MITESH | F15: 1 | O15: =SUM(F15:N15) -> 1 | P15: =(F15*$F$5)+(G15*$G$5)+(H15*$H$5)+(I15*$I$5)+(J15*$J$5)+(K15*$K$5)+(L15*$L$5)+(M15*$M$5)+(N15*$N$5) -> 0.1
B16: VIKAS | F16: 1 | O16: =SUM(F16:N16) -> 1 | P16: =(F16*$F$5)+(G16*$G$5)+(H16*$H$5)+(I16*$I$5)+(J16*$J$5)+(K16*$K$5)+(L16*$L$5)+(M16*$M$5)+(N16*$N$5) -> 0.1
B17: VISHAL | F17: 1 | O17: =SUM(F17:N17) -> 1 | P17: =(F17*$F$5)+(G17*$G$5)+(H17*$H$5)+(I17*$I$5)+(J17*$J$5)+(K17*$K$5)+(L17*$L$5)+(M17*$M$5)+(N17*$N$5) -> 0.1
B18: MANORANJAN | F18: 1 | O18: =SUM(F18:N18) -> 1 | P18: =(F18*$F$5)+(G18*$G$5)+(H18*$H$5)+(I18*$I$5)+(J18*$J$5)+(K18*$K$5)+(L18*$L$5)+(M18*$M$5)+(N18*$N$5) -> 0.1
B19: J D SHARMA | H19: 4 | J19: 1 | N19: 3 | O19: =SUM(F19:N19) -> 8 | P19: =(F19*$F$5)+(G19*$G$5)+(H19*$H$5)+(I19*$I$5)+(J19*$J$5)+(K19*$K$5)+(L19*$L$5)+(M19*$M$5)+(N19*$N$5) -> 7.5
O20: =SUM(F20:N20) -> 0 | P20: =(F20*$F$5)+(G20*$G$5)+(H20*$H$5)+(I20*$I$5)+(J20*$J$5)+(K20*$K$5)+(L20*$L$5)+(M20*$M$5)+(N20*$N$5) -> 0
B21: TOTAL | C21: =SUM(C9:C20) -> 0 | D21: =SUM(D9:D20) -> 0 | E21: =SUM(E9:E20) -> 0 | F21: =SUM(F9:F20) -> 10 | G21: =SUM(G9:G20) -> 0 | H21: =SUM(H9:H20) -> 4 | I21: =SUM(I9:I20) -> 0 | J21: =SUM(J9:J20) -> 1 | ... P21: =SUM(P9:P20) -> 8.5

Sheet Summary
A2: Country | B2: Books: | C2: Points:
A4: DRC | B4: =SUM('Democratic Republic of Congo'!O18) -> 1335 | C4: =SUM('Democratic Republic of Congo'!P18) -> 920
A5: Ghana | B5: =SUM(Ghana!O24) -> 32 | C5: =SUM(Ghana!P24) -> 9.75
A6: Kenya | B6: =SUM(Kenya!O51) -> 1881 | C6: =SUM(Kenya!P51) -> 676.35
A7: Malawi | B7: =SUM(Malawi!O12) -> 0 | C7: =SUM(Malawi!P12) -> 0
A8: Mauritius | B8: =SUM(Mauritius!O36) -> 2472 | C8: =SUM(Mauritius!P36) -> 766.6
A9: Nigeria | B9: =SUM(Nigeria!O76) -> 31 | C9: =SUM(Nigeria!P76) -> 12.25
A10: South Africa | B10: =SUM('South Africa'!O240) -> 5044 | C10: =SUM('South Africa'!P240) -> 891.3
A11: Togo | B11: =SUM(Togo!O15) -> 173 | C11: =SUM(Togo!P15) -> 146.5
A12: Zambia | B12: =SUM(Zambia!O21) -> 18 | C12: =SUM(Zambia!P21) -> 8.5
A14: Total: | B14: =SUM(B4:B13) -> 10986 | C14: =SUM(C4:C13) -> 3431.25
